{"text_format":"1","workbook":"xlsx","n_sheets":6,"sheets":["目次加工","分類順","検索","50音","番号※職員使用","目次PDF"],"not_rendered":{"charts":0,"images":0,"macros":1,"external_links":0,"defined_names":98,"comments":1,"pivot_tables":0},"unopened":[],"bounds":{"document_bytes":16777216,"sheet_cells":100000,"rows_first":2000,"rows_last":500,"rows_between":2000,"halvings":0,"cell_chars":16384,"cell_head_chars":4096},"cells_cut":0,"cells_raw":0,"read":"whole","date_system":"1900"}

{"sheet":"目次加工","index":0,"n_rows":52,"n_cols":8,"rows_kept":52,"cut":false,"hidden":false,"merged":[[47,4,51,4],[47,5,48,5],[49,5,50,5],[4,4,27,4],[4,5,12,5],[13,5,16,5],[19,5,22,5],[28,4,46,4],[28,5,32,5],[33,5,36,5],[38,5,42,5],[43,5,46,5],[47,1,49,1],[50,1,51,1],[4,0,21,0],[4,1,6,1],[12,1,15,1],[17,1,21,1],[22,0,51,0],[29,1,35,1],[36,1,40,1],[41,1,42,1],[43,1,44,1],[22,1,23,1]]}
[null,"検索文字"]
[]
[]
["大分類","中分類","小分類","頁","大分類","中分類","小分類","頁"]
["医学全般","医学全般","医学百科",{"$f":"VLOOKUP(C5,分類順!A:G,7,0)","v":"1頁"},"全身\n\nその他\n\n疾患別","がん・化学療法・緩和ケア","がん",{"$f":"VLOOKUP(G5,分類順!A:G,7,0)","v":"12頁"}]
[null,null,"専門医学事典",{"$f":"VLOOKUP(C6,分類順!A:G,7,0)","v":"1頁"},null,null,"がん介護",{"$f":"VLOOKUP(G6,分類順!A:G,7,0)","v":"14頁"}]
[null,null,"図解人体",{"$f":"VLOOKUP(C7,分類順!A:G,7,0)","v":"1頁"},null,null,"化学療法",{"$f":"VLOOKUP(G7,分類順!A:G,7,0)","v":"14頁"}]
[null,"検査","検査",{"$f":"VLOOKUP(C8,分類順!A:G,7,0)","v":"1頁"},null,null,"緩和ケア",{"$f":"VLOOKUP(G8,分類順!A:G,7,0)","v":"14頁"}]
[null,"看護","臨床看護",{"$f":"VLOOKUP(C9,分類順!A:G,7,0)","v":"2頁"},null,null,"肺ガン",{"$f":"VLOOKUP(G9,分類順!A:G,7,0)","v":"18頁"}]
[null,"栄養/食事","栄養/食事",{"$f":"VLOOKUP(C10,分類順!A:G,7,0)","v":"2頁"},null,null,"胃がん",{"$f":"VLOOKUP(G10,分類順!A:G,7,0)","v":"21頁"}]
[null,"心の健康","心の健康",{"$f":"VLOOKUP(C11,分類順!A:G,7,0)","v":"2頁"},null,null,"大腸がん",{"$f":"VLOOKUP(G11,分類順!A:G,7,0)","v":"21頁"}]
[null,"薬","薬",{"$f":"VLOOKUP(C12,分類順!A:G,7,0)","v":"8頁"},null,null,"肝臓/胆のう/膵臓",{"$f":"VLOOKUP(G12,分類順!A:G,7,0)","v":"21頁"}]
[null,"トレーニング・リハビリ","トレーニング",{"$f":"VLOOKUP(C13,分類順!A:G,7,0)","v":"9頁"},null,null,"乳がん",{"$f":"VLOOKUP(G13,分類順!A:G,7,0)","v":"23頁"}]
[null,null,"リハビリ療法",{"$f":"VLOOKUP(C14,分類順!A:G,7,0)","v":"9頁"},null,"骨・関節・筋肉","骨/関節/筋肉",{"$f":"VLOOKUP(G14,分類順!A:G,7,0)","v":"10頁"}]
[null,null,"嚥下障害",{"$f":"VLOOKUP(C15,分類順!A:G,7,0)","v":"9頁"},null,null,"腰痛",{"$f":"VLOOKUP(G15,分類順!A:G,7,0)","v":"11頁"}]
[null,null,"禁煙",{"$f":"VLOOKUP(C16,分類順!A:G,7,0)","v":"9頁"},null,null,"痛風",{"$f":"VLOOKUP(G16,分類順!A:G,7,0)","v":"11頁"}]
[null,"麻酔・手術・救急","麻酔/手術/救急",{"$f":"VLOOKUP(C17,分類順!A:G,7,0)","v":"36頁"},null,null,"骨粗鬆症",{"$f":"VLOOKUP(G17,分類順!A:G,7,0)","v":"11頁"}]
[null,"一般医学・食事","栄養/食事",{"$f":"VLOOKUP(C18,分類順!A:G,7,0)","v":"2頁"},null,"心臓・血管系","心臓・血管系",{"$f":"VLOOKUP(G18,分類順!A:G,7,0)","v":"12頁"}]
[null,null,"体と病気",{"$f":"VLOOKUP(C19,分類順!A:G,7,0)","v":"9頁"},null,"血液・リンパ","血液/リンパ",{"$f":"VLOOKUP(G19,分類順!A:G,7,0)","v":"11頁"}]
[null,null,"一般医学",{"$f":"VLOOKUP(C20,分類順!A:G,7,0)","v":"9頁"},null,"免疫","免疫",{"$f":"VLOOKUP(G20,分類順!A:G,7,0)","v":"14頁"}]
[null,null,"一般",{"$f":"VLOOKUP(C21,分類順!A:G,7,0)","v":"9頁"},null,null,"アレルギー",{"$f":"VLOOKUP(G21,分類順!A:G,7,0)","v":"14頁"}]
[null,null,"食事療法",{"$f":"VLOOKUP(C22,分類順!A:G,7,0)","v":"10頁"},null,null,"膠原病",{"$f":"VLOOKUP(G22,分類順!A:G,7,0)","v":"15頁"}]
["部位別","脳神経系","脳・神経系",{"$f":"VLOOKUP(C23,分類順!A:G,7,0)","v":"16頁"},null,null,"リウマチ",{"$f":"VLOOKUP(G23,分類順!A:G,7,0)","v":"14頁"}]
[null,null,"認知症",{"$f":"VLOOKUP(C24,分類順!A:G,7,0)","v":"29頁"},null,"認知症","認知症",{"$f":"VLOOKUP(G24,分類順!A:G,7,0)","v":"29頁"}]
[null,"目","目",{"$f":"VLOOKUP(C25,分類順!A:G,7,0)","v":"15頁"},null,"伝染・感染症","伝染・感染症",{"$f":"VLOOKUP(G25,分類順!A:G,7,0)","v":"15頁"}]
[null,"耳・鼻・喉","耳/鼻/喉",{"$f":"VLOOKUP(C26,分類順!A:G,7,0)","v":"15頁"},null,"内分泌","内分泌",{"$f":"VLOOKUP(G26,分類順!A:G,7,0)","v":"16頁"}]
[null,"歯","歯",{"$f":"VLOOKUP(C27,分類順!A:G,7,0)","v":"16頁"},null,"生活","生活",{"$f":"VLOOKUP(G27,分類順!A:G,7,0)","v":"22頁"}]
[null,"骨/関節/筋肉","骨/関節/筋肉",{"$f":"VLOOKUP(C28,分類順!A:G,7,0)","v":"10頁"},null,"こどもの健康","こどもの健康",{"$f":"VLOOKUP(G28,分類順!A:G,7,0)","v":"25頁"}]
[null,"心臓・血管系","心臓・血管系",{"$f":"VLOOKUP(C29,分類順!A:G,7,0)","v":"12頁"},"医療全般","高齢者・認知症・在宅看護","高齢者",{"$f":"VLOOKUP(G29,分類順!A:G,7,0)","v":"29頁"}]
[null,"呼吸器","禁煙",{"$f":"VLOOKUP(C30,分類順!A:G,7,0)","v":"9頁"},null,null,"高齢期ケア",{"$f":"VLOOKUP(G30,分類順!A:G,7,0)","v":"29頁"}]
[null,null,"睡眠障害",{"$f":"VLOOKUP(C31,分類順!A:G,7,0)","v":"17頁"},null,null,"口腔ケア",{"$f":"VLOOKUP(G31,分類順!A:G,7,0)","v":"29頁"}]
[null,null,"呼吸器",{"$f":"VLOOKUP(C32,分類順!A:G,7,0)","v":"17頁"},null,null,"認知症",{"$f":"VLOOKUP(G32,分類順!A:G,7,0)","v":"29頁"}]
[null,null,"人工呼吸",{"$f":"VLOOKUP(C33,分類順!A:G,7,0)","v":"17頁"},null,null,"在宅介護",{"$f":"VLOOKUP(G33,分類順!A:G,7,0)","v":"29頁"}]
[null,null,"COPD",{"$f":"VLOOKUP(C34,分類順!A:G,7,0)","v":"18頁"},null,"代替療法","代替療法",{"$f":"VLOOKUP(G34,分類順!A:G,7,0)","v":"30頁"}]
[null,null,"肺ガン",{"$f":"VLOOKUP(C35,分類順!A:G,7,0)","v":"18頁"},null,null,"漢方",{"$f":"VLOOKUP(G35,分類順!A:G,7,0)","v":"31頁"}]
[null,null,"ぜんそく",{"$f":"VLOOKUP(C36,分類順!A:G,7,0)","v":"18頁"},null,null,"アロマテラピー",{"$f":"VLOOKUP(G36,分類順!A:G,7,0)","v":"31頁"}]
[null,"胃・大腸","胃腸",{"$f":"VLOOKUP(C37,分類順!A:G,7,0)","v":"20頁"},null,null,"アニマルテラピー",{"$f":"VLOOKUP(G37,分類順!A:G,7,0)","v":"48頁"}]
[null,null,"胃がん",{"$f":"VLOOKUP(C38,分類順!A:G,7,0)","v":"21頁"},null,"患者学","患者学",{"$f":"VLOOKUP(G38,分類順!A:G,7,0)","v":"31頁"}]
[null,null,"大腸がん",{"$f":"VLOOKUP(C39,分類順!A:G,7,0)","v":"21頁"},null,"医療","医療",{"$f":"VLOOKUP(G39,分類順!A:G,7,0)","v":"31頁"}]
[null,null,"クローン病",{"$f":"VLOOKUP(C40,分類順!A:G,7,0)","v":"21頁"},null,null,"医療概論",{"$f":"VLOOKUP(G40,分類順!A:G,7,0)","v":"31頁"}]
[null,null,"潰瘍性大腸炎",{"$f":"VLOOKUP(C41,分類順!A:G,7,0)","v":"21頁"},null,null,"病院/スタッフ",{"$f":"VLOOKUP(G41,分類順!A:G,7,0)","v":"31頁"}]
[null,"肝臓・胆のう・膵臓","肝臓/胆のう/膵臓",{"$f":"VLOOKUP(C42,分類順!A:G,7,0)","v":"21頁"},null,null,"医療倫理",{"$f":"VLOOKUP(G42,分類順!A:G,7,0)","v":"32頁"}]
[null,null,"C型肝炎",{"$f":"VLOOKUP(C43,分類順!A:G,7,0)","v":"22頁"},null,null,"医療経済学",{"$f":"VLOOKUP(G43,分類順!A:G,7,0)","v":"32頁"}]
[null,"腎臓","腎臓",{"$f":"VLOOKUP(C44,分類順!A:G,7,0)","v":"19頁"},null,"生活習慣病","メタボリックシンドローム",{"$f":"VLOOKUP(G44,分類順!A:G,7,0)","v":"48頁"}]
[null,null,"透析",{"$f":"VLOOKUP(C45,分類順!A:G,7,0)","v":"19頁"},null,null,"高脂血症",{"$f":"VLOOKUP(G45,分類順!A:G,7,0)","v":"48頁"}]
[null,"泌尿器","泌尿器",{"$f":"VLOOKUP(C46,分類順!A:G,7,0)","v":"18頁"},null,null,"高血圧",{"$f":"VLOOKUP(G46,分類順!A:G,7,0)","v":"48頁"}]
[null,"皮膚・髪・爪","皮膚/髪/爪",{"$f":"VLOOKUP(C47,分類順!A:G,7,0)","v":"18頁"},null,null,"糖尿病",{"$f":"VLOOKUP(G47,分類順!A:G,7,0)","v":"49頁"}]
[null,"女性の病気","女性の健康",{"$f":"VLOOKUP(C48,分類順!A:G,7,0)","v":"22頁"},"その他","絵本など","こどもの本",{"$f":"VLOOKUP(G48,分類順!A:G,7,0)","v":"32頁"}]
[null,null,"子宮筋腫",{"$f":"VLOOKUP(C49,分類順!A:G,7,0)","v":"23頁"},null,null,"分類なし(絵本等)",{"$f":"VLOOKUP(G49,分類順!A:G,7,0)","v":"37頁"}]
[null,null,"乳がん",{"$f":"VLOOKUP(C50,分類順!A:G,7,0)","v":"23頁"},null,"アニマル","アニマル",{"$f":"VLOOKUP(G50,分類順!A:G,7,0)","v":"48頁"}]
[null,"妊娠・出産","妊娠/出産",{"$f":"VLOOKUP(C51,分類順!A:G,7,0)","v":"24頁"},null,null,"アニマルテラピー",{"$f":"VLOOKUP(G51,分類順!A:G,7,0)","v":"48頁"}]
[null,null,"こどもの健康",{"$f":"VLOOKUP(C52,分類順!A:G,7,0)","v":"25頁"},null,"DVD","DVD",{"$f":"VLOOKUP(G52,分類順!A:G,7,0)","v":"50頁"}]

{"sheet":"分類順","index":1,"n_rows":2417,"n_cols":8,"rows_kept":2417,"cut":false,"hidden":false,"merged":[]}
["図書名","図書種類名称","質研分類名称","著者名","出版社名","図書番号","頁","通し"]
["医学百科","目次へ","※PDF版ではリンクしておりません。",null,null,null,"1頁",11]
["最新　家庭の医学百科","医療の本","Aa：医学百科","主婦と生活社　編","主婦と生活社",2]
["ＥＢＭ　正しい治療がわかる本","医療の本","Aa：医学百科","福井　次矢　著","法研",4]
["メルクマニュアル医学百科　最新家庭版","医療の本","Aa：医学百科",null,"日経BP社",5]
["最新版　家庭医学大全科","医療の本","Aa：医学百科","高久　史麿　他監修","法研",7]
["ポケット医学英和辞典　第２版","医療の本","Aa：医学百科","泉　孝英　編","医学書院",10]
["医学・看護用語のカタカナ語・略語便利辞典","医療の本","Aa：医学百科","エキスパートナース編","照林社",11]
["病気ユニーク事典","医療の本","Aa：医学百科","北岡　建樹　著","南山堂",23]
["「カルテ＆レセプト略語１６０００」","医療の本","Aa：医学百科",null,"医学通信社",24]
["今日の診断指針　ポケット版　第５版","医療の本","Aa：医学百科","亀山　正邦　他編","医学書院",25]
["標準・傷病名事典　Ver2.0 全診療科対応／ＩＣＤ－","医療の本","Aa：医学百科","寺島　裕夫　編著","医学通信社",989]
["健康評価ハンドブック","医療の本","Aa：医学百科","森惟明","日東書院",5411]
["英独仏ラ-和　医学用語小辞典","医療の本","Aa：医学百科","菊池　博","医学書院",8132]
["病院の言葉を分かりやすく","医療の本","Aa：医学百科","国立国語研究所","勁草書房",10049]
["症状からみる病態生理の基本","医療の本","Aa：医学百科","斎藤宣彦","照林社",10271]
["標準・傷病名事典　Ver3.0","医療の本","Aa：医学百科","寺島裕夫","医学通信社",10482]
["専門医学事典","目次へ","※PDF版ではリンクしておりません。",null,null,null,"1頁",12]
["絵とき再生医学入門　幹細胞の基礎知識から","医療の本","Ab：専門医学事典","朝比奈　欣治　他著","羊土社",13]
["気管食道科学用語解説集","医療の本","Ab：専門医学事典","日本気管食道科学会","金原出版",15]
["血液学用語辞典　改訂３版","医療の本","Ab：専門医学事典","平井　久丸　編集","フジメディカル",16]
["人体スペシャル　脳の地図帳","医療の本","Ab：専門医学事典","原　一之　著","講談社",17]
["分子生物学・免疫学キーワード辞典　第２版","医療の本","Ab：専門医学事典","永田　和宏　他編","医学書院",27]
["免疫・アレルギー疾患用語解説集","医療の本","Ab：専門医学事典","足立　満　監修","エクセル企画出",28]
["病院の言葉を分かりやすく","医療の本","Ab：専門医学事典","国立国語研究所「病院の言葉」委員会　編著","勁草書房",8039]
["図解人体","目次へ","※PDF版ではリンクしておりません。",null,null,null,"1頁",13]
["１　呼吸器","医療の本","Ac：図解人体","牛木　辰男　他","日本醫事新報社",29]
["10　運動器","医療の本","Ac：図解人体","坂井　建雄　総編集","日本醫事新報社",30]
["２　循環器","医療の本","Ac：図解人体","大谷　修　他","日本醫事新報社",31]
["３　消化管","医療の本","Ac：図解人体","河原　克雄　他","日本醫事新報社",32]
["４　肝・胆・膵","医療の本","Ac：図解人体","泉井　亮　他","日本醫事新報社",33]
["５　腎・泌尿器","医療の本","Ac：図解人体","坂井　建雄　他編","日本醫事新報社",34]
["６　生殖器","医療の本","Ac：図解人体","坂井　建雄　他編","日本醫事新報社",35]
["７　血液・免疫・内分泌","医療の本","Ac：図解人体","坂井　建雄　他編","日本醫事新報社",36]
["８　神経系１","医療の本","Ac：図解人体","坂井　建雄　総編集","日本醫事新報社",37]
["９　神経系２","医療の本","Ac：図解人体","坂井　建雄　総編集","日本醫事新報社",38]
["イラストでまなぶ人体のしくみとはたらき","医療の本","Ac：図解人体","田中　越郎　著","医学書院",39]
["ヒューマンボディ－からだの不思議がわかる","医療の本","Ac：図解人体","尾岸　恵三子　監訳","エルゼビア・ジャパン",42]
["解剖生理学","医療の本","Ac：図解人体","高野　廣子","南山堂",43]
["人体の構造と機能－解剖生理学　第２版","医療の本","Ac：図解人体",null,"メディカ出版",45]
["かさぶたくん","医療の本","Ac：図解人体","やぎゅう げんいちろう","福音館書店",5344]
["おっぱいのひみつ","医療の本","Ac：図解人体","やぎゅう げんいちろう","福音館書店",5345]
["ぜんぶわかる人体解剖図―系統別・部位別にわかりやすくビジュアル解説","医療の本","Ac：図解人体","坂井 建雄/橋本 尚詞","成美堂出版",5346]
["からだ","医療の本","Ac：図解人体","幼児ソフト企画開発部","学研",5501]
["人体の勝利","医療の本","Ac：図解人体","レナルト・ニルソン","小学館",5549]
["解剖生理をおもしろく学ぶ","医療の本","Ac：図解人体","監修：増田敦子","医学芸術社",8045]
["トリセツ・カラダ　カラダ地図を描こう","医療の本","Ac：図解人体","海堂　尊著","宝島社",8092]
["おへそのひみつ","医療の本","Ac：図解人体","やぎゅうげんいちろう","福音館書店",8104]
["WONDER　MOVE　人体のふしぎ　（講談社の動く図鑑WONDER　MOVE）","医療の本","Ac：図解人体","講談社, 島田達生","講談社",10281]
["検査","目次へ","※PDF版ではリンクしておりません。",null,null,null,"1頁",14]
["Ｘ線・（造影）Ｘ線検査のマネジメント","医療の本","Ad：検査","中村　仁信　編","医薬ジャーナル社",51]
["ちいさい・おおきい・よわい・つよい　４２","医療の本","Ad：検査","毛利　子来　編集代表","ジャパンマシニスト社",52]
["はじめての注射と採血","医療の本","Ad：検査","大阪労災病院看護部","メディカ出版",53]
["はじめての輸液","医療の本","Ad：検査","大阪労災病院看護部","メディカ出版",54]
["フォローアップ検査ガイド","医療の本","Ad：検査","北村　聖　他編","医学書院",55]
["患者さんに伝える臨床検査の説明マニュアル","医療の本","Ad：検査","櫻林　郁之介　監","医歯薬出版",57]
["看護に役立つ検査値の読み方・考え方　２版","医療の本","Ad：検査","河野　均也　他監","総合医学社",58]
["実践　生理機能検査テキスト","医療の本","Ad：検査","宮武　邦夫　監修","メディカ出版",60]
["「健診・人間ドックハンドブック」第３版","医療の本","Ad：検査","日野原　重明　監修","中外医学社",62]
["内視鏡検査・治療・ケアがよくわかる本","医療の本","Ad：検査","田中　雅夫　監修","照林社",63]
["脳神経","医療の本","Ad：検査","志賀　逸夫　編","メジカルビュー社",64]
["０８　放射線療法　ＣＤ－ＲＯＭ付★","医療の本","Ad：検査","日本乳癌学会　編","金原出版",983]
["健康診断の検査値がとことんわかる事典―基本健診から精密検査まで","医療の本","Ad：検査","西崎　統　編集","主婦と生活社",5347]
["病院で受ける検査がわかる本","医療の本","Ad：検査","高木 康/田口 進　著","法研",5348]
["改訂版　看護に生かす検査マニュアル","医療の本","Ad：検査","高木　康","医学芸術社",8044]
["検査でわかること～健康診断ガイドブック　（別冊NHKきょうの健康）","医療の本","Ad：検査","NHK出版","NHK出版",8094]
["検査値の読み方","医療の本","Ad：検査","西﨑祐史/渡邊千登世","照林社",10057]
["検査値・数式ハンドブック","医療の本","Ad：検査","奈良信雄","エクスナレッジ",10058]
["検査と数値がわかる事典","医療の本","Ad：検査","祝田靖","成美堂出版",10059]
["患者さんが安心できる検査説明ガイドブック","医療の本","Ad：検査","東京慈恵会医科大学附属病院","医学書院",10280]
["放射線検査説明の手引き","医療の本","Ad：検査","日本診療放射線技師会","医療科学社",10607]
["医療被ばく相談Q&A","医療の本","Ad：検査","日本診療放射線技師会医療被ばく安全管理委員会","医療科学社",10608]
["臨床看護","目次へ","※PDF版ではリンクしておりません。",null,null,null,"2頁",15]
["ナースが知っておくべきかゆみのケア","医療の本","Ae：臨床看護","高島　玉青　著","日本看護協会出版会",81]
["ナースの常識！？医者の非常識！？","医療の本","Ae：臨床看護","南淵　明宏","中山書店",83]
["ハイリスク患者の看護ケア","医療の本","Ae：臨床看護",null,"中山書店",85]
["関節リウマチのある患者の看護相談室","医療の本","Ae：臨床看護","尾岸　恵三子　編著","医歯薬出版",88]
["マネジメントツールとしての看護必要度 第２版","医療の本","Ae：臨床看護","嶋森　好子;筒井　孝子","中山書店",991]
["臨床という海","一般図書","Ae：臨床看護","徳永進","看護の科学社",5550]
["臨床という海","一般図書","Ae：臨床看護","徳永進","看護の科学社",5551]
["看護技術のなぜ？ガイドブック　改訂・増補2版","医療の本","Ae：臨床看護",null,"医学芸術社",8048]
["からだの正常/異常ガイドブック　改訂・増補版","医療の本","Ae：臨床看護",null,"医学芸術社",8049]
["症状Q&Aガイドブック","医療の本","Ae：臨床看護","監修：岡田　忍","医学芸術社",8050]
["医療はとってもいい仕事","医療の本","Ae：臨床看護","澤田勝寛","薬事日報社",10317]
["栄養/食事","目次へ","※PDF版ではリンクしておりません。",null,null,null,"2頁",16]
["ミッフィーの早引き 栄養の基本ハンドブック","医療の本","B：栄養/食事","中村丁次/足立香代子/川島由起子","エクスナレッジ",5349]
["えいようせんたいしょくレンジャー","医療の本","B：栄養/食事","久住 卓也 著","ポプラ社",5350]
["ひと目でわかる！食品表示簡単チェックBOOK","医療の本","B：栄養/食事","ホームライフセミナー/編","青春出版社",8086]
["外食・デリカ・コンビニのカロリーガイド","医療の本","B：栄養/食事","香川芳子","女子栄養大学出版部",10060]
["毎日の食事のカロリーガイド","医療の本","B：栄養/食事","香川芳子","女子栄養大学出版部",10061]
["あなたに贈る食の玉手箱","医療の本","B：栄養/食事","星澤幸子","ワニ・プラス",10062]
["心の健康","目次へ","※PDF版ではリンクしておりません。",null,null,null,"2頁",17]
["「うつ」に陥っているあなたへ イラスト版","医療の本","C：心の健康","野村　総一郎","講談社",93]
["ＰＴＳＤとトラウマのすべてがわかる本 イラスト版","医療の本","C：心の健康","飛鳥井　望","講談社",94]
["うつ病　新版","医療の本","C：心の健康","関谷　透　著","主婦の友社",95]
["パーソナリティ障害〈人格障害〉のことがよくわかる本 イラスト版","医療の本","C：心の健康","市橋　秀夫","講談社",96]
["パニック障害－心の不安はとり除ける－","医療の本","C：心の健康","渡辺　登　監修","講談社",97]
["ビジネスマンの心の病気がわかる本 イラスト版","医療の本","C：心の健康","山本　晴義","講談社",98]
["依存症のすべてがわかる本 イラスト版","医療の本","C：心の健康","渡辺　登","講談社",99]
["拒食症と過食症 イラスト版","医療の本","C：心の健康","切池　信夫","講談社",101]
["自己愛性パーソナリティ障害のこと","医療の本","C：心の健康","狩野　力八郎","講談社",103]
["失語症のすべてがわかる本 イラスト版","医療の本","C：心の健康","加藤　正弘;小嶋　知幸","講談社",105]
["社会不安障害のすべてがわかる本 イラスト版","医療の本","C：心の健康","貝谷　久宣","講談社",106]
["「心がつかれた人」のためにあなたができる","医療の本","C：心の健康","浮世　満理子　著","あさ出版",117]
["うつ病の病態生理と診断・治療","医療の本","C：心の健康","樋口　輝彦　他","真興交易医書出版",120]
["こころの医者のフィールド・ノート　新装版","医療の本","C：心の健康","中沢　正夫　著","情報センター",122]
["こころをはぐくむ－アルコール依存症と自助","医療の本","C：心の健康","今道　裕之　著","東峰書房",123]
["テレメンタリング 双方向ツールによるヘルスケア・コミュニケーション","医療の本","C：心の健康","日本遠隔医療学会","中山書店",125]
["ひきこもる心のカルテ　心の扉をひらくカウ","医療の本","C：心の健康","井上　敏明","朱鷺書房",126]
["やさしいうつ病・うつ状態のマネジメ　改訂","医療の本","C：心の健康","桂　戴作　編","医薬ジャーナル社",128]
["やまない雨はない　妻の死、うつ病、それか","医療の本","C：心の健康","倉嶋　厚　著","文藝春秋",129]
["医療事故防止・対策マニュアル　改訂版","医療の本","C：心の健康","日本精神科看護技術協","精神看護出版",131]
["看護のための精神医学　第２版","医療の本","C：心の健康","中井　久夫　著","医学書院",134]
["危険がいっぱい思春期ダイエット","医療の本","C：心の健康","福岡　秀興","芳賀書店",135]
["気分障害治療ガイドライン","医療の本","C：心の健康","精神医学講座担当者会","医学書院",136]
["好きになる精神医学","医療の本","C：心の健康","越野　好文　著・絵","講談社",137]
["広岡式　こころの病の治し方","医療の本","C：心の健康","広岡　清伸　著","日経BP社",138]
["事例にみるうつ病の理解とケア","医療の本","C：心の健康","白石　弘巳　編著","精神看護出版",139]
["全科で知っておきたい　心のケアＱ＆Ａ","医療の本","C：心の健康",null,"中山書店",149]
["体の病と心のケア－身体疾患患者の精神症状","医療の本","C：心の健康","堀川　直史　著","文光堂",150]
["大往生の条件","医療の本","C：心の健康","色平　哲郎","角川書店",151]
["不眠症とつきあうコツ","医療の本","C：心の健康","伊藤　洋　編著","フジメディカル",152]
["文化現象としての癒し　民間医療の現在","医療の本","C：心の健康","佐藤　純一　編","メディカ出版",153]
["癒しのユーモア　いのちの輝きを支えるケア","医療の本","C：心の健康","柏木　哲夫","三輪書店",155]
["統合失調症 最新の薬物療法とその他の治療法","医療の本","C：心の健康","春日　武彦;主婦の友社","主婦の友社",156]
["いのちを癒す「心のとまり木」　心のケアの","医療の本","C：心の健康","小此木　啓吾　監","ベストセラーズ",992]
["脳科学研究の現状と課題","医療の本","C：心の健康","精神神経科学振興財団","じほう",5325]
["シネマのなかの臨床心理学","医療の本","C：心の健康","山中康裕/橋本やよい/高月玲子　編","有斐閣",5326]
["脳のメモ帳　ワーキングメモリ","一般図書","C：心の健康","苧阪満里子","新曜社",5328]
["心がフッと軽くなる「瞬間の心理学」","医療の本","C：心の健康","名越 康文 ","角川SSコミュニケーションズ",5351]
["今すぐ使える心理学　しぐさを見れば心の９割がわかる！","一般図書","C：心の健康","渋谷昌三","三笠書房",5394]
["雪見だいふくはなぜ大ヒットしたのかー７７の「特許」発想法ー","一般図書","C：心の健康","重田暁彦","講談社",5395]
["仕事の中の曖昧な不安","一般図書","C：心の健康","玄田有史","中央公論社",5396]
["自由と規律","一般図書","C：心の健康","池田潔","岩波書店",5397]
["渡邉美樹のシゴト進化論","一般図書","C：心の健康","渡邉美樹","日経BP社",5398]
["ストレスゼロの仕事術","一般図書","C：心の健康","木村英一","阪急コミュニケーションズ",5399]
["佐藤可士和の超整理術","一般図書","C：心の健康","佐藤可士和","日本経済新聞出版社",5401]
["めざせ！仕事のプロ　ﾓﾁﾍﾞｰｼｮﾝが上がるﾜｸﾜｸ仕事術","一般図書","C：心の健康","小林英二","シーアンドアール研究所",5402]
["聞き書き　ダライ・ラマの言葉","一般図書","C：心の健康","松本栄一著","日本放送出版協会",5412]
["にんげんだもの","一般図書","C：心の健康","相田みつを著","文化出版局",5413]
["ネガティブな自分をゆるす本","一般図書","C：心の健康","植木理恵著","大和出版",5414]
["弁護士が教える気弱なあなたの交渉術","一般図書","C：心の健康","谷原　誠","日本実業出版社",5416]
["疑え、常識。","一般図書","C：心の健康","川口淳一郎","KKベストセラーズ",5466]
["不安な気持ちをしずめる方法","医療の本","C：心の健康","キャロライン・カー","PHP研究所",5502]
["ものいうからだ","医療の本","C：心の健康","南雲直二","講談社",5552]
["おもいやりとホスピタリティの心理学","医療の本","C：心の健康","平井誠也","北大路書房",5554]
["空への手紙","一般図書","C：心の健康","佐藤律子","ポプラ社",5555]
["四つ話のクローバー","一般図書","C：心の健康","水野敬也","文響社",5672]
["脳を究める　脳研最前線","一般図書","C：心の健康","立花隆","朝日新聞出版",5675]
["ネガティブな自分をゆるす本","一般図書","C：心の健康","植木理恵","大和出版",5677]
["サンタクロースっているんでしょうか？","一般図書","C：心の健康","中村妙子　訳","偕成社",5678]
["妻を看取る日　国立がんセンター名誉総長の喪失と再生の記録","医療の本","C：心の健康","垣添忠生","新潮社",8114]
["職場不適応症","医療の本","C：心の健康","渡辺　登","講談社",8118]
["なぜ、ヒトは「うつ」になるのか","医療の本","C：心の健康","北島潤一郎","シーアンドアール研究所",8122]
["雑談力が上がる話し方","一般図書","C：心の健康","齋藤　孝","ダイヤモンド社",10001]
["脳はバカ、腸はかしこい","医療の本","C：心の健康","藤田紘一郎","三五館",10002]
["人生の実力","一般図書","C：心の健康","柏木哲夫","幻冬舎",10004]
["ストレス対策で病気を防ぐ、治す本","医療の本","C：心の健康","村上正人","主婦と生活社",10005]
["気分障害治療ガイドライン","医療の本","C：心の健康","精神医学講座担当者会議","医学書院",10006]
["自律神経失調症の悩みをぐんぐん解消する基本ワザ","医療の本","C：心の健康","久保木富房","日東書院",10063]
["パニック障害とうまくつきあうルール","医療の本","C：心の健康","べヴ・エイズベット","大和書房",10064]
["うつ病がよくわかる本","医療の本","C：心の健康","鍋田恭孝","日本評論社",10065]
["死にカタログ","一般図書","C：心の健康","寄藤文平","大和書房",10066]
["シルバー川柳　誕生日　ローソク吹いて　たちくらみ","一般図書","C：心の健康","全国有料老人ホーム協会","ポプラ社",10102]
["武器としての交渉思考","一般図書","C：心の健康","瀧本哲史","星海社",10128]
["自分のことをしゃべりすぎる若者たち","一般図書","C：心の健康","杉浦由美子","講談社",10129]
["「はやぶさ」式思考法","一般図書","C：心の健康","川口淳一郎","飛鳥新社",10130]
["心がふわっと軽くなる考え方","一般図書","C：心の健康","ひすいこたろう　他","ソフトバンククリエイティブ",10131]
["自分のこころのトリセツ","一般図書","C：心の健康","下園壮太","日経BPマーケティング",10132]
["読まずにいられぬ名短編集","一般図書","C：心の健康","宮部みゆき","筑摩書房",10135]
["プラハの春","一般図書","C：心の健康","春江一也","集英社",10141]
["晏子（あんし）上","一般図書","C：心の健康","宮城谷昌光","新潮社",10142]
["晏子（あんし）中","一般図書","C：心の健康","宮城谷昌光","新潮社",10143]
["晏子（あんし）下","一般図書","C：心の健康","宮城谷昌光","新潮社",10144]
["女性のうつ病 (よくわかる最新医学シリーズ）","医療の本","C：心の健康","野田 順子","主婦の友社",10147]
["マンガでわかる！統合失調症","医療の本","C：心の健康","中村ユキ","日本評論社",10148]
["新幹線お掃除の天使たち","一般図書","C：心の健康","遠藤功","あさ出版",10192]
["こころの天気図","一般図書","C：心の健康","河合隼雄","毎日新聞社",10193]
["こころの声を聴く","一般図書","C：心の健康","河合隼雄","新潮社",10194]
["こころの旅","一般図書","C：心の健康","神谷恵美子","日本評論社",10195]
["夢をかなえるゾウ","一般図書","C：心の健康","水野敬也","飛鳥新社",10196]
["恋愛成就寺","一般図書","C：心の健康","小池龍之介","ディスカヴァー・トゥエンティワン",10197]
["他人をほめる人、けなす人","一般図書","C：心の健康","フランチェスコ・アルベローニ","草思社",10198]
["もの食う人びと","一般図書","C：心の健康","辺見庸","共同通信社",10199]
["世界と日本のまちがい","一般図書","C：心の健康","松岡正剛","春秋社",10200]
["鉄道員","一般図書","C：心の健康","浅田次郎","集英社",10201]
["耳ぶくろ","一般図書","C：心の健康","日本エッセイストクラブ","文藝春秋",10202]
["ネパールのビール","一般図書","C：心の健康","日本エッセイストクラブ","文藝春秋",10203]
["明治のベースボール","一般図書","C：心の健康","日本エッセイストクラブ","文藝春秋",10204]
["母の写真","一般図書","C：心の健康","日本エッセイストクラブ","文藝春秋",10205]
["司馬サンの大阪弁","一般図書","C：心の健康","日本エッセイストクラブ","文藝春秋",10206]
["誕生日のアップルパイ","一般図書","C：心の健康","日本エッセイストクラブ","文藝春秋",10207]
["中くらいの妻","一般図書","C：心の健康","日本エッセイストクラブ","文藝春秋",10208]
["お父っつあんの冒険","一般図書","C：心の健康","日本エッセイストクラブ","文藝春秋",10209]
["幸せになる魔法のことば","一般図書","C：心の健康","森　惟明","高知新聞総合印刷",10215]
["脳を活かす勉強法","一般図書","C：心の健康","茂木健一郎","PHP研究所",10223]
["小さいことにくよくよするな！","一般図書","C：心の健康","リチャード・カールソン","サンマーク出版",10224]
["「そ・わ・か」の法則","一般図書","C：心の健康","小林正観","サンマーク出版",10225]
["青春とは","一般図書","C：心の健康","サムエル・ウルマン","講談社",10226]
["納得いく仕事　納得できる人生","一般図書","C：心の健康","江波戸哲夫","プレジデント社",10227]
["あなたを変える「稼ぎ力」養成講座","一般図書","C：心の健康","渋井真帆","ダイヤモンド社",10228]
["やさしい人","一般図書","C：心の健康","加藤諦三","PHP研究所",10229]
["能率手帳の流儀","一般図書","C：心の健康","野口晴巳","日本能率協会マネジメントセンター",10230]
["理系思考","一般図書","C：心の健康","元村有希子","毎日新聞社",10231]
["天声人語　人物編","一般図書","C：心の健康","辰濃和男","朝日新聞出版",10232]
["天声人語　自然編","一般図書","C：心の健康","辰濃和男","朝日新聞出版",10233]
["自分を超える法","一般図書","C：心の健康","ピーター・セージ","ダイヤモンド社",10234]
["脳が冴える15の習慣　記憶・集中・思考力を高める","一般図書","C：心の健康","築山節","NHK出版",10235]
["行列ができる店はどこが違うのか　飲食店の心理学","一般図書","C：心の健康","大久保一彦","精興社",10236]
["牛丼一杯の儲けは9円","一般図書","C：心の健康","坂口孝則","幻冬舎",10237]
["仕事ができる人はなぜ筋トレをするのか","一般図書","C：心の健康","山本ケイイチ","幻冬舎",10238]
["神の交渉力","一般図書","C：心の健康","竹内一正","経済界",10239]
["明日をひらく言葉","一般図書","C：心の健康","やなせたかし","PHP研究所",10244]
["仕事をしたつもり","一般図書","C：心の健康","海老原嗣生","星海社",10245]
["夢をかなえるゾウ②","一般図書","C：心の健康","水野敬也","飛鳥新社",10246]
["理系白書","一般図書","C：心の健康","毎日新聞科学環境部","講談社",10247]
["「見た目」の流儀","一般図書","C：心の健康","岡野　宏","ダイヤモンド社",10248]
["よくわかる双極性障害（躁うつ病）　両極端な気分の変動をコントロールする","医療の本","C：心の健康","貝谷久宣","主婦の友社",10268]
["非定型うつ病 パニック症・社交不安症 (よくわかる最新医学)","医療の本","C：心の健康","貝谷久宣","主婦の友社",10269]
["‐薬に頼らずラクになる‐やさしいうつの治しかた","医療の本","C：心の健康","弥永英晃","パブラボ",10270]
["美國","一般図書","C：心の健康","三枝濱子","ショーアート",10297]
["ハリー・ポッターと賢者の石①","一般図書","C：心の健康","J.K.ローリング","静山社",10298]
["ハリー・ポッターと秘密の部屋②","一般図書","C：心の健康","J.K.ローリング","静山社",10299]
["ハリー・ポッターとアズガバンの囚人③","一般図書","C：心の健康","J.K.ローリング","静山社",10300]
["ハリー・ポッターと炎のゴブレット④（上）","一般図書","C：心の健康","J.K.ローリング","静山社",10301]
["ハリー・ポッターと炎のゴブレット④（下）","一般図書","C：心の健康","J.K.ローリング","静山社",10302]
["ハリー・ポッターと不死鳥の騎士団⑤（上）","一般図書","C：心の健康","J.K.ローリング","静山社",10303]
["ハリー・ポッターと不死鳥の騎士団⑤（下）","一般図書","C：心の健康","J.K.ローリング","静山社",10304]
["ハリー・ポッターと謎のプリンス　上巻","一般図書","C：心の健康","J.K.ローリング","静山社",10305]
["ハリー・ポッターと謎のプリンス　下巻","一般図書","C：心の健康","J.K.ローリング","静山社",10306]
["ハリー・ポッターと死の秘宝　上巻","一般図書","C：心の健康","J.K.ローリング","静山社",10307]
["ハリー・ポッターと死の秘宝　下巻","一般図書","C：心の健康","J.K.ローリング","静山社",10308]
["ステージ","一般図書","C：心の健康","演劇ストーリー入選作品集","大阪市人権啓発推進協議会",10309]
["あんたらヤメときや！","一般図書","C：心の健康","演劇ストーリー入選作品集","大阪市人権啓発推進協議会",10310]
["幸せになる魔法のことば","一般図書","C：心の健康","森惟明","高知新聞総合印刷",10316]
["キャッチ！ ＪＲ福知山線脱線事故がわたしに教えてくれたこと","一般図書","C：心の健康","岡崎愛子","ポプラ社",10318]
["一歩一路中村敦子四文字熟語　母から子へ残しておきたい七選","一般図書","C：心の健康","中村淳子","水山産業",10320]
["家族のためのはじめての認知症介護","一般図書","C：心の健康","田中知世子","幻冬舎",10321]
["Dr.モリの転ばぬ先の杖","一般図書","C：心の健康","森惟明","高知新聞総合印刷",10323]
["嫌われる勇気","一般図書","C：心の健康","岸見一郎・古賀史健","ダイヤモンド社",10325]
["こころにみことばの処方箋","医療の本","C：心の健康","樋野興夫","いのちのことば社",10331]
["明日この世を去るとしても今日の花に水をあげなさい","医療の本","C：心の健康","樋野興夫","幻冬舎",10332]
["いい覚悟で生きる","医療の本","C：心の健康","樋野興夫","小学館",10333]
["拒食症と過食症の治し方","医療の本","C：心の健康","切池信夫","講談社",10334]
["認知行動療法のすべてがわかる本","医療の本","C：心の健康","清水栄司","講談社",10363]
["あなたに、会えてよかった。","一般図書","C：心の健康","中島未月","PHP研究所",10373]
["だから優しく、と空が言う","一般図書","C：心の健康","中島未月","PHP研究所",10374]
["笑顔のおくりもの","一般図書","C：心の健康","中島未月","PHP研究所",10375]
["ゴリラはごりら","一般図書","C：心の健康","くどうなおこ","童話屋",10378]
["のはらのうたⅠ","一般図書","C：心の健康","くどうなおこ","童話屋",10379]
["煩悩リセット稽古帖","一般図書","C：心の健康","小池龍之介","ディスカヴァー・トゥエンティワン",10380]
["いい運気と仲良しになれる！引き寄せ行動術","一般図書","C：心の健康","卯野たまご","角川書店",10381]
["夜明けの街で","一般図書","C：心の健康","東野圭吾","角川文庫",10383]
["スローレNo.4","一般図書","C：心の健康","宮下奈都","光文社",10384]
["慟哭","一般図書","C：心の健康","貫井徳郎","東京創元社",10385]
["悼む人　上","一般図書","C：心の健康","天童荒太","文藝春秋",10386]
["悼む人　下","一般図書","C：心の健康","天童　荒太","文藝春秋",10387]
["16歳の教科書　なぜ学び、なにを学ぶのか","一般図書","C：心の健康","7人の特別講義プロジェクト＆モーニング編集部","講談社",10388]
["子ぎつねヘレンがのこしたもの","一般図書","C：心の健康","竹田津実","偕成社",10389]
["利休にたずねよ","一般図書","C：心の健康","山本兼一","PHP研究所",10390]
["聞く力　心をひらく35のヒント","一般図書","C：心の健康","阿川佐和子","文藝春秋",10391]
["やんちゃな時代","一般図書","C：心の健康","林真理子","文藝春秋",10395]
["ホームレス中学生","一般図書","C：心の健康","田村裕","ワニブックス",10396]
["武器より一冊の本をください　少女マララ・ユスフザイの祈り","一般図書","C：心の健康","ヴィヴィアナ・マッツァ","金の星社",10397]
["雨ふる本屋","一般図書","C：心の健康","日向理恵子","童心社",10398]
["走れ！マスワラ","一般図書","C：心の健康","グザヴィエ=ローラン=プティ","PHPエディターズ・グループ",10399]
["「考えすぎる自分」をお休みしよう","一般図書","C：心の健康","フェミニストセラピー”なかま”編","リヨン社",10400]
["地下街の雨","一般図書","C：心の健康","宮部みゆき","集英社",10401]
["クイズ・ショウ　上","一般図書","C：心の健康","リチャード・Ｎ・グッドウィン","扶桑社",10411]
["クイズ・ショウ　下","一般図書","C：心の健康","リチャード・Ｎ・グッドウィン","扶桑社",10412]
["とかげ","一般図書","C：心の健康","吉本ばなな","新潮社",10413]
["人生ピロピロ","一般図書","C：心の健康","さとなお","角川書店",10414]
["泳ぐのに安全でも適切でもありません","一般図書","C：心の健康","江國香織","集英社",10415]
["探偵ガリレオ","一般図書","C：心の健康","東野圭吾","文藝春秋",10416]
["クロスファイア　上","一般図書","C：心の健康","宮部みゆき","光文社",10417]
["クロスファイア　下","一般図書","C：心の健康","宮部みゆき","光文社",10418]
["海峡の光","一般図書","C：心の健康","辻仁成","新潮社",10419]
["オレンジの壺","一般図書","C：心の健康","宮本輝","光文社",10420]
["オレンジの壺　下","一般図書","C：心の健康","宮本輝","光文社",10421]
["無印ＯＬ物語","一般図書","C：心の健康","群ようこ","角川書店",10422]
["無印失恋物語","一般図書","C：心の健康","群ようこ","角川書店",10423]
["無印結婚物語","一般図書","C：心の健康","群ようこ","角川書店",10424]
["無印親子物語","一般図書","C：心の健康","群ようこ","角川書店",10425]
["無印おまじない物語","一般図書","C：心の健康","群ようこ","角川書店",10426]
["姉の結婚","一般図書","C：心の健康","群ようこ","集英社",10427]
["トラブルクッキング","一般図書","C：心の健康","群ようこ","集英社",10428]
["でも女","一般図書","C：心の健康","群ようこ","集英社",10429]
["天璋院篤姫　上","一般図書","C：心の健康","宮尾登美子","講談社",10430]
["天璋院篤姫　下","一般図書","C：心の健康","宮尾登美子","講談社",10431]
["雁","一般図書","C：心の健康","森鷗外","新潮社",10432]
["きよしこ","一般図書","C：心の健康","重松清","新潮社",10433]
["亜細亜ふむふむ紀行","一般図書","C：心の健康","群ようこ","新潮社",10434]
["太陽の子","一般図書","C：心の健康","灰谷健次郎","角川書店",10435]
["おじいちゃん、戦争のことを教えて","一般図書","C：心の健康","中條高徳","小学館",10436]
["今夜、すべてのバーで","一般図書","C：心の健康","中島らも","講談社",10437]
["水曜日の朝、午前三時","一般図書","C：心の健康","蓮見圭一","新潮社",10438]
["残響","一般図書","C：心の健康","保坂和志","中央公論社",10439]
["夏の夜の夢・間違いの喜劇","一般図書","C：心の健康","シェイクスピア","筑摩書房",10440]
["小美代姐さん花乱万丈","一般図書","C：心の健康","群ようこ","集英社",10441]
["不自由な心","一般図書","C：心の健康","白石一文","角川書店",10442]
["なぜか「美人」に見える女性の習慣","一般図書","C：心の健康","中谷彰宏","大和書房",10443]
["アイリーンといっしょに","一般図書","C：心の健康","テレル・ハリス・ドゥーガン","ポプラ社",10444]
["嫌な女","一般図書","C：心の健康","桂望実","光文社",10445]
["マンガ坂本龍馬伝！","一般図書","C：心の健康","風槇絃一","三笠書房",10446]
["その後ツレがうつになりまして","医療の本","C：心の健康","細川貂々","幻冬舎",10447]
["かぜのてのひら","一般図書","C：心の健康","俵万智","河出書房新社",10448]
["跳びはねる思考","一般図書","C：心の健康","東田直樹","イースト・プレス",10449]
["97歳の幸福論","一般図書","C：心の健康","笹本恒子","講談社",10450]
["夢幻花","一般図書","C：心の健康","東野圭吾","PHP研究所",10452]
["摂食障害から回復するための8つの秘訣","医療の本","C：心の健康","キャロリン・コスティン","星和書店",10458]
["螢","一般図書","C：心の健康","麻耶雄嵩","幻冬舎",10459]
["いなくなった私へ","一般図書","C：心の健康","辻堂ゆめ","宝島社",10460]
["仇敵","一般図書","C：心の健康","池井戸潤","実業之日本社",10461]
["アリアドネの弾丸","一般図書","C：心の健康","海棠尊","宝島社",10462]
["孤独の歌声","一般図書","C：心の健康","天童荒太","新潮社",10463]
["湖底のまつり","一般図書","C：心の健康","泡坂妻夫","東京創元社",10464]
["流","一般図書","C：心の健康","東山彰良","講談社",10465]
["ショットバー","一般図書","C：心の健康","麻生幾","幻冬舎",10466]
["仮面病棟","一般図書","C：心の健康","知念実希人","実業之日本社",10467]
["その女アレックス","一般図書","C：心の健康","ピエール・ルメートル","文藝春秋",10468]
["星新一　YAセレクション","一般図書","C：心の健康","星新一","理論社",10469]
["星新一　ちょっと長めのショートショート　七人の犯罪者","一般図書","C：心の健康","星新一","理論社",10470]
["億男","一般図書","C：心の健康","川村元気","マガジンハウス",10471]
["あしながおじさん","一般図書","C：心の健康","ジーン・ウェブスター","ｳﾞｨﾚｯｼﾞﾌﾞｯｸｽ",10489]
["星の王子さま","一般図書","C：心の健康","ｻﾝ=ﾃｸﾞｼﾞｭﾍﾟﾘ","新潮社",10504]
["うつヌケ","一般図書","C：心の健康","田中　圭一","角川書店",10506]
["下半身に筋肉をつけると「太らない」「疲れない」","一般図書","C：心の健康","中野ジェームス修一","大和書房",10507]
["部屋とこころのシンプルな掃除","一般図書","C：心の健康","ドミニック・ローホー","幻冬舎",10508]
["ストレスマネジメント入門","一般図書","C：心の健康","島　悟・佐藤　恵美","日本経済新聞出版社",10509]
["たった１文からトコトン学べる私の英語ノートを紹介します。","一般図書","C：心の健康","石原　真弓","株域会社　アスコム",10510]
["性格リフォームカウンセラー心屋仁之助の「ありのままの自分」に○をつけよう","一般図書","C：心の健康","心屋仁之助","三笠書房",10511]
["アナと雪の女王　愛されるエルサ女王","一般図書","C：心の健康","エリカ・デイビット","角川書店",10512]
["銀の匙","一般図書","C：心の健康","荒川　弘","小学館",10513]
["幻の女","一般図書","C：心の健康","ウイリアム・アイリッシュ","株式会社　早川書房",10514]
["ガリレオの苦悩","一般図書","C：心の健康","東野　圭吾","文藝春秋",10515]
["悲嘆の門（上）","一般図書","C：心の健康","宮部みゆき","新潮社",10516]
["悲嘆の門（中）","一般図書","C：心の健康","宮部　みゆき","新潮社",10517]
["悲嘆の門（下）","一般図書","C：心の健康","宮部　みゆき","新潮社",10518]
["名もなき毒","一般図書","C：心の健康","宮部　みゆき","文藝春秋",10519]
["風の中のマリア","一般図書","C：心の健康","百田　尚樹","講談社",10520]
["生存者ゼロ","一般図書","C：心の健康","安生　正","宝島社",10521]
["教団Ｘ","一般図書","C：心の健康","中村　文則","集英社",10522]
["予知夢","一般図書","C：心の健康","東野　圭吾","文藝春秋",10523]
["住友銀行秘史","一般図書","C：心の健康","國重　惇史","講談社",10524]
["折れない自信をつくるシンプルな習慣","一般図書","C：心の健康","心屋仁之助","朝日新聞出版",10526]
["株価暴落","一般図書","C：心の健康","池井戸潤","文藝春秋",10527]
["勁草の人　中山素平","一般図書","C：心の健康","高杉　良","文藝春秋",10528]
["銃・病原菌・鉄　上","一般図書","C：心の健康","ジャレンド・ダイヤモンド","草思社",10529]
["彼女がその名を知らない鳥たち","一般図書","C：心の健康","沼田まほかる","幻冬舎",10530]
["車イスの私がアメリカで医療ソーシャルワーカーになった理由","一般図書","C：心の健康","上原寛奈","幻冬舎",10531]
["マンガでわかる! 統合失調症〔家族の対応編〕","医療の本","C：心の健康","中村ユキ　著","日本評論社",10553]
["統合失調症　（よくわかる最新医学シリーズ）","医療の本","C：心の健康","春日武彦　監修","主婦の友社",10566]
["統合失調症スペクトラムがよくわかる本","医療の本","C：心の健康","糸川昌成　監修","講談社",10581]
["ボクのせいかも・・・","医療の本","C：心の健康","プルスアルハ","ゆまに書房",10612]
["お母さんどうしちゃったの・・・","医療の本","C：心の健康","プルスアルハ","ゆまに書房",10613]
["お母さんは静養中","医療の本","C：心の健康","プルスアルハ","ゆまに書房",10614]
["薬","目次へ","※PDF版ではリンクしておりません。",null,null,null,"8頁",18]
["抗生物質治療ガイドライン　第２版","医療の本","D：薬","オーストラリア治療ガ","医薬ビジランスセンター",163]
["鎮痛・解熱治療ガイドライン","医療の本","D：薬","オーストラリア治療ガ","プリメド社",165]
["2010　薬の事典　ピルブック","医療の本","D：薬","橘　敏也　著","ソシム",170]
["くすりと健康についてくすりになる話","医療の本","D：薬","大野　誠　監修","レーダー出版",173]
["くすりの地図帳","医療の本","D：薬","伊賀　立二;小滝　一;沢田　康文","講談社",174]
["これだけは知っておきたい抗アレルギー薬の","医療の本","D：薬","中川　武正　編","医薬ジャーナル社",175]
["ひと目でわかる向精神薬の薬効比較　４","医療の本","D：薬","稲田　俊也","じほう",177]
["ポケット版　基本薬事典　第３版","医療の本","D：薬","岡島　重孝　編集","照林社",178]
["やさしく学ぶ薬剤経済学","医療の本","D：薬","坂巻　弘之","じほう",180]
["よくわかる薬の知識と自己管理　きちんとし","医療の本","D：薬","杉山　正敏　他編","医薬ジャーナル社",181]
["安全ながん治療とテーラーメイド医療に向け","医療の本","D：薬","乾　賢一　監修","じほう",182]
["降圧薬の知識と自己管理","医療の本","D：薬","日和田　邦男　編","医薬ジャーナル社",187]
["治療薬ハンドブック　第２版","医療の本","D：薬","奈良　信雄　著","医歯薬出版",189]
["疾患別服薬指導マニュアル　３　第２版","医療の本","D：薬","宮本　謙一　監修","じほう",193]
["手術室・ＩＣＵで使う薬剤ノート　改訂４版","医療の本","D：薬","弓削　孟文　監修","メディカ出版",194]
["循環器用薬の薬物相互作用","医療の本","D：薬","高田　充隆　編","医薬ジャーナル社",195]
["消毒剤の選び方と使用上の留意点　改訂２版","医療の本","D：薬","神谷　晃　著","じほう",196]
["正しいステロイド剤の使い方　２　外用剤編","医療の本","D：薬","塩原 哲夫　編","医薬ジャーナル社",199]
["生活習慣病とその治療薬","医療の本","D：薬","橘　敏也","じほう",200]
["注射薬投与法の基本と工夫　安全かつ有効な","医療の本","D：薬","幸保　文治","メディカルトリビューン",201]
["薬のサイエンス　Ｖｏｌ．８","医療の本","D：薬","井村　裕夫","フジメディカル",203]
["薬剤識別コード事典　平成２１年改訂版★","医療の本","D：薬","医薬ジャーナル社編集","医薬ジャーナル社",984]
["2010　今日の治療薬","医療の本","D：薬","水島　裕　編集","南江堂",993]
["2010　医者からもらった薬がわかる本","医療の本","D：薬","木村　繁　著","法研",994]
["2009　最近の新薬","医療の本","D：薬",null,"薬事日報社",995]
["2010　くすりの事典","医療の本","D：薬","小林　輝明　監修","成美堂出版",996]
["2010　医療用医薬品集　ＣＤ－ＲＯＭ付","医療の本","D：薬",null,"日本医薬情報センター",997]
["２０１０－1１　日本医薬品集　一般薬","医療の本","D：薬","日本医薬品集フォーラ","じほう",998]
["疾患と今日の処方　第５版","医療の本","D：薬","福田　保　監修","医歯薬出版",999]
["正しいステロイド剤の使い方　１　内用剤編　改訂版","医療の本","D：薬","宮坂　信之　編","医薬ジャーナル社",1000]
["今日の治療薬　２０１２","医療の本","D：薬","浦部晶夫/島田和幸/川合眞一編集","南江堂",5334]
["薬の事典 ピルブック〈2012年版〉","医療の本","D：薬","橘　敏也　著","ソシム",5335]
["くすりの事典―病院からもらった薬がよくわかる〈2012年版〉","医療の本","D：薬","小林　輝明　監修","成美堂出版",5336]
["今日のジェネリック医薬品 〈2011‐2012〉","医療の本","D：薬","増原慶壮/北村正樹編集","南江堂",5352]
["ミッフィーの早引き薬の使い方ハンドブック","医療の本","D：薬","根橋一夫　著","エクスナレッジ",5353]
["日本医薬品集　医療薬　2010","医療の本","D：薬",null,"じほう",8007]
["今日のジェネリック医薬品　20122013","医療の本","D：薬","増原慶壮","南山堂",10007]
["医者からもらった薬がわかる本","医療の本","D：薬","医薬制度研究会","法研",10008]
["今日の治療薬　２０１３","医療の本","D：薬","浦部晶夫","南江堂",10009]
["薬の事典　ピルブック　２０１３年版","医療の本","D：薬","橘敏也","じほう",10010]
["病院からもらった薬がよくわかる　薬の事典　２０１３年版","医療の本","D：薬","小林輝明","成美堂出版",10011]
["薬の事典 ピルブック 2014年度","医療の本","D：薬","橘　敏也","ソシム",10149]
["今日の治療薬 2014 解説と便覧","医療の本","D：薬","浦部 晶夫","南江堂",10150]
["医者からもらった薬がわかる本 第29版","医療の本","D：薬","医薬制度研究会","法研",10151]
["くすりの事典 2015年版―病院からもらった薬がよくわかる","医療の本","D：薬","小林　輝明","成美堂出版",10152]
["今日のジェネリック医薬品　２０１４－２０１５","医療の本","D：薬","増原慶壮/北村正樹","南江堂",10153]
["薬がみえる　vol.1","医療の本","D：薬","医療情報科学研究所","メディックメディア",10278]
["メディクイックブック（2015年版　第1部）　患者さんによくわかる薬の説明","医療の本","D：薬","鈴木康夫（リウマチ内科学）","金原出版",10279]
["今日の治療薬2017","医療の本","D：薬","浦部晶夫","南江堂",10478]
["病院からもらった薬がよくわかるくすりの事典2018","医療の本","D：薬","片山志郎","成美堂出版",10479]
["薬剤識別コード事典　平成29年改訂版","医療の本","D：薬","医薬ジャーナル社編集部","医薬ジャーナル社",10480]
["日本医薬品集　医療薬　2018","医療の本","D：薬","日本医薬品集フォーラム","じほう",10481]
["医者からもらった薬がわかる本　第30版","医療の本","D：薬",null,"法研",10500]
["薬がみえるvol.1","医療の本","D：薬","医療情報科学研究所","メディックメディア",10543]
["薬がみえるvol.2","医療の本","D：薬","医療情報科学研究所","メディックメディア",10544]
["薬がみえるvol.3","医療の本","D：薬","医療情報科学研究所","メディックメディア",10545]
["トレーニング","目次へ","※PDF版ではリンクしておりません。",null,null,null,"9頁",19]
["リハビリ療法","目次へ","※PDF版ではリンクしておりません。",null,null,null,"9頁",20]
["脳卒中とリハビリテーション","医療の本","Ee：リハビリ療法","本多　虔夫;星野　晴彦","保健同人社",219]
["高齢者のリハビリＱ＆Ａ(新版)","医療の本","Ee：リハビリ療法","岡本 五十雄著","講談社",229]
["家庭でできるリハビリテーション","医療の本","Ee：リハビリ療法","隆島　研吾　著","法研",230]
["日常生活指導のためのリハビリ・テクニック","医療の本","Ee：リハビリ療法","林　ヤス史","文光堂",231]
["リハビリテーションのための脳・神経科学入","医療の本","Ee：リハビリ療法","森岡　周　著","協同医書出版社",599]
["理学療法ハンドブック　改訂第３版　全３巻 第2巻","医療の本","Ee：リハビリ療法","細田　多穂　他編","協同医書出版社",981]
["理学療法ハンドブック　改訂第３版　全３巻 第3巻","医療の本","Ee：リハビリ療法","細田　多穂　他編","協同医書出版社",982]
["理学療法ハンドブック　改訂第３版　全３巻 第1巻","医療の本","Ee：リハビリ療法","細田　多穂　他編","協同医書出版社",1001]
["リハビリテーション医学白書","医療の本","Ee：リハビリ療法","日本リハビリテーション医学会","リハビリテーション医学白書委員会",10053]
["リハビリテーションビジュアルブック","医療の本","Ee：リハビリ療法","稲川利光, 落合慈之","学研メディカル秀潤社",10266]
["嚥下障害","目次へ","※PDF版ではリンクしておりません。",null,null,null,"9頁",21]
["口から食べる　嚥下障害Ｑ＆Ａ　第３版","医療の本","Ee5：嚥下障害","藤島　一郎","中央法規出版",233]
["誤嚥を防ぐケアとリハビリテーション","医療の本","Ee5：嚥下障害","藤谷　順子　他編著","日本看護協会出版会",234]
["嚥下障害食のつくりかた　改訂新版","医療の本","Ee5：嚥下障害","藤谷　順子　他","日本医療企画",235]
["かむ・飲み込むが難しい人の食事","医療の本","Ee5：嚥下障害","藤谷順子","講談社",5538]
["禁煙","目次へ","※PDF版ではリンクしておりません。",null,null,null,"9頁",22]
["やさしい禁煙の方法と自己管理","医療の本","Ei：禁煙","北村　諭","医薬ジャーナル社",237]
["禁煙セラピー　らくらく成功日誌３６５","医療の本","Ei：禁煙","Ａ．カー　著","ロングセラーズ",238]
["体と病気","目次へ","※PDF版ではリンクしておりません。",null,null,null,"9頁",23]
["健康の基本","医療の本","F：体と病気","鳴海周平","ワニ・プラス",10067]
["一般医学","目次へ","※PDF版ではリンクしておりません。",null,null,null,"9頁",24]
["Disease 人類を襲った30の病魔","医療の本","Fa：一般医学","小林力","医学書院",10068]
["ドクター夏井の外傷治療「裏」マニュアル","医療の本","Fa：一般医学","夏井睦","三輪書店",10335]
["よくわかる病理学の基本としくみ","医療の本","Fa：一般医学","田村浩一","秀和システム",10336]
["一般","目次へ","※PDF版ではリンクしておりません。",null,null,null,"9頁",25]
["よくわかる最新「病」の基本としくみ","医療の本","Fa1：一般",null,"秀和システム",8052]
["からだのしくみ全書","医療の本","Fa1：一般","飯野晃啓","東陽出版",10033]
["からだのしくみ全書","医療の本","Fa1：一般","飯野晃啓","東陽出版",10034]
["みんな知りたい　遺伝のはなし","医療の本","Fa1：一般","藤田潤","京都新聞出版センター",10093]
["子どもが育つ魔法の言葉","一般図書","Fa1：一般","ドロシー・ロー・ノルト/レイチャル・ハリス","PHP研究所",10618]
["星がひとつほしいとの祈り","一般図書","Fa1：一般","原田マハ","実業之日本社",10619]
["疾風ロンド","一般図書","Fa1：一般","東野圭吾","実業之日本社",10620]
["三人屋","一般図書","Fa1：一般","原田ひ香","実業之日本社",10621]
["伊藤くんＡｔｏＥ","一般図書","Fa1：一般","柚木麻子","幻冬舎",10622]
["ストーリー・セラー","一般図書","Fa1：一般","有川浩","幻冬舎",10623]
["ぼくは明日、昨日のきみとデートする","一般図書","Fa1：一般","七月隆文","宝島社",10624]
["交錯","一般図書","Fa1：一般","堂場　瞬一","角川文庫",10625]
["凍結捜査","一般図書","Fa1：一般","堂場瞬一","集英社",10626]
["白夜行","一般図書","Fa1：一般","東野圭吾","集英社",10627]
["カラフル","一般図書","Fa1：一般","森絵都","文藝春秋",10628]
["イン・ザ・プール","一般図書","Fa1：一般","奥田英朗","文藝春秋",10629]
["ままならないから私とあなた","一般図書","Fa1：一般","朝井リョウ","文藝春秋",10630]
["国境の銃弾","一般図書","Fa1：一般","濱　嘉之","文藝春秋",10631]
["地下鉄に乗って","一般図書","Fa1：一般","浅田次郎","講談社",10632]
["霞町物語","一般図書","Fa1：一般","浅田次郎","講談社",10633]
["僕のメジャースプーン","一般図書","Fa1：一般","辻村深月","講談社",10634]
["リバース","一般図書","Fa1：一般","湊　かなえ","講談社",10635]
["夜のピクニック","一般図書","Fa1：一般","恩田　陸","新潮社",10636]
["5年目の魔女","一般図書","Fa1：一般","乃南アサ","新潮社",10637]
["しゃぼん玉","一般図書","Fa1：一般","乃南アサ","新潮社",10638]
["豆の上で眠る","一般図書","Fa1：一般","湊　かなえ","新潮社",10639]
["レディ・ジョーカー(上)","一般図書","Fa1：一般","髙村薫","新潮社",10640]
["レディ・ジョーカー(中)","一般図書","Fa1：一般","高村薫","新潮社",10641]
["レディ・ジョーカー(下)","一般図書","Fa1：一般","高村薫","新潮社",10642]
["サラバ！上","一般図書","Fa1：一般","西加奈子","小学館",10643]
["サラバ！下","一般図書","Fa1：一般","西加奈子","小学館",10644]
["居酒屋ぼったくり","一般図書","Fa1：一般","秋川滝美","NULL",10645]
["天国の孝ちゃんへのメール　別れそして嘆き","一般図書","Fa1：一般","孝ちゃんのパパ","文芸社",10646]
["Dr.モリの転ばぬ先の杖","一般図書","Fa1：一般","森惟明","高知新聞総合印刷",10647]
["海からの風","一般図書","Fa1：一般","興梠みさ子","NULL",10648]
["秘密","一般図書","Fa1：一般","東野圭吾","文藝春秋",10649]
["食事療法","目次へ","※PDF版ではリンクしておりません。",null,null,null,"10頁",26]
["がん抑制の食品事典","医療の本","Fa4：食事療法","西野　輔翼　編著","法研",241]
["骨/関節/筋肉","目次へ","※PDF版ではリンクしておりません。",null,null,null,"10頁",27]
["ひざ・腰・肩の痛み 痛みの原因と治療法　新版","医療の本","Fb：骨/関節/筋肉","三井　弘","主婦の友社",254]
["外反母趾を防ぐ・治す　新版","医療の本","Fb：骨/関節/筋肉","井口　傑　著","講談社",257]
["股関節の痛みはこれでとる イラスト版","医療の本","Fb：骨/関節/筋肉","二ノ宮　節夫","講談社",258]
["「むち打ち症」はこれで治る！　改訂新版","医療の本","Fb：骨/関節/筋肉","中井　宏　編著","日本医療企画",270]
["ポケット版　整形外科ケアマニュアル","医療の本","Fb：骨/関節/筋肉","土方　浩美　編著","照林社",271]
["変形性股関節症の運動・生活ガイド　第３版","医療の本","Fb：骨/関節/筋肉","杉岡　洋一　監修","日本醫事新報社",277]
["歩き方を変えれば外反母趾はここまで治る！","医療の本","Fb：骨/関節/筋肉","古屋達司　著","メタモル出版",5354]
["「体を温める」とすべての痛みが消える　―腰痛、ひざ痛、股関節痛、間欠性跛行が治った! ","医療の本","Fb：骨/関節/筋肉","坂井 学　著","マキノ出版",5355]
["関節の痛み","医療の本","Fb：骨/関節/筋肉","安倍千之　著","日本医学館",8014]
["坐骨神経痛","医療の本","Fb：骨/関節/筋肉","久野木順一","主婦の友社",8017]
["やさしい肩の痛みの自己管理","医療の本","Fb：骨/関節/筋肉","井樋栄二　編","医薬ジャーナル社",8027]
["患者さんのための頚椎後縦靭帯骨化症ガイドブック","医療の本","Fb：骨/関節/筋肉",null,"南江堂",8041]
["手足のしびれ、歩きにくい症状がある方に","医療の本","Fb：骨/関節/筋肉",null,"南江堂",8042]
["スーパー図解　くび・肩・背中の痛み　不快な症状を消し去る生活処方と最新治療","医療の本","Fb：骨/関節/筋肉","星川吉光監修","法研",8080]
["脊損慢性期マネジメントガイド","医療の本","Fb：骨/関節/筋肉","住田幹男","日本せきずい基金",10095]
["脊髄損傷初めの1年","医療の本","Fb：骨/関節/筋肉","米国脊髄医学ｺﾝｿｰｼｱﾑ","日本せきずい基金",10096]
["脊髄損傷者の社会参加マニュアル","医療の本","Fb：骨/関節/筋肉","住田幹男","日本せきずい基金",10097]
["上半身に筋肉をつけると「肩がこらない」「猫背にならない」","医療の本","Fb：骨/関節/筋肉","中野ジェームズ修一","厚徳社",10134]
["オールカラー 骨・関節・筋肉の構造と動作のしくみ","医療の本","Fb：骨/関節/筋肉","深代 千之","ナツメ社",10154]
["全部見える整形外科疾患　スーパービジュアル","医療の本","Fb：骨/関節/筋肉","高井信朗","成美堂出版",10267]
["骨・軟部腫瘍　臨床・画像・病理　改訂第2版","医療の本","Fb：骨/関節/筋肉","大塚隆信・福田国彦・小田義直","診断と治療社",10337]
["病気がみえる　vol.11　運動器・整形外科","医療の本","Fb：骨/関節/筋肉","医療情報科学研究所","メディックメディア",10485]
["坐骨神経痛","医療の本","Fb：骨/関節/筋肉","久野木順一","主婦の友社",10486]
["病気がみえるvol.11　運動器・整形外科","医療の本","Fb：骨/関節/筋肉","医療情報科学研究所","メディックメディア",10542]
["整形外科の疾患＆治療","医療の本","Fb：骨/関節/筋肉","津村弘 監修","メディカ出版",10552]
["変形性ひざ関節症　（よくわかる最新医学シリーズ）","医療の本","Fb：骨/関節/筋肉","八木貴史　著","主婦の友社",10573]
["坐骨神経痛　（よくわかる最新医学シリーズ）","医療の本","Fb：骨/関節/筋肉","久野木順一 著","主婦の友社",10577]
["腰痛","目次へ","※PDF版ではリンクしておりません。",null,null,null,"11頁",28]
["腰痛","医療の本","Fb5：腰痛","梶原　一","日本医学館",260]
["やさしい腰痛の自己管理","医療の本","Fb5：腰痛","米延　策雄　監","医薬ジャーナル社",272]
["腰痛","医療の本","Fb5：腰痛","住田　憲是　監修","主婦の友社",282]
["腰痛の病態生理と診断・治療","医療の本","Fb5：腰痛","山岸　正明　他","真興交易医書出版",283]
["椎間板ヘルニアと言われたらこの本を読もう","医療の本","Fb5：腰痛","諸岡　正明　著","文芸社",285]
["新版　坐骨神経痛がわかる本　中高年を悩ます「腰","医療の本","Fb5：腰痛","戸山　芳昭　著","法研",1002]
["痛風","目次へ","※PDF版ではリンクしておりません。",null,null,null,"11頁",29]
["痛風 痛風の最新治療と発作への対処法　新版","医療の本","Fb6：痛風","小田原　雅人;主婦の友社","主婦の友社",264]
["痛風の人の食事","医療の本","Fb6：痛風","藤森　新　他","女子栄養大学出版部",281]
["痛風と高尿酸血症","医療の本","Fb6：痛風","御巫清允","主婦の友社",5314]
["骨粗鬆症","目次へ","※PDF版ではリンクしておりません。",null,null,null,"11頁",30]
["骨粗しょう症 改訂新版","医療の本","Fb7：骨粗鬆症","広田　憲二;広田　孝子","保健同人社",261]
["骨粗鬆症の人の食事","医療の本","Fb7：骨粗鬆症","白木　正孝　他","女子栄養大学出版部",280]
["骨粗鬆症","医療の本","Fb7：骨粗鬆症","安倍　千之　著","日本医学館",289]
["やさしい骨粗鬆症の自己管理　改訂版","医療の本","Fb7：骨粗鬆症","森井　浩世　著","医薬ジャーナル社",291]
["骨粗しょう症に効くらくらくレシピ","医療の本","Fb7：骨粗鬆症","林　泰史　監修","法研",292]
["骨粗鬆症の最新治療―いまからでも実行できる寝たきりにならない方法（よくわかる最新医学シリーズ）","医療の本","Fb7：骨粗鬆症","石橋 英明","主婦の友社",10155]
["骨粗鬆症　（よくわかる最新医学シリーズ）","医療の本","Fb7：骨粗鬆症","石橋英明　著","主婦の友社",10562]
["血液/リンパ","目次へ","※PDF版ではリンクしておりません。",null,null,null,"11頁",31]
["リンパ浮腫がわかる本　予防と治療の実践ガ","医療の本","Fc：血液/リンパ","廣田　彰男　他著","法研",296]
["血液のガン　悪性リンパ腫と白血病","医療の本","Fc：血液/リンパ","飛内　賢正　監修","講談社",298]
["貧血の人の食事","医療の本","Fc：血液/リンパ","代田　常道　病態","女子栄養大学出版部",300]
["冷え症・貧血・低血圧　新版","医療の本","Fc：血液/リンパ","南雲　久美子　監修","主婦の友社",301]
["絵でわかる血液のはたらき","医療の本","Fc：血液/リンパ","八幡　義人　著","講談社",304]
["血液サラサラ健康事典","医療の本","Fc：血液/リンパ","藤井　潤　医学監修","時事通信社",305]
["やさしい貧血の自己管理","医療の本","Fc：血液/リンパ","内田　立身　編","医薬ジャーナル社",317]
["やさしい血液疾患　第５版","医療の本","Fc：血液/リンパ","押味　和夫　著","日本醫事新報社",1003]
["悪性リンパ腫　改訂版","医療の本","Fc：血液/リンパ","堀田　知光　編","医薬ジャーナル社",1004]
["最新　輸血のケアＱ＆Ａ　改訂版","医療の本","Fc：血液/リンパ","藤田　浩　編著","照林社",1005]
["多発性骨髄腫の診療指針　第２版","医療の本","Fc：血液/リンパ","日本骨髄腫研究会　編","文光堂",1007]
["こうして治す 下肢静脈瘤","医療の本","Fc：血液/リンパ","岩井 武尚　著","保健同人社",5356]
["100歳まで長生きできるコレステロール革命 ","医療の本","Fc：血液/リンパ","大櫛 陽一 著","永岡書店 ",5357]
["病気がみえる　⑤：血液","医療の本","Fc：血液/リンパ",null,"メディックメディア",8005]
["リンパ浮腫治療のセルフケア","医療の本","Fc：血液/リンパ","佐藤　佳代子","文光堂",8009]
["やさしい造血幹細胞移植へのアプローチ　改訂版","医療の本","Fc：血液/リンパ","小寺良尚　編","医薬ジャーナル社",8025]
["心配しないでいいですよ　再発・転移　悪性リンパ腫","医療の本","Fc：血液/リンパ","著/畠　清彦","真興交易医書出版",8067]
["心配しないでいいですよ　再発・転移　多発性骨髄腫","医療の本","Fc：血液/リンパ","編集/畠　清彦、著/照井康仁","真興交易医書出版",8071]
["心配しないでいいですよ　再発・転移　白血病","医療の本","Fc：血液/リンパ","編集/畠　清彦、著/照井康仁","真興交易医書出版",8075]
["リンパ浮腫の治療とケア　第2版","医療の本","Fc：血液/リンパ","佐藤　佳代子","医学書院",8095]
["図解　白血病・悪性リンパ腫がわかる本","医療の本","Fc：血液/リンパ","永井　正","法研",8096]
["みるみるナットク血液疾患　病態生理がわかればケアがわかる","医療の本","Fc：血液/リンパ","須永真司","文光堂",10287]
["「血液のがん」と言われたら…　お医者さんの話がよくわかるから安心できる","医療の本","Fc：血液/リンパ","小沢敬也, 翁家国","保健同人社",10288]
["冷え症・貧血・低血圧　（よくわかる最新医学）","医療の本","Fc：血液/リンパ","南雲久美子","主婦の友社",10289]
["病気がみえる　Vol.5　血液　第2版","医療の本","Fc：血液/リンパ","医療情報科学研究所","メディックメディア",10484]
["白血病と言われたら　疾患・治療編","医療の本","Fc：血液/リンパ","特定非営利活動法人　全国骨髄バンク推進連絡協議会","全国骨髄バンク推進連絡協議会",10502]
["白血病と言われたら　闘病支援編","医療の本","Fc：血液/リンパ","特定非営利活動法人　全国骨髄バンク推進連絡協議会","全国骨髄バンク推進連絡協議会",10503]
["病気がみえるvol.5　血液　第2版","医療の本","Fc：血液/リンパ","医療情報科学研究所","メディックメディア",10536]
["リンパ浮腫　（よくわかる最新医学シリーズ）","医療の本","Fc：血液/リンパ","廣田彰男　監修","主婦の友社",10560]
["新版　下肢静脈瘤　（よくわかる最新医学シリーズ）","医療の本","Fc：血液/リンパ","保坂純郎　著","主婦の友社",10572]
["冷え症・貧血・低血圧　（よくわかる最新医学シリーズ）","医療の本","Fc：血液/リンパ","南雲久美子　監","主婦の友社",10579]
["心臓・血管系","目次へ","※PDF版ではリンクしておりません。",null,null,null,"12頁",32]
["狭心症・心筋梗塞から身を守る","医療の本","Fd：心臓・血管系","木全　心一","講談社",310]
["心臓病 検査と治療の最新情報を網羅　心臓病を悪化させないためには 新版","医療の本","Fd：心臓・血管系","中村　治雄;主婦の友社","主婦の友社",311]
["はじめてのモニター心電図","医療の本","Fd：心臓・血管系","松井　由美恵　著","メディカ出版",315]
["やさしい閉塞性動脈硬化症の自己管理","医療の本","Fd：心臓・血管系","松尾　汎　編","医薬ジャーナル社",318]
["患者のためのやさしい心電図の見方","医療の本","Fd：心臓・血管系","小沢　友紀雄　編","医薬ジャーナル社",321]
["狭心症・心筋梗塞とつきあうコツ","医療の本","Fd：心臓・血管系","佐々木　達哉　他","フジメディカル",322]
["心臓ペースメーカー・植込み型除細動　改訂","医療の本","Fd：心臓・血管系","田中　茂夫　編","医薬ジャーナル社",332]
["心臓病の予防・治療と生活のしかた","医療の本","Fd：心臓・血管系","伊東　春樹","主婦と生活社",335]
["名医のわかりやすい狭心症・心筋梗塞　４版","医療の本","Fd：心臓・血管系","小船井　良夫　著","同文書院",1006]
["完全図解　よくわかる心臓弁膜症","医療の本","Fd：心臓・血管系","加瀬川 均　著","講談社",5358]
["図解でわかる心臓病―世界一の心臓病最新治療が手に取るようによくわかる","医療の本","Fd：心臓・血管系","中村 正人 監修","主婦の友社",5359]
["病気がみえる　②：循環器　第2版","医療の本","Fd：心臓・血管系",null,"メディックメディア",8002]
["狭心症・心筋梗塞の最新治療と発作を防ぐ安心読本","医療の本","Fd：心臓・血管系","相澤忠範","主婦と生活社",8083]
["図説シリーズ　心臓ペースメーカー・植え込み型除細動器　改訂版","医療の本","Fd：心臓・血管系","田中茂夫（編）","医薬ジャーナル社",8112]
["病気がみえる　№２　循環器","医療の本","Fd：心臓・血管系","メディックメディア","メディックメディア",10012]
["心臓病の最新治療（よくわかる最新医学シリーズ）","医療の本","Fd：心臓・血管系","小橋 隆一郎","主婦の友社",10156]
["病気がみえる　Vol.2　循環器　第4版","医療の本","Fd：心臓・血管系","医療情報科学研究所","メディックメディア",10483]
["病気がみえるvol.2　循環器　第4版","医療の本","Fd：心臓・血管系","医療情報科学研究所","メディックメディア",10533]
["がん","目次へ","※PDF版ではリンクしておりません。",null,null,null,"12頁",33]
["がんを生きるガイド　「がん難民」にならな","医療の本","Fe：がん","日経メディカル　編","日経BP社",348]
["がん患者さんの心と体の悩み解決ガイド","医療の本","Fe：がん","日経メディカル","日経BP社",349]
["がん術後の人の食事","医療の本","Fe：がん","太田　博俊　他著","女子栄養大学出版部",352]
["あなたのためのがん用語事典","医療の本","Fe：がん","日本医学ジャーナリス","文藝春秋",361]
["がんと向き合う安心便利ノート","医療の本","Fe：がん","中村　直行","名著出版",364]
["がんに負けない　治療の最前線","医療の本","Fe：がん","毎日新聞「がん」取材","毎日新聞社",365]
["がんはなぜ問題視されるのか","医療の本","Fe：がん","谷田　憲俊","プリメド社",369]
["ガン全種類別・最新治療法","医療の本","Fe：がん","矢沢サイエンスオフィ","学習研究社",379]
["がん疼痛治療ガイドライン","医療の本","Fe：がん","日本緩和医療学会　他","真興交易医書出版",381]
["やさしいがんの痛みの自己管理　改訂３版","医療の本","Fe：がん","武田　文和　著","医薬ジャーナル社",385]
["よくわかる癌放射線治療の基本と実際","医療の本","Fe：がん","兼平　千裕　編集","真興交易医書出版",386]
["悪化するがんの治療百科　改訂版","医療の本","Fe：がん","幕内　雅敏　監修","三省堂",387]
["癌についての５０５の質問に答える","医療の本","Fe：がん","小川　道雄　編著","へるす出版",395]
["痛みのケア　慢性痛、がん性疼痛へのアプロ","医療の本","Fe：がん","熊澤　孝朗","照林社",403]
["がん患者ケアＱ＆Ａ－乳がん・消化器がんの","医療の本","Fe：がん","古河　洋　他監修","じほう",549]
["もしも、がんが再発したら","医療の本","Fe：がん","国立がん研究センター、がん対策情報センター","英治出版",5333]
["がんを生きる十二か条","医療の本","Fe：がん","愛場庸雅","NULL",5427]
["安心立命有為転変","一般図書","Fe：がん","福原拾十","宮日文化情報センター",5464]
["お父さん・お母さんががんになってしまったら","医療の本","Fe：がん","Ann Couldrick","ピラールプレス",5471]
["がんで不安なあなたへー心のケアの道しるべー","医療の本","Fe：がん","岡村　仁","メディカルトリビューン",5472]
["がんと一緒に働こう！必携ＣＲＳハンドブック","医療の本","Fe：がん","ＣＳＲプロジェクト","合同出版",5473]
["がん専任栄養士が患者さんの声を聞いてつくった７３の食事レシピ","医療の本","Fe：がん","川口美喜子/青山広美","医学書院",5474]
["栄養とがん","医療の本","Fe：がん","ネスレ栄養科学会議","建帛社",5475]
["やさしい造血幹細胞移植後のＱＯＬの向上","医療の本","Fe：がん","室井一男","医薬ジャーナル社",5476]
["よくわかる造血幹細胞移植コーディネートクリニカル移植コーディネーﾀｰからのヒント","医療の本","Fe：がん","加藤俊一","医薬ジャーナル社",5477]
["イラストでよくわかるがん治療とサポーティブケア","医療の本","Fe：がん","田口哲也","じほう",5478]
["がんのひみつ","医療の本","Fe：がん","中川恵一","朝日出版社",5503]
["最新！がん治療予防から緩和ケアまですべてがわかる","医療の本","Fe：がん","弘前大学大学院医学研究科","朝日新聞出版",5504]
["がんとこころのケア","医療の本","Fe：がん","明智龍男","NHK出版",5505]
["ガンに打ち勝つ患者学末期ガンから生還した1万５０００人の経験に学ぶ","医療の本","Fe：がん","グレッグ・ダンダーソン","実業之日本社",5506]
["がん「余命半年」からの生還患者と家族のための実践マニュアル","医療の本","Fe：がん","平塚厚子","梧桐書院",5507]
["がんに効く生活克服した医師の自分でできる","医療の本","Fe：がん","ダヴィド・S.シュレベール","日本放送出版協会",5508]
["がん患者、お金との闘い","医療の本","Fe：がん","札幌テレビ放送取材班","岩波書店",5509]
["がんとお金の本","医療の本","Fe：がん","黒田尚子","ビーシーケイ",5510]
["日本一わかりやすいがんの教科書","医療の本","Fe：がん","水上治","PHP研究所",5512]
["がん患者の「迷い」に専門医が本音で答える本","医療の本","Fe：がん","水上治","草思社",5513]
["国立がん研究センターのがんの本がんの予防　科学的根拠にもとづいて","医療の本","Fe：がん","がん予防・検診研究ｾﾝﾀｰ","小学館クリエイティブ",5514]
["ガンがゆっくり消えていく　再発・転移を防ぐ１７の戦略","医療の本","Fe：がん","中山武","草思社",5515]
["がん　生と死の謎に挑む","医療の本","Fe：がん","立花隆/ＮＨＫスペシャル取材班","文藝春秋",5516]
["サイモントン療法　治癒に導くがんのイメージ療法","医療の本","Fe：がん","川端伸子","同文館出版",5517]
["がん患者さんの心と体の悩み解決ガイド","医療の本","Fe：がん","日経メディカル","日経BP社",5518]
["象の背中","医療の本","Fe：がん","秋元康","扶桑社",5539]
["がん!患者会と相談窓口全ガイド","医療の本","Fe：がん","いいなステーション","三省堂",5540]
["がんを生きる","医療の本","Fe：がん","佐々木常雄","講談社現代新書",5543]
["月のかがやく夜に-がんと向きあうあなたのために-","医療の本","Fe：がん","リササックスヤッファ","先端医学社",5556]
["ビジュアル版　がんの教科書","医療の本","Fe：がん","中川恵一","三省堂",8013]
["絵でわかるがんと遺伝子","医療の本","Fe：がん","野島　博","講談社",8053]
["患者さんのための乳がん診療ガイドライン 2009年版","医療の本","Fe：がん",null,"金原出版",8054]
["がん・家族はどうしたらよいか","医療の本","Fe：がん","季羽倭文子","池田書店",8088]
["がんに負けない、あきらめないコツ","医療の本","Fe：がん","鎌田　實","朝日新聞出版",8121]
["がん患者と家族のためのサポートグループ","医療の本","Fe：がん","デヴィッド・スピーゲル","医学書院",10036]
["がん患者のための地域の療養情報","医療の本","Fe：がん","大阪府立成人病センター","大阪府立成人病センター",10037]
["がんになったら手にとるガイド","医療の本","Fe：がん","国立がん研究センター","学研メディカル秀潤社",10039]
["がん研有明病院の抗がん剤・放射線治療に向きあう食事","医療の本","Fe：がん","伊沢由紀子, 小口正彦","女子栄養大学出版部",10275]
["家族のケアでがんは消える　患者を生還に導く48の智恵","医療の本","Fe：がん","野本篤志","遊タイム出版",10276]
["がん放射線治療　（がん看護セレクション）","医療の本","Fe：がん","唐澤久美子, 藤本美生","学研メディカル秀潤社",10277]
["がんとともに、自分らしく生きる　希望をもって、がんと向き合う「ＨＢＭ」のすすめ","医療の本","Fe：がん","高野　利実","きずな出版",10330]
["末期がんの逆転の治療法","医療の本","Fe：がん","前山和宏","幻冬舎",10338]
["振り回されない「がん」医療","医療の本","Fe：がん","福嶋敬宜","ワニブックス",10339]
["がんでも長生き心のメソッド","医療の本","Fe：がん","保坂隆","マガジンハウス",10340]
["心配しないでいいですよ　放射線治療　改訂2版","医療の本","Fe：がん","がん研有明病院　放射線治療部","真興交易医書出版",10341]
["余命3カ月のガンを消したムラキテルミさんの奇跡のレシピ","医療の本","Fe：がん","ムラキテルミ","主婦の友社",10342]
["大切な人をがんから守るため今できること命の食事","医療の本","Fe：がん","南雲吉則","主婦の友社",10343]
["患者さんと家族のための放射線治療Q&A","医療の本","Fe：がん","日本放射線腫瘍学会","金原出版",10344]
["がんになって、止めたこと、やったこと","医療の本","Fe：がん","野中秀訓","主婦の友社",10345]
["若年性がん患者情報マガジン　STAND UP! 2017.08","医療の本","Fe：がん","若年性がん患者団体STAND UP!!","NULL",10451]
["自分らしい「がん」とのつきあい方","医療の本","Fe：がん","富永博","ウィング出版",10474]
["ガンが消えていく食事","医療の本","Fe：がん","済陽高穂/志澤弘","マキノ出版",10494]
["抗がん剤・放射線治療と食事のくふう","医療の本","Fe：がん","山口建","女子栄養大学出版部",10554]
["がん闘病中の髪・肌・爪の悩み　サポートブック","医療の本","Fe：がん","赤木勝幸・岩岡ひとみ　箸","英治出版",10606]
["がん介護","目次へ","※PDF版ではリンクしておりません。",null,null,null,"14頁",34]
["退院後のがん患者と家族の支援ガイド","医療の本","Fe5：がん介護","日本ホスピス・在宅ケ","プリメド社",400]
["化学療法","目次へ","※PDF版ではリンクしておりません。",null,null,null,"14頁",35]
["がん化学療法と患者ケア　改訂第２版","医療の本","Fe6：化学療法","福島　雅典　監修","医学芸術社",374]
["データで見る　抗がん剤のやめ方始め方","医療の本","Fe6：化学療法","近藤　誠　著","三省堂",382]
["医者に聞けない抗癌剤の話　増補改訂版","医療の本","Fe6：化学療法","平岩　正樹　著","海竜社",390]
["抗ガン剤治療のすべてがわかる本","医療の本","Fe6：化学療法","秋田　弘俊　他","学習研究社",412]
["がん治療を受ける前に知っておきたい５５","医療の本","Fe6：化学療法","土屋了介","エクスナレッジ",5479]
["癌患者の栄養管理","医療の本","Fe6：化学療法","大村健二","南江堂",5519]
["抗がんサプリメントの効果と副作用徹底検証","医療の本","Fe6：化学療法","キャンサーネットジャパン","三省堂",5520]
["患者の「なぜ」に答えるがん化学療法Q&A","医療の本","Fe6：化学療法",null,"医学書院",8051]
["はじめてでもやさしいがん化学療法看護　抗がん薬を扱う知識と副作用マネジメント","医療の本","Fe6：化学療法","小西敏郎","学研メディカル秀潤社",10274]
["緩和ケア","目次へ","※PDF版ではリンクしておりません。",null,null,null,"14頁",36]
["モルヒネと緩和ケア質問箱１０１","医療の本","Fe7：緩和ケア","濱野　恭一　監修","メディカルレビュー社",383]
["在宅での看取りと緩和ケア","医療の本","Fe7：緩和ケア","佐藤智","中央法規出版",5480]
["がん治療レクチャー　やさしく学べる最新緩和医療Ｑ＆Ａ","医療の本","Fe7：緩和ケア","江口研二/余宮きのみ","総合医学社",5481]
["がんの在宅ホスピスケアガイド","医療の本","Fe7：緩和ケア","吉田利康","日本評論社",5521]
["がんの痛み対策と緩和ケア","医療の本","Fe7：緩和ケア","向山雄人","主婦の友社",8011]
["がん緩和マニュアル","医療の本","Fe7：緩和ケア","財団法人先端医療振興財団","日経メディカル開発",10069]
["免疫","目次へ","※PDF版ではリンクしておりません。",null,null,null,"14頁",37]
["図解雑学　安保徹の病気にならない免疫のしくみ","医療の本","Ff：免疫","安保　徹","ナツメ社",8097]
["「酵素」が免疫力を上げる！","医療の本","Ff：免疫","鶴見隆史","永岡書店",10070]
["からだをまもる免疫のふしぎ","医療の本","Ff：免疫","日本免疫学会","羊土社",10346]
["新しい自然免疫学　免疫システムの真の主役","医療の本","Ff：免疫","坂野淳","技術評論社",10348]
["病気がみえるvol.6　免疫・膠原病・感染症　第2版","医療の本","Ff：免疫","医療情報科学研究所","メディックメディア",10537]
["アレルギー","目次へ","※PDF版ではリンクしておりません。",null,null,null,"14頁",38]
["花粉症 改訂新版","医療の本","Ff5：アレルギー","大塚　博邦","保健同人社",491]
["やさしい花粉症の自己管理　改訂版","医療の本","Ff5：アレルギー","奥田　稔　著","医薬ジャーナル社",497]
["花粉症ここまで分かった！ここまで治る！！","医療の本","Ff5：アレルギー","久松　建一","北隆館",498]
["やさしい食物アレルギーの自己管理　改訂版","医療の本","Ff5：アレルギー","馬場　実　編","医薬ジャーナル社",1010]
["膠原病","目次へ","※PDF版ではリンクしておりません。",null,null,null,"15頁",39]
["リウマチ・膠原病: 病気別治療の最先端と痛みをやわらげるポイント","医療の本","Ff6：膠原病","竹内勤　監修","PHP研究所",5361]
["病気がみえる＜vol.６＞免疫・膠原病・感染症","医療の本","Ff6：膠原病","医療情報科学研究所","メディックメディア",5643]
["新版膠原病（よくわかる最新医学シリーズ）","医療の本","Ff6：膠原病","三森 明夫","主婦の友社",10157]
["膠原病　（よくわかる最新医学シリーズ）","医療の本","Ff6：膠原病","三森明夫　監修","主婦の友社",10564]
["リウマチ","目次へ","※PDF版ではリンクしておりません。",null,null,null,"14頁",40]
["リウマチ 早期発見・早期治療が決め手　新版","医療の本","Ff7：リウマチ","吉野　槙一;主婦の友社","主婦の友社",255]
["徹底図解リウマチ がまんできない痛みをコントロール","医療の本","Ff7：リウマチ","西岡　久寿樹","法研",267]
["歩いて治すひざの痛み イラスト版","医療の本","Ff7：リウマチ","黒沢　尚","講談社",269]
["やさしいリウマチ治療薬の基礎知識","医療の本","Ff7：リウマチ","川合　眞一　著","医薬ジャーナル社",447]
["リウマチ・膠原病ＡＢＣ　改訂第２版","医療の本","Ff7：リウマチ","延永　正　著","日本医学出版",448]
["関節リウマチ患者の在宅生活への支援","医療の本","Ff7：リウマチ","今野　孝彦　編著","メディカルトリビューン",449]
["関節リウマチ治療ガイドライン","医療の本","Ff7：リウマチ","日本リウマチ財団　編","医歯薬出版",450]
["よくわかる最新医学　リウマチの最新治療","医療の本","Ff7：リウマチ","吉野槇一","主婦の友社",10347]
["伝染・感染症","目次へ","※PDF版ではリンクしておりません。",null,null,null,"15頁",41]
["免疫力を鍛えるスーパー食事法 イラスト版","医療の本","Fg：伝染・感染症","星野　泰三","講談社",454]
["こうして防ぐ院内感染－患者の立場から－","医療の本","Fg：伝染・感染症","金森　雅彦　著","医歯薬出版",459]
["わかりやすい予防接種　改訂第３版","医療の本","Fg：伝染・感染症","渡辺　博　著","診断と治療社",460]
["感染の理解と消毒・滅菌の看護へのい　２版","医療の本","Fg：伝染・感染症","富野　康日己　編集","医歯薬出版",462]
["感染症診断に必要な微生物検査","医療の本","Fg：伝染・感染症","菅野　治重　他監","ライフサイエンス出版",463]
["感染症法に基づく医師の届出基準","医療の本","Fg：伝染・感染症",null,"中央法規出版",464]
["細胞と組織の地図帳","医療の本","Fg：伝染・感染症","和気　健二郎","講談社",466]
["一生インフルエンザにかからない体質の作り方 ","医療の本","Fg：伝染・感染症","村上一裕　著","フォレスト出版",5362]
["病気がみえる　6：免疫・膠原病・感染症","医療の本","Fg：伝染・感染症","医療情報科学研究所/編","メディックメディア",8089]
["ねころんで読めるCDCガイドライン","医療の本","Fg：伝染・感染症","矢野邦夫","メディカ出版",8113]
["感染症ワールド","医療の本","Fg：伝染・感染症","町田和彦","早稲田大学出版部",10071]
["だれでもわかる感染症","医療の本","Fg：伝染・感染症","清水喜八郎","へるす出版",10072]
["新型コロナウイルス　脅威を制する正しい知識","医療の本","Fg：伝染・感染症","水谷哲也","NULL",10651]
["呼吸器内科医が解説！新型コロナウイルス感染症COVID-19","医療の本","Fg：伝染・感染症","粟野暢康　出雲雄大","医療科学社",10652]
["新型コロナウイルス緊急対策マニュアル","医療の本","Fg：伝染・感染症","齋藤勝裕","秀和システム",10653]
["新型コロナウイルスの真実","医療の本","Fg：伝染・感染症","岩田健太郎","ベストセラーズ",10654]
["目","目次へ","※PDF版ではリンクしておりません。",null,null,null,"15頁",42]
["白内障・緑内障・糖尿病網膜症　新版","医療の本","Fh：目","杉田　美由紀　監修","主婦の友社",475]
["眼科","医療の本","Fh：目","小口　芳久　編","医薬ジャーナル社",481]
["先端技術が応える！中高年の目の悩み","医療の本","Fh：目","横井 則彦　著","集英社",5363]
["新版　白内障・緑内障・糖尿病網膜症","医療の本","Fh：目","杉田美由紀監修","主婦の友社",8091]
["患者さんから浴びせられる眼科疾患100の質問～達人はどう答え、どう対応するか～","医療の本","Fh：目","坪田一男 編","メディカルレビュー社",8110]
["目の病気の最新治療 緑内障・糖尿病網膜症・白内障・黄斑変性症（よくわかる最新医学シリーズ）","医療の本","Fh：目","杉田美由紀","主婦の友社",10158]
["眼科疾患ビジュアルブック","医療の本","Fh：目","永本敏之, 岡田アナベルあやめ","学研メディカル秀潤社",10251]
["目がぐんぐん若返るNo．1自力療法　老眼、近視の視力が急向上！緑内障、白内障、飛蚊症、　（Makino　mook＊マキノ出版ムック）","医療の本","Fh：目","マキノ出版","マキノ出版",10252]
["目の病気がよくわかる本","医療の本","Fh：目","大鹿哲郎","講談社",10349]
["緑内障・白内障　（よくわかる最新医学シリーズ）","医療の本","Fh：目","杉田美由紀 監","主婦の友社",10563]
["耳/鼻/喉","目次へ","※PDF版ではリンクしておりません。",null,null,null,"15頁",43]
["中耳炎がわかる本 急性、慢性化膿性、滲出性、真珠腫性中耳炎","医療の本","Fi：耳/鼻/喉","鈴木光也","法研",487]
["鼻の病気がわかる本 慢性副鼻腔炎、アレルギ－性鼻炎","医療の本","Fi：耳/鼻/喉","飯田誠","法研",488]
["めまい・耳鳴り　改訂新版","医療の本","Fi：耳/鼻/喉","馬場　俊吉　著","保健同人社",490]
["耳鼻咽喉科の病気","医療の本","Fi：耳/鼻/喉","飯田　順　著","日本医学館",492]
["中耳炎","医療の本","Fi：耳/鼻/喉","老木　浩之","保健同人社",494]
["難聴・めまい・耳鳴りを解消する イラスト版","医療の本","Fi：耳/鼻/喉","神尾　友和;相原　康孝","講談社",496]
["新「お子さんの耳がきこえない」と言われたら・・・","医療の本","Fi：耳/鼻/喉","全国早期支援研究協議会","全国早期支援研究協議会",5428]
["やさしいアレルギー性鼻炎の自己管理","医療の本","Fi：耳/鼻/喉","大久保公裕　著","医薬ジャーナル社",8029]
["やさしい味覚障害の自己管理","医療の本","Fi：耳/鼻/喉","池田稔　編","医薬ジャーナル社",8033]
["頭頚部癌診療ガイドライン　2009年版","医療の本","Fi：耳/鼻/喉","日本頭頚部癌学会/編","金原出版",8059]
["めまいは寝てては治らない　第2版","医療の本","Fi：耳/鼻/喉","新井基洋","中外医学社",8093]
["やさしく理解できるメニエール病の自己管理　改訂版 (めまいと耳鳴り、難聴)","医療の本","Fi：耳/鼻/喉","神崎仁","医薬ジャーナル社",8123]
["頭頸部癌診療ガイドライン 2013年版","医療の本","Fi：耳/鼻/喉","日本頭頸部癌学会","金原出版",10159]
["耳鼻咽喉科疾患ビジュアルブック","医療の本","Fi：耳/鼻/喉","中尾一成, 落合慈之","学研メディカル秀潤社",10253]
["歯","目次へ","※PDF版ではリンクしておりません。",null,null,null,"16頁",44]
["口腔ケア 入れ歯で歩く元気な老後","医療の本","Fj：歯","福田　徳治;石塚　三寿","日本医学館",502]
["歯周病","医療の本","Fj：歯","新井　高","保健同人社",504]
["高齢者・有病者のための歯科診療－さまざま","医療の本","Fj：歯","山崎　博嗣　著","学建書院",507]
["歯のは★医療の本★　なんの歯この歯","医療の本","Fj：歯","後藤　仁敏","医歯薬出版",510]
["心身医療と歯科医療－歯・口腔・顎と心と健","医療の本","Fj：歯","都　温彦　編著","新興医学出版社",512]
["完全図解顎関節症とかみ合わせの悩みが解決する本　東京医科歯科大学顎関節治療部部長が書いた","医療の本","Fj：歯","木野 孔司　著","講談社",5364]
["科学的根拠に基づく口腔癌診療ガイドライン　2009年版","医療の本","Fj：歯","日本口腔腫瘍学会・日本口腔外科学会/編","金原出版",8060]
["口唇裂・口蓋裂治療の手引き　改訂第3版","医療の本","Fj：歯","昭和大学口唇裂・口蓋裂診療班","金原出版",8102]
["科学的根拠に基づく口腔癌診療ガイドライン 2013年版: 構造化抄録CD-ROM付","医療の本","Fj：歯","日本口腔腫瘍学会日腔癌治療ガイドライン改訂委員会","金原出版",10160]
["内分泌","目次へ","※PDF版ではリンクしておりません。",null,null,null,"16頁",45]
["甲状腺の病気　改訂新版","医療の本","Fl：内分泌","佐藤　幹二　著","保健同人社",558]
["甲状腺の病気　新版","医療の本","Fl：内分泌","伊藤　公一　監修","主婦の友社",559]
["甲状腺の病気を治す本","医療の本","Fl：内分泌","栗原　英夫　著","法研",1011]
["図解 甲状腺の病気がよくわかる最新治療と正しい知識 ","医療の本","Fl：内分泌","伊藤公一/高見博　監修","日東書院",5366]
["甲状腺の病気の最新治療（よくわかる最新医学シリーズ）","医療の本","Fl：内分泌","伊藤公一","主婦の友社",10161]
["甲状腺の病気　バセドウ病・橋本病・甲状腺腫瘍ほか","医療の本","Fl：内分泌","伊藤公一","主婦の友社",10487]
["甲状腺の病気　（よくわかる最新医学シリーズ）","医療の本","Fl：内分泌","伊藤公一 監","主婦の友社",10571]
["脳・神経系","目次へ","※PDF版ではリンクしておりません。",null,null,null,"16頁",46]
["脳卒中","医療の本","Fm：脳・神経系","伊藤　昌徳","日本医学館",218]
["クモ膜下出血診療ガイドライン　ＲＯＭ付","医療の本","Fm：脳・神経系","日本脳卒中の外科学会","じほう",570]
["コントロールする　神経系・感覚器","医療の本","Fm：脳・神経系",null,"メディ・イシュ",571]
["パーキンソン病最新治療と生活法 イラスト版","医療の本","Fm：脳・神経系","作田　学","講談社",573]
["知的障害のことがよくわかる本 イラスト版","医療の本","Fm：脳・神経系","有馬　正高","講談社",579]
["脳梗塞・脳出血・くも膜下出血","医療の本","Fm：脳・神経系","高木　誠　監修","主婦の友社",584]
["脳梗塞はこうして防ぐ、治す イラスト版","医療の本","Fm：脳・神経系","高木　誠","講談社",585]
["脳出血・くも膜下出血はこうして防ぐ、治す イラスト版","医療の本","Fm：脳・神経系","中込　忠好","講談社",587]
["慢性頭痛とつきあう法 イラスト版","医療の本","Fm：脳・神経系","寺本　純","講談社",589]
["せん妄　すぐに見つけて！すぐに対応！","医療の本","Fm：脳・神経系","一瀬　邦弘　他監","照林社",593]
["ポケット版　脳神経外科ケアマニュアル","医療の本","Fm：脳・神経系","大井　静雄　編著","照林社",595]
["やさしいてんかんの自己管理　ポケット版","医療の本","Fm：脳・神経系","八木　和一　著","医薬ジャーナル社",596]
["やさしい頭痛の自己管理","医療の本","Fm：脳・神経系","間中　信也","医薬ジャーナル社",597]
["よくわかる脳卒中後遺症におけるうつ病・う","医療の本","Fm：脳・神経系","平井　俊策　編","医薬ジャーナル社",598]
["神経救急・集中治療ガイドライン","医療の本","Fm：脳・神経系","有賀　徹　他監訳","メディカル・サイエンス・インターナショナル",601]
["脳血管救命センター物語","医療の本","Fm：脳・神経系","岡田　靖　総監修","メディカルレビュー社",607]
["2009　脳卒中治療ガイドライン","医療の本","Fm：脳・神経系","篠原　幸人　他編集","協和企画",1012]
["クモ膜下出血のサインを読む","医療の本","Fm：脳・神経系","山口三千夫　著","講談社",5367]
["てんかん発作こうすればだいじょうぶ　―発作と介助","医療の本","Fm：脳・神経系","川崎 淳　著","クリエイツかもがわ",5368]
["脳にいいことだけをやりなさい！","一般図書","Fm：脳・神経系","マーシー・シャイモフ","三笠書房",5404]
["内臓感覚　脳と腸の不思議な関係","医療の本","Fm：脳・神経系","福土審","日本放送出版協会",5418]
["脳卒中リハビリガイド","医療の本","Fm：脳・神経系","監修：田口芳雄","学研",8047]
["頭痛外来へようこそ","医療の本","Fm：脳・神経系","清水俊彦","保健同人社",8079]
["やさしいパーキンソン病の自己管理","医療の本","Fm：脳・神経系","村田美穂編著","医薬ジャーナル社",8100]
["脳卒中　見逃さない、あきらめない　（別冊NHKきょうの健康）","医療の本","Fm：脳・神経系","内山真一郎総監修","NHK出版",8107]
["脳からストレスを消す技術","医療の本","Fm：脳・神経系","有田秀穂","サンマーク出版",8119]
["患者と読む、患者に話す脳腫瘍　Q&A135","医療の本","Fm：脳・神経系","藤巻　高光","メディカ出版",8131]
["病気がみえる　№７　脳・神経","医療の本","Fm：脳・神経系","メディックメディア","メディックメディア",10013]
["ベニー　フランスへいく","医療の本","Fm：脳・神経系","ﾛｰｽﾞﾏﾘｰ･ﾊﾞｯﾁｪﾗｰ","日本二分脊椎･水頭症研究振興団体",10090]
["スヴェン","医療の本","Fm：脳・神経系","ナディア・カーン","メディカルレビュー社",10091]
["赤ちゃんは水頭症","医療の本","Fm：脳・神経系","柴田靖子","日本水頭症協会",10092]
["全部見える脳・神経疾患　スーパービジュアル","医療の本","Fm：脳・神経系","服部光男","成美堂出版",10283]
["慢性頭痛の診療ガイドライン 市民版","医療の本","Fm：脳・神経系","日本頭痛学会","医学書院",10284]
["てんかん発作こうすればだいじょうぶ　発作と介助（改訂版）","医療の本","Fm：脳・神経系","日本てんかん協会","クリエイツかもがわ",10457]
["病気がみえるvol.7　脳・神経　第2版","医療の本","Fm：脳・神経系","医療情報科学研究所","メディックメディア",10538]
["てんかん診療ガイドライン2018","医療の本","Fm：脳・神経系","日本神経学会","医学書院",10547]
["脳梗塞　脳出血　くも膜下出血　（よくわかる最新医学シリーズ）","医療の本","Fm：脳・神経系","高木誠　監修","主婦の友社",10561]
["パーキンソン病　（よくわかる最新医学シリーズ）","医療の本","Fm：脳・神経系","山之内博　監修","主婦の友社",10567]
["高次脳機能障害のリハビリがわかる本","医療の本","Fm：脳・神経系","橋本圭司　監修","講談社",10586]
["脳神経外科学　1　改訂12版","医療の本","Fm：脳・神経系","太田富雄　総編集","金芳堂",10615]
["脳神経外科学　2　改訂12版","医療の本","Fm：脳・神経系","太田富雄　総編集","金芳堂",10616]
["脳神経外科学　3　改訂12版","医療の本","Fm：脳・神経系","太田富雄　総編集","金芳堂",10617]
["睡眠障害","目次へ","※PDF版ではリンクしておりません。",null,null,null,"17頁",47]
["睡眠の教科書","医療の本","Fm5：睡眠障害","ロバート・ローゼンバーグ","シャスタインターナショナル",10493]
["呼吸器","目次へ","※PDF版ではリンクしておりません。",null,null,null,"17頁",48]
["肺気腫","医療の本","Fn：呼吸器","千治松　洋一　著","日本医学館",622]
["間質性肺炎・肺線維症　本棚のホームド　４","医療の本","Fn：呼吸器","長井　苑子　著","最新医学社",624]
["酸素療法ガイドライン","医療の本","Fn：呼吸器","日本呼吸器学会肺生理","メディカルレビュー社",625]
["図解内科学セミナー　呼吸器","医療の本","Fn：呼吸器","永井　厚志　監修","中外医学社",626]
["正しいステロイド剤の使い方　３　吸入薬編","医療の本","Fn：呼吸器","足立　満　編","医薬ジャーナル社",627]
["結核?!でも心配しないで","医療の本","Fn：呼吸器","公益財団法人結核予防会","公益財団法人結核予防会",5482]
["沖田くんのタイムスリップ","医療の本","Fn：呼吸器","公益財団法人結核予防会","公益財団法人結核予防会",5483]
["病気がみえる　④：呼吸器","医療の本","Fn：呼吸器",null,"メディックメディア",8004]
["胸部の地図帳","医療の本","Fn：呼吸器","佐藤達夫","講談社",8035]
["病気がみえる vol.4 呼吸器 第2版","医療の本","Fn：呼吸器","医療情報科学研究所","メディックメディア",10162]
["病気がみえるvol.4　呼吸器　第3版","医療の本","Fn：呼吸器","医療情報科学研究所","メディックメディア",10535]
["人工呼吸","目次へ","※PDF版ではリンクしておりません。",null,null,null,"17頁",49]
["人工呼吸ケア「なぜ・何」大百科","医療の本","Fn5：人工呼吸","道又　元裕　編著","照林社",629]
["創立20周年+2記念誌","医療の本","Fn5：人工呼吸","人口呼吸器をつけた子の親の会","人口呼吸器をつけた子の親の会",10054]
["まいど！医療的ケア報告書","医療の本","Fn5：人工呼吸","人口呼吸器をつけた子の親の会","人口呼吸器をつけた子の親の会",10100]
["COPD","目次へ","※PDF版ではリンクしておりません。",null,null,null,"18頁",50]
["やさしいＣＯＰＤの自己管理　慢性閉塞性肺","医療の本","Fn6：COPD","北村　諭","医薬ジャーナル社",630]
["やさしいＣＯＰＤリハビリテーションの自己","医療の本","Fn6：COPD","本間　生夫　監修","医薬ジャーナル社",631]
["呼吸不全とつきあうコツ","医療の本","Fn6：COPD","栗原　直嗣　他編著","フジメディカル",638]
["COPD　慢性閉塞性肺疾患","医療の本","Fn6：COPD","木田厚瑞","主婦の友社",8016]
["COPDの最新治療 慢性閉塞性肺疾患 タバコの生活習慣病（よくわかる最新医学シリーズ）","医療の本","Fn6：COPD","木田 厚瑞","主婦の友社",10163]
["肺ガン","目次へ","※PDF版ではリンクしておりません。",null,null,null,"18頁",51]
["肺ガン 日本人のがん死亡１位肺がんのすべてがわかる","医療の本","Fn7：肺ガン","坪井　正博","主婦の友社",356]
["肺がんと闘う方法　告知の仕方，告知後の生","医療の本","Fn7：肺ガン","野守　裕明","メヂカルフレンド",406]
["肺ガンハンドブック","医療の本","Fn7：肺ガン","土屋　繁裕　著","学習研究社",407]
["肺がんがわかる本","医療の本","Fn7：肺ガン","浅村尚生","法研",5484]
["国立がん研究センターのがんの本　肺がん","医療の本","Fn7：肺ガン","がん予防・検診研究ｾﾝﾀｰ","小学館クリエイティブ",5522]
["よくわかる肺がん","医療の本","Fn7：肺ガン","中西洋一","NPO法人西日本がん研究機構",5547]
["よくわかる肺がん","医療の本","Fn7：肺ガン","中西洋一","NPO法人西日本がん研究機構",5548]
["抗悪性腫瘍薬　肺がん","医療の本","Fn7：肺ガン","西條長宏","医療ジャーナル社",5628]
["肺がん　改訂版","医療の本","Fn7：肺ガン","西條長宏","医療ジャーナル社",5629]
["肺がん外来化学療法へのアプローチ","医療の本","Fn7：肺ガン","山本信之","医療ジャーナル社",5630]
["よくわかる　肺がん","医療の本","Fn7：肺ガン","中西洋一","NPO法人西日本がん研究機構",5669]
["肺がんの最新治療（よくわかる最新医学シリーズ）","医療の本","Fn7：肺ガン","坪井 正博","主婦の友社",10164]
["患者さんのためのガイドブック　よくわかる肺がん　第４版","医療の本","Fn7：肺ガン","西日本がん研究機構","金原出版",10213]
["患者さんのためのガイドブック　よくわかる肺がん　第4版","医療の本","Fn7：肺ガン","西日本がん研究機構","金原出版",10214]
["図解肺がんの最新治療と予防&生活対策","医療の本","Fn7：肺ガン","坪井正博","日東書院",10498]
["肺がん　（よくわかる最新医学シリーズ）","医療の本","Fn7：肺ガン","坪井正博　著","主婦の友社",10568]
["ぜんそく","目次へ","※PDF版ではリンクしておりません。",null,null,null,"18頁",52]
["徹底図解　ぜんそく　健やかな毎日を約束す","医療の本","Fn8：ぜんそく","多田　寛　監","法研",634]
["’０４　ＥＢＭに基づいた喘息治療ガイドラ","医療の本","Fn8：ぜんそく","宮本　昭正　監修","協和企画",635]
["新装版　やさしい喘息の自己管理","医療の本","Fn8：ぜんそく","久保　裕","医薬ジャーナル社",639]
["2009　喘息予防・管理ガイドライン","医療の本","Fn8：ぜんそく",null,"協和企画",1014]
["喘息予防・管理ガイドライン 2012","医療の本","Fn8：ぜんそく","日本アレルギー学会","協和企画",10165]
["喘息予防・管理ガイドライン2015","医療の本","Fn8：ぜんそく","日本アレルギー学会","協和企画",10350]
["皮膚/髪/爪","目次へ","※PDF版ではリンクしておりません。",null,null,null,"18頁",53]
["アトピー性皮膚炎","医療の本","Fo：皮膚/髪/爪","五十嵐　敦之","保健同人社",426]
["じんましん最前線","医療の本","Fo：皮膚/髪/爪","秀　道広　編集","メディカルレビュー社",435]
["スポーツと皮膚　アスリートの皮膚トラブル","医療の本","Fo：皮膚/髪/爪","上田　由紀子　著","文光堂",436]
["帯状疱疹・単純ヘルペスがわかる本","医療の本","Fo：皮膚/髪/爪","本田　まりこ　著","法研",643]
["皮膚のトラブルが治らないときの本 (みんなの女性外来)","医療の本","Fo：皮膚/髪/爪","対馬ルリ子","小学館",8126]
["皮膚科疾患ビジュアルブック新版","医療の本","Fo：皮膚/髪/爪","五十嵐敦之, 落合慈之","学研メディカル秀潤社",10285]
["傷はぜったい消毒するな　生態系としての皮膚の科学","医療の本","Fo：皮膚/髪/爪","夏井睦","光文社",10351]
["熱傷はこうやって治す　安全に行う湿潤療法","医療の本","Fo：皮膚/髪/爪","水原章浩","医学と看護社",10352]
["皮膚の病気　（よくわかる最新医学シリーズ）","医療の本","Fo：皮膚/髪/爪","清佳浩　監修","主婦の友社",10559]
["泌尿器","目次へ","※PDF版ではリンクしておりません。",null,null,null,"18頁",54]
["前立腺癌診療ガイドライン ２００６年版","医療の本","Fp：泌尿器","日本泌尿器科学会","金原出版",397]
["前立腺の病気 改訂新版","医療の本","Fp：泌尿器","杉村　芳樹","保健同人社",652]
["前立腺の病気がわかる本　前立腺肥大症・前","医療の本","Fp：泌尿器","窪田　吉信　編著","法研",653]
["前立腺肥大症・前立腺がん 新版","医療の本","Fp：泌尿器","沢村　良勝;主婦の友社","主婦の友社",654]
["すべてわかる！！前立腺がん・肥大症","医療の本","Fp：泌尿器","本間　之夫　著","毎日新聞社",659]
["トイレが近い人の読む本－頻尿の原因と治療　改訂版","医療の本","Fp：泌尿器","本間　之夫　著","メディカルレビュー社",660]
["やさしい前立腺疾患のマネジメント","医療の本","Fp：泌尿器","武田　正之　編","医薬ジャーナル社",661]
["泌尿器科の病気 排尿と性機能の障害","医療の本","Fp：泌尿器","矢島　通孝","日本医学館",1015]
["前立腺がん検診ガイドライン 2010年増補版","医療の本","Fp：泌尿器","日本泌尿器科学会 編集","ワニブックス",5337]
["やさしい過活動膀胱の自己管理","医療の本","Fp：泌尿器","武田正之　編","医薬ジャーナル社",8022]
["尿路結石症の治療と食事療法","医療の本","Fp：泌尿器","伊藤晴夫","日東書院",8038]
["心配しないでいいですよ　再発・転移　前立腺がん","医療の本","Fp：泌尿器","監修/福井　巌、編著/米瀬淳ニ","真興交易医書出版",8069]
["前立腺癌　診療ガイドライン","医療の本","Fp：泌尿器","日本泌尿器学会","金原出版",10014]
["前立腺がんの最新治療（よくわかる最新医学シリーズ）","医療の本","Fp：泌尿器","澤村 良勝","主婦の友社",10166]
["前立腺がんを生きる","医療の本","Fp：泌尿器",null,"海鳴社",10497]
["前立腺がん　（よくわかる最新医学シリーズ）","医療の本","Fp：泌尿器","赤倉功一郎　著","主婦の友社",10580]
["腎臓","目次へ","※PDF版ではリンクしておりません。",null,null,null,"19頁",55]
["腎臓病の食事療法　第３版","医療の本","Fr：腎臓","医歯薬出版　編","医歯薬出版",242]
["腎臓病の人の食事","医療の本","Fr：腎臓","北本　清","女子栄養大学出版部",647]
["腎臓の病気を防ぐ、治す イラスト版","医療の本","Fr：腎臓","酒井　紀","講談社",671]
["腎臓病 診察・検査と最新治療法　食事療法と日常生活のポイント","医療の本","Fr：腎臓","高市　憲明;主婦の友社","主婦の友社",672]
["腎癌診療ガイドライン ２００７年版","医療の本","Fr：腎臓","日本泌尿器科学会","金原出版",679]
["腎臓病たんぱく質３０ｇの献立集","医療の本","Fr：腎臓","宮本　佳代子;佐藤　敏子;高橋　まり;田部井　薫;今井　久美子","女子栄養大学出版部",680]
["慢性腎不全保存期のケア　第３版　寛解を目","医療の本","Fr：腎臓","佐中　孜　著","医学書院",687]
["腎臓の病気 改訂新版","医療の本","Fr：腎臓","富野　康日己","保健同人社",1016]
["新版腎不全がわかる本","医療の本","Fr：腎臓","井浦照國","日本評論社",5317]
["よくわかる最新医学腎臓病","医療の本","Fr：腎臓","高市憲明","主婦の友社",5318]
["腎臓病の人の低たんぱく献立カレンダー","医療の本","Fr：腎臓","香川芳子","女子栄養大学出版部",5319]
["腎臓病食品交換表","医療の本","Fr：腎臓","黒川清","医歯薬出版",5320]
["腎癌診療ガイドライン　2011年版","医療の本","Fr：腎臓","日本泌尿器科学会 編集","金原出版",5338]
["やさしい慢性腎臓病の自己管理　改訂版","医療の本","Fr：腎臓","今井圓裕　編","医薬ジャーナル社",8019]
["やさしいネフローゼ症候群の自己管理","医療の本","Fr：腎臓","斉藤喬雄　編","医薬ジャーナル社",8024]
["CKDってなに？：その理解と早期発見・治療のために","医療の本","Fr：腎臓","北岡建樹","永井書店",8065]
["腎臓病のための低たんぱくレシピ","医療の本","Fr：腎臓","出浦照國、樋口久美子著","日本放送出版協会",8078]
["病気がみえる　№８　腎・泌尿器","医療の本","Fr：腎臓","メディックメディア","メディックメディア",10015]
["慢性腎臓病の自己管理","医療の本","Fr：腎臓","今井圓裕","医療ジャーナル社",10073]
["腎臓病の最新治療（よくわかる最新医学シリーズ）","医療の本","Fr：腎臓","高市 憲明","主婦の友社",10167]
["腎臓病の食品早わかり　FOOD＆COOKING　DATA","医療の本","Fr：腎臓","牧野直子, 女子栄養大学出版部","女子栄養大学出版部",10290]
["病気がみえるvol.8　腎・泌尿器　第2版","医療の本","Fr：腎臓","医療情報科学研究所","メディックメディア",10539]
["透析","目次へ","※PDF版ではリンクしておりません。",null,null,null,"19頁",56]
["家庭でつくれる透析食　Ｐａｒｔ１　改訂版","医療の本","Fr5：透析","杉野　信博　監","ライフサイエンス出版",250]
["家庭でつくれる透析食　Ｐａｒｔ２","医療の本","Fr5：透析","杉野　信博　監","ライフサイエンス出版",251]
["透析看護ＱＵＥＳＴＩＯＮ　ＢＯＸ 1","医療の本","Fr5：透析","水附　裕子;大坪　みはる","中山書店",683]
["透析看護ＱＵＥＳＴＩＯＮ　ＢＯＸ 2","医療の本","Fr5：透析","水附　裕子;大坪　みはる","中山書店",684]
["透析室の感情トラブル","医療の本","Fr5：透析","春木　繁一　監","メディカ出版",685]
["よくわかる腹膜透析の基礎","医療の本","Fr5：透析","山下明泰","東京医学社",5426]
["やさしい透析患者の自己管理　改訂３版","医療の本","Fr5：透析","秋澤忠男　編","医薬ジャーナル社",8023]
["やさしい透析患者のためのリン・カルシウム代謝の自己管理","医療の本","Fr5：透析","深川雅史　編著","医薬ジャーナル社",8032]
["透析患者の食事指導　栄養の知識をしっかり！　食事管理のコツをたっぷり","医療の本","Fr5：透析","田村智子編著","メディカ出版",8066]
["透析ハンドブック　第4版 増補版","医療の本","Fr5：透析","小川洋史・岡山ミサ子　監修","医学書院",8130]
["透析患者のための血圧と心臓・血管の自己管理","医療の本","Fr5：透析","深川雅史","医療ジャーナル社",10074]
["やさしい透析患者の自己管理　改訂4版","医療の本","Fr5：透析","秋澤忠男","医療ジャーナル社",10353]
["胃腸","目次へ","※PDF版ではリンクしておりません。",null,null,null,"20頁",57]
["ポケット版　消化器外科ケアマニュアル","医療の本","Fs：胃腸","宇佐美　眞　他編著","照林社",224]
["やさしい胃の手術後の自己管理","医療の本","Fs：胃腸","中村　肇　他編","医薬ジャーナル社",226]
["胃腸手術後の人の食事","医療の本","Fs：胃腸","河村　一太;吉田　千恵子;小川　久惠","女子栄養大学出版部",236]
["胃・十二指腸の病気　新版","医療の本","Fs：胃腸","平塚　秀雄　監修","主婦の友社",515]
["胃・十二指腸潰瘍の人の食事","医療の本","Fs：胃腸","林田　康男　病態","女子栄養大学出版部",516]
["胃腸病","医療の本","Fs：胃腸","渡辺　知明　著","日本医学館",518]
["胃腸病の食事療法　第２版","医療の本","Fs：胃腸","医歯薬出版　編","医歯薬出版",519]
["痔　新版","医療の本","Fs：胃腸","平田　雅彦　著","主婦の友社",520]
["取りこむ　消化器・呼吸器系","医療の本","Fs：胃腸",null,"メディ・イシュ",521]
["大腸の病気","医療の本","Fs：胃腸","高野　正博","保健同人社",523]
["ウンココロ　しあわせウンコ生活のススメ","医療の本","Fs：胃腸","寄藤　文平　著","実業之日本社",530]
["カラー写真で見てわかるストーマケア","医療の本","Fs：胃腸","大村　裕子　編","メディカ出版",531]
["やさしい逆流性食道炎の自己管理","医療の本","Fs：胃腸","中村　孝司　編","医薬ジャーナル社",532]
["やさしい小腸・大腸疾患の自己管理","医療の本","Fs：胃腸","寺野　彰　編","医薬ジャーナル社",533]
["安心レシピでいただきます！　潰瘍性大腸炎","医療の本","Fs：胃腸","斎藤　恵子","弘文堂",535]
["食道癌診断・治療ガイドライン ２００７年４月版","医療の本","Fs：胃腸","日本食道学会","金原出版",1009]
["女医が教えるおしりの本―痔が心配?でも、もう大丈夫!","医療の本","Fs：胃腸","山口トキコ　著","TBSサービス",5369]
["食道がん 術前・術後の100日レシピ　―回復までの食事プラン","医療の本","Fs：胃腸","外村 修一/小菅 陽子/松原 弘樹著","女子栄養大学出版部",5370]
["いろうのい・ろ・は","医療の本","Fs：胃腸","西口幸雄","PEGドクターズネットワーク",5419]
["食道癌診断・治療ガイドライン　２０１２年４月版","医療の本","Fs：胃腸","日本食道学会","金原出版",5485]
["胃手術後の１００日レシピ退院後の食事プラン（１００日レシピシリーズ）","医療の本","Fs：胃腸","青木照明他","女子栄養大学出版部",5486]
["快適！ストーマ生活","医療の本","Fs：胃腸","松浦信子/山田陽子","医学書院",5487]
["やさしいストーマケア","医療の本","Fs：胃腸","青木和恵　その他","桐書房",5488]
["ストーマとともに","医療の本","Fs：胃腸","中里博昭　その他","金原出版",5489]
["元気の花束","医療の本","Fs：胃腸",null,"ブーケ若い女性オストメイトの会",5523]
["人工肛門・人口膀胱の知識","医療の本","Fs：胃腸","高屋通子・高橋のり子","学研",5524]
["病気がみえる　①：消化器　第3版","医療の本","Fs：胃腸",null,"メディックメディア",8001]
["潰瘍性大腸炎・クローン病の人の食事","医療の本","Fs：胃腸",null,"女子栄養大学出版部",8018]
["よくわかる高齢者の排便障害","医療の本","Fs：胃腸","高野正博","弘文堂",8061]
["腸の病気は連鎖する","医療の本","Fs：胃腸","寺野　彰","講談社",8082]
["病気がみえる　№１　消化器","医療の本","Fs：胃腸","メディックメディア","メディックメディア",10016]
["食道がん","医療の本","Fs：胃腸","細川正夫","講談社",10075]
["痔の最新治療―可能な限り切らずに治す（よくわかる最新医学シリーズ）","医療の本","Fs：胃腸","平田 雅彦","主婦の友社",10168]
["腸を鍛えれば頭がよくなる","医療の本","Fs：胃腸","辨野 義己","マキノ出版",10169]
["食道がんのすべてがわかる本　（健康ライブラリーイラスト版）","医療の本","Fs：胃腸","細川正夫","講談社",10254]
["消化器疾患ビジュアルブック","医療の本","Fs：胃腸","落合 慈之／監修","学研メディカル秀潤社",10255]
["ひどい便秘の治し方","医療の本","Fs：胃腸","松生恒夫","講談社",10272]
["病気がみえる①消化器　第5版","医療の本","Fs：胃腸","メデックメディア","メディックメディア",10356]
["食道癌診療ガイドライン2017","医療の本","Fs：胃腸","特定非営利活動法人　日本食堂学会","金原出版",10475]
["病気がみえるvol.1　消化器　第5版","医療の本","Fs：胃腸","医療情報科学研究所","メディックメディア",10532]
["新版　痔の最新治療　（よくわかる最新医学シリーズ）","医療の本","Fs：胃腸","平田雅彦　著","主婦の友社",10570]
["胃がん","目次へ","※PDF版ではリンクしておりません。",null,null,null,"21頁",58]
["胃癌治療ガイドライン　医師用　第２版","医療の本","Fs5：胃がん","日本胃癌学会　編","金原出版",388]
["胃がん治療ガイドラインの解説一般用　２版","医療の本","Fs5：胃がん","日本胃癌学会　編","金原出版",551]
["胃癌治療ガイドライン","医療の本","Fs5：胃がん","日本胃癌学会","金原出版",5490]
["胃がんの最新治療","医療の本","Fs5：胃がん","比企直樹","主婦の友社",5525]
["国立がん研究センターのがんの本　胃がん","医療の本","Fs5：胃がん","がん予防・検診研究ｾﾝﾀｰ","小学館クリエイティブ",5526]
["やさしい胃がん外来化学療法の自己管理　追補改訂版","医療の本","Fs5：胃がん","瀧内比呂也　編","医薬ジャーナル社",8028]
["心配しないでいいですよ　再発・転移　胃がん","医療の本","Fs5：胃がん","山口俊晴編著","真興交易医書出版",8068]
["胃癌治療ガイドライン　医師用2014年5月改訂第4版","医療の本","Fs5：胃がん","日本胃癌学会","金原出版",10355]
["胃がん術後の生活読本","医療の本","Fs5：胃がん","佐野武","主婦と生活社",10492]
["胃がん　（よくわかる最新医学シリーズ）","医療の本","Fs5：胃がん","比企直樹　著","主婦の友社",10575]
["大腸がん","目次へ","※PDF版ではリンクしておりません。",null,null,null,"21頁",59]
["大腸がん・潰瘍性大腸炎・過敏性腸症候群 急増する大腸の病気の原因・検査・診断","医療の本","Fs6：大腸がん","佐原　力三郎;主婦の友社","主婦の友社",354]
["専門医が語る　大腸がんがわかる本","医療の本","Fs6：大腸がん","赤須　孝之　著","法研",552]
["やさしい大腸がん外来化学療法の自己管理","医療の本","Fs6：大腸がん","朴　成和　編","医薬ジャーナル社",554]
["大腸がん　内視鏡検査がよくわかる本","医療の本","Fs6：大腸がん","松生　恒夫　著","リヨン社",555]
["大腸癌治療ガイドライン 医師用 ２００９年版","医療の本","Fs6：大腸がん","大腸癌研究会","金原出版",1008]
["大腸癌治療ガイドライン 医師用　〈2010年版〉","医療の本","Fs6：大腸がん","大腸癌研究会　編集","ワニブックス",5339]
["大腸がん手術後の１００日レシピ 退院後の食事プラン","医療の本","Fs6：大腸がん","森谷宜皓他","女子栄養大学出版部",5491]
["大腸がんの最新治療","医療の本","Fs6：大腸がん","福長洋介","主婦の友社",5527]
["大腸がん手術後の生活読本","医療の本","Fs6：大腸がん","高橋慶一","主婦と生活社",5528]
["（生活実用シリーズ　ＮＨＫここが聞きたい！名医にＱ）　大腸がん","医療の本","Fs6：大腸がん",null,"NHK出版",5529]
["国立がん研究センターのがんの本　大腸がん","医療の本","Fs6：大腸がん","がん予防・検診研究ｾﾝﾀｰ","小学館クリエイティブ",5530]
["大腸がん","医療の本","Fs6：大腸がん","小平進","医療ジャーナル社",5631]
["心配しないでいいですよ　再発・転移　大腸がん","医療の本","Fs6：大腸がん","編集/武藤徹一郎、畠　清彦","真興交易医書出版",8076]
["大腸癌治療ガイドライン 医師用 2014年版","医療の本","Fs6：大腸がん","大腸癌研究会　編","金原出版",10170]
["手術日までに患者が知りたい大腸癌","医療の本","Fs6：大腸がん","市原隆夫","金原出版",10256]
["心配しないでいいですよ　再発・転移・大腸がん（新訂版）","医療の本","Fs6：大腸がん","山口俊晴・水沼信之","真興交易医書出版",10354]
["大腸癌診療ガイドライン医師用2016","医療の本","Fs6：大腸がん","大腸癌研究会","金原出版",10476]
["大腸がん　（よくわかる最新医学シリーズ）","医療の本","Fs6：大腸がん","福長洋介　著","主婦の友社",10576]
["クローン病","目次へ","※PDF版ではリンクしておりません。",null,null,null,"21頁",60]
["やさしいクローン病の自己管理","医療の本","Fs7：クローン病","松澤　佑次　監","医薬ジャーナル社",557]
["クローン病ってこんな病気","医療の本","Fs7：クローン病","福田能啓編集","診断と治療社",8064]
["潰瘍性大腸炎","目次へ","※PDF版ではリンクしておりません。",null,null,null,"21頁",61]
["潰瘍性大腸炎 (ＥＢＭシリ－ズ) 正しい治療がわかる本","医療の本","Fs9：潰瘍性大腸炎","中島淳","法研",540]
["肝臓/胆のう/膵臓","目次へ","※PDF版ではリンクしておりません。",null,null,null,"21頁",62]
["肝臓・胆のう・膵臓病の食事療法　第３版","医療の本","Ft：肝臓/胆のう/膵臓","医歯薬出版　編","医歯薬出版",240]
["胆石・胆のう炎・膵炎の人の食事","医療の本","Ft：肝臓/胆のう/膵臓","田中　照二　病態","女子栄養大学出版部",524]
["膵臓・胆のう・胆管の病気 最新の検査法と治療法　日常生活のケア","医療の本","Ft：肝臓/胆のう/膵臓","白鳥　敬子;主婦の友社","主婦の友社",526]
["膵臓の病気","医療の本","Ft：肝臓/胆のう/膵臓","小泉　勝","保健同人社",527]
["肝臓病の人の食事","医療の本","Ft：肝臓/胆のう/膵臓","黒田　博之;今堀　智紀;高橋　敦子","女子栄養大学出版部",544]
["肝臓の病気","医療の本","Ft：肝臓/胆のう/膵臓","大内　清昭","保健同人社",664]
["肝臓病 検査と治療の最新情報を網羅　よく効く薬との併用療法も徹底紹介 新版","医療の本","Ft：肝臓/胆のう/膵臓","中嶋　俊彰","主婦の友社",665]
["防ぐ、治す胆のう・胆管の病気","医療の本","Ft：肝臓/胆のう/膵臓","税所　宏光","講談社",682]
["急性膵炎の診療ガイドライン 改訂第３版","医療の本","Ft：肝臓/胆のう/膵臓","急性膵炎の診療ガイドライン第２版作成出版委員会","金原出版",1017]
["やさしい高齢者肝疾患の自己管理","医療の本","Ft：肝臓/胆のう/膵臓","八橋弘　編","医薬ジャーナル社",8020]
["やさしい肝臓病の自己管理　改訂版","医療の本","Ft：肝臓/胆のう/膵臓","林紀夫　編","医薬ジャーナル社",8031]
["肝臓病の最新治療","医療の本","Ft：肝臓/胆のう/膵臓","泉並木","主婦の友社",10076]
["膵臓・胆のう・胆管の病気の最新治療","医療の本","Ft：肝臓/胆のう/膵臓","白鳥敬子","主婦の友社",10077]
["高齢者肝臓疾患の自己管理","医療の本","Ft：肝臓/胆のう/膵臓","八橋弘","医療ジャーナル社",10078]
["急性胆管炎・胆嚢炎の診療ガイドライン 2013 TG13新基準掲載","医療の本","Ft：肝臓/胆のう/膵臓","高田忠敬","医学図書出版",10171]
["膵癌診療ガイドライン2016年版","医療の本","Ft：肝臓/胆のう/膵臓","日本膵臓学会","金原出版",10455]
["患者さん・ご家族・一般市民のための膵がん診療ガイドライン2016の解説","医療の本","Ft：肝臓/胆のう/膵臓","日本膵臓学会","金原出版",10456]
["すい臓がんから奇跡の生還　術後7年の記録","医療の本","Ft：肝臓/胆のう/膵臓",null,"中央公論社",10499]
["肝臓病　（よくわかる最新医学シリーズ）","医療の本","Ft：肝臓/胆のう/膵臓","泉並木　著","主婦の友社",10558]
["C型肝炎","目次へ","※PDF版ではリンクしておりません。",null,null,null,"22頁",63]
["Ｃ型肝炎","医療の本","Ft5：C型肝炎","清沢　研道","保健同人社",541]
["Ｃ型肝炎Ｂ型肝炎 新版","医療の本","Ft5：C型肝炎","中嶋　俊彰","主婦の友社",543]
["やさしいC型肝炎の自己管理　改訂版-その最新情報-","医療の本","Ft5：C型肝炎","岡上武　著","医薬ジャーナル社",8034]
["やさしいC型肝炎の自己管理","医療の本","Ft5：C型肝炎","岡上武","医療ジャーナル社",10357]
["生活","目次へ","※PDF版ではリンクしておりません。",null,null,null,"22頁",64]
["男の更年期障害を治す","医療の本","G：生活","天野　俊康　著","講談社",688]
["おはようからだくん","医療の本","G：生活","竹村俊子　著","ナート ",5372]
["女性の健康","目次へ","※PDF版ではリンクしておりません。",null,null,null,"22頁",65]
["卵巣がん治療ガイドライン　２００７年版","医療の本","Gg：女性の健康",null,"金原出版",408]
["ウィメンズヘルス事典－女性のからだとここ","医療の本","Gg：女性の健康","日本母性衛生学会","中央法規出版",692]
["子宮がん・卵巣がん全書","医療の本","Gg：女性の健康","野澤　志朗　編著","法研",695]
["女性泌尿器科外来へ行こう－尿もれ、性器脱","医療の本","Gg：女性の健康","竹山　政美　他著","法研",698]
["閉経後","医療の本","Gg：女性の健康","宮崎　亮一郎　著","日本医学館",699]
["やさしい更年期障害の自己管理","医療の本","Gg：女性の健康","青野　敏博　編","医薬ジャーナル社",703]
["月経らくらく講座－もっと上手に付き合い，","医療の本","Gg：女性の健康","松本　清一　監修","文光堂",704]
["月経困難症に悩む女性の支援ガイド","医療の本","Gg：女性の健康","ウイメンズヘルスを研","プリメド社",705]
["更年期からの輝き　若さの秘訣：ホルモン療","医療の本","Gg：女性の健康","小池　浩司","前田書店",706]
["子宮がんと卵巣がん","医療の本","Gg：女性の健康","岡本　愛光　著","主婦の友社",709]
["卵巣がん治療ガイドライン　2010年版 (第3版)","医療の本","Gg：女性の健康","日本婦人科腫瘍学会　編集","ワニブックス",5340]
["新版 万病を治す冷えとり健康法","医療の本","Gg：女性の健康","進藤 義晴 著","農山漁村文化協会",5371]
["誰にも言えないアソコらへんの話。 肛門科・泌尿器科・婦人科の知りたかった正しい情報教えます。","医療の本","Gg：女性の健康","たかぎりょうこ　著","マガジンハウス",5373]
["女性泌尿器科へ行こう!―骨盤臓器脱・尿もれ・間質性膀胱炎の治療と手術を受ける人へ","医療の本","Gg：女性の健康","竹山 政美 著","メディカ出版",5374]
["最新 子宮頸がん予防　ワクチンと検診の正しい受け方","医療の本","Gg：女性の健康","高橋真理子 著","朝日新聞出版",5375]
["子宮・卵巣がん手術後の１００日レシピ退院後の食事プラン","医療の本","Gg：女性の健康","岩崎啓子他","女子栄養大学出版部",5492]
["病気がみえる　⑨：婦人科・乳腺外科　第2版","医療の本","Gg：女性の健康",null,"メディックメディア",8006]
["乳がん・子宮がん・卵巣がん術後のリンパ浮腫を自分でケアする","医療の本","Gg：女性の健康","監修：廣田彰男","主婦の友社",8010]
["心配しないでいいですよ　再発・転移　子宮がん","医療の本","Gg：女性の健康","著/瀧澤　憲","真興交易医書出版",8073]
["心配しないでいいですよ　再発・転移　卵巣がん","医療の本","Gg：女性の健康","著/瀧澤　憲","真興交易医書出版",8074]
["女性の尿トラブル　気になる症状を改善する　（別冊NHKきょうの健康）","医療の本","Gg：女性の健康","加藤久美子","NHK出版",8106]
["生理(月経)のトラブルがつらいときの本 (みんなの女性外来)","医療の本","Gg：女性の健康","対馬ルリ子","小学館",8124]
["イライラ・落ち込みが激しいときの本 (みんなの女性外来)","医療の本","Gg：女性の健康","対馬ルリ子","小学館",8125]
["女性のがん　心のケア　（改訂版）","医療の本","Gg：女性の健康","大西　秀樹","土屋書店",8127]
["子宮頸がん・子宮体がん・卵巣がん　治療ガイドラインの解説","医療の本","Gg：女性の健康","日本婦人科腫瘍学会","金原出版",8129]
["臨床婦人科産科","医療の本","Gg：女性の健康","医学書院","医学書院",10079]
["子宮体がん治療ガイドライン 2013年版","医療の本","Gg：女性の健康","日本婦人科腫瘍学会","金原出版",10172]
["子宮内膜症（よくわかる最新医学シリーズ）","医療の本","Gg：女性の健康","百枝 幹雄","主婦の友社",10173]
["病気がみえる vol.9: 婦人科・乳腺外科第3版","医療の本","Gg：女性の健康","医療情報科学研究所","メディックメディア",10177]
["こちら「がん研有明相談室」子宮頸がん・子宮体がん・卵巣がん患者さんへのドクターズアドバイス","医療の本","Gg：女性の健康","馬屋原健司","新興医学出版社",10178]
["患者さんとご家族のための子宮頸がん・子宮体がん・卵巣がん　第2版","医療の本","Gg：女性の健康","日本婦人科腫瘍学会","金原出版",10364]
["卵巣がん治療ガイドライン　2015年版","医療の本","Gg：女性の健康","日本婦人科腫瘍学会","金原出版",10368]
["子宮内膜症","医療の本","Gg：女性の健康","百枝幹雄","主婦の友社",10490]
["働く女性のためのがん入院・治療生活便利帳","医療の本","Gg：女性の健康","岩井ますみ","講談社",10495]
["がん治療中の女性のためのLIFE&Beauty","医療の本","Gg：女性の健康","さとう桜子","主婦の友社",10496]
["病気がみえるvol.9　婦人科・乳腺外科　第4版","医療の本","Gg：女性の健康","医療情報科学研究所","メディックメディア",10540]
["女性のうつ病　（よくわかる最新医学シリーズ）","医療の本","Gg：女性の健康","野田順子　著","主婦の友社",10565]
["子宮内膜症　（よくわかる最新医学シリーズ）","医療の本","Gg：女性の健康","百枝幹雄 著","主婦の友社",10569]
["女性のADHD","医療の本","Gg：女性の健康","宮尾益知　監修","講談社",10582]
["女性のアスペルガー症候群","医療の本","Gg：女性の健康","宮尾益知　監修","講談社",10583]
["元気になるシカ！","一般図書","Gg：女性の健康","藤河るり　著","メディアファクトリー",10604]
["元気になるシカ！２","一般図書","Gg：女性の健康","藤河るり　著","メディアファクトリー",10605]
["子宮筋腫","目次へ","※PDF版ではリンクしておりません。",null,null,null,"23頁",66]
["子宮筋腫　改訂新版","医療の本","Gg5：子宮筋腫","藤井　信吾　著","保健同人社",696]
["子宮筋腫はこわくない","医療の本","Gg5：子宮筋腫","中村　幸雄　著","悠飛社",729]
["よくわかる最新医学　子宮筋腫","医療の本","Gg5：子宮筋腫","佐藤孝道・石田友彦","主婦の友社",10358]
["子宮筋腫　（よくわかる最新医学シリーズ）","医療の本","Gg5：子宮筋腫","佐藤孝道 著","主婦の友社",10578]
["乳がん","目次へ","※PDF版ではリンクしておりません。",null,null,null,"23頁",67]
["乳がん全書","医療の本","Gg6：乳がん","福田　護　編著","法研",717]
["マンモグラフィガイドライン　第２版増補版","医療の本","Gg6：乳がん","日本医学放射線学会","医学書院",723]
["患者さんのための乳房温存療法ガイドライン","医療の本","Gg6：乳がん","厚生労働科学研究費補","金原出版",727]
["胸のしこりが気になる人が読む本　改訂版","医療の本","Gg6：乳がん","日馬　幹弘　著","扶桑社",728]
["乳がん　あなたにとって一番の治療を","医療の本","Gg6：乳がん","中村　清吾　監修","双葉社",730]
["乳がん　からだとこころを守る","医療の本","Gg6：乳がん","岩田　広治　総監修","日本放送出版協会",731]
["乳がん　私らしく生きる","医療の本","Gg6：乳がん",null,"ライフサイエンス出版",732]
["乳腺画像診断法－Ｘ線・超音波と病理－","医療の本","Gg6：乳がん","松江　寛人　編著","金原出版",735]
["乳房温存療法ガイドライン 医療者向け","医療の本","Gg6：乳がん",null,"金原出版",736]
["マンモグラフィ診断の進め方とポイン　第３版","医療の本","Gg6：乳がん","東野　英利子　他著","金原出版",1018]
["乳がんテキスト　正しい知識と理解のために","医療の本","Gg6：乳がん","野口昌邦","南江堂",5493]
["乳がん看護 サポートブック","医療の本","Gg6：乳がん","阿部恭子編","メディカ出版",5494]
["乳がん（最新医学がとことんわかる）","医療の本","Gg6：乳がん","川端英孝","PHP研究所",5531]
["毎日ムック　乳がんから身を守る本　告知から手術、心のケアまで","医療の本","Gg6：乳がん",null,"毎日新聞社",5532]
["心配しないでいいですよ　再発・転移　乳がん　改訂第2版","医療の本","Gg6：乳がん","編集/畠　清彦、著/伊藤良則","真興交易医書出版",8072]
["乳がんかもといわれたら　乳がんの最適治療2011～2012","医療の本","Gg6：乳がん","日経ヘルス・プルミェ編集部","日経BP社",8128]
["乳がん診療ガイドライン　①治療編　２０１１年版","医療の本","Gg6：乳がん","日本乳癌学会","金原出版",10017]
["乳がん診療ガイドライン　②疫学・診断編　２０１１年版","医療の本","Gg6：乳がん","日本乳癌学会","金原出版",10018]
["患者さんのための乳がん診療ガイドライン　２０１２年版","医療の本","Gg6：乳がん","日本乳癌学会","金原出版",10019]
["たとへば君","一般図書","Gg6：乳がん","河野裕子・永田和宏","文藝春秋",10127]
["明日への伝言","一般図書","Gg6：乳がん","大山和栄","秋田書店",10133]
["科学的根拠に基づく乳癌診療ガイドライン 1治療編 2013年版","医療の本","Gg6：乳がん","日本乳癌学会","金原出版",10174]
["科学的根拠に基づく乳癌診療ガイドライン 2疫学・診断編 2013年版","医療の本","Gg6：乳がん","日本乳癌学会","金原出版",10175]
["乳がん（よくわかる最新医学シリーズ）","医療の本","Gg6：乳がん","山内 英子","主婦の友社",10176]
["科学的根拠に基づく　乳癌診療ガイドライン①治療編2015年版","医療の本","Gg6：乳がん","日本乳癌学会","金原出版",10365]
["患者さんのための乳がん診療ガイドライン　2016年版","医療の本","Gg6：乳がん","日本乳癌学会","金原出版",10366]
["科学的根拠に基づく乳癌診療ガイドライン②免疫・診断編　2015年版","医療の本","Gg6：乳がん","日本乳癌学会","金原出版",10367]
["乳がん","医療の本","Gg6：乳がん","山内英子","主婦の友社",10491]
["乳がん　（よくわかる最新医学シリーズ）","医療の本","Gg6：乳がん","山内英子 著","主婦の友社",10574]
["妊娠/出産","目次へ","※PDF版ではリンクしておりません。",null,null,null,"24頁",68]
["妊婦と薬物治療の考え方　全面改訂第２版","医療の本","Gh：妊娠/出産","松田　静治　編","ヴァンメディカル",712]
["妊婦への服薬指導","医療の本","Gh：妊娠/出産","田中　憲一　他編","南山堂",713]
["マタニティアセスメントガイド　新訂","医療の本","Gh：妊娠/出産","吉沢　豊予子　他編著","真興交易医書出版",722]
["不妊治療ワークブック 年齢・原因別の「戦略」がわかる","医療の本","Gh：妊娠/出産","日経メディカル","日経BP社",737]
["妊娠・授乳期の食事　第２版","医療の本","Gh：妊娠/出産","医歯薬出版　編","医歯薬出版",738]
["はじめての妊娠・出産・安心マタニティブッ","医療の本","Gh：妊娠/出産","Ｃ．ハリス　著","永岡書店",745]
["マタニティ　ホワイトブック","医療の本","Gh：妊娠/出産","松峯　寿美","朝日出版社",746]
["子どもを選ばないことを選ぶ　いのちの現場","医療の本","Gh：妊娠/出産","大野　明子　編著","メディカ出版",749]
["誕生死","医療の本","Gh：妊娠/出産","流産・死産・新生児死","三省堂",752]
["妊娠と出産　ママと赤ちゃんのなぜ？に答え","医療の本","Gh：妊娠/出産","国府田　きよ子","新星出版社",753]
["病気がみえる　１０　産科　第２版","医療の本","Gh：妊娠/出産",null,"メディックメディア",1019]
["最新赤ちゃんの病気大百科","医療の本","Gh：妊娠/出産","田村正徳監修","ベネッセコーポレーション",5376]
["最新赤ちゃん・子どものアトピー&アレルギー大百科 ","医療の本","Gh：妊娠/出産","ひよこくらぶ特別編集","ベネッセコーポレーション",5377]
["ママ、生まれる前から大好きだよ!　―胎内記憶といのちの不思議","医療の本","Gh：妊娠/出産","池川 明　著","学習研究社",5378]
["もっと自然に! 不妊治療","医療の本","Gh：妊娠/出産","加藤 修/竹原 祐志 著","主婦の友社",5379]
["ガラスのお腹","医療の本","Gh：妊娠/出産","海月まき子","新風舎",5559]
["エンジョイ・ユア妊娠ライフ","医療の本","Gh：妊娠/出産","島田信宏","南山堂",5560]
["障害をもつ子を産むということ","医療の本","Gh：妊娠/出産","野辺明子","中央法規出版",5561]
["障害をもつ子を産むということ","医療の本","Gh：妊娠/出産","野辺明子","中央法規出版",5562]
["マタニティブルー","医療の本","Gh：妊娠/出産","木村もちこ","サイマル出版会",5563]
["ベビーマッサージ","医療の本","Gh：妊娠/出産","能登春男/あきこ","PHP研究所",5564]
["世界一やさしいベビーサインの教え方","医療の本","Gh：妊娠/出産","直江千恵子","ブックマン社",5565]
["生まれてよかった","医療の本","Gh：妊娠/出産","福岡光子","日本図書センター",5566]
["赤ちゃんが来た","医療の本","Gh：妊娠/出産","石坂啓","朝日新聞出版",5567]
["カンガルーケア","医療の本","Gh：妊娠/出産","堀内功","メディカ出版",5568]
["おっぱいだより集","医療の本","Gh：妊娠/出産","母乳育児サークル","メディカ出版",5569]
["妊娠中の元気メニュー","医療の本","Gh：妊娠/出産","本多京子","共同印刷",5570]
["授かる","医療の本","Gh：妊娠/出産","堤治","朝日出版社",5571]
["出生前診断","医療の本","Gh：妊娠/出産","坂井律子","NHK出版",5572]
["あなたを産んでよかった","医療の本","Gh：妊娠/出産","マーサ・ベック","中央精版",5573]
["最新　妊娠大百科","医療の本","Gh：妊娠/出産","総監修：中林正雄","ベネッセコーポレーション",8036]
["最新　出産・新生児大百科","医療の本","Gh：妊娠/出産","総監修：杉本充弘","ベネッセコーポレーション",8037]
["いつかお母さんになるあなたへ　妊娠の心得","医療の本","Gh：妊娠/出産","宋美玄","ロハスメディア",8055]
["大丈夫やで","医療の本","Gh：妊娠/出産","坂本フジヱ","産業編集センター",10080]
["大丈夫やで2","医療の本","Gh：妊娠/出産","坂本フジヱ","産業編集センター",10081]
["私もママになる！","医療の本","Gh：妊娠/出産","牛山武久","日本せきずい基金",10094]
["病気がみえる vol.10: 産科　第3版","医療の本","Gh：妊娠/出産","医療情報科学研究所","メディックメディア",10179]
["妊娠・出産新百科 最新版オールカラー―月数ごとに「見てわかる!」","医療の本","Gh：妊娠/出産",null,"ベネッセコーポレーション",10180]
["育児新百科 最新版オールカラー―月齢ごとに「見てわかる!」","医療の本","Gh：妊娠/出産",null,"ベネッセコーポレーション",10181]
["病気がみえるvol.10　産科　第4版","医療の本","Gh：妊娠/出産","医療情報科学研究所","メディックメディア",10541]
["こどもの健康","目次へ","※PDF版ではリンクしておりません。",null,null,null,"25頁",69]
["ＡＤ／ＨＤ〈注意欠陥／多動性障害〉のすべてがわかる本 イラスト版","医療の本","Gk：こどもの健康","市川　宏伸","講談社",758]
["ＬＤ〈学習障害〉のすべてがわかる本 イラスト版","医療の本","Gk：こどもの健康","上野　一彦","講談社",759]
["アスペルガー症候群〈高機能自閉症〉のすべてがわかる本 イラスト版","医療の本","Gk：こどもの健康","佐々木　正美","講談社",760]
["ことばの遅れのすべてがわかる本 イラスト版","医療の本","Gk：こどもの健康","中川　信子","講談社",761]
["ダウン症のすべてがわかる本 イラスト版","医療の本","Gk：こどもの健康","池田　由紀江","講談社",762]
["子どもの危ないひきつけ・けいれん イラスト版","医療の本","Gk：こどもの健康","金沢　治","講談社",763]
["子どもの心の病気がわかる本 イラスト版","医療の本","Gk：こどもの健康","市川　宏伸","講談社",764]
["子どもの心身症ガイドブック","医療の本","Gk：こどもの健康","小林　陽之助　編","中央法規出版",765]
["自閉症のすべてがわかる本 イラスト版","医療の本","Gk：こどもの健康","佐々木　正美","講談社",766]
["乳幼児・学童期の病気と食事　第３版","医療の本","Gk：こどもの健康","医歯薬出版　編","医歯薬出版",769]
["不登校・ひきこもりの心がわかる本 イラスト版","医療の本","Gk：こどもの健康","磯部　潮","講談社",772]
["「その子らしさ」を生かす子育て","医療の本","Gk：こどもの健康","吉田　友子　著","中央法規出版",773]
["お母さんのためのやさしい小児糖尿病の自己","医療の本","Gk：こどもの健康","松浦　信夫　編著","医薬ジャーナル社",774]
["お母さんのためのやさしい小児喘息の自己管","医療の本","Gk：こどもの健康","飯倉　洋治","医薬ジャーナル社",775]
["お母さんの小児科専門医","医療の本","Gk：こどもの健康","清水　浩信　著","グラフ社",776]
["こどもの感染症ハンドブック　第２版","医療の本","Gk：こどもの健康","脇口　宏　編集","医学書院",777]
["こどもの病気の地図帳","医療の本","Gk：こどもの健康","鴨下　重彦;柳沢　正義","講談社",778]
["こんな問題に出会ったら－生活者とともに考","医療の本","Gk：こどもの健康","佐々木　洋　他編著","医歯薬出版",779]
["よくわかる子どもの心身症－診療のすすめ方","医療の本","Gk：こどもの健康","星加　明徳　編集","永井書店",780]
["眼で見る小児のリハビリテーション　改２","医療の本","Gk：こどもの健康","栗原　まな　著","診断と治療社",782]
["気づいて！こどもの心のＳＯＳ　こどもの心","医療の本","Gk：こどもの健康","星野　仁彦　著","ヴォイス",783]
["子どもにうつる動物の病気　ペットから学校","医療の本","Gk：こどもの健康","神山　恒夫　編著","真興交易医書出版",785]
["子どものくすり安心ガイド　第２版","医療の本","Gk：こどもの健康","日本外来小児科学会","医歯薬出版",786]
["小児・ヤング糖尿病－のびのびしっかりサポ","医療の本","Gk：こどもの健康","内潟　安子　著","シービーアール",789]
["小児急性中耳炎診療ガイドライン ２００９年版","医療の本","Gk：こどもの健康",null,"金原出版",794]
["小児救急のおとし穴","医療の本","Gk：こどもの健康","市川　光太郎　著","シービーアール",796]
["小児初期救急診療ガイドブック","医療の本","Gk：こどもの健康","柳澤　正義","へるす出版",798]
["小児白血病・リンパ腫の診療ガイドライン　２００７年版","医療の本","Gk：こどもの健康",null,"金原出版",799]
["成長障害のマネジメント　改訂版","医療の本","Gk：こどもの健康","藤枝　憲二　編","医薬ジャーナル社",801]
["先生と保護者のための子どもアレルギー百科","医療の本","Gk：こどもの健康","向山　徳子　著","少年写真新聞社",803]
["特別支援教育のための精神・神経医学","医療の本","Gk：こどもの健康","杉山　登志郎　他","学習研究社",804]
["乳幼児の摂食指導　お母さんの疑問にこたえ","医療の本","Gk：こどもの健康","向井　美惠　編著","医歯薬出版",805]
["予防接種へ行く前に　改訂版　受けるこども","医療の本","Gk：こどもの健康","毛利　子来　編集代表","ジャパンマシニスト社",806]
["０５　食物アレルギー診療ガイドライン","医療の本","Gk：こどもの健康","向山　徳子　監修","協和企画",807]
["アレルギーっ子の生活百科　第３版","医療の本","Gk：こどもの健康","角田　和彦　著","近代出版",810]
["やさしいアトピー予防の自己管理","医療の本","Gk：こどもの健康","岸田　勝　著","医薬ジャーナル社",811]
["食物アレルギーハンドブック","医療の本","Gk：こどもの健康","向山　徳子　他監修","協和企画",814]
["小児がん病棟の子どもたち","医療の本","Gk：こどもの健康","田代順","青弓社",5323]
["臨床家が知っておきたい「子どもの精神科」","医療の本","Gk：こどもの健康","佐藤泰三/市川宏伸編集","医学書院",5327]
["光とともに・・・　－自閉症児を抱えて-①","一般図書","Gk：こどもの健康","戸部けいこ","秋田書店",5329]
["光とともに・・・　－自閉症児を抱えて-②","一般図書","Gk：こどもの健康","戸部けいこ","秋田書店",5330]
["光とともに・・・　－自閉症児を抱えて-③","一般図書","Gk：こどもの健康","戸部けいこ","秋田書店",5331]
["光とともに・・・　－自閉症児を抱えて-④","一般図書","Gk：こどもの健康","戸部けいこ","秋田書店",5332]
["小児白血病・リンパ腫の診療ガイドライン 2011年版","医療の本","Gk：こどもの健康","日本小児血液学会　編集","ワニブックス",5342]
["新・予防接種へ行く前に ","医療の本","Gk：こどもの健康","ﾜｸﾁﾝﾄｰｸ全国「新予防接種へ行く前に」編集委員会 編集","ジャパンマシニスト社",5343]
["新版　ひきつけ・けいれんは小児てんかんを疑え","医療の本","Gk：こどもの健康","金澤　治　著","講談社",5380]
["子どもの救急相談対応ガイド―子どもの急な病気と事故 こんなときどうするの?","医療の本","Gk：こどもの健康","平林優子　監修","へるす出版 ",5381]
["発達って、障害ってなんだろう?","医療の本","Gk：こどもの健康","日原 信彦　著","ミネルヴァ書房",5382]
["十歳のきみへ―九十五歳のわたしから","医療の本","Gk：こどもの健康","日野原重明　著","冨山房インターナショナル",5383]
["自分と子どもを放射能から守るには（日本語版特別編集）","医療の本","Gk：こどもの健康","ウラジーミル・バベンコ 著","世界文化社",5384]
["世界一わかりやすい放射能の本当の話　子どもを守る編 ","医療の本","Gk：こどもの健康","伊藤 隼也　監修","宝島社",5385]
["光とともに・・・　－自閉症児を抱えて-⑤","一般図書","Gk：こどもの健康","戸部けいこ","秋田書店",5420]
["光とともに・・・　－自閉症児を抱えて-⑥","一般図書","Gk：こどもの健康","戸部けいこ","秋田書店",5429]
["光とともに・・・　－自閉症児を抱えて-⑦","一般図書","Gk：こどもの健康","戸部けいこ","秋田書店",5430]
["光とともに・・・　－自閉症児を抱えて-⑧","一般図書","Gk：こどもの健康","戸部けいこ","秋田書店",5431]
["光とともに・・・　－自閉症児を抱えて-⑨","一般図書","Gk：こどもの健康","戸部けいこ","秋田書店",5432]
["光とともに・・・　－自閉症児を抱えて-⑩","一般図書","Gk：こどもの健康","戸部けいこ","秋田書店",5433]
["光とともに・・・　－自閉症児を抱えて-⑪","一般図書","Gk：こどもの健康","戸部けいこ","秋田書店",5434]
["光とともに・・・　－自閉症児を抱えて-⑫","一般図書","Gk：こどもの健康","戸部けいこ","秋田書店",5435]
["光とともに・・・　－自閉症児を抱えて-⑬","一般図書","Gk：こどもの健康","戸部けいこ","秋田書店",5436]
["光とともに・・・　－自閉症児を抱えて-⑭","一般図書","Gk：こどもの健康","戸部けいこ","秋田書店",5437]
["光とともに・・・　－自閉症児を抱えて-⑮","一般図書","Gk：こどもの健康","戸部けいこ","秋田書店",5438]
["2011年生まれ赤ちゃんの幸せ吉名事典","一般図書","Gk：こどもの健康","成田圭似","大泉書店",5465]
["よくわかる　小児の造血細胞移植","医療の本","Gk：こどもの健康","加藤俊一監修","医薬ジャーナル社",5495]
["よくわかる小児がん経験者のためにより良い生活の質（ＱＯＬ）を求めて","医療の本","Gk：こどもの健康","加藤俊一監修","医薬ジャーナル社",5496]
["子どもと家族のための小児がんガイドブック","医療の本","Gk：こどもの健康","加藤俊一監修","医薬ジャーナル社",5497]
["あなたの病気-小児脳腫瘍の治療-","医療の本","Gk：こどもの健康","小児脳腫瘍の会","小児脳腫瘍の会",5533]
["種まく子供たち","医療の本","Gk：こどもの健康","佐藤律子","ポプラ社",5541]
["がんをもつ子どもの痛みからの解放とパリアティブ・ケア","医療の本","Gk：こどもの健康","世界保健機構","日本看護協会出版会",5542]
["こどもの腎炎・ネフローゼ","医療の本","Gk：こどもの健康","五十嵐隆","メディカルトリビューン",5544]
["さよならプータ","医療の本","Gk：こどもの健康","福山隆","テイクツー",5579]
["障害と私たちの社会","医療の本","Gk：こどもの健康","茂木俊彦","大月書店",5580]
["子どもへのまなざし","医療の本","Gk：こどもの健康","佐々木正美","福音館書店",5581]
["こどもは未来である","医療の本","Gk：こどもの健康","小林登","メディサイエンス",5582]
["続こどもは未来である","医療の本","Gk：こどもの健康","小林登","メディサイエンス",5583]
["遊び上手はしつけ上手【２歳児篇】","医療の本","Gk：こどもの健康","辻井正","同朋舎",5584]
["子どもの育ちと遊び","医療の本","Gk：こどもの健康","川村晴子","朱鷺書房",5585]
["小児がん病棟の子どもたち","医療の本","Gk：こどもの健康","田代順","青弓社",5586]
["陽だまりの病室で","医療の本","Gk：こどもの健康","亀井智泉","メディカ出版",5587]
["種まく子供たち","医療の本","Gk：こどもの健康","佐藤律子","ポプラ社",5588]
["種まく子供たち","医療の本","Gk：こどもの健康","佐藤律子","ポプラ社",5589]
["小児病棟の四季","医療の本","Gk：こどもの健康","細谷亮太","岩波書店",5590]
["がんばれば、幸せになれるよ","医療の本","Gk：こどもの健康","山﨑敏子","小学館",5591]
["子どもの性","医療の本","Gk：こどもの健康","山本直英","大月書店",5593]
["うれしかった言葉悲しかったことば","医療の本","Gk：こどもの健康","麦の会こえだより編集委員会","海鳥社",5594]
["こどものうつ心の叫び","医療の本","Gk：こどもの健康","傳田健三","講談社",5595]
["「死んだらどうなるの？ミスター・シリー」","医療の本","Gk：こどもの健康","テッド・メンテン","人間と歴史社",5596]
["「死んだらどうなるの？ミスター・シリー」","医療の本","Gk：こどもの健康","テッド・メンテン","人間と歴史社",5597]
["あのね","医療の本","Gk：こどもの健康","朝日新聞学芸部","朝日新聞出版",5598]
["小児病棟の子どもたち","医療の本","Gk：こどもの健康","向井承子","晶文社",5600]
["こどもの感染症　予防のしかた・治しかた","医療の本","Gk：こどもの健康","金子光延","講談社",5644]
["お母さんに伝えたい子どもの病気 ホームケアガイド　第３版","医療の本","Gk：こどもの健康","日本外来小児科学会","医歯薬出版",5645]
["こどもの心臓病と手術","医療の本","Gk：こどもの健康","立石実","メディカ出版",5647]
["お母さんのためのワクチン接種ガイド改訂版","医療の本","Gk：こどもの健康","薗部友良","日経メディカル開発",5648]
["小児糖尿病・ヤング糖尿病","医療の本","Gk：こどもの健康","田嶼尚子","主婦の友社",8015]
["お母さんのためのやさしい小児喘息のおは★医療の本★","医療の本","Gk：こどもの健康","森川昭廣・望月博之　著","医薬ジャーナル社",8026]
["患者と家族のための川崎病Q&A","医療の本","Gk：こどもの健康","原田研介","ライフサイエンス出版",8040]
["ホップステップ　食物アレルギー教室","医療の本","Gk：こどもの健康","柴田瑠美子、伊藤和枝","南江堂",8062]
["ふしぎだね！？アスペルガー症候群のおともだち","医療の本","Gk：こどもの健康","内山登紀夫","ミネルヴァ書房",8103]
["ＡＤ／ＨＤ、ＬＤがある子どもを育てる本","医療の本","Gk：こどもの健康","月森久江","講談社",8117]
["電池が切れるまで","一般図書","Gk：こどもの健康","すずらんの会","角川文庫",10003]
["食物アレルギー診療ガイドライン　２０１２","医療の本","Gk：こどもの健康","日本小児ｱﾚﾙｷﾞｰ学会","協和企画",10020]
["離乳食大百科","医療の本","Gk：こどもの健康","小池澄子","学研",10021]
["はじめての離乳食","医療の本","Gk：こどもの健康","小池澄子","学研",10022]
["ステップアップ離乳食","医療の本","Gk：こどもの健康","小池澄子","学研",10023]
["子育て通信","医療の本","Gk：こどもの健康","子育て通信委員会","大阪小児科医会",10032]
["いのちの「語り部」","医療の本","Gk：こどもの健康","迫正廣","悠飛社",10047]
["小児がんとたたかうこと","医療の本","Gk：こどもの健康","石本浩市","医学書院",10048]
["カウンセリング・ブック　vol.1","医療の本","Gk：こどもの健康","国立総合医療研究ｾﾝﾀｰ","国立総合医療研究センター",10051]
["カウンセリング・ブック　vol.2","医療の本","Gk：こどもの健康","国立総合医療研究ｾﾝﾀｰ","国立総合医療研究センター",10052]
["子どもの病気・けが　救急＆ケアBOOK","医療の本","Gk：こどもの健康","秋山千枝子","世界文化社",10082]
["水頭症・二分脊椎ハンドブック","医療の本","Gk：こどもの健康","松本悟","日本二分脊椎･水頭症研究振興団体",10088]
["日本子ども資料年間　2011","医療の本","Gk：こどもの健康","日本子ども家庭総合研究所","KTC中央出版",10098]
["小児の在宅生活支援のための医療的ケア・マニュアル","医療の本","Gk：こどもの健康","永井利三郎","大阪府医師会",10099]
["胎児期水頭症","医療の本","Gk：こどもの健康","山崎麻美","金芳堂",10145]
["小児急性中耳炎診療ガイドライン 2013年版","医療の本","Gk：こどもの健康","日本耳科学会","金原出版",10182]
["たまひよ赤ちゃんのしあわせ名前事典〈2014‐2015年版〉","一般図書","Gk：こどもの健康","栗原 里央子","ベネッセコーポレーション",10183]
["こどものがん　病気の知識と療養の手引","医療の本","Gk：こどもの健康","がんの子どもを守る会","がんの子どもを守る会",10241]
["がんとたたかう子とともに　発病後日の浅い患者のご家族へ","医療の本","Gk：こどもの健康","がんの子どもを守る会","がんの子どもを守る会",10242]
["小児がん経験者のための　ハンドブック","医療の本","Gk：こどもの健康","がんの子どもを守る会","がんの子どもを守る会",10243]
["二分脊椎症の手引き","医療の本","Gk：こどもの健康","日本二分脊椎症協会","日本二分脊椎症協会",10249]
["二分脊椎症の手引き","医療の本","Gk：こどもの健康","日本二分脊椎症協会","日本二分脊椎症協会",10250]
["こども漢方","医療の本","Gk：こどもの健康","草鹿砥宗隆, 佐藤大輔","源草社",10257]
["新版 心臓病児者の幸せのために","医療の本","Gk：こどもの健康","全国心臓病の子どもを守る会","全国心臓病の子どもを守る会",10258]
["心臓病児をささえる　社会保障制度","医療の本","Gk：こどもの健康","全国心臓病の子どもを守る会","全国心臓病の子どもを守る会",10259]
["発達障害の子どもを伸ばす魔法の言葉かけ ","医療の本","Gk：こどもの健康"," shizu, 平岩幹男","講談社",10260]
["「ココからはじめる小児がん看護疾患の理解から臨床での活用まで 」","医療の本","Gk：こどもの健康","丸光惠, 石田也寸志","へるす出版",10261]
["苦手が「できる」にかわる！ 発達が気になる子への生活動作の教え方","医療の本","Gk：こどもの健康","鴨下賢一, 立石加奈子","中央法規出版",10262]
["専門外の医師のための小児のてんかん入門","医療の本","Gk：こどもの健康","白石秀明","中外医学社",10263]
["アトピーなんか飛んで行け!―アトピー克服実践マニュアル","医療の本","Gk：こどもの健康","アトピーなんか飛んで行け！の会","ブイツーソリューション",10286]
["みんなといっしょにあそべるよ","医療の本","Gk：こどもの健康","九十九そのえ","日本二分脊椎･水頭症研究振興団体",10319]
["水頭症・二分脊椎　必携","医療の本","Gk：こどもの健康","山内康雄・長嶋達也","日本二分脊椎･水頭症研究振興団体",10328]
["水頭症・二分脊椎　必携","医療の本","Gk：こどもの健康","山内康雄・長嶋達也","日本二分脊椎･水頭症研究振興団体",10329]
["小児白血病・リンパ腫　診療ガイドライン　2016年版","医療の本","Gk：こどもの健康","日本小児血液・がん学会","金原出版",10359]
["チックとトゥレット症候群がよくわかる本","医療の本","Gk：こどもの健康","星加明徳","講談社",10360]
["自閉症スペクトラムがよくわかる本","医療の本","Gk：こどもの健康","本田秀夫","講談社",10361]
["吃音のことがよくわかる本","医療の本","Gk：こどもの健康","菊池良和","講談社",10362]
["空にかかるはしご　天使になった子どもと生きるｸﾞﾘｰﾌｻﾎﾟｰﾄﾌﾞｯｸ","医療の本","Gk：こどもの健康","「空にかかるはしご」編集委員会","NULL",10402]
["病気を持つ子どもと家族のためのおうちで暮らすガイドブック","医療の本","Gk：こどもの健康","前田浩利","メディカ出版",10454]
["いま、子を育てること","一般図書","Gk：こどもの健康","毛利子来","筑摩書房",10473]
["ベイリーとさっちゃん","一般図書","Gk：こどもの健康","田村　朗","かまくら春秋社",10505]
["在宅医療が必要な子どものための図解ケアテキストQ&A","医療の本","Gk：こどもの健康","梶原厚子 編著","メディカ出版",10548]
["こどものがんと治療","医療の本","Gk：こどもの健康","細野亜古　編著","メディカ出版",10549]
["こどものがんと治療","医療の本","Gk：こどもの健康","細野亜古　編著","メディカ出版",10550]
["こどもの心臓病と手術","医療の本","Gk：こどもの健康","立石実　著","メディカ出版",10551]
["ケース別発達障害のある子へのサポート実例集 幼稚園・保育園編","医療の本","Gk：こどもの健康","上野一彦監修　酒井幸子・中野圭子著","ナツメ社",10555]
["ケース別 発達障害のある子へのサポート実例集 小学校編","医療の本","Gk：こどもの健康","上野一彦・月森久江著","ナツメ社",10556]
["教室・家庭でいますぐ使えるSST","医療の本","Gk：こどもの健康","安住ゆう子 ・三島節子","かもがわ出版",10557]
["起立性調節障害がよくわかる本","医療の本","Gk：こどもの健康","田中英高　監修","講談社",10584]
["発達障害の子の脳を育てる忍者遊び","医療の本","Gk：こどもの健康","柳澤弘樹　監修","講談社",10585]
["子どもの危険な病気のサインがわかる本","医療の本","Gk：こどもの健康","松永正訓　監修","講談社",10587]
["光とともに…～自閉症児を抱えて～　1巻","一般図書","Gk：こどもの健康","戸部 けいこ　著","秋田書店",10588]
["光とともに…～自閉症児を抱えて～　2巻","一般図書","Gk：こどもの健康","戸部 けいこ　著","秋田書店",10589]
["光とともに…～自閉症児を抱えて～　3巻","一般図書","Gk：こどもの健康","戸部 けいこ　著","秋田書店",10590]
["光とともに…～自閉症児を抱えて～　4巻","一般図書","Gk：こどもの健康","戸部 けいこ　著","秋田書店",10591]
["光とともに…～自閉症児を抱えて～　5巻","一般図書","Gk：こどもの健康","戸部 けいこ　著","秋田書店",10592]
["光とともに…～自閉症児を抱えて～　6巻","一般図書","Gk：こどもの健康","戸部 けいこ　著","秋田書店",10593]
["光とともに…～自閉症児を抱えて～　7巻","一般図書","Gk：こどもの健康","戸部 けいこ　著","秋田書店",10594]
["光とともに…～自閉症児を抱えて～　8巻","一般図書","Gk：こどもの健康","戸部 けいこ　著","秋田書店",10595]
["光とともに…～自閉症児を抱えて～　9巻","一般図書","Gk：こどもの健康","戸部 けいこ　著","秋田書店",10596]
["光とともに…～自閉症児を抱えて～　10巻","一般図書","Gk：こどもの健康","戸部 けいこ　著","秋田書店",10597]
["光とともに…～自閉症児を抱えて～　11巻","一般図書","Gk：こどもの健康","戸部 けいこ　著","秋田書店",10598]
["光とともに…～自閉症児を抱えて～　12巻","一般図書","Gk：こどもの健康","戸部 けいこ　著","秋田書店",10599]
["光とともに…～自閉症児を抱えて～　13巻","一般図書","Gk：こどもの健康","戸部 けいこ　著","秋田書店",10600]
["光とともに…～自閉症児を抱えて～　14巻","一般図書","Gk：こどもの健康","戸部 けいこ　著","秋田書店",10601]
["光とともに…～自閉症児を抱えて～　15巻","一般図書","Gk：こどもの健康","戸部 けいこ　著","秋田書店",10602]
["光とともに…～自閉症児を抱えて～　別巻","一般図書","Gk：こどもの健康","戸部 けいこ・河崎芽衣　著","秋田書店",10603]
["発達障がい児の子育て　ママたちが見つけた大切なこと","医療の本","Gk：こどもの健康","佐々木正美　監修","大和書房",10609]
["だいじょうぶだよ、モリス「こわい」と「いやだ」がなくなる本","医療の本","Gk：こどもの健康","カール・ヨハン＝エリーン","飛鳥新社",10610]
["みえるとか みえないとか","医療の本","Gk：こどもの健康","ヨシタケシンスケ","アリス館",10611]
["高齢者","目次へ","※PDF版ではリンクしておりません。",null,null,null,"29頁",70]
["皮膚病（シルバースキンケア）","医療の本","Gt：高齢者","種田　明生　著","日本医学館",644]
["高齢期の病気と食事　第２版","医療の本","Gt：高齢者","医歯薬出版　編","医歯薬出版",815]
["いまさら聞けない高齢者の医学常識","医療の本","Gt：高齢者","三宅　貴夫　著","日総研出版",818]
["高齢者ケアの心理学入門","医療の本","Gt：高齢者","本莊　繁　著","朱鷺書房",820]
["老年症候群の診かた","医療の本","Gt：高齢者","大内　尉義　監修","メジカルビュー社",824]
["よくみえる!医療・先進医療・介護のは★医療の本★ ","医療の本","Gt：高齢者","大野太平/大場幸子/山本ゆかり/上田香十里　著","セールス手帖社保険",5386]
["高齢者のための食事制限メニュー　―糖尿病、腎臓病、高血圧、高脂血症","医療の本","Gt：高齢者","杉橋啓子　監修","女子栄養大学出版部",5387]
["マンガ「寝たきり婆あ」わがまま対策マニュアル","一般図書","Gt：高齢者","門野晴子","講談社",5601]
["ひとりで暮らして気楽に老いる","一般図書","Gt：高齢者","吉沢久子","慶昌堂印刷",5602]
["死と老いと生への道","医療の本","Gt：高齢者","日野原重明","中央法規出版",5603]
["看護のアートⅠ","医療の本","Gt：高齢者","日野原重明","中央法規出版",5604]
["生と死のケア","医療の本","Gt：高齢者","日野原重明","医学書院",5605]
["寝たきりにさせないために","医療の本","Gt：高齢者","榎村陽太郎","医歯薬出版",5606]
["☆一般図書☆　夫婦の親","医療の本","Gt：高齢者","柳博雄","三五館",5607]
["年齢に負けない身体の作り方","医療の本","Gt：高齢者","宇田川宏","同時代社",5608]
["インフォームドチョイス","医療の本","Gt：高齢者","鎌田實","医歯薬出版",5609]
["医療がやさしさをとりもどすとき","医療の本","Gt：高齢者","鎌田實","医歯薬出版",5610]
["癒しの国のアリス","医療の本","Gt：高齢者","高柳和江","医歯薬出版",5612]
["老いの泉 上","医療の本","Gt：高齢者","ベティ・フリーダン","西村書店",5613]
["老いの泉 下","医療の本","Gt：高齢者","ベティ・フリーダン","西村書店",5614]
["医療は「生活」に出会えるのか","医療の本","Gt：高齢者","竹内孝仁","医歯薬出版",5615]
["図解・症状からみる老いと病気とからだ","医療の本","Gt：高齢者","高橋龍太郎","中央法規出版",8046]
["病気にならない15の食習慣　楽しく生きる長寿の秘訣","医療の本","Gt：高齢者","日野原重明、劉影","青春出版社",8101]
["ここまでできる高齢者の転倒予防","医療の本","Gt：高齢者","武藤芳照　総監修","日本看護協会出版会",8116]
["死にゆく者の礼儀","一般図書","Gt：高齢者","遥洋子","筑摩書房",10038]
["老後はひとり暮らしが幸せ","一般図書","Gt：高齢者","辻川覚志","水曜社",10050]
["高齢期ケア","目次へ","※PDF版ではリンクしておりません。",null,null,null,"29頁",71]
["介護に縁のないくらし　３７のノウハウ","医療の本","Gt5：高齢期ケア","上農　哲朗　監修","メディカ出版",833]
["誰も語りたがらないウンチとオシッコの話","医療の本","Gt5：高齢期ケア","勝屋なつみ","シービーアール",5649]
["これで解決！ウンコパニック","医療の本","Gt5：高齢期ケア","宮田乃有","メディカ出版",5650]
["新床ずれケアナビ","医療の本","Gt5：高齢期ケア","日本在宅褥瘡創傷ケア推進協会","中央法規出版",5651]
["親が70歳を過ぎたら読む本","医療の本","Gt5：高齢期ケア","村田裕之","ダイヤモンド社",10027]
["口腔ケア","目次へ","※PDF版ではリンクしておりません。",null,null,null,"29頁",72]
["看護に役立つ口腔ケアテクニック","医療の本","Gt6：口腔ケア",null,"医歯薬出版",8043]
["認知症","目次へ","※PDF版ではリンクしておりません。",null,null,null,"29頁",73]
["アルツハイマー病・認知症（痴呆症）","医療の本","Gt7：認知症","吉岡　充　監修","主婦の友社",568]
["アルツハイマー病のすべてがわかる本 イラスト版","医療の本","Gt7：認知症","新井　平伊","講談社",569]
["徹底図解　認知症・アルツハイマー病","医療の本","Gt7：認知症","林　泰史　監修","法研",580]
["「認知症」とはどんな病気？－「認知症」の","医療の本","Gt7：認知症","灰田　宗孝　著","東海大学出版会",591]
["認知症（痴呆）","医療の本","Gt7：認知症","一宮　洋介　著","日本医学館",826]
["本人と家族のための痴呆症介護百科","医療の本","Gt7：認知症","須貝　佑一　他著","永井書店",828]
["アルツハイマ-無の世界への航海-","医療の本","Gt7：認知症","武田雅俊　監修","アークメディア",5324]
["痴呆性高齢者の残存能力を高めるケア","医療の本","Gt7：認知症","山下美根子","医学書院",5616]
["フレディの遺言","医療の本","Gt7：認知症","フレディ松川","朝日新聞出版",8081]
["認知症の知りたいことガイドブック","医療の本","Gt7：認知症","長谷川　和夫","中央法規出版",8098]
["認知症　家族を救う対策集","医療の本","Gt7：認知症","主婦の友社","主婦の友社",10024]
["レビー小体型認知症がよくわかる本","医療の本","Gt7：認知症","小坂 憲司","講談社",10184]
["在宅介護","目次へ","※PDF版ではリンクしておりません。",null,null,null,"29頁",74]
["とっておき！病気・治療・薬の知識","医療の本","Gt8：在宅介護","川人　明　著","日本看護協会出版会",830]
["在宅での看取りのケア　家族支援を中心に","医療の本","Gt8：在宅介護","宮崎　和加子　監修","日本看護協会出版会",835]
["在宅医療実践マニュアル　第２版　地域ケア","医療の本","Gt8：在宅介護","在宅ケアを支える診療","医歯薬出版",836]
["在宅介護　家族がつくるケアプラン","医療の本","Gt8：在宅介護","和田　要　著","日中出版",838]
["失禁・便秘・カテーテル・人工肛門のホーム","医療の本","Gt8：在宅介護","林　泰史　監修","中央法規出版",839]
["図解わかりやすい　新・介護保険ガイド","医療の本","Gt8：在宅介護","佐藤　ちよみ　校閲","保健同人社",840]
["くじけないで","一般図書","Gt8：在宅介護","柴田トヨ","飛鳥新社",5321]
["「自分の家で死にたい」と言われたら読む本","医療の本","Gt8：在宅介護","関屋 利治　著","中経出版",5388]
["くじけないで","一般図書","Gt8：在宅介護","柴田トヨ","飛鳥新社",5423]
["リハビリテーションとしての在宅医療","医療の本","Gt8：在宅介護","藤井博之/山口明/田中久美子","南山堂",5498]
["在宅栄養管理・経口から胃廔・経静脈栄養まで","医療の本","Gt8：在宅介護","小野沢滋","南山堂",5499]
["“口から食べる”を支える在宅でみる摂食・嚥下障害、口腔ケア","医療の本","Gt8：在宅介護","新田國夫","南山堂",5500]
["在宅における床ずれ予防マニュアル","医療の本","Gt8：在宅介護","藤原泰子","真興交易医書出版",5652]
["介護食ハンドブック　第２版","医療の本","Gt8：在宅介護","手嶋登志子","医歯薬出版",10025]
["介護のほんとうがわかる本","医療の本","Gt8：在宅介護","主婦と生活社","主婦と生活社",10026]
["新しい介護","医療の本","Gt8：在宅介護","大田仁史","講談社",10028]
["親の入院・介護が必要になったときに読む本","医療の本","Gt8：在宅介護","豊田眞弓","日本実業出版社",10029]
["代替療法","目次へ","※PDF版ではリンクしておりません。",null,null,null,"30頁",75]
["陰陽五行による癒しの音楽","医療の本","H：代替療法","米井　嘉一","廣済堂",132]
["脳は甦る　音楽運動療法による甦生リハビリ","医療の本","H：代替療法","後藤　幸生　他","大修館書店",606]
["がんワクチン","医療の本","H：代替療法","大野　忠夫　著","デジタルメディスン",842]
["看護職のための代替療法ガイドブック","医療の本","H：代替療法","今西　二郎　他編","医学書院",844]
["原本・西式健康読本　ワイド版　食と健　４","医療の本","H：代替療法","西　勝造　著","農山漁村文化協会",845]
["最先端がん治療免疫細胞療法にたどり着いて","医療の本","H：代替療法","藤原　義久　編著","河出書房新社",846]
["民間療法－誰にもできる－食と健康の古　５","医療の本","H：代替療法","農文協　編","農山漁村文化協会",847]
["よくわかる　新しい東洋医学入門講座","医療の本","H：代替療法","丁　宗鐡　監","永井書店",850]
["ＮＨＫ地球大紀行１","一般図書","H：代替療法",null,"日本放送出版協会",5617]
["ＮＨＫ地球大紀行２","一般図書","H：代替療法",null,"日本放送出版協会",5618]
["ＮＨＫ地球大紀行３","一般図書","H：代替療法",null,"日本放送出版協会",5619]
["ＮＨＫ地球大紀行４","一般図書","H：代替療法",null,"日本放送出版協会",5620]
["ＮＨＫ地球大紀行５","一般図書","H：代替療法",null,"日本放送出版協会",5621]
["ＮＨＫ地球大紀行６","一般図書","H：代替療法",null,"日本放送出版協会",5622]
["ＮＨＫ地球大紀行別巻１","一般図書","H：代替療法",null,"日本放送出版協会",5623]
["ＮＨＫ地球大紀行別巻２","一般図書","H：代替療法",null,"日本放送出版協会",5624]
["ＷＨＩＴＥ　ホワイト","一般図書","H：代替療法","南風椎","PARCO出版局",5632]
["西表写真館","一般図書","H：代替療法","笠井雅夫","サンエイテイ",5633]
["西表島の海","一般図書","H：代替療法","矢野維幾","平凡社",5634]
["ＣＬＯＵＤＬＡＮＤ","一般図書","H：代替療法","高橋健司","光琳社",5635]
["花屋さんの１２ヶ月","一般図書","H：代替療法","小林寛幸","淡交社",5636]
["free","一般図書","H：代替療法","高砂淳二","小学館",5637]
["世界の花と木2850","一般図書","H：代替療法","塚本洋太郎","主婦の友社",5638]
["笹倉鉄平画集","一般図書","H：代替療法","笹倉鉄平","ガリレア・プロバ",5640]
["春・花づくし","一般図書","H：代替療法","細川護貞","講談社ペック",5641]
["かけがえのない地球３６５日空の旅","一般図書","H：代替療法","ﾔﾝ･ｱﾙﾃｨｽ･ﾍﾞﾝﾄﾗﾝ","ピエ・ブックス",5642]
["新版伊丹の樹木","一般図書","H：代替療法","伊丹市立総合教育センター","伊丹市立総合教育センター",5671]
["動物の赤ちゃんを育てる","一般図書","H：代替療法","亀井一成","朝日出版社",10041]
["動物の赤ちゃんを育てる","一般図書","H：代替療法","亀井一成","朝日出版社",10042]
["日本地図帳","一般図書","H：代替療法","青柳栄次","旺文社",10043]
["世界地図帳","一般図書","H：代替療法","青柳栄次","旺文社",10044]
["旅に出たくなる地図　世界編","一般図書","H：代替療法","帝国書院","帝国書院",10210]
["旅に出たくなる地図　日本編","一般図書","H：代替療法","帝国書院","帝国書院",10211]
["SILVERシルバー","一般図書","H：代替療法","南風椎","PARCO出版局",10376]
["GOLDゴールド","一般図書","H：代替療法","南風推","PARCO出版局",10377]
["大塚勝久写真集　南の風　沖縄・宮古・八重山諸島","一般図書","H：代替療法","大塚勝久","琉球新報社",10472]
["おもちゃばこ","絵本","H：代替療法","kemeko","トリニニィアーツ",10501]
["漢方","目次へ","※PDF版ではリンクしておりません。",null,null,null,"31頁",76]
["漢方外来　漢方から診るからだと病気","医療の本","He：漢方","日笠　久美　著","プリメド社",848]
["かるたｄｅ漢方","医療の本","He：漢方","草鹿砥千恵","源草社",10083]
["基礎からわかる最新漢方薬入門　生薬治療の集大成","医療の本","He：漢方","関水康彰","技術評論社",10369]
["がん研有明病院で今起きている漢方によるがん治療の奇跡","医療の本","He：漢方","星野恵津夫","海竜社",10370]
["今日から実践痛みの漢方治療","医療の本","He：漢方","土方康世","医歯薬出版",10371]
["アロマテラピー","目次へ","※PDF版ではリンクしておりません。",null,null,null,"31頁",77]
["クリニカル・アロマテラピー　よりよい看護","医療の本","Hg：アロマテラピー","ジェーン・バックル","フレグランスジャーナル",849]
["わかりやすい！覚えやすい！アロマテラピー基本講座　基本から応用まで、ていねいに解説","医療の本","Hg：アロマテラピー","重松浩子","成美堂出版",5534]
["患者学","目次へ","※PDF版ではリンクしておりません。",null,null,null,"31頁",78]
["家族看護　Ｖｏｌ．０１　Ｎｏ．０２","医療の本","I：患者学","野嶋　佐由美　編集","日本看護協会出版会",831]
["家族看護　Ｖｏｌ．０１　Ｎｏ．０１","医療の本","I：患者学","野嶋　佐由美　他編","日本看護協会出版会",832]
["かかりつけ医活用法　あなたの健康マネジャ","医療の本","I：患者学","筒井　大八　著","近代文藝社",852]
["ホームズ君の賢い病院のかかり方","医療の本","I：患者学","増村　道雄","神戸新聞総合出版",853]
["患者をサポートする法律と制度の活用","医療の本","I：患者学",null,"中山書店",854]
["元気が出る患者学","医療の本","I：患者学","柳田　邦男","新潮社",857]
["患者は何でも知っている　ＥＢＭ時代の医師","医療の本","I：患者学","Ｊ．Ａ．Ｍ．グレイ","中山書店",861]
["はじめての医療面接－コミュニケーション技","医療の本","I：患者学","斎藤　清二","医学書院",863]
["医療コミュニケーションスキル","医療の本","I：患者学","沢村　敏郎　著","メディカルレビュー社",865]
["患者さんに学ぶ！","医療の本","I：患者学",null,"クリニックマガジン",866]
["患者の声を医療に生かす","医療の本","I：患者学","大熊　由紀子　他編著","医学書院",867]
["実践　インフォームド・コンセント","医療の本","I：患者学","宮本　恒彦　編著","永井書店",871]
["外国人患者診療・看護ガイド","医療の本","I：患者学","小林　米幸","エルゼビア・ジャパン",902]
["日米比較に学ぶ「国民主役」医療への道","医療の本","I：患者学","町　淳二　編著","日本医療企画",913]
["患者と作る医学の教科書","医療の本","I：患者学","酒巻哲夫編著","日総研出版",8108]
["命ある限り","医療の本","I：患者学","キューブラー・ロス","産業図書",10035]
["エイズの臨床から","医療の本","I：患者学","竹内照江","日本看護協会出版会",10040]
["出会えてよかった！Ⅱ","医療の本","I：患者学","菊池　眞","TONEGAWA",10146]
["お灸百科","医療の本","I：患者学","岡田明三","医道の日本社",10525]
["出会えてよかったⅢ","医療の本","I：患者学","近藤　達也","TONEGAWA",10650]
["医療","目次へ","※PDF版ではリンクしておりません。",null,null,null,"31頁",79]
["裸のお医者さまたち","医療の本","J：医療","桑間　雄一郎","ビジネス社",917]
["５日間で学ぶ医療安全超入門","医療の本","J：医療","日本医療マネジメント学会","学研",8056]
["良い医療の条件　＜医の原点　第６集＞","医療の本","J：医療","高本眞一","金原出版",8058]
["医療福祉総合ガイドブック　2018年度版","医療の本","J：医療","日本医療ソーシャルワーク研究会","医学書院",10546]
["医療概論","目次へ","※PDF版ではリンクしておりません。",null,null,null,"31頁",80]
["最善の医療をめざして－エビデンスに基づく","医療の本","Ja：医療概論","Ｓ．ヘイマー　編","エルゼビア・ジャパン",3]
["話を聴かない耳栓医者と思いを呑み込む仮面患者","医療の本","Ja：医療概論","嵯峨崎泰子","メディカルトリビューン",10282]
["病院/スタッフ","目次へ","※PDF版ではリンクしておりません。",null,null,null,"31頁",81]
["失敗しない医者えらび　納得して医療を受け","医療の本","Jb：病院/スタッフ","日経メディカル　編","日経BP社",851]
["2009－10　医育機関名簿","医療の本","Jb：病院/スタッフ",null,"羊土社",1020]
["健康応援病院　こんな病院があってよい","医療の本","Jb：病院/スタッフ","佐栁　進","関門医療センター広報部",10055]
["処は憂子　宮城のこども病院物語り","医療の本","Jb：病院/スタッフ","大井龍司","笹気出版印刷",10101]
["Dr.コトー診療所　№1","一般図書","Jb：病院/スタッフ","山田貴敏","小学館",10103]
["Dr.コトー診療所　№2","一般図書","Jb：病院/スタッフ","山田貴敏","小学館",10104]
["Dr.コトー診療所　№3","一般図書","Jb：病院/スタッフ","山田貴敏","小学館",10105]
["Dr.コトー診療所　№4","一般図書","Jb：病院/スタッフ","山田貴敏","小学館",10106]
["Dr.コトー診療所　№5","一般図書","Jb：病院/スタッフ","山田貴敏","小学館",10107]
["Dr.コトー診療所　№6","一般図書","Jb：病院/スタッフ","山田貴敏","小学館",10108]
["Dr.コトー診療所　№7","一般図書","Jb：病院/スタッフ","山田貴敏","小学館",10109]
["Dr.コトー診療所　№8","一般図書","Jb：病院/スタッフ","山田貴敏","小学館",10110]
["Dr.コトー診療所　№9","一般図書","Jb：病院/スタッフ","山田貴敏","小学館",10111]
["Dr.コトー診療所　№10","一般図書","Jb：病院/スタッフ","山田貴敏","小学館",10112]
["Dr.コトー診療所　№11","一般図書","Jb：病院/スタッフ","山田貴敏","小学館",10113]
["Dr.コトー診療所　№12","一般図書","Jb：病院/スタッフ","山田貴敏","小学館",10114]
["Dr.コトー診療所　№13","一般図書","Jb：病院/スタッフ","山田貴敏","小学館",10115]
["Dr.コトー診療所　№14","一般図書","Jb：病院/スタッフ","山田貴敏","小学館",10116]
["Dr.コトー診療所　№15","一般図書","Jb：病院/スタッフ","山田貴敏","小学館",10117]
["Dr.コトー診療所　№16","一般図書","Jb：病院/スタッフ","山田貴敏","小学館",10118]
["Dr.コトー診療所　№17","一般図書","Jb：病院/スタッフ","山田貴敏","小学館",10119]
["Dr.コトー診療所　№18","一般図書","Jb：病院/スタッフ","山田貴敏","小学館",10120]
["Dr.コトー診療所　№20","一般図書","Jb：病院/スタッフ","山田貴敏","小学館",10121]
["Dr.コトー診療所　№22","一般図書","Jb：病院/スタッフ","山田貴敏","小学館",10122]
["Dr.コトー診療所　№25","一般図書","Jb：病院/スタッフ","山田貴敏","小学館",10136]
["Dr.コトー診療所　№19","一般図書","Jb：病院/スタッフ","山田貴敏","小学館",10137]
["Dr.コトー診療所　№21","一般図書","Jb：病院/スタッフ","山田貴敏","小学館",10138]
["Dr.コトー診療所　№23","一般図書","Jb：病院/スタッフ","山田貴敏","小学館",10139]
["Dr.コトー診療所　№24","一般図書","Jb：病院/スタッフ","山田貴敏","小学館",10140]
["医療倫理","目次へ","※PDF版ではリンクしておりません。",null,null,null,"32頁",82]
["看護ふれあい学講座　具体例で学ぶコミュニ","医療の本","Jc：医療倫理","中井　喜美子","照林社",869]
["統合医療の扉　生命倫理の視角から","医療の本","Jc：医療倫理","小松　奈美子","北樹出版",912]
["医療経済学","目次へ","※PDF版ではリンクしておりません。",null,null,null,"32頁",83]
["知ってほしい障害年金のはなし　もらえるはずなのに気づかずにいませんか？","医療の本","Jd：医療経済学","佐々木久美子","日本法令",10273]
["こどもの本","目次へ","※PDF版ではリンクしておりません。",null,null,null,"32頁",84]
["きょうおひさまがでなかったら","絵本","K：こどもの本","塚本やすし","フレベール館",2116]
["ボクは船長","絵本","K：こどもの本","クリスティーネ・メルツ","童話屋",20782]
["ぼくが父さんなら","絵本","K：こどもの本","シャーロット・ゾロトウ","童話屋",20783]
["夜まわりクマのアーサー","絵本","K：こどもの本","ジェシカ・メザーブ","童話屋",20784]
["シリーズ『自然と遊ぼう』動物編⑤さあへんしんだ　成長と変態","絵本","K：こどもの本","中嶋博和","農文協",20785]
["デコボコえほん　かずをかぞえよう","絵本","K：こどもの本","グザビエ・ドゥヌ","小学館",20786]
["介助犬武蔵と学校へ行こう　日本初・難病の久美子ちゃんがチャレンジ","絵本","K：こどもの本","綾野まさる","ハート出版",20787]
["不思議の国のアリス","絵本","K：こどもの本","ルイス・キャロル","岩波書店",20788]
["ナイトメアービフォアークリスマス","絵本","K：こどもの本","橘高弓枝","偕成社",20789]
["オズの魔法使い","絵本","K：こどもの本","ハウム","ポプラ社",20790]
["きつねのフォスとうさぎのハーズ","絵本","K：こどもの本","シルヴィア・ヴァンデン・ヘーデ","岩波書店",20791]
["斎藤孝のイッキによめる！名作品集　小学5年生","絵本","K：こどもの本","斎藤孝","講談社",20792]
["ちびまる子ちゃんの表現力をつけることば教室","絵本","K：こどもの本","貝田桃子","集英社",20793]
["ニルスのふしぎな旅（１）","絵本","K：こどもの本","ラーゲルレーヴー","偕成社",20794]
["14歳の世渡り術　人生他力本願　誰かに頼りながら生きる49の方法","絵本","K：こどもの本","上島竜兵","河出書房新社",20796]
["シャーロットのおくりもの","絵本","K：こどもの本","E.B.ホワイト","あすなろ書房",20797]
["デブの国ノッポの国","絵本","K：こどもの本","アンドレ・モロア","集英社",20798]
["ジュニア版日本文学選３　野菊の墓","絵本","K：こどもの本","伊藤左千夫","偕成社",20799]
["くらしの実用小物　折り紙","絵本","K：こどもの本","山口　真","西東社",20800]
["しあわせのバトンタッチ　障がいを負った犬・未来、学校へ行く","絵本","K：こどもの本","今西乃子","岩崎書店",20801]
["こまったさんのコロッケ","絵本","K：こどもの本","寺村輝夫","あかね書房",20802]
["命のバトンタッチ　障がいを負った犬・来未","絵本","K：こどもの本","今西乃子","岩崎書店",20813]
["レ・ミゼラブル　ああ無情","絵本","K：こどもの本","ユゴー","ポプラ社",20818]
["魔女の宅急便","絵本","K：こどもの本","宮崎駿","徳間書店",20819]
["森のネズミの冬ごもり","一般図書","K：こどもの本","岡野薫子","ポプラ社",20823]
["イルカの子ディロのぼうけん","一般図書","K：こどもの本","ホラス・ドブス","学研",20825]
["月夜のふしぎ道","一般図書","K：こどもの本","上﨑美惠子","小峰書店",20828]
["ごんぎつね","絵本","K：こどもの本","新美南吉","ポプラ社",20829]
["くじらのなみだ","絵本","K：こどもの本","今井鴻象","岩崎書店",20830]
["雪はちくたく","絵本","K：こどもの本","長崎源之助","銀河社",20831]
["しろくまくん、ふねにのる。","絵本","K：こどもの本","ハンス・ド・ビア","童話屋",20832]
["風の谷のナウシカ　上","絵本","K：こどもの本","宮崎駿","徳間書店",20836]
["風の谷のナウシカ　下","絵本","K：こどもの本","宮崎駿","徳間書店",20837]
["たいようのオルガン","絵本","K：こどもの本","荒井良二","偕成社",20839]
["牧場犬になったマヤ","一般図書","K：こどもの本","中島　晶子","ハート出版",20841]
["天使の犬ちろちゃん","絵本","K：こどもの本","杏有記","ハート出版",20842]
["検疫探知犬クレオとキャンディー","絵本","K：こどもの本","池田まき子","ハート出版",20843]
["野菊の墓","絵本","K：こどもの本","伊藤左千夫","金の星社",20844]
["世界の偉人伝　２発明・発見・開発に活躍した人たち","一般図書","K：こどもの本","富士山　みえる","汐文社",20845]
["帰ってきたはやぶさ","絵本","K：こどもの本","今泉耕介","ハート出版",20846]
["とべないホタル２","絵本","K：こどもの本","小沢昭巳","ハート出版",20847]
["はじめてのゆきのひ","絵本","K：こどもの本","バーネット・フォード","評論社",20848]
["ニャンマロくんとチイヒゲちゃん","絵本","K：こどもの本","サム・ロイド","評論社",20849]
["トリフのすてきなけっこんしき","絵本","K：こどもの本","アンナ・カリー","くもん出版",20850]
["ぼくがいちばん！","絵本","K：こどもの本","ルーシー・カズンズ","岩崎書店",20851]
["かもさんおとおり","絵本","K：こどもの本","ロバート・マックロスキー","福音館書店",20852]
["エロイーサと虫たち","絵本","K：こどもの本","ハイロ・ブライトラゴ","さ・え・ら書房",20853]
["フランシスのおともだち","絵本","K：こどもの本","ラッセル・ホーバン","好学社",20854]
["ぞうのババール","絵本","K：こどもの本","ジャン・ド・ブリュノフ","評論社",20855]
["しろくまパパのソフトクリーム","絵本","K：こどもの本","とおやましげとし","金の星社",20856]
["ワニのライルがやってきた","絵本","K：こどもの本","バーナード・ウェーバー","NULL",20857]
["ロバのシルベスターとまほうの小石","絵本","K：こどもの本","ウィリアム・スタイグ","評論社",20858]
["ぼくがきょうりゅうだったとき","絵本","K：こどもの本","まつおかたつひで","ポプラ社",20859]
["サボテンたちのゆきあそび","絵本","K：こどもの本","川端誠","BL出版",20860]
["もりのびょういん","絵本","K：こどもの本","渡辺鉄太","福音館書店",20862]
["ほんやのいぬくん","絵本","K：こどもの本","ルイーズ・イエーツ","岩崎書店",20863]
["フランシスのいえで","絵本","K：こどもの本","ラッセル・ホーバン","好学社",20864]
["くもんのはじめての英会話じてん","絵本","K：こどもの本","公文寛","くもん出版",20865]
["ちびまる子ちゃんのことわざ教室","絵本","K：こどもの本","島村直己","集英社",20866]
["くもんのはじめての英和じてん","絵本","K：こどもの本","公文寛","くもん出版",20867]
["強くてごめんね","絵本","K：こどもの本","令丈ヒロ子","あかね書房",20868]
["オレ様キングダム","絵本","K：こどもの本","村上アンズ","小学館",20869]
["名探偵コナン　異次元の狙撃手","絵本","K：こどもの本","水稀しま","小学館",20870]
["児童書版　ホームレス中学生","絵本","K：こどもの本","田村裕","ワニブックス",20871]
["レオナルド・ダ・テッケンの天才！あるあるスクール","絵本","K：こどもの本","天才画家レオナルド・ダ・テッケン","小学館集英社プロダクション",20872]
["名探偵コナン　絶海の探偵","絵本","K：こどもの本","水稀しま","小学館",20873]
["名探偵コナン　11人目のストライカー","絵本","K：こどもの本","水稀しま","小学館",20874]
["ちびまる子ちゃんの慣用句教室","絵本","K：こどもの本","川嶋優","小学館",20875]
["ちびまる子ちゃんの似たもの漢字使い分け教室","絵本","K：こどもの本","関根健一","集英社",20876]
["おねがいナンマイダー","絵本","K：こどもの本","ハンダ　トシヒト","岩崎書店",20877]
["おやすみなさいフランシス","絵本","K：こどもの本","ラッセル・ホーバン","福音館書店",20878]
["きつねのホイティ","絵本","K：こどもの本","シビル・ウェッタ・シンハ","福音館書店",20880]
["化け猫レストラン","絵本","K：こどもの本","怪談レストラン編集委員会","童心社",20881]
["ゆかいなホーマーくん","絵本","K：こどもの本","ロバート・マックロスキー","岩波書店",20882]
["恐竜の谷の大冒険","絵本","K：こどもの本","メアリー・ポープ・オズボーン","メディアファクトリー",20883]
["女王フェテピのなぞ","絵本","K：こどもの本","メアリー・ポープ・オズボーン","メディアファクトリー",20884]
["サバンナ決死の横断","絵本","K：こどもの本","メアリー・ポープ・オズボーン","メディアファクトリー",20885]
["おそうじをおぼえたがらないリスのゲルランゲ","絵本","K：こどもの本","J・ロッシュ。マゾン","福音館書店",20887]
["ふゆのおばけ","絵本","K：こどもの本","せなけいこ","金の星社",20888]
["おかしな10のとなえうた","絵本","K：こどもの本","木島始","ベネッセコーポレーション",20889]
["たぬきのきょうだいオーポンとチーポン","絵本","K：こどもの本","にしかわおさむ","ベネッセコーポレーション",20890]
["やさいさん","絵本","K：こどもの本","tupera tupera","学研",20891]
["もりのなか","絵本","K：こどもの本","マリー・ホール・エッツ","福音館書店",20892]
["クリスマスのふしぎなはこ","絵本","K：こどもの本","長谷川摂子","福音館書店",20893]
["うみべであそぼう","絵本","K：こどもの本","なかのひろみ","福音館書店",20894]
["バーバパパのなつやすみ","絵本","K：こどもの本","アネット＝チゾン/タラス＝テイラー","講談社",20895]
["いそいでいそいで","絵本","K：こどもの本","七尾純","ベネッセコーポレーション",20896]
["あめ","絵本","K：こどもの本","高畠　純","ベネッセコーポレーション",20897]
["なまえのことばえじてん","絵本","K：こどもの本","やまさきひであき","ひかりのくに",20898]
["うごきのことばえじてん","絵本","K：こどもの本","やまさきひであき","ひかりのくに",20899]
["Happy birthday Maisy","絵本","K：こどもの本","Lucy cousins","NULL",20915]
["学研の図鑑　魚","絵本","K：こどもの本","沖山宗雄","学習研究社",20916]
["もりのおかしやさん","絵本","K：こどもの本","舟崎靖子","偕成社",20917]
["もりのじてんしゃやさん","絵本","K：こどもの本","舟崎靖子","偕成社",20918]
["ひねもす山のなかまたち（３）まいごの’たまご’","絵本","K：こどもの本","むかいはつこ","文芸社",20920]
["ひねもす山のなかまたち（４）すてきなプレゼント","絵本","K：こどもの本","むかいはつこ","文芸社",20921]
["ひねもす山のなかまたち（１）お日さまの音","絵本","K：こどもの本","むかいはつこ","文芸社",20922]
["ひねもす山のなかまたち（６）ドッカンさまがやってきた","絵本","K：こどもの本","むかいはつこ","文芸社",20923]
["ももいろのきりん","絵本","K：こどもの本","中川季枝子","福音館書店",20924]
["学研の図鑑　植物","絵本","K：こどもの本","大場達之","学習研究社",20930]
["サンタクロースがすねちゃった","絵本","K：こどもの本","ウテ・クラウゼ","佑学社",20932]
["薬が届くまで　ここが知りたい！","医療の本","K：こどもの本","文春まんが","文藝春秋",20933]
["モンジュイックのふうくろう","絵本","K：こどもの本","さえぐさひろこ","ブックローン出版",20934]
["３さいからのあそべるずかん　しんかんせん","絵本","K：こどもの本","小賀野　実","ひかりのくに",20935]
["つづきの図書館","絵本","K：こどもの本","柏葉幸子","講談社",20936]
["ようこそ！ヘンテコ小学校","絵本","K：こどもの本","スギヤマカナヨ","角川書店",20937]
["くまのがっこう","絵本","K：こどもの本","あいはらひろゆき","ブロンズ新社",20938]
["バルンくん","絵本","K：こどもの本","こもりまこと","福音館書店",20939]
["わすれられないおくりもの","絵本","K：こどもの本","スーザン・バーレイ","評論社",20940]
["僕のナゼ、私のナゼ　　わたしたちはなぜうまれてきたの？","絵本","K：こどもの本","自遊空間ゼロ","編集工房ＤＥＰ",20941]
["マシュー先生とゆかいなヒルトップ病院01　ゾウのバーチュー、お兄ちゃんになる","絵本","K：こどもの本","ニコラス・アラン","偕成社",20942]
["マシュー先生とゆかいなヒルトップ病院02　ムカデのシリルは名かんとく","絵本","K：こどもの本","ニコラス・アラン","偕成社",20943]
["マシュー先生とゆかいなヒルトップ病院03　コウモリのルビィに愛の手を","絵本","K：こどもの本","ニコラス・アラン","偕成社",20944]
["マシュー先生とゆかいなヒルトップ病院04　３びきの子ブタとさびしがりやのオオカミ","絵本","K：こどもの本","ニコラス・アラン","偕成社",20945]
["マシュー先生とゆかいなヒルトップ病院05　勇気をだして！カモのデリク","絵本","K：こどもの本","ニコラス・アラン","偕成社",20946]
["マシュー先生とゆかいなヒルトップ病院06　パメラとじまんの髪","絵本","K：こどもの本","ニコラス・アラン","偕成社",20947]
["マシュー先生とゆかいなヒルトップ病院07　子ザルのマイーティンは絵の天才！？","絵本","K：こどもの本","ニコラス・アラン","偕成社",20948]
["マシュー先生とゆかいなヒルトップ病院08　ヒルトップのクリスマス","絵本","K：こどもの本","ニコラス・アラン","偕成社",20949]
["マシュー先生とゆかいなヒルトップ病院09　マシュー先生とお兄さん","絵本","K：こどもの本","ニコラス・アラン","偕成社",20950]
["マシュー先生とゆかいなヒルトップ病院10　カメのおばあちゃんのさいごのしごと","絵本","K：こどもの本","ニコラス・アラン","偕成社",20951]
["道具と機械の本","絵本","K：こどもの本","デビッド・マコーレイ","岩波書店",20952]
["ネコ博士が語る　科学の不思議","絵本","K：こどもの本","ドミニク・ウォーリマン","徳間書店",20953]
["ニューワイド学研の図鑑　鳥　増補改訂版","絵本","K：こどもの本","小宮輝之　監修","学研",20954]
["ニューワイド学研の図鑑　花","絵本","K：こどもの本","千谷順一郎　監修","学研",20955]
["ニューワイド学研の図鑑　魚　増補改訂版","絵本","K：こどもの本","沖山宗雄　監修","学研",20956]
["ニューワイド学研の図鑑　イヌ","絵本","K：こどもの本","社団法人ジャパンケネルクラブ　監修","学研",20957]
["ニューワイド学研の図鑑　鉄道・船　増補改訂版","絵本","K：こどもの本","原口隆行　山田廸生　監修","学研",20958]
["ニューワイド学研の図鑑　自動車・飛行機　増補改訂版","絵本","K：こどもの本","高島鎮雄　監修","学研",20959]
["ニューワイド学研の図鑑ｉ　なぜ？の図鑑","絵本","K：こどもの本","阿部和厚　他　監修","学研",20960]
["ニューワイド学研の図鑑ｉ　ひみつの図鑑","絵本","K：こどもの本","阿部和厚　他　監修","学研",20961]
["こども図鑑プレＮＥＯ　かず・かたちの図鑑","絵本","K：こどもの本","黒澤俊二　監修","小学館",20962]
["こども図鑑プレＮＥＯ　せいかつの図鑑","絵本","K：こどもの本","流田直　監修","小学館",20963]
["こども図鑑プレＮＥＯ　よのなかの図鑑","絵本","K：こどもの本","寺本潔　監修","小学館",20964]
["学研まんがＮＥＷ日本の歴史　1","絵本","K：こどもの本","大石学　監修","学研",20965]
["学研まんがＮＥＷ日本の歴史　2","絵本","K：こどもの本","大石学　監修","学研",20966]
["学研まんがＮＥＷ日本の歴史　3","絵本","K：こどもの本","大石学　監修","学研",20967]
["学研まんがＮＥＷ日本の歴史　4","絵本","K：こどもの本","大石学　監修","学研",20968]
["学研まんがＮＥＷ日本の歴史　5","絵本","K：こどもの本","大石学　監修","学研",20969]
["学研まんがＮＥＷ日本の歴史　6","絵本","K：こどもの本","大石学　監修","学研",20970]
["学研まんがＮＥＷ日本の歴史　7","絵本","K：こどもの本","大石学　監修","学研",20971]
["学研まんがＮＥＷ日本の歴史　8","絵本","K：こどもの本","大石学　監修","学研",20972]
["学研まんがＮＥＷ日本の歴史　9","絵本","K：こどもの本","大石学　監修","学研",20973]
["学研まんがＮＥＷ日本の歴史　10","絵本","K：こどもの本","大石学　監修","学研",20974]
["学研まんがＮＥＷ日本の歴史　11","絵本","K：こどもの本","大石学　監修","学研",20975]
["学研まんがＮＥＷ日本の歴史　12","絵本","K：こどもの本","大石学　監修","学研",20976]
["学研まんがＮＥＷ日本の歴史　別巻　人物学習事典","絵本","K：こどもの本","大石学　監修","学研",20977]
["学研まんがＮＥＷ日本の歴史　別巻　文化遺産学習事典","絵本","K：こどもの本","大石学　監修","学研",20978]
["新13歳のハローワーク","絵本","K：こどもの本","村上龍","幻冬舎",20979]
["１０にんのゆかいな　ひっこし","絵本","K：こどもの本","安野光雅","童話屋",20980]
["えほん　いのちのあさがお","絵本","K：こどもの本","あやのまさる","ハート出版",20981]
["ももたろう・こぶとり","絵本","K：こどもの本","松谷みよ子","講談社",20982]
["かちかちやま・したきりすずめ","絵本","K：こどもの本","松谷みよ子","講談社",20983]
["はなさかじい・たべられたやまんば","絵本","K：こどもの本","松谷みよ子","講談社",20984]
["おむすびころりん・うらしまたろう","絵本","K：こどもの本","松谷みよ子","講談社",20985]
["さるかに・天からおちたげんごろう","絵本","K：こどもの本","松谷みよ子","講談社",20986]
["つるのよめさま・かさじぞう・ごはんのむしぼし","絵本","K：こどもの本","松谷みよ子","講談社",20987]
["よぶこどり・てぶくろをかいに","絵本","K：こどもの本","浜田廣介　新美南吉","講談社",20988]
["きつねとぶどう・注文のおおい料理店","絵本","K：こどもの本","坪田譲二　宮沢賢治","講談社",20989]
["イソップ童話","絵本","K：こどもの本","角野栄子","講談社",20990]
["シンデレラ・ながぐつをはいたねこ","絵本","K：こどもの本","山下明生","講談社",20991]
["赤ずきん・ヘンゼルとグレーテル","絵本","K：こどもの本","ささきたづこ","講談社",20992]
["みにくいあひるの子・おやゆびひめ","絵本","K：こどもの本","立原えりか","講談社",20993]
["マッチうりの少女・はだかの王さま・イーダちゃんの花","絵本","K：こどもの本","立原えりか","講談社",20994]
["三びきのくま・ジャックとまめの木","絵本","K：こどもの本","渡辺茂男","講談社",20995]
["ころころまるパン・マーシャとくま・やぎのブルーセ","絵本","K：こどもの本","松谷さやか　山内清子","講談社",20996]
["ゆうかんな十人のきょうだい・かみさまになりそこねたサンダル","絵本","K：こどもの本","君島久子","講談社",20997]
["どうぶつなぜなぜばなし","絵本","K：こどもの本","河野一郎","講談社",20998]
["王さまの耳はろばの耳　くいしんぼうのねずみ","絵本","K：こどもの本","八百坂洋子　山内清子","講談社",20999]
["アンガスとあひる","絵本","K：こどもの本","マージョリー・フラック","福音館書店",21000]
["しょうぼうじどうしゃ　じぷた","絵本","K：こどもの本","渡辺茂男","福音館書店",21001]
["てるてるひめ","絵本","K：こどもの本","宇津木秀輔","新日本出版社",21002]
["やっばり　ノミタくん！","絵本","K：こどもの本","ヘレン・スティーヴンズ","評論社",21003]
["葉っぱのフレディ　いのちの旅","絵本","K：こどもの本","レオ・バスカーリア","童話屋",21004]
["ひまわり","絵本","K：こどもの本","荒井真紀","金の星社",21005]
["うでのいいくつや","絵本","K：こどもの本","くすのき　しげのり","フレーベル館",21006]
["はーい　ばーい","絵本","K：こどもの本","きしらまゆこ","フレーベル館",21007]
["八郎太郎","絵本","K：こどもの本","菊池敬一","小峰書店",21008]
["ねてるのだあれ","絵本","K：こどもの本","神沢利子","福音館書店",21009]
["とべないホタルのゆりかご","絵本","K：こどもの本","小沢昭巳","ハート出版",21010]
["愛された団地犬ダン","絵本","K：こどもの本","関　朝之","ハート出版",21011]
["12年目のお・か・あ・さ・ん","絵本","K：こどもの本","綾野まさる","ハート出版",21012]
["ハキちゃんの「はっぴょうします」","絵本","K：こどもの本","薫くみこ","佼成出版",21013]
["おんなじほしをみつめて","絵本","K：こどもの本","ペイジ・ブリット","フレベール館",21014]
["ぜったいいぬをかうからね","絵本","K：こどもの本","ローレン・チャイルド","フレーベル館",21015]
["ハエのアストリッド","絵本","K：こどもの本","マリア・ヨンソン","評論社",21016]
["おりがみ　５　いれものとぼうし","絵本","K：こどもの本","エキグチクニオ","偕成社",21019]
["まんてんべんとう","絵本","K：こどもの本","くすのきしげのり","フレーベル館",21020]
["ぼくってかわいそう！","絵本","K：こどもの本","パメラ・ダンカン・エドワーズ","フレベール館",21021]
["ごはんですよ　おもちですよ","絵本","K：こどもの本","かこさとし","農文協",21022]
["春夏秋冬　プーさんといっしょ","絵本","K：こどもの本","エミリー・ステッド","大日本絵画",21023]
["こびとかな","絵本","K：こどもの本","おがわようこ","フレーベル館",21024]
["おりがみ　4　にんぎょうや花","絵本","K：こどもの本","エキグチクニオ","偕成社",21025]
["ひねもす山のなかまたち（4）すてきなプレゼント","絵本","K：こどもの本","むかいはつこ","文芸社",21026]
["ビロードのうさぎ","絵本","K：こどもの本","マージェリィ・W・ビアンコ","ブロンズ新社",21027]
["麻酔/手術/救急","目次へ","※PDF版ではリンクしておりません。",null,null,null,"36頁",85]
["救急看護ＱＵＥＳＴＩＯＮ　ＢＯＸ 1 第２版","医療の本","L：麻酔/手術/救急","中村　惠子","中山書店",89]
["目でみる救命救急処置　新訂　第４版","医療の本","L：麻酔/手術/救急","杉本　侃　編著","日本臨牀社",990]
["きゅうきゅうばこ","医療の本","L：麻酔/手術/救急","山田 真　著","福音館書店",5389]
["最新の内視鏡手術がわかる本","医療の本","L：麻酔/手術/救急","黒川良望","法研",5653]
["イラストで学ぶ麻酔看護","医療の本","L：麻酔/手術/救急","弓削孟文","メディカ出版",5654]
["先生！大変です！どうしたらいいですか!!　ー応急処置の実際－","医療の本","L：麻酔/手術/救急","玉川進","東山書房",5655]
["先生！大変です！救急車を呼びますか!!","医療の本","L：麻酔/手術/救急","玉川進","東山書房",5656]
["徹底図解　手術と解剖のしくみ","医療の本","L：麻酔/手術/救急","坂井建雄","新星出版社",5657]
["まんがで見る手術と処置ーカラー版","医療の本","L：麻酔/手術/救急","高橋俊雄","照林社",5658]
["続・まんがで見る手術と処置ーカラー版（続）","医療の本","L：麻酔/手術/救急","高橋俊雄","照林社",5659]
["これだけは知っておきたい手術室ナーシングＱ＆Ａ","医療の本","L：麻酔/手術/救急","天羽敬祐","総合医学社",5660]
["救急蘇生法の指針２０１０","医療の本","L：麻酔/手術/救急","岩井寿夫","へるす出版",5661]
["いざとういうときに役立つ　マンガでわかる救急・救命処置：パワーアップ版","医療の本","L：麻酔/手術/救急","安間文彦","メディカ出版",5662]
["マンガでわかる一次救急・救命処置―医療・介護スタッフ必修","医療の本","L：麻酔/手術/救急","安間文彦","メディカ出版",8115]
["みんなの防災ハンドブック","医療の本","L：麻酔/手術/救急","草野かおる","ディスカヴァー・トゥエンティワン",10084]
["緊急時の介護","医療の本","L：麻酔/手術/救急","橋村あゆみ","介護労働安定センター",10085]
["ドクターズカー奮戦記","医療の本","L：麻酔/手術/救急","鵜飼卓","メディカ出版",10315]
["救急蘇生法の指針2015（改訂第5版）市民用解説編","医療の本","L：麻酔/手術/救急","日本救急医療財団心肺蘇生法委員会","へるす出版 ",10477]
["分類なし(絵本等)","目次へ","※PDF版ではリンクしておりません。",null,null,null,"37頁",86]
["たべもの２","絵本","分類なし(絵本等)","たしろたく","偕成社",20002]
["メイシーちゃんのさがしもの","絵本","分類なし(絵本等)","カズンズ","偕成社",20003]
["ボードブックノンタンＡ・Ｂ・Ｃ","絵本","分類なし(絵本等)","キヨノサチコ","偕成社",20004]
["ＢａｂｙＢｏｏｋｓ　いぬ","絵本","分類なし(絵本等)","たしろたく","偕成社",20005]
["ミフィーのめくるえほん　こんにちはあそびましょ","絵本","分類なし(絵本等)","ブルーナ","講談社",20006]
["ねぇ、あそぼ!３さいのキャロっとさん","絵本","分類なし(絵本等)","のぶみ","講談社",20007]
["どうぶつのおかあさん","絵本","分類なし(絵本等)","小森　厚","福音館書店",20008]
["ぶーぶーぶー","絵本","分類なし(絵本等)","こかぜさち","福音館書店",20009]
["あかちゃんすくすく絵本　ぱいぱいおっぱい","絵本","分類なし(絵本等)","正高信男","すずき出版",20010]
["みんな　とぶよ！","絵本","分類なし(絵本等)","いしかわこうじ","童心社",20011]
["こちらたこたびょういん","絵本","分類なし(絵本等)","岩田明子","PHP研究所",20012]
["あかちゃんのあそびえほん３　いただきます　あそび","絵本","分類なし(絵本等)","きむらゆういち","偕成社",20013]
["つみきバス","絵本","分類なし(絵本等)","いのうえまこと","あかね書房",20014]
["メグとモグのおはなし　メグむじんとうにいく","絵本","分類なし(絵本等)","ニコル","偕成社",20015]
["おかあさん　あのね","絵本","分類なし(絵本等)","さかぐちえみこ","小峰書店",20016]
["たっちゃん　しりませんか","絵本","分類なし(絵本等)","さかぐちえみこ","小峰書店",20017]
["ねるまで　あとなんぷん","絵本","分類なし(絵本等)","ヘインズ","大日本絵画",20018]
["なんだかうれしくなってきた","絵本","分類なし(絵本等)","五味太郎","佼成出版",20019]
["ねずみくん　うみへいく","絵本","分類なし(絵本等)","なかえよしを","ポプラ社",20021]
["オウルくんのクリスマス","絵本","分類なし(絵本等)","上野和子","大日本絵画",20022]
["ブル、わらってよ！","絵本","分類なし(絵本等)","ローレンス","大日本絵画",20023]
["チョ～　かんたん　おりがみ","絵本","分類なし(絵本等)","たけいしろう","草土文化",20024]
["うんぴ・うんご・うんにょ・うんち うんこのえほん","絵本","分類なし(絵本等)","村上八千世","ほるぷ出版",20025]
["フルーツポンチがすき！！","絵本","分類なし(絵本等)","MARVY-Q","タリーズコーヒー",20026]
["とうだいのくま","絵本","分類なし(絵本等)","ひるたりょうこ","タリーズコーヒー",20027]
["ことばがくちからでちゃったら","絵本","分類なし(絵本等)","ひなたあおい","タリーズコーヒー",20028]
["ＳＷＥＥＴ　す・て・き・な・と・き","絵本","分類なし(絵本等)","黒井　健","小学館",20031]
["あさの絵本","絵本","分類なし(絵本等)","谷川俊太郎","アリス館",20032]
["絵本版　象の背中-旅立つ日-","絵本","分類なし(絵本等)","秋元　康","光文社",20033]
["２５　ふしぎの国のアリス","絵本","分類なし(絵本等)","キャロル","永岡書店",20045]
["ブルーナの０歳からの本２　ミッフィーⅡ","絵本","分類なし(絵本等)","ブルーナ","講談社",20063]
["ブルーナの0歳からの本３　たべもの","絵本","分類なし(絵本等)","ブルーナ","トーア出版",20064]
["ブルーナの0歳からの本４　おもちゃ","絵本","分類なし(絵本等)","ブルーナ","トーア出版",20065]
["ブルーナの0歳からの本５　どうぶつⅠ","絵本","分類なし(絵本等)","ブルーナ","トーア出版",20066]
["ブルーナの0歳からの本７　うちのなかのもの","絵本","分類なし(絵本等)","ブルーナ","トーア出版",20067]
["ブルーナの0歳からの本８　ぼくのものわたしのもの","絵本","分類なし(絵本等)","ブルーナ","講談社",20068]
["うさこちゃんのにゅういん","絵本","分類なし(絵本等)","ブルーナ","福音館書店",20070]
["も～お～うしです","絵本","分類なし(絵本等)","うしのえほんをつくる会","開放出版社",20071]
["いないいないばぁ　あそび","絵本","分類なし(絵本等)","きむらゆういち","偕成社",20072]
["ひとりでうんち　できるかな","絵本","分類なし(絵本等)","きむらゆういち","偕成社",20073]
["こどものとも０１２ ありのあちち","絵本","分類なし(絵本等)","つちはしとしこ","福音館書店",20074]
["きんぎょがにげた","絵本","分類なし(絵本等)","五味太郎","福音館書店",20075]
["こげぱん　パンのしあわせってなんだろう・・・。","絵本","分類なし(絵本等)","たかはしみき","ソニーマガジンズ",20076]
["こげぱん　パンにも出会いがあるらしい・・・。","絵本","分類なし(絵本等)","たかはしみき","ソニーマガジンズ",20077]
["こげぱん　パンにもいろいろあるらしい・・・。","絵本","分類なし(絵本等)","たかはしみき","ソニーマガジンズ",20078]
["わたしのきもちをきいて　Ⅰ．家出","絵本","分類なし(絵本等)","バンサン","BL出版",20079]
["わたしのきもちをきいて　Ⅱ．家出","絵本","分類なし(絵本等)","バンサン","BL出版",20080]
["たっちゃんはぼくがきらいなの","絵本","分類なし(絵本等)","さとうとしなお","岩崎書店",20081]
["実物大　あそべるおりがみ","絵本","分類なし(絵本等)","藤本祐子","世界文化社",20083]
["フラニーと世界の国々","絵本","分類なし(絵本等)","ほしのまりこ","ライツエンタテイメント",20085]
["むらさきふうせん","絵本","分類なし(絵本等)","谷川俊太郎","BL出版",20086]
["ドードーとせいちゃん　おはなしえほん　ドーナツだいすき！","絵本","分類なし(絵本等)","わたせせいぞう","三起商工",20088]
["はしれ！はしれ！パトカー","絵本","分類なし(絵本等)","たけいしろう","あかね書房",20089]
["はなのさくえほん","絵本","分類なし(絵本等)","いしかわこうじ","童心社",20090]
["ころわんはおにいちゃん","絵本","分類なし(絵本等)","間所ひさ子","ひさかたチャイルド",20091]
["クリスマスのころわん","絵本","分類なし(絵本等)","間所ひさ子","ひさかたチャイルド",20092]
["ゴリラのパンやさん","絵本","分類なし(絵本等)","白井三香子","金の星社",20093]
["あひるのたまご","絵本","分類なし(絵本等)","さとうわきこ","福音館書店",20094]
["くれよんのくろくん","絵本","分類なし(絵本等)","なかやみわ","童心社",20095]
["おおきなかぶ","絵本","分類なし(絵本等)","うちだりさこ","福音館書店",20096]
["もりのスパゲッティやさん","絵本","分類なし(絵本等)","丹崎靖子","偕成社",20097]
["めがねうさぎ","絵本","分類なし(絵本等)","せなけいこ","ポプラ社",20098]
["おばけのてんぷら","絵本","分類なし(絵本等)","せなけいこ","ポプラ社",20099]
["ねぼすけスーザのおかいもの","絵本","分類なし(絵本等)","広野多珂子","福音館書店",20100]
["せっけん　つるりん","絵本","分類なし(絵本等)","今井弓子","岩崎書店",20101]
["なきむしライオンのクリスマス","絵本","分類なし(絵本等)","矢崎節夫","東京リスマチック",20102]
["きょうはとくべついいひなの","絵本","分類なし(絵本等)","ふじおかきょうこ","星雲社",20105]
["にゃーご","絵本","分類なし(絵本等)","宮西達也","すずき出版",20106]
["もりのとこやさん","絵本","分類なし(絵本等)","いわせななみ","タリーズコーヒー",20107]
["ココペリのかおみっけ！","絵本","分類なし(絵本等)","なかわかりさ","タリーズコーヒー",20108]
["あいたあな","絵本","分類なし(絵本等)","ともちえこ","タリーズコーヒー",20109]
["あるふぁべっとのなかまたち","絵本","分類なし(絵本等)","アストラゼネカ","アストラゼネカ",20110]
["ぼくがあのこをきらいなわけ","絵本","分類なし(絵本等)","礒　みゆき","ポプラ社",20111]
["こりゃ　まてまて","絵本","分類なし(絵本等)","中脇初枝","福音館書店",20113]
["おやゆびとうさん","絵本","分類なし(絵本等)","長野ヒデ子","佼成出版",20114]
["ダンボールくん","絵本","分類なし(絵本等)","リュイエ","小峰書店",20116]
["風の星","絵本","分類なし(絵本等)","新宮　晋","福音館書店",20117]
["もぐらくんとふゆ","絵本","分類なし(絵本等)","ドスコチロヴァー","偕成社",20118]
["たこぼとみのむし","絵本","分類なし(絵本等)","きのひなた","星の環会",20120]
["おかねのきもち","絵本","分類なし(絵本等)","やまもとゆか","KKベストセラーズ",20121]
["かっとびジャック","絵本","分類なし(絵本等)","やましたはるお","ポプラ社",20126]
["まんげつのよるまでまちなさい","絵本","分類なし(絵本等)","ブラウン","ペンギン社",20127]
["おしゃべりなもり","絵本","分類なし(絵本等)","スラトコフ","福音館書店",20128]
["ともだちのたまご","絵本","分類なし(絵本等)","さえぐさひろこ","童心社",20129]
["ねことおんどり","絵本","分類なし(絵本等)","うちだりさこ","福音館書店",20130]
["たっぷどこへいく","絵本","分類なし(絵本等)","ベングトソン","福音館書店",20131]
["とにかくさけんでにげるんだ　わるい人から身をまもる","絵本","分類なし(絵本等)","ボガホールド","岩崎書店",20132]
["家缶","絵本","分類なし(絵本等)","早川純子","ほるぷ出版",20133]
["えほん　だんちのこいぬ　ダン","絵本","分類なし(絵本等)","せきともゆき","ハート出版",20134]
["おうむねこ","絵本","分類なし(絵本等)","ニコラ・ベーリー","ほるぷ出版",20135]
["いのち","絵本","分類なし(絵本等)","山岸智幸","三起商工",20136]
["ゆらゆらゆくよ","絵本","分類なし(絵本等)","ジョンセン","小峰書店",20137]
["ミッキーマウス　たからさがし　ディズニーとびだししかけえほん","絵本","分類なし(絵本等)","ディズニー","大日本絵画",20138]
["クリスマスの12日","絵本","分類なし(絵本等)","サブダ","大日本絵画",20139]
["こねこの　ぴっち","絵本","分類なし(絵本等)","石井桃子","岩波書店",20140]
["くまの子ウーフの絵本　お日さまは　はだかんぼ","絵本","分類なし(絵本等)","神沢利子","ポプラ社",20141]
["鹿のまほう","絵本","分類なし(絵本等)","岡田美里","星の環会",20142]
["けいてぃー　はたらきもののじょせつしゃ","絵本","分類なし(絵本等)","バートン","福音館書店",20143]
["ぐるんぱのようちえん","絵本","分類なし(絵本等)","西内ミナミ","福音館書店",20144]
["ペーター・プムのともだちさがし","絵本","分類なし(絵本等)","イェシュケ","フレーベル館",20146]
["はずかしがりやのれんこんくん","絵本","分類なし(絵本等)","二宮由紀子","童心社",20148]
["はなやのおばさん","絵本","分類なし(絵本等)","ねじめ正一","童心社",20149]
["かこさとし　あそびの大宇宙　しかくまぶたちゃんのあそび","絵本","分類なし(絵本等)","かこさとし","農山漁村文化協会",20150]
["あざらしのはる","絵本","分類なし(絵本等)","手島圭三郎","リブリオ出版",20151]
["はだかのおうさま","絵本","分類なし(絵本等)","アンデルセン","岩崎書店",20152]
["とんでったらあふりか","絵本","分類なし(絵本等)","羽仁　進","福音館書店",20153]
["あんな雪　こんな氷","絵本","分類なし(絵本等)","高橋喜平","講談社",20155]
["わくわく森のむ・－かみ","絵本","分類なし(絵本等)","村上しいこ","アリス館",20156]
["おさるのジョージ　チョコレートこうじょうへいく","絵本","分類なし(絵本等)","レイ","岩波書店",20157]
["ぼくとおかあさん","絵本","分類なし(絵本等)","宮本忠夫","くもん出版",20158]
["ピーポポ・パトロール　はんぶんおばけのマメンキサウルス","絵本","分類なし(絵本等)","柏葉幸子","童心社",20159]
["ちいさなチョーじんスーパーぼうや","絵本","分類なし(絵本等)","グラハム","評論社",20162]
["としょかんライオン","絵本","分類なし(絵本等)","ヌードセン","岩崎書店",20163]
["リトルチャロ　～キャンディのたんじょうび～","絵本","分類なし(絵本等)","立原滉二","小学館",20164]
["ダンボールごう空へ","絵本","分類なし(絵本等)","小森良子","新日本出版社",20165]
["ＮＯ　ＩＤＥＡ","絵本","分類なし(絵本等)","安西水丸","金の星社",20166]
["だ・い・す・き！　たぬきのホーショージくん","絵本","分類なし(絵本等)","菊池ただし","金の星社",20167]
["ふしぎふにゃふにゃフランケン","絵本","分類なし(絵本等)","立花尚之介","岩崎書店",20169]
["天使のおともだち","絵本","分類なし(絵本等)","ロス","日本教文社",20170]
["いのちのあさがお","絵本","分類なし(絵本等)","あやのまさる","ハート出版",20171]
["「かゆい、かゆい」はもうすぐそつぎょう","絵本","分類なし(絵本等)","ねじめ正一","大日本印刷社",20172]
["クイールはもうどう犬になった","絵本","分類なし(絵本等)","こわせたまみ","ひさかたチャイルド",20174]
["おにいちゃんがいてよかった","絵本","分類なし(絵本等)","細谷亮太","岩崎書店",20175]
["ぼくのいのち","絵本","分類なし(絵本等)","細谷亮太","岩崎書店",20176]
["チャーリー・ブラウンなぜなんだい？","絵本","分類なし(絵本等)","シュルツ","岩崎書店",20177]
["はっぱのフレディ","絵本","分類なし(絵本等)","バスカーリア","童話屋",20178]
["サニーのおねがい　地雷ではなく花をください","絵本","分類なし(絵本等)","柳瀬房子","自由国民社",20179]
["サニー　カンボジアへ　続・地雷ではなく花をください","絵本","分類なし(絵本等)","柳瀬房子","自由国民社",20180]
["サニー　ボスニア・ヘルツェゴビナへ　続々・地雷ではなく花をください","絵本","分類なし(絵本等)","柳瀬房子","自由国民社",20181]
["サニーのゆめ　ありがとう地雷ではなく花をください","絵本","分類なし(絵本等)","柳瀬房子","自由国民社",20182]
["サニー　アフガニスタンへ　心をこめて地雷ではなく花をください","絵本","分類なし(絵本等)","柳瀬房子","自由国民社",20183]
["わらべきみか　イラスト・セレクション","絵本","分類なし(絵本等)","わらべきみか","ひかりのくに",20185]
["折って丸めてへんしん！　おもしろハンカチ遊び","絵本","分類なし(絵本等)","タキガワタカシ","すずき出版",20186]
["楽しいおりがみ教室","絵本","分類なし(絵本等)","八田久弥","小学館",20187]
["いこうよいこうよどうぶつえん","絵本","分類なし(絵本等)","さいとうとしこ","齋藤登志子",20188]
["トイレさくせん","絵本","分類なし(絵本等)","うめだよしこ","新日本出版社",20189]
["ぼくをすてないで","絵本","分類なし(絵本等)","なりゆきわかこ","ハート出版",20190]
["１年生のえほん百科","絵本","分類なし(絵本等)","無藤　隆","講談社",20191]
["アンパンマンのなぞなぞのくに２","絵本","分類なし(絵本等)","やなせたかし","フレーベル館",20192]
["センナじいとくま","絵本","分類なし(絵本等)","松谷みよ子","童心社",20194]
["あめあがり","絵本","分類なし(絵本等)","きむらゆういち","小峰書店",20195]
["いのちは見えるよ","絵本","分類なし(絵本等)","及川和男","岩崎書店",20197]
["こねこのいのち","絵本","分類なし(絵本等)","高橋さくら","ハート出版",20198]
["みつやくんのマークX","絵本","分類なし(絵本等)","渡辺茂男","新栄堂書店",20199]
["アフリカ　ないしょだけどほんとだよ","絵本","分類なし(絵本等)","竹下文子","ポプラ社",20200]
["森のこずえちゃん","絵本","分類なし(絵本等)","松居スーザン","童心社",20201]
["あっぱれ！わかとの天福丸　お国がえの巻","絵本","分類なし(絵本等)","小暮正夫","金の星社",20202]
["綱渡りの男","絵本","分類なし(絵本等)","ガースティン","小峰書店",20203]
["ピンちゃんポンちゃんだ～いすき！","絵本","分類なし(絵本等)","わたせせいぞう","講談社",20205]
["おばけファクトリー（工場）","絵本","分類なし(絵本等)","みやざきひろかず","旺文社",20206]
["ホバート","絵本","分類なし(絵本等)","ブリッグズ","金の星社",20207]
["へんてこ宝さがし・３　むかし砂漠はどこだ！","絵本","分類なし(絵本等)","三田村信行","あかね書房",20209]
["へんてこ宝さがし・２　マンドラゴラを追え！","絵本","分類なし(絵本等)","三田村信行","あかね書房",20210]
["⑨　トイ・ストーリー","絵本","分類なし(絵本等)","ディズニー","講談社",20211]
["オウエンとムゼイ","絵本","分類なし(絵本等)","ハトコフ","NHK出版",20212]
["カメヤマ　カメタの一がっき","絵本","分類なし(絵本等)","ふなざきよしひこ","草土文化",20214]
["モンプチ人形のぼうけん旅行","絵本","分類なし(絵本等)","舟崎克彦","金の星社",20215]
["おかあさんのパジャマ","絵本","分類なし(絵本等)","渡辺博子","ハート出版",20216]
["あいうえおの花","絵本","分類なし(絵本等)","秋山　滋","金の星社",20217]
["聖夜のおくりもの","絵本","分類なし(絵本等)","ロマンス","岩波書店",20218]
["ザスーラ","絵本","分類なし(絵本等)","オールズバーグ","ほるぷ出版",20219]
["ほんとうのハチこうものがたり","絵本","分類なし(絵本等)","あやのまさる","ハート出版",20221]
["ジャムつきパンとフランシス","絵本","分類なし(絵本等)","ホーバン","好学社",20223]
["シートンさんのどうぶつ記①","絵本","分類なし(絵本等)","シートン","集英社",20224]
["イプーとまほうのトンネル","絵本","分類なし(絵本等)","片岡道子","旺文社",20225]
["手作りおもちゃのかがく館「重さでうごかす　１」","絵本","分類なし(絵本等)","きむらゆういち","ほるぷ出版",20228]
["さかな１ぴきなまのまま","絵本","分類なし(絵本等)","さのようこ","フレーベル館",20229]
["ロッテ ニューヨークにいく","絵本","分類なし(絵本等)","デリエ","理論社",20231]
["おひとよしのオオシカ","絵本","分類なし(絵本等)","スース","偕成社",20232]
["パレッタとふしぎなもくば","絵本","分類なし(絵本等)","千葉史子","講談社",20233]
["今日からは、あなたの盲導犬","絵本","分類なし(絵本等)","日野多香子","岩崎書店",20234]
["平和の種をまく　ボスニアの少女エミナ","絵本","分類なし(絵本等)","大塚敦子","岩崎書店",20235]
["かわいいひかりのこたち","絵本","分類なし(絵本等)","イーダ・ボハッタ","童心社",20236]
["さらばゆきひめ","絵本","分類なし(絵本等)","宮本忠夫","童心社",20237]
["めざせクラスのクイズ王　ずっこけクイズ王","絵本","分類なし(絵本等)","ながたみかこ","大泉書店",20238]
["カルガモガン太の涙","絵本","分類なし(絵本等)","吉本正彦","ハート出版",20239]
["ほたる先生と「とべないホタル」たち","絵本","分類なし(絵本等)","綾野まさる","ハート出版",20240]
["きんさんぎんさん　百年の物語","絵本","分類なし(絵本等)","綾野まさる","ハート出版",20241]
["郵便犬ポチの一生　吹雪にきえた郵便屋さん","絵本","分類なし(絵本等)","綾野まさる","ハート出版",20242]
["犬ぞり兄弟ヤマトとムサシ","絵本","分類なし(絵本等)","甲斐　望","ハート出版",20243]
["さるの嫁っこ","絵本","分類なし(絵本等)","小沢昭巳","ハート出版",20244]
["親子で遊ぼう　手作りおもちゃ","絵本","分類なし(絵本等)","鈴木正一","成美堂出版",20245]
["時を飛ぶＵＦＯ　大統領誘拐の怪事件","絵本","分類なし(絵本等)","高橋克雄","金の星社",20246]
["どきどきミステリーランド　オペラ座の怪人","絵本","分類なし(絵本等)","ルルー","金の星社",20247]
["手作りおもちゃのかがく館　おってうごかす","絵本","分類なし(絵本等)","きむらゆういち","ほるぷ出版",20248]
["自然の中でかず・かたち遊び　かずの冒険　海編","絵本","分類なし(絵本等)","香川元太郎","小学館",20249]
["NHKおじゃる丸　時代めいろでおじゃる","絵本","分類なし(絵本等)","このみﾌﾟﾗﾝﾆﾝｸﾞ","NHK出版",20250]
["いのちはどこに入ってるの？","絵本","分類なし(絵本等)","竹内　亨","ハート出版",20252]
["植村直己と氷原の犬アンナ","絵本","分類なし(絵本等)","関　朝之","ハート出版",20253]
["愛された団地犬ダン","絵本","分類なし(絵本等)","関　朝之","ハート出版",20254]
["１２年目のお・か・あ・さ・ん","絵本","分類なし(絵本等)","綾野まさる","ハート出版",20255]
["赤いくつはいてた女の子","絵本","分類なし(絵本等)","綾野まさる","ハート出版",20256]
["ちびまる子ちゃんの　なぞなぞ１年生","絵本","分類なし(絵本等)","葉月みどり","集英社",20257]
["ちびまる子ちゃんの　なぞなぞ２年生","絵本","分類なし(絵本等)","葉月みどり","集英社",20258]
["２年生の読みもの","絵本","分類なし(絵本等)","長崎源之助","学校図書",20259]
["１０分で読める名作　２年生","絵本","分類なし(絵本等)","岡　信子","廣済堂",20260]
["１０分で読めるお話　２年生","絵本","分類なし(絵本等)","岡　信子","廣済堂",20261]
["介助犬武蔵と学校へ行こう　日本初。難病の久美子ちゃんがチャレンジ","絵本","分類なし(絵本等)","綾野まさる","ハート出版",20262]
["神さまに質問「いのち」ってなんですか","絵本","分類なし(絵本等)","綾野まさる","ハート出版",20263]
["いのちの鼓動が聞こえる　心臓を移植した少女の物語","絵本","分類なし(絵本等)","池田まき子","ハート出版",20264]
["ゴン太占い～今日からおきらく～","絵本","分類なし(絵本等)","GONTACLUB","金の星社",20265]
["とべないホタル","絵本","分類なし(絵本等)","小沢昭巳","ハート出版",20266]
["とべないホタル５－月（のの）さんの歌ー","絵本","分類なし(絵本等)","小沢克巳","ハート出版",20267]
["とべないホタル９－水辺のおやどー","絵本","分類なし(絵本等)","小沢克巳","ハート出版",20268]
["とべないホタルのゆりかごー星の降る水辺にー","絵本","分類なし(絵本等)","小沢昭巳","ハート出版",20269]
["出動！災害救助犬　トマト　新潟の人々とペットを救った名犬物語","絵本","分類なし(絵本等)","池田まき子","ハート出版",20270]
["お帰り！盲導犬オリバー　ぼく、みんなのこと覚えているよ","絵本","分類なし(絵本等)","今泉耕介","ハート出版",20271]
["盲導犬チャンピィ　日本初盲導犬を育てた塩屋賢一ものがたり","絵本","分類なし(絵本等)","桑原崇寿","ハート出版",20272]
["がんばれ！盲導犬ベルナ","絵本","分類なし(絵本等)","郡司ななえ","ハート出版",20273]
["いのちのバトンリレー　臓器移植を乗り越えた少女と白血病の少年の物語","絵本","分類なし(絵本等)","関　朝之","ハート出版",20274]
["地震の村で待っていた猫のチボとハル　山古志村で被災したペットたちの物語","絵本","分類なし(絵本等)","池田まき子","ハート出版",20275]
["りそうのくに","絵本","分類なし(絵本等)","平井美里","ハート出版",20276]
["うわさの怪談BUNKO１　プールで死者がよんでいる","絵本","分類なし(絵本等)","小暮正夫","岩崎書店",20278]
["うわさの怪談BUNKO２　しのびよる図書室の亡霊","絵本","分類なし(絵本等)","小暮正夫","岩崎書店",20279]
["うわさの怪談BUNKO３　のろわれた携帯メール","絵本","分類なし(絵本等)","小暮正夫","岩崎書店",20280]
["うわさの怪談BUNKO４　恐怖の人食い観覧車","絵本","分類なし(絵本等)","小暮正夫","岩崎書店",20281]
["うわさの怪談BUNKO５　地獄からもどった黒ねこ","絵本","分類なし(絵本等)","小暮正夫","岩崎書店",20282]
["アボンリーへの道⑪　冬の別れ","絵本","分類なし(絵本等)","モンゴメリ","金の星社",20283]
["新日本少年少女文学　発掘屋おフミさん","絵本","分類なし(絵本等)","あかねるつ","新日本出版社",20285]
["Ａ　アンペア","絵本","分類なし(絵本等)","篠原勝之","小学館",20286]
["靴を売るシンデレラ","絵本","分類なし(絵本等)","バウアー","小学館",20287]
["小説版ドラえもん　のび太と鉄人兵団","絵本","分類なし(絵本等)","瀬名秀明","小学館",20288]
["転校生はハリウッドスター","絵本","分類なし(絵本等)","キャロニタ","小学館",20289]
["きな子　～見習い警察犬の物語～","絵本","分類なし(絵本等)","水稀しま","小学館",20290]
["こども大百科　キッズペディア","絵本","分類なし(絵本等)","小学館","小学館",20291]
["電池が切れるまで　子ども病院からのメッセージ","絵本","分類なし(絵本等)","すずらんの会","角川書店",20292]
["電池が切れるまで　子ども病院からのメッセージ","絵本","分類なし(絵本等)","すずらんの会","角川書店",20293]
["アンパンマンがいっぱい　ルームデコレーション","絵本","分類なし(絵本等)","千金美穂","フレーベル館",20294]
["想像力を高める　たのしい手づくりおもちゃ","絵本","分類なし(絵本等)","小関武明","小学館",20298]
["花のおりがみ","絵本","分類なし(絵本等)","桃谷好秀","誠文堂新光社",20300]
["遊び図鑑","絵本","分類なし(絵本等)","奥成　達","福音館書店",20306]
["メル友からのメッセージ","絵本","分類なし(絵本等)","増原亜紀子","ハート出版",20308]
["占い魔女は消えた","絵本","分類なし(絵本等)","池田美代子","岩崎書店",20309]
["呪われた鏡　占い魔女２","絵本","分類なし(絵本等)","池田美代子","岩崎書店",20310]
["世界の亡霊スリラー","絵本","分類なし(絵本等)","庄司浅水","秋田書店",20311]
["星を見に行く","絵本","分類なし(絵本等)","えびなみつる","誠文堂新光社",20312]
["心にのこるみんなの体験　きりと雪からのだっしゅつ","絵本","分類なし(絵本等)","日本児童文芸家協会","金の星社",20313]
["世界の名探偵①オーギュスト・デュパン","絵本","分類なし(絵本等)","ｴﾄﾞｶﾞｰ･ｱﾗﾝ･ﾎﾟｰ","岩崎書店",20314]
["世界の名探偵②シャーロック・ホームズ","絵本","分類なし(絵本等)","ドイル","岩崎書店",20315]
["世界の名探偵③アルセーヌ・ルパン","絵本","分類なし(絵本等)","ルブラン","岩崎書店",20316]
["世界の名探偵④エルキュール・ポワロ","絵本","分類なし(絵本等)","クリスティー","岩崎書店",20317]
["世界の名探偵⑤エラリー・クイーン","絵本","分類なし(絵本等)","クイーン","岩崎書店",20318]
["世界の名探偵⑥ミス・マープル","絵本","分類なし(絵本等)","クリスティー","岩崎書店",20319]
["日本の文学　藤村詩集・嵐","絵本","分類なし(絵本等)","島崎藤村","金の星社",20320]
["日本の文学　吾輩は猫である（下）","絵本","分類なし(絵本等)","夏目漱石","金の星社",20321]
["日本の文学　注文の多い料理店","絵本","分類なし(絵本等)","宮沢賢治","金の星社",20322]
["メル友からのメッセージ","絵本","分類なし(絵本等)","増原亜紀子","ハート出版",20323]
["ルナ・チャイルド①　ニーナと魔法宇宙の月","絵本","分類なし(絵本等)","ウィッチャー","岩崎書店",20324]
["ルナ・チャイルド②　ニーナと神々の宇宙船","絵本","分類なし(絵本等)","ウィッチャー","岩崎書店",20325]
["ルナ・チャイルド③　ニーナと錬金タロットの謎","絵本","分類なし(絵本等)","ウィッチャー","岩崎書店",20326]
["ルナ・チャイルド④　ニーナと水の迷宮の秘密","絵本","分類なし(絵本等)","ウィッチャー","岩崎書店",20327]
["アプリイ・ダプリイのわらべうた","絵本","分類なし(絵本等)","ビアトリクス・ポター","福音館書店",20331]
["セシリ・パセリのわらべうた","絵本","分類なし(絵本等)","ビアトリクス・ポター","福音館書店",20332]
["にんじんぎらいのうさこさん","絵本","分類なし(絵本等)","垣内礒子","フレーベル館",20333]
["いいものひろったくまざわくん","絵本","分類なし(絵本等)","きたやまようこ","あかね書房",20334]
["いつもなかよし","絵本","分類なし(絵本等)","つちだよしはる","あかね書房",20335]
["キツネのクリーニングや大あわて","絵本","分類なし(絵本等)","三田村信幸","金の星社",20336]
["いやいやえん","絵本","分類なし(絵本等)","中川李枝子","子どもの本研究会",20337]
["さいごのまほう","絵本","分類なし(絵本等)","中島和子","金の星社",20338]
["If pigs could fly","絵本","分類なし(絵本等)","RANDOM HOUSE","RANDOMHOUSE",20339]
["TRUCKS","絵本","分類なし(絵本等)","RANDOM HOUSE","RANDOMHOUSE",20340]
["SCREAMIES","絵本","分類なし(絵本等)","RANDOM HOUSE","RANDOMHOUSE",20341]
["おばけのパトロール","絵本","分類なし(絵本等)","山本和子","PHP研究所",20342]
["おてんきてんしのおくりもの","絵本","分類なし(絵本等)","戸田和代","金の星社",20343]
["いちばんまちどおしい日","絵本","分類なし(絵本等)","土田義晴","ポプラ社",20344]
["川を探検","絵本","分類なし(絵本等)","松井　孝","金の星社",20347]
["ビオトープづくり","絵本","分類なし(絵本等)","松井　孝","金の星社",20350]
["動物園は心の学校","絵本","分類なし(絵本等)","亀井一成","ポプラ社",20351]
["おばけのアッチとドララちゃん","絵本","分類なし(絵本等)","角野栄子","ポプラ社",20352]
["おばけのアッチほっぺたぺろりん","絵本","分類なし(絵本等)","角野栄子","ポプラ社",20353]
["ぞうさんのふとん","絵本","分類なし(絵本等)","鬼頭　隆","チャイルド本社",20354]
["ぼくをだいて","絵本","分類なし(絵本等)","はたよしこ","偕成社",20355]
["プーさんのおさんぽ","絵本","分類なし(絵本等)","村田さちこ","世界文化社",20356]
["どうぞのいす","絵本","分類なし(絵本等)","香山美子","ひさかたチャイルド",20357]
["みさきのこうま","絵本","分類なし(絵本等)","市川宣子","チャイルド本社",20358]
["春の主役桜","絵本","分類なし(絵本等)","ゆのきようこ","理論社",20360]
["日本の風景松","絵本","分類なし(絵本等)","ゆのきようこ","理論社",20361]
["イプーとイルカの海","絵本","分類なし(絵本等)","片岡道子","旺文社",20362]
["おひめさまえんそくにいく","絵本","分類なし(絵本等)","まだらめ三保","ポプラ社",20363]
["りえの森の旅","絵本","分類なし(絵本等)","ぶしかえつこ","小峰書店",20365]
["おかあさんにおみやげ","絵本","分類なし(絵本等)","つちだよしはる","あかね書房",20366]
["かぎばあさんアメリカへいく","絵本","分類なし(絵本等)","手島悠介","岩崎書店",20367]
["まりーちゃんのくりすます","絵本","分類なし(絵本等)","与田準一","岩波書店",20368]
["はだかのおうさま","絵本","分類なし(絵本等)","アンデルセン","世界文化社",20369]
["ちいさいケーブルカーのメーベル","絵本","分類なし(絵本等)","ﾊﾞｰｼﾞﾆｱ･ﾘｰ･ﾊﾞｰﾄﾝ","ペンギン社",20370]
["青いとり","絵本","分類なし(絵本等)","メーテルリンク","チャイルド本社",20371]
["旅するベッド","絵本","分類なし(絵本等)","ジョン・バーニンガム","ほるぷ出版",20372]
["クモの糸が織物に使えるってホント？","絵本","分類なし(絵本等)","小川茂男","誠文堂新光社",20373]
["コウスケくんの青い空","絵本","分類なし(絵本等)","綾野まさる","ハート出版",20374]
["お父さんのバックドロップ","絵本","分類なし(絵本等)","中島らも","学習研究社",20375]
["なぜタミばあちゃんはボケたか","絵本","分類なし(絵本等)","おいかわさちえ","ハート出版",20376]
["大草原の小さな家","絵本","分類なし(絵本等)","ローラ・インガルス・ワイルダー","福音館書店",20377]
["プロコフィエフ　音楽はだれのために？","絵本","分類なし(絵本等)","ひのまどか","リブリオ出版",20378]
["ヨハン・シュトラウス　「ワルツ王」の喜びと悲しみ","絵本","分類なし(絵本等)","ひのまどか","リブリオ出版",20379]
["生命進化のなぞを解く　ゲノム王と二人の家臣","絵本","分類なし(絵本等)","鳥居信夫","誠文堂新光社",20380]
["地平線にむかって","絵本","分類なし(絵本等)","三輪裕子","小峰書店",20381]
["ブタヤマさんたらブタヤマさん","絵本","分類なし(絵本等)","長　新太","文研出版",20382]
["だいじょうぶ　だいじょうぶ","絵本","分類なし(絵本等)","いとうひろし","講談社",20383]
["うたうおかあさん","絵本","分類なし(絵本等)","西舘好子","サンマーク出版",20384]
["メチャクサ","絵本","分類なし(絵本等)","ジョナサン・アレン","アスラン書房",20385]
["おまえうまそうだな","絵本","分類なし(絵本等)","宮西達也","ポプラ社",20386]
["パパがくまになるとき","絵本","分類なし(絵本等)","神沢利子","あかね書房",20387]
["きつねのでんわボックス","絵本","分類なし(絵本等)","戸田和代","金の星社",20388]
["学校へいくのいや","絵本","分類なし(絵本等)","末吉暁子","講談社",20389]
["きょうはいい日だね","絵本","分類なし(絵本等)","宮川ひろ","PHP研究所",20390]
["春ちゃんは元気です","絵本","分類なし(絵本等)","松田のぶお","文芸社",20391]
["まこちゃんしってるよ","絵本","分類なし(絵本等)","松谷みよ子","講談社",20393]
["里見八犬伝","絵本","分類なし(絵本等)","高木卓","ポプラ社",20397]
["くまのオットーとえほんのおうち","絵本","分類なし(絵本等)","ケイティ・クレミソン","岩崎書店",20399]
["ニャゴマロのコンテスト","絵本","分類なし(絵本等)","サム・ロイド","評論社",20400]
["どうぶつ　どうして　どんどんどんと","絵本","分類なし(絵本等)","マイケ・フォアマンル","岩崎書店",20401]
["そっと　そっと　しずかにね","絵本","分類なし(絵本等)","イアン・ホワイブロウ","評論社",20402]
["エドワルド　せかいでいちばんおぞましいおとこのこ","絵本","分類なし(絵本等)","ジョン・バーニンガム","ほるぷ出版",20403]
["おつきみピクニック","絵本","分類なし(絵本等)","いちかわなつこ","ほるぷ出版",20404]
["かみつきドゥードゥル","絵本","分類なし(絵本等)","ポリー・ダンバー","フレベール館",20405]
["なかなおり","絵本","分類なし(絵本等)","シャーロット・ゾロトウ","童話屋",20406]
["もし闇夜がこわかったら 夜空に星をくわえましょう","絵本","分類なし(絵本等)","クーパー・エデンズ","ほるぷ出版",20407]
["そとねこものがたり","絵本","分類なし(絵本等)","しまだけんじ","ハート出版",20408]
["わたしのかわいいワニ","絵本","分類なし(絵本等)","ｲｱﾝ･ﾘｭｯｸ･ｱﾝｸﾞﾙﾍﾞｰﾙ","小峰書店",20413]
["ちいさなくし","絵本","分類なし(絵本等)","Ｍ・ポプルトン","福音館書店",20414]
["からだあそびシリーズ①　動物になって動いてみよう","絵本","分類なし(絵本等)","久保　健","草土文化",20415]
["ふつうのくま","絵本","分類なし(絵本等)","佐野洋子","講談社",20416]
["のんびりすいぞくかん","絵本","分類なし(絵本等)","長　新太","理論社",20417]
["思い出のたんじょう日","絵本","分類なし(絵本等)","内田麟太郎","金の星社",20418]
["チップとなぞのビー玉めいろ","絵本","分類なし(絵本等)","末吉暁子","あかね書房",20419]
["えほん　かえってきたジロー","絵本","分類なし(絵本等)","あやのまさる","ハート出版",20420]
["プレゼント　プレゼント","絵本","分類なし(絵本等)","うめだ よしこ","新日本出版社",20421]
["ななみちゃんの漢字えほん","絵本","分類なし(絵本等)","正村史郎","NHK出版",20422]
["ことりはどこ？","絵本","分類なし(絵本等)","シャーロット・ゾロトウ","童話屋",20423]
["雪むすめのおくりもの","絵本","分類なし(絵本等)","佐藤義則","草土文化",20424]
["おじいさんのはやぶさ","絵本","分類なし(絵本等)","間瀬なおかた","KKベストセラーズ",20425]
["かぐやひめ","絵本","分類なし(絵本等)","日本童話","ひかりのくに",20426]
["ちびフクロウのぼうけん","絵本","分類なし(絵本等)","ノーラ・スロイェギン","福音館書店",20427]
["りん　らん　ろん","絵本","分類なし(絵本等)","マリー・コールマン","童話屋",20428]
["からだあそびシリーズ①　くらしの中でどう動いてる？","絵本","分類なし(絵本等)","原田奈名子","草土文庫",20429]
["宇宙プロキシマ号の伝説","絵本","分類なし(絵本等)","ブライアン・グリーン","あすなろ書房",20430]
["ジャッキー・チェンになりたいな","絵本","分類なし(絵本等)","岡本　央","草土文化",20431]
["おぼうさんになった少年ピタック","絵本","分類なし(絵本等)","田村　仁","草土文化",20432]
["動物園で毎日働く","絵本","分類なし(絵本等)","中川志郎","農文協",20433]
["こども電車","絵本","分類なし(絵本等)","岡田　潤","金の星社",20434]
["ここがわたしのおうちです","絵本","分類なし(絵本等)","アイリーン・スピネリ","さ・え・ら書房",20435]
["となりのトンコやん","絵本","分類なし(絵本等)","久保田ゆき","ハート出版",20436]
["アニメ版ちびまる子ちゃん　ヒロシの友情の巻","絵本","分類なし(絵本等)","さくらももこ","金の星社",20437]
["スーホの白い馬に会ったよ","絵本","分類なし(絵本等)","かまだしゅんぞう","ハート出版",20438]
["おてんば娘　はな子の七転び八起","絵本","分類なし(絵本等)","綾野まさる","ハート出版",20439]
["ぼくのうしろ足はタイヤだよ　車いすの犬チャンプ","絵本","分類なし(絵本等)","池田　まき子","ハート出版",20440]
["からだあそびシリーズ③　からだであそぼう","絵本","分類なし(絵本等)","原田奈名子","草土文庫",20441]
["おばけのひっこし","絵本","分類なし(絵本等)","さがらあつこ","福音館書店",20442]
["くりひろい","絵本","分類なし(絵本等)","イェン・タチョン","福音館書店",20443]
["ねこのごんごん","絵本","分類なし(絵本等)","大道あや","福音館書店",20444]
["ひつじかいとうさぎ","絵本","分類なし(絵本等)","うちだりさこ","福音館書店",20445]
["そばがらじさまとまめじさま","絵本","分類なし(絵本等)","小林輝子","福音館書店",20446]
["ゆかいなゆうびんやさん","絵本","分類なし(絵本等)","ジャネット&アラン・アルバーグ","文化出版局",20447]
["ゆかいなゆうびんやさんのクリスマス","絵本","分類なし(絵本等)","ジャネット&アラン・アルバーグ","文化出版局",20448]
["ゆかいなゆうびんやさんのだいぼうけん","絵本","分類なし(絵本等)","ジャネット&アラン・アルバーグ","文化出版局",20449]
["ノンタンがんばるもん","絵本","分類なし(絵本等)","キヨノサチコ","偕成社",20450]
["おへそのあな","絵本","分類なし(絵本等)","長谷川義史","BL出版",20451]
["がっこうでトイレにいけるかな？","絵本","分類なし(絵本等)","村上八千世","ほるぷ出版",20452]
["おかあさん　だいじょうぶ？","絵本","分類なし(絵本等)","乳がんの親とそのこどものためのﾌﾟﾛｼﾞｪｸﾄ","小学館",20453]
["ガスパールびょういんへいく","絵本","分類なし(絵本等)","アン・グッドマン","ブロンズ新社",20454]
["いもうとのにゅういん","絵本","分類なし(絵本等)","筒井頼子","福音館書店",20455]
["ぼくびょうきじゃないよ","絵本","分類なし(絵本等)","角野栄子","福音館書店",20456]
["いのちの時間","絵本","分類なし(絵本等)","ブライアン・メロニー","新教出版社",20457]
["14ひきのさむいふゆ","絵本","分類なし(絵本等)","いわむらかずお","童心社",20459]
["すきってなあに","絵本","分類なし(絵本等)","矢崎節夫","至光社",20463]
["ねずみのさかなつり","絵本","分類なし(絵本等)","山下明生","ひさかたチャイルド",20466]
["ピーター・パン","絵本","分類なし(絵本等)","ジェームズ・バリ","ポプラ社",20467]
["くつやさんと10にんのこびと","絵本","分類なし(絵本等)","グリム兄弟","金の星社",20469]
["どろんこおそうじ","絵本","分類なし(絵本等)","さとうわきこ","福音館書店",20470]
["なんでもおこのみやき","絵本","分類なし(絵本等)","さとうわきこ","福音館書店",20471]
["ばばばあちゃんのマフラー","絵本","分類なし(絵本等)","さとうわきこ","福音館書店",20472]
["ぐりとぐらのかいすいよく","絵本","分類なし(絵本等)","なかがわえりこ","福音館書店",20473]
["10ぴきのかえる","絵本","分類なし(絵本等)","間所ひさこ","PHP研究所",20474]
["10ぴきのかえるのふゆぼもり","絵本","分類なし(絵本等)","間所ひさこ","PHP研究所",20475]
["ばばばあちゃんのなぞなぞりょうりえほん　むしぱんのまき","絵本","分類なし(絵本等)","さとうわきこ","福音館書店",20484]
["ばばばあちゃんとおべんとう　つくろう","絵本","分類なし(絵本等)","さとうわきこ","福音館書店",20485]
["きょうふのうらないやしき","絵本","分類なし(絵本等)","おぐまこうじ","小峰書店",20486]
["サンタさんからきたてがみ","絵本","分類なし(絵本等)","たんのゆきこ","福音館書店",20487]
["まほうのえのぐ","絵本","分類なし(絵本等)","林明子","福音館書店",20488]
["おふろだいすき","絵本","分類なし(絵本等)","松岡亨子","福音館書店",20489]
["おきゃくさま","絵本","分類なし(絵本等)","なかがわりえこ","福音館書店",20490]
["てぶくろをかいに","絵本","分類なし(絵本等)","新見南吉","ポプラ社",20491]
["月夜の子うさぎ","絵本","分類なし(絵本等)","いわむらかずお","クレヨンハウス",20492]
["クリスマスをめぐる7つのふしぎ","絵本","分類なし(絵本等)","斉藤洋","理論社",20493]
["かみであそぼう","絵本","分類なし(絵本等)","こばやしみのる","ほるぷ出版",20494]
["すなはまいそのいきものずかん","絵本","分類なし(絵本等)","荒木勝彦","学習研究社",20495]
["はるのいきものずかん","絵本","分類なし(絵本等)","荒木勝彦","学習研究社",20496]
["びっくりいきものずかん","絵本","分類なし(絵本等)","荒木勝彦","学習研究社",20497]
["ふゆのいきものずかん","絵本","分類なし(絵本等)","荒木勝彦","学習研究社",20498]
["モモちゃんとアカネちゃん","絵本","分類なし(絵本等)","松谷みよ子","講談社",20500]
["アイ！マイ！まいん！","絵本","分類なし(絵本等)","市瀬悦子","小学館",20501]
["とっとこハム太郎","絵本","分類なし(絵本等)","河合リツ子","小学館",20502]
["はじめての多面体おりがみ","絵本","分類なし(絵本等)","川村みゆき","日本ヴォーグ社",20508]
["ひねもす山のなかまたち（５）赤いマフラー","絵本","分類なし(絵本等)","むかいはつこ","文芸社",20509]
["ひねもす山のなかまたち","絵本","分類なし(絵本等)","むかいはつこ","文芸社",20510]
["いつでも会える","絵本","分類なし(絵本等)","菊田まりこ","学研",20511]
["もぐらバス","絵本","分類なし(絵本等)","佐藤雅彦","偕成社",20520]
["ともだちや","絵本","分類なし(絵本等)","内田麟太郎","偕成社",20521]
["ノアとはこぶねのおはなし","絵本","分類なし(絵本等)","聖書","いのちのことば社",20522]
["ぐりとぐら","絵本","分類なし(絵本等)","なかがわりえこ","福音館書店",20523]
["ぐりとぐらのえんそく","絵本","分類なし(絵本等)","なかがわりえこ","福音館書店",20524]
["そらまめくんとめだかのこ","絵本","分類なし(絵本等)","なかやみわ","福音館書店",20525]
["ウサコレプチイチゴウサギをさがせ！","絵本","分類なし(絵本等)","大野直美","学研",20527]
["ハムスターのひとりごと","絵本","分類なし(絵本等)","井川俊彦","誠文堂新光社",20528]
["けんた・うさぎ","絵本","分類なし(絵本等)","中川李枝子","のら書店",20529]
["齋藤孝のイッキによめる！名作選　小学2年生","絵本","分類なし(絵本等)","齋藤　孝","講談社",20530]
["モモちゃんとプー","絵本","分類なし(絵本等)","松谷みよ子","講談社",20531]
["せかいのどうぶつずかん","絵本","分類なし(絵本等)","荒木勝彦","学研",20532]
["にほんのどうぶつずかん","絵本","分類なし(絵本等)","荒木勝彦","学研",20533]
["みずのいきものずかん","絵本","分類なし(絵本等)","荒木勝彦","学研",20534]
["どうぶつのおかあさんあかちゃんずかん","絵本","分類なし(絵本等)","荒木勝彦","学研",20535]
["ひとのからだたんけんずかん","絵本","分類なし(絵本等)","荒木勝彦","学研",20536]
["クリスマスのインタビュー","絵本","分類なし(絵本等)","吉池好高","女子パウロ会",20537]
["流れ星におねがい","絵本","分類なし(絵本等)","森絵都","童心社",20538]
["こんにちはウーフ","絵本","分類なし(絵本等)","神沢利子","ポプラ社",20539]
["こぶたのかくれんぼ","絵本","分類なし(絵本等)","小沢正","ポプラ社",20540]
["かいけつゾロリのドラゴンたいじ　きょうふのやかた","絵本","分類なし(絵本等)","原ゆたか","ポプラ社",20541]
["おしゃれキャット","絵本","分類なし(絵本等)","ディズニー","偕成社",20542]
["魔女とふしぎな指輪","絵本","分類なし(絵本等)","ルース・チュウ","フレーベル館",20543]
["かさじぞう","絵本","分類なし(絵本等)","日本昔話","ポプラ社",20544]
["初恋ストリート","絵本","分類なし(絵本等)","藤村かおり","金の星社",20545]
["Peter　Pan","絵本","分類なし(絵本等)","ディズニー","アルク",20547]
["トムとムー　おかしのまちへいく","絵本","分類なし(絵本等)","伊勢淳一","ワークス",20548]
["旅人の甘い蜜","絵本","分類なし(絵本等)","山田法胤","コミニケ出版",20549]
["ピーターラビットのおはなし","絵本","分類なし(絵本等)","ビアトリクス・ポター","福音館書店",20550]
["ベンジャミンバニーのおはなし","絵本","分類なし(絵本等)","ビアトリクス・ポター","福音館書店",20551]
["フロプシーのこどもたち","絵本","分類なし(絵本等)","ビアトリクス・ポター","福音館書店",20552]
["こねこのトムのおはなし","絵本","分類なし(絵本等)","ビアトリクス・ポター","福音館書店",20553]
["モペットちゃんのおはなし","絵本","分類なし(絵本等)","ビアトリクス・ポター","福音館書店",20554]
["こわいわるいうさぎのおはなし","絵本","分類なし(絵本等)","ビアトリクス・ポター","福音館書店",20555]
["2ひきのわるいねずみのおはなし","絵本","分類なし(絵本等)","ビアトリクス・ポター","福音館書店",20556]
["のねずみチュウチュウおくさんのおはなし","絵本","分類なし(絵本等)","ビアトリクス・ポター","福音館書店",20557]
["まちねずみジョニーのおはなし","絵本","分類なし(絵本等)","ビアトリクス・ポター","福音館書店",20558]
["りすのナトキンのおはなし","絵本","分類なし(絵本等)","ビアトリクス・ポター","福音館書店",20559]
["あひるのジマイマのおはなし","絵本","分類なし(絵本等)","ビアトリクス・ポター","福音館書店",20560]
["「ジンジャーとピクルズや」のおはなし","絵本","分類なし(絵本等)","ビアトリクス・ポター","福音館書店",20561]
["キツネどんのおはなし","絵本","分類なし(絵本等)","ビアトリクス・ポター","福音館書店",20562]
["ひげのサムエルのおはなし","絵本","分類なし(絵本等)","ビアトリクス・ポター","福音館書店",20563]
["グロースターの仕立て屋","絵本","分類なし(絵本等)","ビアトリクス・ポター","福音館書店",20564]
["ティギーおばさんのおはなし","絵本","分類なし(絵本等)","ビアトリクス・ポター","福音館書店",20565]
["ジェレミー・フィッシャーどんのおはなし","絵本","分類なし(絵本等)","ビアトリクス・ポター","福音館書店",20566]
["カルアシ・チミーのおはなし","絵本","分類なし(絵本等)","ビアトリクス・ポター","福音館書店",20567]
["パイがふたつあったおはなし","絵本","分類なし(絵本等)","ビアトリクス・ポター","福音館書店",20568]
["ずるいねこのおはなし","絵本","分類なし(絵本等)","ビアトリクス・ポター","福音館書店",20569]
["こぶたのピグリン・ブランドのおはなし","絵本","分類なし(絵本等)","ビアトリクス・ポター","福音館書店",20570]
["ピーターラビットのてがみの本①","絵本","分類なし(絵本等)","ビアトリクス・ポター","福音館書店",20571]
["ピーターラビットのてがみの本②","絵本","分類なし(絵本等)","ビアトリクス・ポター","福音館書店",20572]
["ポケモンおもしろことわざ","絵本","分類なし(絵本等)","げゑせんうえの","永岡書店",20574]
["アンパンマンとげんきにあいさつ","絵本","分類なし(絵本等)","やなせたかし","フレーベル館",20576]
["アンパンマンとあそぼう　おりがみ","絵本","分類なし(絵本等)","仲田安津子","フレーベル館",20577]
["ひと目でわかる！図解人気折り紙","絵本","分類なし(絵本等)","山口　真","主婦と生活社",20578]
["キャラクターいっぱいのおりがみ44てん","絵本","分類なし(絵本等)","金杉 登喜子","ブティック社",20579]
["いちご新聞　キャラクターおりがみ教室","絵本","分類なし(絵本等)","高島 麻子","サンリオ",20580]
["昔ばなしのおりがみえほん","絵本","分類なし(絵本等)","丹羽 兌子","泉書房",20581]
["こげぱん　京都ぶらり旅日記","絵本","分類なし(絵本等)","たかはしみき","主婦と生活社",20582]
["こげぱん　三都旅日記　～大阪・神戸編～","絵本","分類なし(絵本等)","たかはしみき","ソニーマガジンズ",20583]
["簡単おりがみ大百科","絵本","分類なし(絵本等)","萩野善之","主婦の友社",20584]
["新電車大集合1616点","絵本","分類なし(絵本等)","広田尚敦","講談社",20585]
["北極のムーシカミーシカ","絵本","分類なし(絵本等)","いぬいとみこ","理論社",20586]
["しあわせの子犬たち","絵本","分類なし(絵本等)","Ｍ・ラバット","文研出版",20587]
["うたぶっく①","絵本","分類なし(絵本等)","たかいよしかず","京田クリエーション",20588]
["プレゼント","絵本","分類なし(絵本等)","おとたけひろただ","中央法規出版",20589]
["三月ひなのつき","絵本","分類なし(絵本等)","石井桃子","福音館書店",20590]
["あの子は気になる転校生","絵本","分類なし(絵本等)","藤田富美恵","PHP研究所",20591]
["あるはれたひに","絵本","分類なし(絵本等)","木村裕一","講談社",20592]
["くものきれまに","絵本","分類なし(絵本等)","木村裕一","講談社",20593]
["きりのなかで","絵本","分類なし(絵本等)","木村裕一","講談社",20594]
["風にのってきたメアリー・ポピンズ","絵本","分類なし(絵本等)","トラヴァース","岩波書店",20595]
["ぼくらは少年探偵団","絵本","分類なし(絵本等)","日本児童文学者協会","偕成社",20596]
["なぞの電子メール","絵本","分類なし(絵本等)","日本児童文学者協会","偕成社",20597]
["学校のびっくり事件ファイル","絵本","分類なし(絵本等)","日本児童文学者協会","偕成社",20598]
["後路みね","絵本","分類なし(絵本等)","いわむらかずお","理論社",20599]
["金色のクジラ","絵本","分類なし(絵本等)","岸川悦子","ひくまの出版",20600]
["おりおりのりものずかん","絵本","分類なし(絵本等)","和田由紀夫","大泉書店",20601]
["ドングリ山のやまんばあさん","絵本","分類なし(絵本等)","富安陽子","理論社",20602]
["クリスマス・キャロル","絵本","分類なし(絵本等)","ディケンズ","岩波書店",20603]
["ねこ語の歌が死を招く","絵本","分類なし(絵本等)","宇賀神　水青","集英社",20604]
["ゲームの中に閉じこめて","絵本","分類なし(絵本等)","宇賀神　水青","集英社",20605]
["死者はにっこりよみがえる","絵本","分類なし(絵本等)","宇賀神　水青","集英社",20606]
["シャッター・チャンスでこ・ろ・さ・れ・る","絵本","分類なし(絵本等)","宇賀神　水青","集英社",20607]
["棺のなかで目ざめたら","絵本","分類なし(絵本等)","宇賀神　水青","集英社",20608]
["美少女シェフに手をだすな","絵本","分類なし(絵本等)","宇賀神　水青","集英社",20609]
["赤毛のアン","絵本","分類なし(絵本等)","L.M.モンゴメリー","講談社",20610]
["THE TALE OF TOM KITTEN","絵本","分類なし(絵本等)","ベアトリックス・ポター","WILLIAMCLOWES",20611]
["アンネの日記","絵本","分類なし(絵本等)","アンネ・フランク","文藝春秋",20612]
["ふわふわのおはなし","絵本","分類なし(絵本等)","ひろかわさえこ","あかね書房",20613]
["三びきの子ぶた","絵本","分類なし(絵本等)","梯有子（イギリス民話）","河出書房新社",20614]
["ハリーとマルタン②","絵本","分類なし(絵本等)","やなせたかし","新日本出版社",20618]
["ハリーとマルタン③","絵本","分類なし(絵本等)","やなせたかし","新日本出版社",20619]
["ハリーとマルタン④","絵本","分類なし(絵本等)","やなせたかし","新日本出版社",20620]
["ハリーとマルタン⑤","絵本","分類なし(絵本等)","やなせたかし","新日本出版社",20621]
["ハリーとマルタン⑥","絵本","分類なし(絵本等)","やなせたかし","新日本出版社",20622]
["サンタさん　すきですといえなくて・・・","絵本","分類なし(絵本等)","ふくだすぐる","大和書房",20623]
["ふたりはなかよし","絵本","分類なし(絵本等)","ジョアンナ・コール　ほか","小峰書店",20624]
["かいけつゾロリの大まじんをさがせ！！","絵本","分類なし(絵本等)","原　ゆたか","ポプラ社",20625]
["いぬとねこ１００","絵本","分類なし(絵本等)","今泉忠明","講談社",20626]
["カプチーヌ","絵本","分類なし(絵本等)","タンギー・グレバン","小峰書店",20627]
["サンタクロースのふくろのなか","絵本","分類なし(絵本等)","安野光雅","童話屋",20628]
["ほんとうの南極犬物語","絵本","分類なし(絵本等)","綾野まさる","ハート出版",20629]
["犬のおまわりさんボギー","絵本","分類なし(絵本等)","西松　宏","ハート出版",20630]
["レッツゴー・サフィー","絵本","分類なし(絵本等)","井上夕香","ハート出版",20631]
["タイタニックの犬ラブ","絵本","分類なし(絵本等)","関　朝之","ハート出版",20632]
["前足だけの白い猫マイ","絵本","分類なし(絵本等)","今泉耕介","ハート出版",20633]
["ゴリラのボスになった力三さん","絵本","分類なし(絵本等)","綾野まさる","ハート出版",20634]
["おてんば娘はな子の七転び八起","絵本","分類なし(絵本等)","綾野まさる","ハート出版",20635]
["小学生探偵　コタロウと謎の村","絵本","分類なし(絵本等)","夢現舎","ほるぷ出版",20636]
["１・２年生のなぞなぞたんけんたい","絵本","分類なし(絵本等)","このみ・プラニング","大泉書店",20637]
["遊べる！おりがみ","絵本","分類なし(絵本等)","笠原邦彦","大泉書店",20638]
["番号をどうぞ","絵本","分類なし(絵本等)","和田　誠","理論社",20639]
["月と猫","絵本","分類なし(絵本等)","田川　誠","Peter&Joseph",20640]
["やさしい折りかた　かわいいおりがみ","絵本","分類なし(絵本等)","三村あつ子","大泉書店",20641]
["ルルとララのおしゃれクッキー","絵本","分類なし(絵本等)","あんびるやすこ","岩崎書店",20642]
["ルルとララのチョコレート","絵本","分類なし(絵本等)","あんびるやすこ","岩崎書店",20643]
["ルルとララのアイスクリーム","絵本","分類なし(絵本等)","あんびるやすこ","岩崎書店",20644]
["ルルとララのシャーベット","絵本","分類なし(絵本等)","あんびるやすこ","岩崎書店",20645]
["ルルとララのわくわくクレープ","絵本","分類なし(絵本等)","あんびるやすこ","岩崎書店",20646]
["ルルとララのふんわりムース","絵本","分類なし(絵本等)","あんびるやすこ","岩崎書店",20647]
["あんぽんたんのおもしろことばなんじゃらほい！その①","絵本","分類なし(絵本等)","ひろかわさえこ","草土文化",20648]
["あんぽんたんのおもしろことばなんじゃらほい！その②","絵本","分類なし(絵本等)","ひろかわさえこ","草土文化",20649]
["かいけつゾロリのにんじゃ大さくせん","絵本","分類なし(絵本等)","原ゆたか","ポプラ社",20650]
["かいけつゾロリのめいたんていとうじょう","絵本","分類なし(絵本等)","原ゆたか","ポプラ社",20651]
["かいけつゾロリの大どろぼう","絵本","分類なし(絵本等)","原ゆたか","ポプラ社",20652]
["かいけつゾロリのなぞのおたから大さくせん　前編","絵本","分類なし(絵本等)","原ゆたか","ポプラ社",20653]
["かいけつゾロリのなぞのおたから大さくせん　後編","絵本","分類なし(絵本等)","原ゆたか","ポプラ社",20654]
["かいけつゾロリのちきゅうさいごの日","絵本","分類なし(絵本等)","原ゆたか","ポプラ社",20655]
["かいけつゾロリのてんごくとじごく","絵本","分類なし(絵本等)","原ゆたか","ポプラ社",20656]
["かいけつゾロリきょうふのようかいえんそく","絵本","分類なし(絵本等)","原ゆたか","ポプラ社",20657]
["かいけつゾロリのだ・だ・だ・だいぼうけん！ 前編","絵本","分類なし(絵本等)","原ゆたか","ポプラ社",20658]
["かいけつゾロリのだ・だ・だ・だいぼうけん！ 中編","絵本","分類なし(絵本等)","原ゆたか","ポプラ社",20659]
["かいけつゾロリのだ・だ・だ・だいぼうけん！ 後編","絵本","分類なし(絵本等)","原ゆたか","ポプラ社",20660]
["かいけつゾロリのはちゃめちゃテレビ局","絵本","分類なし(絵本等)","原ゆたか","ポプラ社",20661]
["かいけつゾロリはなよめとゾロリじょう","絵本","分類なし(絵本等)","原ゆたか","ポプラ社",20662]
["かいけつゾロリのメカメカ大さくせん","絵本","分類なし(絵本等)","原ゆたか","ポプラ社",20663]
["かいけつゾロリなぞのスパイとチョコレート","絵本","分類なし(絵本等)","原ゆたか","ポプラ社",20664]
["かいけつゾロリナゾノスパイと100本のバラ","絵本","分類なし(絵本等)","原ゆたか","ポプラ社",20665]
["ポケネコにゃんころりん　ポケットの中のふしぎネコ","絵本","分類なし(絵本等)","山本悦子","童心社",20666]
["ドキドキハートの告白大作戦","絵本","分類なし(絵本等)","奥沢しおり","フレーベル館",20667]
["おしゃれバトルがはじまっちゃう！","絵本","分類なし(絵本等)","奥沢しおり","フレーベル館",20668]
["妖精ライラ","絵本","分類なし(絵本等)","エリザベス・リンジー","星雲社",20669]
["バンビ","絵本","分類なし(絵本等)","ジョアン・ライダー作","偕成社",20670]
["ほっぺちゃん","絵本","分類なし(絵本等)","名取なずな","角川書店",20671]
["クレヨンしんちゃんのまんが科学のふしぎ","絵本","分類なし(絵本等)","臼井儀人","双葉社",20672]
["書く力伝える力　小学生の作文力","絵本","分類なし(絵本等)","岸本裕史","小学館",20673]
["リトル・ウイング","絵本","分類なし(絵本等)","吉富多美","金の星社",20674]
["ハムスターの研究レポート①","絵本","分類なし(絵本等)","大雪師走","偕成社",20675]
["ちびまる子ちゃんの学級文庫①","絵本","分類なし(絵本等)","さくらももこ","学習研究社",20676]
["いるかをおそった黒い波","絵本","分類なし(絵本等)","今関信子","汐文社",20677]
["ほんとうに心があったかくなる話　４年生","絵本","分類なし(絵本等)","日本児童文学者協会","ポプラ社",20678]
["なんでも魔女商会　お洋服リフォーム支店","絵本","分類なし(絵本等)","あんびるやすこ","岩崎書店",20679]
["赤毛の妖精　ルビー","絵本","分類なし(絵本等)","デイジー・メドウズ","ゴマブックス",20680]
["注文の多い料理店","絵本","分類なし(絵本等)","宮沢賢治","岩崎書店",20681]
["幽霊屋敷レストラン","絵本","分類なし(絵本等)","松谷みよ子","童心社",20682]
["チンパンジー神ちゃんの日記","絵本","分類なし(絵本等)","亀井一成","ポプラ社",20683]
["なくなキリンの六と甲","絵本","分類なし(絵本等)","亀井一成","ポプラ社",20684]
["バンジのにゃむにゃむ日記","絵本","分類なし(絵本等)","ジョンイ","ポプラ社",20685]
["しずくちゃん③しずくパークへようこそ！","絵本","分類なし(絵本等)","ぎぼりつこ","岩崎書店",20687]
["しずくちゃん④ぼくらのだいぼうけん。","絵本","分類なし(絵本等)","ぎぼりつこ","岩崎書店",20688]
["しずくちゃん⑤がっこうはたのしいな♪","絵本","分類なし(絵本等)","ぎぼりつこ","岩崎書店",20689]
["しずくちゃん⑥しずくの森の12か月。","絵本","分類なし(絵本等)","ぎぼりつこ","岩崎書店",20690]
["しずくちゃん⑦わくわく★しゅうがくりょこう","絵本","分類なし(絵本等)","ぎぼりつこ","岩崎書店",20691]
["しずくちゃん⑬がくえんさいにいらっしゃい！","絵本","分類なし(絵本等)","ぎぼりつこ","岩崎書店",20692]
["しずくちゃん⑭ハイサイ！沖縄めぐり","絵本","分類なし(絵本等)","ぎぼりつこ","岩崎書店",20693]
["しずくちゃん⑮デパート★レボリューション","絵本","分類なし(絵本等)","ぎぼりつこ","岩崎書店",20694]
["しずくちゃん⑲クリスマスはおおいそがし！","絵本","分類なし(絵本等)","ぎぼりつこ","岩崎書店",20695]
["しずくちゃん⑳ときどきハッピーバースデー","絵本","分類なし(絵本等)","ぎぼりつこ","岩崎書店",20696]
["こげぱん　毎日クタ～っと。","絵本","分類なし(絵本等)","たかはしみき","ソニーマガジンズ",20698]
["地図絵本　日本の食べもの","絵本","分類なし(絵本等)","素朴社","素朴社",20699]
["にっぽん探検大図鑑","絵本","分類なし(絵本等)","小学館","小学館",20700]
["楽しく遊ぶ学ぶ　きせつの図鑑","絵本","分類なし(絵本等)","小学館","小学館",20701]
["楽しく遊ぶ学ぶ　ふしぎの図鑑","絵本","分類なし(絵本等)","小学館","小学館",20702]
["楽しく遊ぶ学ぶ　こくごの図鑑","絵本","分類なし(絵本等)","小学館","小学館",20703]
["くらべる図鑑","絵本","分類なし(絵本等)","小学館","小学館",20704]
["学研の図鑑　動物","絵本","分類なし(絵本等)","学研","学研",20705]
["こども図鑑　からだ","絵本","分類なし(絵本等)","学研","学研",20706]
["はっけんずかん　どうぶつ","絵本","分類なし(絵本等)","学研","学研",20707]
["東京ミュウミュウ④","絵本","分類なし(絵本等)","征海未亜","講談社",20708]
["美少女戦士セーラームーン①","絵本","分類なし(絵本等)","武内直子","講談社",20709]
["未来PUREボイス","絵本","分類なし(絵本等)","五十嵐かおる","小学館",20710]
["はぴはぴクローバー③","絵本","分類なし(絵本等)","竜山さゆり","小学館",20711]
["はぴはぴクローバー②","絵本","分類なし(絵本等)","竜山さゆり","小学館",20712]
["はぴはぴクローバー①","絵本","分類なし(絵本等)","竜山さゆり","小学館",20713]
["きらりん★レボリューション①","絵本","分類なし(絵本等)","中原杏","小学館",20714]
["きらりん★レボリューション②","絵本","分類なし(絵本等)","中原杏","小学館",20715]
["きらりん★レボリューション⑦","絵本","分類なし(絵本等)","中原杏","小学館",20716]
["きらりん★レボリューション⑨","絵本","分類なし(絵本等)","中原杏","小学館",20717]
["きらりん★レボリューション⑬","絵本","分類なし(絵本等)","中原杏","小学館",20718]
["きらりん★レボリューション⑭","絵本","分類なし(絵本等)","中原杏","小学館",20719]
["ぼくは赤ちゃんがほしいの","絵本","分類なし(絵本等)","シャーロット・ズロトウ","童話屋",20720]
["都市伝説＆怪談スペシャル","絵本","分類なし(絵本等)","ヤングセレクション","実業之日本社",20721]
["幽霊＆都市伝説スペシャル","絵本","分類なし(絵本等)","ヤングセレクション","実業之日本社",20722]
["ラブ♥偏差値","絵本","分類なし(絵本等)","斉藤栄実美","金の星社",20723]
["生まれ変わりレストラン","絵本","分類なし(絵本等)","怪談レストラン編集委員会","童心社",20724]
["消えた恐竜のなぞ","絵本","分類なし(絵本等)","大野太郎","集英社",20725]
["はじめてのずかん３","絵本","分類なし(絵本等)","たしろたく","偕成社",20726]
["ともだち絵本　けんか","絵本","分類なし(絵本等)","シャーロット・ズロトウ","童話屋",20727]
["バルボンさんのおうち","絵本","分類なし(絵本等)","とよた　かずひこ","アリス館",20728]
["よるくま","絵本","分類なし(絵本等)","酒井駒子","偕成社",20729]
["ぷうちゃんのちいさいマル","絵本","分類なし(絵本等)","東直子","岩崎書店",20730]
["おしりたんてい","絵本","分類なし(絵本等)","トロル","ポプラ社",20731]
["ペンギンビッグハウス","絵本","分類なし(絵本等)","クリスティン・イェレミース","ブロンズ新社",20732]
["絵本おとうと","絵本","分類なし(絵本等)","松本春野","新日本出版社",20733]
["絵本おとうとⅡ　はじめての学校","絵本","分類なし(絵本等)","松本春野","新日本出版社",20734]
["カイくんと子どもたち","絵本","分類なし(絵本等)","坂本カイ","ポプラ社",20737]
["アレックスとネコさん","絵本","分類なし(絵本等)","Ｓ・ラムート","あかね書房",20738]
["動物と話せる少女リリアーネ","絵本","分類なし(絵本等)","タニヤ・シュテーブナー","学研",20739]
["パン屋のこびととハリネズミ","絵本","分類なし(絵本等)","アニー・G・M・シュミット","徳間書店",20740]
["タッジーマッジーと三人の魔女","絵本","分類なし(絵本等)","あんびるやすこ","ポプラ社",20741]
["フェアリーたちの魔法の夜","絵本","分類なし(絵本等)","あんびるやすこ","ポプラ社",20742]
["女王様のむらさきの魔法","絵本","分類なし(絵本等)","あんびるやすこ","ポプラ社",20743]
["魔女のステキな冬じたく","絵本","分類なし(絵本等)","あんびるやすこ","ポプラ社",20744]
["一期一会　スキだから","絵本","分類なし(絵本等)","粟生こずえ","学研",20745]
["マジックの鉄人","絵本","分類なし(絵本等)","稲村八大","ポプラ社",20746]
["ちび★デビ！","絵本","分類なし(絵本等)","蜜家ビィ","小学館",20747]
["らくだい魔女のデート作戦","絵本","分類なし(絵本等)","成田サトコ","ポプラ社",20748]
["黒魔女さんが通る！！","絵本","分類なし(絵本等)","石崎洋司","講談社",20749]
["多摩川にすてられたミーコ","絵本","分類なし(絵本等)","なりゆきわかこ","角川書店",20750]
["思い出のマーニー","絵本","分類なし(絵本等)","ジョーン・G・ロビンソン","角川書店",20751]
["パンダのひ・み・つ","絵本","分類なし(絵本等)","森田倫代/熊川智子","アワーズ・アドベンチャーワールド",20752]
["遊べる！おりがみ","絵本","分類なし(絵本等)","笠原邦彦","大泉書店",20753]
["１０分で読めるお話５年生","絵本","分類なし(絵本等)","小暮正夫","学研",20754]
["あらしのよるに①","絵本","分類なし(絵本等)","木村裕一","講談社",20755]
["あるはれたひに②","絵本","分類なし(絵本等)","木村裕一","講談社",20756]
["くものきれまに③","絵本","分類なし(絵本等)","木村裕一","講談社",20757]
["きりのなかで④","絵本","分類なし(絵本等)","木村裕一","講談社",20758]
["どしゃぶりのひに⑤","絵本","分類なし(絵本等)","木村裕一","講談社",20759]
["ふぶきのあした⑥","絵本","分類なし(絵本等)","木村裕一","講談社",20760]
["まんげつのよるに⑦","絵本","分類なし(絵本等)","木村裕一","講談社",20761]
["宝　島","絵本","分類なし(絵本等)","坂井晴彦","福音館書店",20781]
["アニマル","目次へ","※PDF版ではリンクしておりません。",null,null,null,"48頁",87]
["ありがとう障害犬タロー","一般図書","P：アニマル","小森泰治","アスペクト",10382]
["ワン","一般図書","P：アニマル","コシノタミオ/ラッセル　ブラックウェル","講談社",10403]
["犬の生態図鑑","一般図書","P：アニマル","蒔田和典","金の星社",10404]
["MY BEST FRIEND AT THE HOSPITAL こどもたちの目にうつったファシリティドッグ","医療の本","P：アニマル","シャイン　オン！キッズ","認定特定非営利活動法人　シャイン・オン・キッズ",10406]
["さむくてもまけない　季節と動物","絵本","P：アニマル","中嶋博和","農文協",20879]
["アニマルテラピー","目次へ","※PDF版ではリンクしておりません。",null,null,null,"48頁",88]
["セラピードッグ(動物介在療法)の世界","医療の本","Pd：アニマルテラピー","大木トオル　著","日本経済新聞出版社",5390]
["メタボリックシンドローム","目次へ","※PDF版ではリンクしておりません。",null,null,null,"48頁",89]
["肥満症・痛風の食事療法　第２版","医療の本","V：メタボリックシンドローム","医歯薬出版　編","医歯薬出版",244]
["メタボリックシンドローム","医療の本","V：メタボリックシンドローム","和田　高士　著","保健同人社",929]
["やさしい生活習慣病の自己管理　改訂版","医療の本","V：メタボリックシンドローム","北村　諭　著","医薬ジャーナル社",931]
["生活習慣病の予防・治療に役立つ心身医学","医療の本","V：メタボリックシンドローム","久保　千春","ライフサイエンス出版",932]
["ごぼう力","医療の本","V：メタボリックシンドローム","南雲 吉則　著","主婦と生活社",5391]
["体脂肪計タニタの社員食堂 ~500kcalのまんぷく定食","医療の本","V：メタボリックシンドローム","タニタ　著","大和書房",5392]
["続・体脂肪計タニタの社員食堂","医療の本","V：メタボリックシンドローム","タニタ　著","大和書房",5393]
["いつまでもデブと思うなよ","一般図書","V：メタボリックシンドローム","岡田斗司夫","新潮社",5405]
["肥満の人の食事","医療の本","V：メタボリックシンドローム","小山勝一/宮崎靖子","健康同人社",5627]
["食べて健康！タニタ式カラダのひみつ","医療の本","V：メタボリックシンドローム","池田義雄","三笠書房",5663]
["５０歳からの健康歳時記","医療の本","V：メタボリックシンドローム","石川恭三","朝日新聞出版",5664]
["やさしいメタボリックシンドロームの自己管理　改訂版","医療の本","V：メタボリックシンドローム","松沢佑次監修","医薬ジャーナル社",8063]
["メタボ外来のやせるレシピ","医療の本","V：メタボリックシンドローム","京都医療ｾﾝﾀｰ","セブン＆アイ出版",10212]
["メタボ外来のやせる弁当と作りおき","医療の本","V：メタボリックシンドローム","京都医療ｾﾝﾀｰ","セブン＆アイ出版",10322]
["高脂血症","目次へ","※PDF版ではリンクしておりません。",null,null,null,"48頁",90]
["高脂血症の人の食事","医療の本","Va：高脂血症","多田　紀夫 著","女子栄養大学出版部",92]
["高脂血症・動脈硬化症の食事療法　第２版","医療の本","Va：高脂血症","医歯薬出版　編","医歯薬出版",933]
["高脂血症を治して脳梗塞・狭心症を予防する","医療の本","Va：高脂血症","石川　俊次　監修","講談社",934]
["高脂血症・肥満～動脈硬化～","医療の本","Va：高脂血症","荻原　俊男　監修","メディカルレビュー社",937]
["脂質異常の最新治療 (よくわかる最新医学)","医療の本","Va：高脂血症","石川 俊次","主婦の友社",10186]
["高血圧","目次へ","※PDF版ではリンクしておりません。",null,null,null,"48頁",91]
["食べて治す高血圧 イラスト版","医療の本","Vb：高血圧","家森　幸男","講談社",247]
["高血圧の人の食事","医療の本","Vb：高血圧","長澤　紘一　他","女子栄養大学出版部",342]
["高血圧・心臓病の食事療法　第２版","医療の本","Vb：高血圧","医歯薬出版　編","医歯薬出版",940]
["やさしい早朝高血圧の自己管理","医療の本","Vb：高血圧","苅尾　七臣　著","医薬ジャーナル社",943]
["高血圧の病態生理と診断・治療","医療の本","Vb：高血圧","田口　理恵　他","真興交易医書出版",947]
["日本人のための高血圧治療Ｑ＆Ａ～エビデン","医療の本","Vb：高血圧","檜垣　實男　編","医薬ジャーナル社",951]
["高血圧・糖尿病　生活習慣病　改訂版","医療の本","Vb：高血圧","荻原　俊男　監修","メディカルレビュー社",1021]
["０９　高血圧治療ガイドライン","医療の本","Vb：高血圧",null,"ライフサイエンス出版",1023]
["高血圧の人のおいしいレシピブック","医療の本","Vb：高血圧","末永 みどり・　浜内 千波　・斉藤 邦夫","保健同人社",8099]
["高血圧治療ガイドライン2014","医療の本","Vb：高血圧","日本高血圧学会高血圧治療ガイドライン作成委員会","ライフサイエンス出版",10187]
["高血圧の最新治療 (よくわかる最新医学)","医療の本","Vb：高血圧","宗像 正徳","主婦の友社",10188]
["塩分早わかり第3版　ＦＯＯＤ＆ＣＯＯＫＩＮＧ　ＤＡＴＡ","医療の本","Vb：高血圧","牧野直子, 女子栄養大学出版部","女子栄養大学出版部",10264]
["血液・血管が詰まらない切れない最強セルフケア　（Ｍａｋｉｎｏ　ｍｏｏｋ＊マキノ出版ムック）","医療の本","Vb：高血圧","小林弘幸, 池谷敏郎","マキノ出版",10265]
["糖尿病","目次へ","※PDF版ではリンクしておりません。",null,null,null,"49頁",92]
["糖尿病が良くなるごちそうレシピ","医療の本","Vc：糖尿病","江部　康二　著","東洋経済新報社",252]
["糖尿病の人の食事","医療の本","Vc：糖尿病","長坂　昌一郎;宮本　佳代子;松田　康子","女子栄養大学出版部",566]
["糖尿病性腎症の人の食事","医療の本","Vc：糖尿病","長坂　昌一郎;本田　佳子;小川　久惠","女子栄養大学出版部",648]
["あなたもできる減量作戦","医療の本","Vc：糖尿病","坂根　直樹　著","診断と治療社",953]
["はじめの一歩が大切","医療の本","Vc：糖尿病","坂根　直樹","診断と治療社",954]
["もしも１００人の糖尿病村があったら","医療の本","Vc：糖尿病","坂根　直樹　著","診断と治療社",956]
["自信がもてる食事療法のコツ","医療の本","Vc：糖尿病","坂根　直樹","診断と治療社",958]
["糖尿病","医療の本","Vc：糖尿病","加藤　光敏;加藤　則子","日本医学館",960]
["糖尿病 病気の本質、危険信号、検査法　新版","医療の本","Vc：糖尿病","鈴木　吉彦","主婦の友社",961]
["糖尿病の食事療法　第２版","医療の本","Vc：糖尿病","医歯薬出版　編","医歯薬出版",962]
["糖尿病はこうして防ぐ、治す イラスト版","医療の本","Vc：糖尿病","河盛　隆造","講談社",964]
["やさしいインスリン治療の自己管理　改訂版","医療の本","Vc：糖尿病","松澤　佑次　監","医薬ジャーナル社",968]
["やさしい糖尿病食の献立と料理　腎症予防の","医療の本","Vc：糖尿病","穐山　道子　他編","医薬ジャーナル社",971]
["糖尿病の食事をつくる本　新版","医療の本","Vc：糖尿病","鈴木　吉彦　著","主婦の友社",973]
["糖尿病の人の朝昼夕献立カレンダー　改新","医療の本","Vc：糖尿病","香川　芳子　監","女子栄養大学出版部",974]
["糖尿病食事療法のための食品交換表 第６版","医療の本","Vc：糖尿病","日本糖尿病学会","文光堂",977]
["糖尿病食事療法のための食品交換表 活用編","医療の本","Vc：糖尿病","日本糖尿病学会","文光堂",978]
["糖尿病性腎症の食品交換表 第２版","医療の本","Vc：糖尿病","日本糖尿病学会","文光堂",979]
["別冊「プラクティス」糖尿病の生活支援Q＆A 看護と食事療法のポイント","医療の本","Vc：糖尿病","(社)日本糖尿病協会","医歯薬出版",980]
["やさしい糖尿病の外食のコツと心得　改訂版","医療の本","Vc：糖尿病","山崎　義光　他編著","医薬ジャーナル社",1022]
["新外食料理のしおり","医療の本","Vc：糖尿病","大阪糖尿病協会顧問栄養士会","赤坂印刷",5315]
["マンガでわかる生活習慣病　糖尿病をやっつけろ！","医療の本","Vc：糖尿病","加来浩平","武田薬品工業",5322]
["糖尿病患者のためのカーボフラッシュカード","医療の本","Vc：糖尿病","川村智行","医療ジャーナル社",5665]
["チャートで学ぶ糖尿病と合併症","医療の本","Vc：糖尿病","細井雅之","メディカ出版",5666]
["１型糖尿病[IDDM]お役立ちマニュアル インスリンとともに生きる","医療の本","Vc：糖尿病","日本ＩＤＤＭネットワーク","日本IDDMネットワーク",5667]
["１型糖尿病[IDDM]お役立ちマニュアル 災害対応編","医療の本","Vc：糖尿病","日本ＩＤＤＭネットワーク","日本IDDMネットワーク",5668]
["病気がみえる　③：糖尿病・代謝・内分泌　第2版","医療の本","Vc：糖尿病",null,"メディックメディア",8003]
["やさしい食後高血糖の自己管理","医療の本","Vc：糖尿病","加来浩平　編","医薬ジャーナル社",8021]
["やさしい糖尿病の外食のコツと心得　改訂版","医療の本","Vc：糖尿病","山崎義光　他編著","医薬ジャーナル社",8030]
["最新版　よくわかる　血糖値を下げる基本の食事","医療の本","Vc：糖尿病","監修 松葉育郎、忍田聡子","主婦の友社",8085]
["専門医が治す！糖尿病","医療の本","Vc：糖尿病","東京女子医科大学糖尿病センター/編","高橋書店",8087]
["インフォームドコンセントのための図説シリーズ　糖尿病のフットケア","医療の本","Vc：糖尿病","門脇孝[ほか]編集","医薬ジャーナル社",8105]
["60歳からの糖尿病　（よくわかる最新医学）","医療の本","Vc：糖尿病","阪本要一","主婦の友社",8109]
["糖尿病　ビジュアルガイド","医療の本","Vc：糖尿病","石井　均","医歯薬出版",8120]
["病気がみえる　№３　糖尿病・代謝・内分泌","医療の本","Vc：糖尿病","メディックメディア","メディックメディア",10031]
["1型糖尿病の治療マニュアル","医療の本","Vc：糖尿病","丸山太郎","南江堂",10086]
["かんたんカーボカウント","医療の本","Vc：糖尿病","大阪市立大学","医療ジャーナル社",10087]
["糖尿病食事療法のための食品交換表　第7版","医療の本","Vc：糖尿病","日本糖尿病学会","文光堂",10189]
["糖尿病 最新治療・最新薬","医療の本","Vc：糖尿病","鈴木 吉彦","主婦の友社",10190]
["糖尿病食事療法のための食品交換表 活用編―献立例とその実践　第２版","医療の本","Vc：糖尿病","日本糖尿病学会","文光堂",10291]
["筑波大学附属病院とクックパッドのおいしく治す「糖尿病食」","医療の本","Vc：糖尿病","屋作直也","講談社",10292]
["糖尿病治療ガイド 2014ー2015","医療の本","Vc：糖尿病","文光堂","文光堂",10293]
["病気がみえる③糖尿病・代謝・内分泌　第4版","医療の本","Vc：糖尿病","メデックメディア","メディックメディア",10372]
["糖尿病の人の献立カレンダー　朝昼夕（３）","医療の本","Vc：糖尿病","香川芳子","女子栄養大学出版部",10488]
["病気がみえるvol.3　糖尿病・代謝・内分泌　第4版","医療の本","Vc：糖尿病","医療情報科学研究所","メディックメディア",10534]
["DVD","目次へ","※PDF版ではリンクしておりません。",null,null,null,"50頁",93]
["ガン・完全治療の法則","医療の本","Z：DVD","川竹文夫","人間出版",5535]
["生命を継ぐ物語　皇帝ペンギン","一般図書","Z：DVD",null,"ギャガ・コミュニケーションズ",5546]
["こんなに大切！抗がん剤治療とうまく付き合う「口腔ケア」","医療の本","Z：DVD","大田洋二郎","武田薬品工業",10123]
["病気のこと子どもに伝える？伝えない？～迷っているあなたへ～","医療の本","Z：DVD","福田護","武田薬品工業",10124]
["これならできる！感染予防～抗がん剤治療を乗りきるために～","医療の本","Z：DVD","辻村秀樹","武田薬品工業",10125]
["もう怖くない！抗がん剤の吐き気は、ここまで予防できる","医療の本","Z：DVD","中村清吾","武田薬品工業",10126]

{"sheet":"検索","index":2,"n_rows":3552,"n_cols":13,"rows_kept":3552,"cut":false,"hidden":false,"merged":[]}
["検索文字","再入力"]
[{"$f":"目次加工!B2","v":0},"○",null,"図書名","図書種類名称","質研分類名称","著者名","出版社名","図書番号",null,null,"前後","前後"]
[null,null,null,{"$f":"分類順!A2","v":"医学百科"},{"$f":"分類順!B2","v":"目次へ"},{"$f":"分類順!C2","v":"※PDF版ではリンクしておりません。"},{"$f":"分類順!D2","v":0},{"$f":"分類順!E2","v":0},{"$f":"分類順!F2","v":0},{"$f":"D3&E3&F3&G3&H3","v":"医学百科目次へ※PDF版ではリンクしておりません。00"},1,{"$f":"VLOOKUP(\"*\"&目次加工!$B$2&\"*\",J3:K3,2,0)","v":1},{"$f":"VLOOKUP(\"*\"&$A$2&\"*\",J3:K3,2,0)","v":1}]
[null,null,null,{"$f":"分類順!A3","v":"最新　家庭の医学百科"},{"$f":"分類順!B3","v":"医療の本"},{"$f":"分類順!C3","v":"Aa：医学百科"},{"$f":"分類順!D3","v":"主婦と生活社　編"},{"$f":"分類順!E3","v":"主婦と生活社"},{"$f":"分類順!F3","v":2},{"$f":"D4&E4&F4&G4&H4","v":"最新　家庭の医学百科医療の本Aa：医学百科主婦と生活社　編主婦と生活社"},1,{"$f":"VLOOKUP(\"*\"&目次加工!$B$2&\"*\",J4:K4,2,0)","v":1},{"$f":"VLOOKUP(\"*\"&$A$2&\"*\",J4:K4,2,0)","v":{"$error":"#N/A"}}]
[null,null,null,{"$f":"分類順!A4","v":"ＥＢＭ　正しい治療がわかる本"},{"$f":"分類順!B4","v":"医療の本"},{"$f":"分類順!C4","v":"Aa：医学百科"},{"$f":"分類順!D4","v":"福井　次矢　著"},{"$f":"分類順!E4","v":"法研"},{"$f":"分類順!F4","v":4},{"$f":"D5&E5&F5&G5&H5","v":"ＥＢＭ　正しい治療がわかる本医療の本Aa：医学百科福井　次矢　著法研"},1,{"$f":"VLOOKUP(\"*\"&目次加工!$B$2&\"*\",J5:K5,2,0)","v":1},{"$error":"#N/A"}]
[null,null,null,"マニュアル医学百科　メルク最新家庭版",{"$f":"分類順!B5","v":"医療の本"},{"$f":"分類順!C5","v":"Aa：医学百科"},{"$f":"分類順!D5","v":0},{"$f":"分類順!E5","v":"日経BP社"},{"$f":"分類順!F5","v":5},"マニュアル医学百科　メルク最新家庭版医療の本Aa：医学百科0日経BP社",1,{"$f":"VLOOKUP(\"*\"&目次加工!$B$2&\"*\",J6:K6,2,0)","v":1},1]
[null,null,null,{"$f":"分類順!A6","v":"最新版　家庭医学大全科"},{"$f":"分類順!B6","v":"医療の本"},{"$f":"分類順!C6","v":"Aa：医学百科"},{"$f":"分類順!D6","v":"高久　史麿　他監修"},{"$f":"分類順!E6","v":"法研"},{"$f":"分類順!F6","v":7},{"$f":"D7&E7&F7&G7&H7","v":"最新版　家庭医学大全科医療の本Aa：医学百科高久　史麿　他監修法研"},1,{"$f":"VLOOKUP(\"*\"&目次加工!$B$2&\"*\",J7:K7,2,0)","v":1},{"$error":"#N/A"}]
[null,null,null,{"$f":"分類順!A7","v":"ポケット医学英和辞典　第２版"},{"$f":"分類順!B7","v":"医療の本"},{"$f":"分類順!C7","v":"Aa：医学百科"},{"$f":"分類順!D7","v":"泉　孝英　編"},{"$f":"分類順!E7","v":"医学書院"},{"$f":"分類順!F7","v":10},"ポケット医学英和辞典　第２版医療の本Aa：医学百科泉　孝英　編医学書院",1,{"$f":"VLOOKUP(\"*\"&目次加工!$B$2&\"*\",J8:K8,2,0)","v":1},{"$error":"#N/A"}]
[null,null,null,{"$f":"分類順!A8","v":"医学・看護用語のカタカナ語・略語便利辞典"},{"$f":"分類順!B8","v":"医療の本"},{"$f":"分類順!C8","v":"Aa：医学百科"},{"$f":"分類順!D8","v":"エキスパートナース編"},{"$f":"分類順!E8","v":"照林社"},{"$f":"分類順!F8","v":11},"医学・看護用語のカタカナ語・略語便利辞典医療の本Aa：医学百科エキスパートナース編照林社",1,{"$f":"VLOOKUP(\"*\"&目次加工!$B$2&\"*\",J9:K9,2,0)","v":1},{"$error":"#N/A"}]
[null,null,null,{"$f":"分類順!A9","v":"病気ユニーク事典"},{"$f":"分類順!B9","v":"医療の本"},{"$f":"分類順!C9","v":"Aa：医学百科"},{"$f":"分類順!D9","v":"北岡　建樹　著"},{"$f":"分類順!E9","v":"南山堂"},{"$f":"分類順!F9","v":23},"病気ユニーク事典医療の本Aa：医学百科北岡　建樹　著南山堂",1,{"$f":"VLOOKUP(\"*\"&目次加工!$B$2&\"*\",J10:K10,2,0)","v":1},{"$error":"#N/A"}]
[null,null,null,{"$f":"分類順!A10","v":"「カルテ＆レセプト略語１６０００」"},{"$f":"分類順!B10","v":"医療の本"},{"$f":"分類順!C10","v":"Aa：医学百科"},{"$f":"分類順!D10","v":0},{"$f":"分類順!E10","v":"医学通信社"},{"$f":"分類順!F10","v":24},"「カルテ＆レセプト略語１６０００」医療の本Aa：医学百科0医学通信社",1,{"$f":"VLOOKUP(\"*\"&目次加工!$B$2&\"*\",J11:K11,2,0)","v":1},1]
[null,null,null,{"$f":"分類順!A11","v":"今日の診断指針　ポケット版　第５版"},{"$f":"分類順!B11","v":"医療の本"},{"$f":"分類順!C11","v":"Aa：医学百科"},{"$f":"分類順!D11","v":"亀山　正邦　他編"},{"$f":"分類順!E11","v":"医学書院"},{"$f":"分類順!F11","v":25},{"$f":"D12&E12&F12&G12&H12","v":"今日の診断指針　ポケット版　第５版医療の本Aa：医学百科亀山　正邦　他編医学書院"},1,{"$f":"VLOOKUP(\"*\"&目次加工!$B$2&\"*\",J12:K12,2,0)","v":1},{"$error":"#N/A"}]
[null,null,null,{"$f":"分類順!A12","v":"標準・傷病名事典　Ver2.0 全診療科対応／ＩＣＤ－"},{"$f":"分類順!B12","v":"医療の本"},{"$f":"分類順!C12","v":"Aa：医学百科"},{"$f":"分類順!D12","v":"寺島　裕夫　編著"},{"$f":"分類順!E12","v":"医学通信社"},{"$f":"分類順!F12","v":989},"標準・傷病名事典　Ver2.0 全診療科対応／ＩＣＤ－医療の本Aa：医学百科寺島　裕夫　編著医学通信社",1,{"$f":"VLOOKUP(\"*\"&目次加工!$B$2&\"*\",J13:K13,2,0)","v":1},1]
[null,null,null,{"$f":"分類順!A13","v":"健康評価ハンドブック"},{"$f":"分類順!B13","v":"医療の本"},{"$f":"分類順!C13","v":"Aa：医学百科"},{"$f":"分類順!D13","v":"森惟明"},{"$f":"分類順!E13","v":"日東書院"},{"$f":"分類順!F13","v":5411},"健康評価ハンドブック医療の本Aa：医学百科森惟明日東書院",1,{"$f":"VLOOKUP(\"*\"&目次加工!$B$2&\"*\",J14:K14,2,0)","v":1},{"$error":"#N/A"}]
[null,null,null,{"$f":"分類順!A14","v":"英独仏ラ-和　医学用語小辞典"},{"$f":"分類順!B14","v":"医療の本"},{"$f":"分類順!C14","v":"Aa：医学百科"},{"$f":"分類順!D14","v":"菊池　博"},{"$f":"分類順!E14","v":"医学書院"},{"$f":"分類順!F14","v":8132},"英独仏ラ-和　医学用語小辞典医療の本Aa：医学百科菊池　博医学書院",1,{"$f":"VLOOKUP(\"*\"&目次加工!$B$2&\"*\",J15:K15,2,0)","v":1},{"$error":"#N/A"}]
[null,null,null,{"$f":"分類順!A15","v":"病院の言葉を分かりやすく"},{"$f":"分類順!B15","v":"医療の本"},{"$f":"分類順!C15","v":"Aa：医学百科"},{"$f":"分類順!D15","v":"国立国語研究所"},{"$f":"分類順!E15","v":"勁草書房"},{"$f":"分類順!F15","v":10049},"病院の言葉を分かりやすく医療の本Aa：医学百科国立国語研究所勁草書房",1,{"$f":"VLOOKUP(\"*\"&目次加工!$B$2&\"*\",J16:K16,2,0)","v":1},{"$error":"#N/A"}]
[null,null,null,{"$f":"分類順!A16","v":"症状からみる病態生理の基本"},{"$f":"分類順!B16","v":"医療の本"},{"$f":"分類順!C16","v":"Aa：医学百科"},{"$f":"分類順!D16","v":"斎藤宣彦"},{"$f":"分類順!E16","v":"照林社"},{"$f":"分類順!F16","v":10271},"症状からみる病態生理の基本医療の本Aa：医学百科斎藤宣彦照林社",1,{"$f":"VLOOKUP(\"*\"&目次加工!$B$2&\"*\",J17:K17,2,0)","v":1},{"$error":"#N/A"}]
[null,null,null,{"$f":"分類順!A17","v":"標準・傷病名事典　Ver3.0"},{"$f":"分類順!B17","v":"医療の本"},{"$f":"分類順!C17","v":"Aa：医学百科"},{"$f":"分類順!D17","v":"寺島裕夫"},{"$f":"分類順!E17","v":"医学通信社"},{"$f":"分類順!F17","v":10482},"標準・傷病名事典　Ver3.0医療の本Aa：医学百科寺島裕夫医学通信社",1,{"$f":"VLOOKUP(\"*\"&目次加工!$B$2&\"*\",J18:K18,2,0)","v":1},1]
[null,null,null,{"$f":"分類順!A18","v":"専門医学事典"},{"$f":"分類順!B18","v":"目次へ"},{"$f":"分類順!C18","v":"※PDF版ではリンクしておりません。"},{"$f":"分類順!D18","v":0},{"$f":"分類順!E18","v":0},{"$f":"分類順!F18","v":0},{"$f":"D19&E19&F19&G19&H19","v":"専門医学事典目次へ※PDF版ではリンクしておりません。00"},1,{"$f":"VLOOKUP(\"*\"&目次加工!$B$2&\"*\",J19:K19,2,0)","v":1},1]
[null,null,null,{"$f":"分類順!A19","v":"絵とき再生医学入門　幹細胞の基礎知識から"},{"$f":"分類順!B19","v":"医療の本"},{"$f":"分類順!C19","v":"Ab：専門医学事典"},{"$f":"分類順!D19","v":"朝比奈　欣治　他著"},{"$f":"分類順!E19","v":"羊土社"},{"$f":"分類順!F19","v":13},"絵とき再生医学入門　幹細胞の基礎知識から医療の本Ab：専門医学事典朝比奈　欣治　他著羊土社",1,{"$f":"VLOOKUP(\"*\"&目次加工!$B$2&\"*\",J20:K20,2,0)","v":1},{"$error":"#N/A"}]
[null,null,null,{"$f":"分類順!A20","v":"気管食道科学用語解説集"},{"$f":"分類順!B20","v":"医療の本"},{"$f":"分類順!C20","v":"Ab：専門医学事典"},{"$f":"分類順!D20","v":"日本気管食道科学会"},{"$f":"分類順!E20","v":"金原出版"},{"$f":"分類順!F20","v":15},"気管食道科学用語解説集医療の本Ab：専門医学事典日本気管食道科学会金原出版",1,{"$f":"VLOOKUP(\"*\"&目次加工!$B$2&\"*\",J21:K21,2,0)","v":1},{"$error":"#N/A"}]
[null,null,null,{"$f":"分類順!A21","v":"血液学用語辞典　改訂３版"},{"$f":"分類順!B21","v":"医療の本"},{"$f":"分類順!C21","v":"Ab：専門医学事典"},{"$f":"分類順!D21","v":"平井　久丸　編集"},{"$f":"分類順!E21","v":"フジメディカル"},{"$f":"分類順!F21","v":16},"血液学用語辞典　改訂３版医療の本Ab：専門医学事典平井　久丸　編集フジメディカル",1,{"$f":"VLOOKUP(\"*\"&目次加工!$B$2&\"*\",J22:K22,2,0)","v":1},{"$error":"#N/A"}]
[null,null,null,{"$f":"分類順!A22","v":"人体スペシャル　脳の地図帳"},{"$f":"分類順!B22","v":"医療の本"},{"$f":"分類順!C22","v":"Ab：専門医学事典"},{"$f":"分類順!D22","v":"原　一之　著"},{"$f":"分類順!E22","v":"講談社"},{"$f":"分類順!F22","v":17},"人体スペシャル　脳の地図帳医療の本Ab：専門医学事典原　一之　著講談社",1,{"$f":"VLOOKUP(\"*\"&目次加工!$B$2&\"*\",J23:K23,2,0)","v":1},{"$error":"#N/A"}]
[null,null,null,{"$f":"分類順!A23","v":"分子生物学・免疫学キーワード辞典　第２版"},{"$f":"分類順!B23","v":"医療の本"},{"$f":"分類順!C23","v":"Ab：専門医学事典"},{"$f":"分類順!D23","v":"永田　和宏　他編"},{"$f":"分類順!E23","v":"医学書院"},{"$f":"分類順!F23","v":27},"分子生物学・免疫学キーワード辞典　第２版医療の本Ab：専門医学事典永田　和宏　他編医学書院",1,{"$f":"VLOOKUP(\"*\"&目次加工!$B$2&\"*\",J24:K24,2,0)","v":1},{"$error":"#N/A"}]
[null,null,null,{"$f":"分類順!A24","v":"免疫・アレルギー疾患用語解説集"},{"$f":"分類順!B24","v":"医療の本"},{"$f":"分類順!C24","v":"Ab：専門医学事典"},{"$f":"分類順!D24","v":"足立　満　監修"},{"$f":"分類順!E24","v":"エクセル企画出"},{"$f":"分類順!F24","v":28},"免疫・アレルギー疾患用語解説集医療の本Ab：専門医学事典足立　満　監修エクセル企画出",1,{"$f":"VLOOKUP(\"*\"&目次加工!$B$2&\"*\",J25:K25,2,0)","v":1},{"$error":"#N/A"}]
[null,null,null,{"$f":"分類順!A25","v":"病院の言葉を分かりやすく"},{"$f":"分類順!B25","v":"医療の本"},{"$f":"分類順!C25","v":"Ab：専門医学事典"},{"$f":"分類順!D25","v":"国立国語研究所「病院の言葉」委員会　編著"},{"$f":"分類順!E25","v":"勁草書房"},{"$f":"分類順!F25","v":8039},"病院の言葉を分かりやすく医療の本Ab：専門医学事典国立国語研究所「病院の言葉」委員会　編著勁草書房",1,{"$f":"VLOOKUP(\"*\"&目次加工!$B$2&\"*\",J26:K26,2,0)","v":1},{"$error":"#N/A"}]
[null,null,null,{"$f":"分類順!A26","v":"図解人体"},{"$f":"分類順!B26","v":"目次へ"},{"$f":"分類順!C26","v":"※PDF版ではリンクしておりません。"},{"$f":"分類順!D26","v":0},{"$f":"分類順!E26","v":0},{"$f":"分類順!F26","v":0},"図解人体目次へ※PDF版ではリンクしておりません。00",1,{"$f":"VLOOKUP(\"*\"&目次加工!$B$2&\"*\",J27:K27,2,0)","v":1},1]
[null,null,null,{"$f":"分類順!A27","v":"１　呼吸器"},{"$f":"分類順!B27","v":"医療の本"},{"$f":"分類順!C27","v":"Ac：図解人体"},{"$f":"分類順!D27","v":"牛木　辰男　他"},{"$f":"分類順!E27","v":"日本醫事新報社"},{"$f":"分類順!F27","v":29},"１　呼吸器医療の本Ac：図解人体牛木　辰男　他日本醫事新報社",1,{"$f":"VLOOKUP(\"*\"&目次加工!$B$2&\"*\",J28:K28,2,0)","v":1},{"$error":"#N/A"}]
[null,null,null,{"$f":"分類順!A28","v":"10　運動器"},{"$f":"分類順!B28","v":"医療の本"},{"$f":"分類順!C28","v":"Ac：図解人体"},{"$f":"分類順!D28","v":"坂井　建雄　総編集"},{"$f":"分類順!E28","v":"日本醫事新報社"},{"$f":"分類順!F28","v":30},"10　運動器医療の本Ac：図解人体坂井　建雄　総編集日本醫事新報社",1,{"$f":"VLOOKUP(\"*\"&目次加工!$B$2&\"*\",J29:K29,2,0)","v":1},1]
[null,null,null,{"$f":"分類順!A29","v":"２　循環器"},{"$f":"分類順!B29","v":"医療の本"},{"$f":"分類順!C29","v":"Ac：図解人体"},{"$f":"分類順!D29","v":"大谷　修　他"},{"$f":"分類順!E29","v":"日本醫事新報社"},{"$f":"分類順!F29","v":31},"２　循環器医療の本Ac：図解人体大谷　修　他日本醫事新報社",1,{"$f":"VLOOKUP(\"*\"&目次加工!$B$2&\"*\",J30:K30,2,0)","v":1},{"$error":"#N/A"}]
[null,null,null,{"$f":"分類順!A30","v":"３　消化管"},{"$f":"分類順!B30","v":"医療の本"},{"$f":"分類順!C30","v":"Ac：図解人体"},{"$f":"分類順!D30","v":"河原　克雄　他"},{"$f":"分類順!E30","v":"日本醫事新報社"},{"$f":"分類順!F30","v":32},"３　消化管医療の本Ac：図解人体河原　克雄　他日本醫事新報社",1,{"$f":"VLOOKUP(\"*\"&目次加工!$B$2&\"*\",J31:K31,2,0)","v":1},{"$error":"#N/A"}]
[null,null,null,{"$f":"分類順!A31","v":"４　肝・胆・膵"},{"$f":"分類順!B31","v":"医療の本"},{"$f":"分類順!C31","v":"Ac：図解人体"},{"$f":"分類順!D31","v":"泉井　亮　他"},{"$f":"分類順!E31","v":"日本醫事新報社"},{"$f":"分類順!F31","v":33},"４　肝・胆・膵医療の本Ac：図解人体泉井　亮　他日本醫事新報社",1,{"$f":"VLOOKUP(\"*\"&目次加工!$B$2&\"*\",J32:K32,2,0)","v":1},{"$error":"#N/A"}]
[null,null,null,{"$f":"分類順!A32","v":"５　腎・泌尿器"},{"$f":"分類順!B32","v":"医療の本"},{"$f":"分類順!C32","v":"Ac：図解人体"},{"$f":"分類順!D32","v":"坂井　建雄　他編"},{"$f":"分類順!E32","v":"日本醫事新報社"},{"$f":"分類順!F32","v":34},"５　腎・泌尿器医療の本Ac：図解人体坂井　建雄　他編日本醫事新報社",1,{"$f":"VLOOKUP(\"*\"&目次加工!$B$2&\"*\",J33:K33,2,0)","v":1},{"$error":"#N/A"}]
[null,null,null,{"$f":"分類順!A33","v":"６　生殖器"},{"$f":"分類順!B33","v":"医療の本"},{"$f":"分類順!C33","v":"Ac：図解人体"},{"$f":"分類順!D33","v":"坂井　建雄　他編"},{"$f":"分類順!E33","v":"日本醫事新報社"},{"$f":"分類順!F33","v":35},"６　生殖器医療の本Ac：図解人体坂井　建雄　他編日本醫事新報社",1,{"$f":"VLOOKUP(\"*\"&目次加工!$B$2&\"*\",J34:K34,2,0)","v":1},{"$error":"#N/A"}]
[null,null,null,{"$f":"分類順!A34","v":"７　血液・免疫・内分泌"},{"$f":"分類順!B34","v":"医療の本"},{"$f":"分類順!C34","v":"Ac：図解人体"},{"$f":"分類順!D34","v":"坂井　建雄　他編"},{"$f":"分類順!E34","v":"日本醫事新報社"},{"$f":"分類順!F34","v":36},"７　血液・免疫・内分泌医療の本Ac：図解人体坂井　建雄　他編日本醫事新報社",1,{"$f":"VLOOKUP(\"*\"&目次加工!$B$2&\"*\",J35:K35,2,0)","v":1},{"$error":"#N/A"}]
[null,null,null,{"$f":"分類順!A35","v":"８　神経系１"},{"$f":"分類順!B35","v":"医療の本"},{"$f":"分類順!C35","v":"Ac：図解人体"},{"$f":"分類順!D35","v":"坂井　建雄　総編集"},{"$f":"分類順!E35","v":"日本醫事新報社"},{"$f":"分類順!F35","v":37},"８　神経系１医療の本Ac：図解人体坂井　建雄　総編集日本醫事新報社",1,{"$f":"VLOOKUP(\"*\"&目次加工!$B$2&\"*\",J36:K36,2,0)","v":1},{"$error":"#N/A"}]
[null,null,null,{"$f":"分類順!A36","v":"９　神経系２"},{"$f":"分類順!B36","v":"医療の本"},{"$f":"分類順!C36","v":"Ac：図解人体"},{"$f":"分類順!D36","v":"坂井　建雄　総編集"},{"$f":"分類順!E36","v":"日本醫事新報社"},{"$f":"分類順!F36","v":38},"９　神経系２医療の本Ac：図解人体坂井　建雄　総編集日本醫事新報社",1,{"$f":"VLOOKUP(\"*\"&目次加工!$B$2&\"*\",J37:K37,2,0)","v":1},{"$error":"#N/A"}]
[null,null,null,{"$f":"分類順!A37","v":"イラストでまなぶ人体のしくみとはたらき"},{"$f":"分類順!B37","v":"医療の本"},{"$f":"分類順!C37","v":"Ac：図解人体"},{"$f":"分類順!D37","v":"田中　越郎　著"},{"$f":"分類順!E37","v":"医学書院"},{"$f":"分類順!F37","v":39},"イラストでまなぶ人体のしくみとはたらき医療の本Ac：図解人体田中　越郎　著医学書院",1,{"$f":"VLOOKUP(\"*\"&目次加工!$B$2&\"*\",J38:K38,2,0)","v":1},{"$error":"#N/A"}]
[null,null,null,{"$f":"分類順!A38","v":"ヒューマンボディ－からだの不思議がわかる"},{"$f":"分類順!B38","v":"医療の本"},{"$f":"分類順!C38","v":"Ac：図解人体"},{"$f":"分類順!D38","v":"尾岸　恵三子　監訳"},{"$f":"分類順!E38","v":"エルゼビア・ジャパン"},{"$f":"分類順!F38","v":42},"ヒューマンボディ－からだの不思議がわかる医療の本Ac：図解人体尾岸　恵三子　監訳エルゼビア・ジャパン",1,{"$f":"VLOOKUP(\"*\"&目次加工!$B$2&\"*\",J39:K39,2,0)","v":1},{"$error":"#N/A"}]
[null,null,null,{"$f":"分類順!A39","v":"解剖生理学"},{"$f":"分類順!B39","v":"医療の本"},{"$f":"分類順!C39","v":"Ac：図解人体"},{"$f":"分類順!D39","v":"高野　廣子"},{"$f":"分類順!E39","v":"南山堂"},{"$f":"分類順!F39","v":43},"解剖生理学医療の本Ac：図解人体高野　廣子南山堂",1,{"$f":"VLOOKUP(\"*\"&目次加工!$B$2&\"*\",J40:K40,2,0)","v":1},{"$error":"#N/A"}]
[null,null,null,{"$f":"分類順!A40","v":"人体の構造と機能－解剖生理学　第２版"},{"$f":"分類順!B40","v":"医療の本"},{"$f":"分類順!C40","v":"Ac：図解人体"},{"$f":"分類順!D40","v":0},{"$f":"分類順!E40","v":"メディカ出版"},{"$f":"分類順!F40","v":45},"人体の構造と機能－解剖生理学　第２版医療の本Ac：図解人体0メディカ出版",1,{"$f":"VLOOKUP(\"*\"&目次加工!$B$2&\"*\",J41:K41,2,0)","v":1},1]
[null,null,null,{"$f":"分類順!A41","v":"かさぶたくん"},{"$f":"分類順!B41","v":"医療の本"},{"$f":"分類順!C41","v":"Ac：図解人体"},{"$f":"分類順!D41","v":"やぎゅう げんいちろう"},{"$f":"分類順!E41","v":"福音館書店"},{"$f":"分類順!F41","v":5344},"かさぶたくん医療の本Ac：図解人体やぎゅう げんいちろう福音館書店",1,{"$f":"VLOOKUP(\"*\"&目次加工!$B$2&\"*\",J42:K42,2,0)","v":1},{"$error":"#N/A"}]
[null,null,null,{"$f":"分類順!A42","v":"おっぱいのひみつ"},{"$f":"分類順!B42","v":"医療の本"},{"$f":"分類順!C42","v":"Ac：図解人体"},{"$f":"分類順!D42","v":"やぎゅう げんいちろう"},{"$f":"分類順!E42","v":"福音館書店"},{"$f":"分類順!F42","v":5345},"おっぱいのひみつ医療の本Ac：図解人体やぎゅう げんいちろう福音館書店",1,{"$f":"VLOOKUP(\"*\"&目次加工!$B$2&\"*\",J43:K43,2,0)","v":1},{"$error":"#N/A"}]
[null,null,null,{"$f":"分類順!A43","v":"ぜんぶわかる人体解剖図―系統別・部位別にわかりやすくビジュアル解説"},{"$f":"分類順!B43","v":"医療の本"},{"$f":"分類順!C43","v":"Ac：図解人体"},{"$f":"分類順!D43","v":"坂井 建雄/橋本 尚詞"},{"$f":"分類順!E43","v":"成美堂出版"},{"$f":"分類順!F43","v":5346},"ぜんぶわかる人体解剖図―系統別・部位別にわかりやすくビジュアル解説医療の本Ac：図解人体坂井 建雄/橋本 尚詞成美堂出版",1,{"$f":"VLOOKUP(\"*\"&目次加工!$B$2&\"*\",J44:K44,2,0)","v":1},{"$error":"#N/A"}]
[null,null,null,{"$f":"分類順!A44","v":"からだ"},{"$f":"分類順!B44","v":"医療の本"},{"$f":"分類順!C44","v":"Ac：図解人体"},{"$f":"分類順!D44","v":"幼児ソフト企画開発部"},{"$f":"分類順!E44","v":"学研"},{"$f":"分類順!F44","v":5501},"からだ医療の本Ac：図解人体幼児ソフト企画開発部学研",1,{"$f":"VLOOKUP(\"*\"&目次加工!$B$2&\"*\",J45:K45,2,0)","v":1},{"$error":"#N/A"}]
[null,null,null,{"$f":"分類順!A45","v":"人体の勝利"},{"$f":"分類順!B45","v":"医療の本"},{"$f":"分類順!C45","v":"Ac：図解人体"},{"$f":"分類順!D45","v":"レナルト・ニルソン"},{"$f":"分類順!E45","v":"小学館"},{"$f":"分類順!F45","v":5549},"人体の勝利医療の本Ac：図解人体レナルト・ニルソン小学館",1,{"$f":"VLOOKUP(\"*\"&目次加工!$B$2&\"*\",J46:K46,2,0)","v":1},{"$error":"#N/A"}]
[null,null,null,{"$f":"分類順!A46","v":"解剖生理をおもしろく学ぶ"},{"$f":"分類順!B46","v":"医療の本"},{"$f":"分類順!C46","v":"Ac：図解人体"},{"$f":"分類順!D46","v":"監修：増田敦子"},{"$f":"分類順!E46","v":"医学芸術社"},{"$f":"分類順!F46","v":8045},"解剖生理をおもしろく学ぶ医療の本Ac：図解人体監修：増田敦子医学芸術社",1,{"$f":"VLOOKUP(\"*\"&目次加工!$B$2&\"*\",J47:K47,2,0)","v":1},{"$error":"#N/A"}]
[null,null,null,{"$f":"分類順!A47","v":"トリセツ・カラダ　カラダ地図を描こう"},{"$f":"分類順!B47","v":"医療の本"},{"$f":"分類順!C47","v":"Ac：図解人体"},{"$f":"分類順!D47","v":"海堂　尊著"},{"$f":"分類順!E47","v":"宝島社"},{"$f":"分類順!F47","v":8092},"トリセツ・カラダ　カラダ地図を描こう医療の本Ac：図解人体海堂　尊著宝島社",1,{"$f":"VLOOKUP(\"*\"&目次加工!$B$2&\"*\",J48:K48,2,0)","v":1},{"$error":"#N/A"}]
[null,null,null,{"$f":"分類順!A48","v":"おへそのひみつ"},{"$f":"分類順!B48","v":"医療の本"},{"$f":"分類順!C48","v":"Ac：図解人体"},{"$f":"分類順!D48","v":"やぎゅうげんいちろう"},{"$f":"分類順!E48","v":"福音館書店"},{"$f":"分類順!F48","v":8104},"おへそのひみつ医療の本Ac：図解人体やぎゅうげんいちろう福音館書店",1,{"$f":"VLOOKUP(\"*\"&目次加工!$B$2&\"*\",J49:K49,2,0)","v":1},{"$error":"#N/A"}]
[null,null,null,{"$f":"分類順!A49","v":"WONDER　MOVE　人体のふしぎ　（講談社の動く図鑑WONDER　MOVE）"},{"$f":"分類順!B49","v":"医療の本"},{"$f":"分類順!C49","v":"Ac：図解人体"},{"$f":"分類順!D49","v":"講談社, 島田達生"},{"$f":"分類順!E49","v":"講談社"},{"$f":"分類順!F49","v":10281},"WONDER　MOVE　人体のふしぎ　（講談社の動く図鑑WONDER　MOVE）医療の本Ac：図解人体講談社, 島田達生講談社",1,{"$f":"VLOOKUP(\"*\"&目次加工!$B$2&\"*\",J50:K50,2,0)","v":1},{"$error":"#N/A"}]
[null,null,null,{"$f":"分類順!A50","v":"検査"},{"$f":"分類順!B50","v":"目次へ"},{"$f":"分類順!C50","v":"※PDF版ではリンクしておりません。"},{"$f":"分類順!D50","v":0},{"$f":"分類順!E50","v":0},{"$f":"分類順!F50","v":0},"検査目次へ※PDF版ではリンクしておりません。00",1,{"$f":"VLOOKUP(\"*\"&目次加工!$B$2&\"*\",J51:K51,2,0)","v":1},1]
[null,null,null,{"$f":"分類順!A51","v":"Ｘ線・（造影）Ｘ線検査のマネジメント"},{"$f":"分類順!B51","v":"医療の本"},{"$f":"分類順!C51","v":"Ad：検査"},{"$f":"分類順!D51","v":"中村　仁信　編"},{"$f":"分類順!E51","v":"医薬ジャーナル社"},{"$f":"分類順!F51","v":51},"Ｘ線・（造影）Ｘ線検査のマネジメント医療の本Ad：検査中村　仁信　編医薬ジャーナル社",1,{"$f":"VLOOKUP(\"*\"&目次加工!$B$2&\"*\",J52:K52,2,0)","v":1},{"$error":"#N/A"}]
[null,null,null,{"$f":"分類順!A52","v":"ちいさい・おおきい・よわい・つよい　４２"},{"$f":"分類順!B52","v":"医療の本"},{"$f":"分類順!C52","v":"Ad：検査"},{"$f":"分類順!D52","v":"毛利　子来　編集代表"},{"$f":"分類順!E52","v":"ジャパンマシニスト社"},{"$f":"分類順!F52","v":52},"ちいさい・おおきい・よわい・つよい　４２医療の本Ad：検査毛利　子来　編集代表ジャパンマシニスト社",1,{"$f":"VLOOKUP(\"*\"&目次加工!$B$2&\"*\",J53:K53,2,0)","v":1},{"$error":"#N/A"}]
[null,null,null,{"$f":"分類順!A53","v":"はじめての注射と採血"},{"$f":"分類順!B53","v":"医療の本"},{"$f":"分類順!C53","v":"Ad：検査"},{"$f":"分類順!D53","v":"大阪労災病院看護部"},{"$f":"分類順!E53","v":"メディカ出版"},{"$f":"分類順!F53","v":53},"はじめての注射と採血医療の本Ad：検査大阪労災病院看護部メディカ出版",1,{"$f":"VLOOKUP(\"*\"&目次加工!$B$2&\"*\",J54:K54,2,0)","v":1},{"$error":"#N/A"}]
[null,null,null,{"$f":"分類順!A54","v":"はじめての輸液"},{"$f":"分類順!B54","v":"医療の本"},{"$f":"分類順!C54","v":"Ad：検査"},{"$f":"分類順!D54","v":"大阪労災病院看護部"},{"$f":"分類順!E54","v":"メディカ出版"},{"$f":"分類順!F54","v":54},"はじめての輸液医療の本Ad：検査大阪労災病院看護部メディカ出版",1,{"$f":"VLOOKUP(\"*\"&目次加工!$B$2&\"*\",J55:K55,2,0)","v":1},{"$error":"#N/A"}]
[null,null,null,{"$f":"分類順!A55","v":"フォローアップ検査ガイド"},{"$f":"分類順!B55","v":"医療の本"},{"$f":"分類順!C55","v":"Ad：検査"},{"$f":"分類順!D55","v":"北村　聖　他編"},{"$f":"分類順!E55","v":"医学書院"},{"$f":"分類順!F55","v":55},"フォローアップ検査ガイド医療の本Ad：検査北村　聖　他編医学書院",1,{"$f":"VLOOKUP(\"*\"&目次加工!$B$2&\"*\",J56:K56,2,0)","v":1},{"$error":"#N/A"}]
[null,null,null,{"$f":"分類順!A56","v":"患者さんに伝える臨床検査の説明マニュアル"},{"$f":"分類順!B56","v":"医療の本"},{"$f":"分類順!C56","v":"Ad：検査"},{"$f":"分類順!D56","v":"櫻林　郁之介　監"},{"$f":"分類順!E56","v":"医歯薬出版"},{"$f":"分類順!F56","v":57},"患者さんに伝える臨床検査の説明マニュアル医療の本Ad：検査櫻林　郁之介　監医歯薬出版",1,{"$f":"VLOOKUP(\"*\"&目次加工!$B$2&\"*\",J57:K57,2,0)","v":1},{"$error":"#N/A"}]
[null,null,null,{"$f":"分類順!A57","v":"看護に役立つ検査値の読み方・考え方　２版"},{"$f":"分類順!B57","v":"医療の本"},{"$f":"分類順!C57","v":"Ad：検査"},{"$f":"分類順!D57","v":"河野　均也　他監"},{"$f":"分類順!E57","v":"総合医学社"},{"$f":"分類順!F57","v":58},"看護に役立つ検査値の読み方・考え方　２版医療の本Ad：検査河野　均也　他監総合医学社",1,{"$f":"VLOOKUP(\"*\"&目次加工!$B$2&\"*\",J58:K58,2,0)","v":1},{"$error":"#N/A"}]
[null,null,null,{"$f":"分類順!A58","v":"実践　生理機能検査テキスト"},{"$f":"分類順!B58","v":"医療の本"},{"$f":"分類順!C58","v":"Ad：検査"},{"$f":"分類順!D58","v":"宮武　邦夫　監修"},{"$f":"分類順!E58","v":"メディカ出版"},{"$f":"分類順!F58","v":60},"実践　生理機能検査テキスト医療の本Ad：検査宮武　邦夫　監修メディカ出版",1,{"$f":"VLOOKUP(\"*\"&目次加工!$B$2&\"*\",J59:K59,2,0)","v":1},{"$error":"#N/A"}]
[null,null,null,{"$f":"分類順!A59","v":"「健診・人間ドックハンドブック」第３版"},{"$f":"分類順!B59","v":"医療の本"},{"$f":"分類順!C59","v":"Ad：検査"},{"$f":"分類順!D59","v":"日野原　重明　監修"},{"$f":"分類順!E59","v":"中外医学社"},{"$f":"分類順!F59","v":62},"「健診・人間ドックハンドブック」第３版医療の本Ad：検査日野原　重明　監修中外医学社",1,{"$f":"VLOOKUP(\"*\"&目次加工!$B$2&\"*\",J60:K60,2,0)","v":1},{"$error":"#N/A"}]
[null,null,null,{"$f":"分類順!A60","v":"内視鏡検査・治療・ケアがよくわかる本"},{"$f":"分類順!B60","v":"医療の本"},{"$f":"分類順!C60","v":"Ad：検査"},{"$f":"分類順!D60","v":"田中　雅夫　監修"},{"$f":"分類順!E60","v":"照林社"},{"$f":"分類順!F60","v":63},"内視鏡検査・治療・ケアがよくわかる本医療の本Ad：検査田中　雅夫　監修照林社",1,{"$f":"VLOOKUP(\"*\"&目次加工!$B$2&\"*\",J61:K61,2,0)","v":1},{"$error":"#N/A"}]
[null,null,null,{"$f":"分類順!A61","v":"脳神経"},{"$f":"分類順!B61","v":"医療の本"},{"$f":"分類順!C61","v":"Ad：検査"},{"$f":"分類順!D61","v":"志賀　逸夫　編"},{"$f":"分類順!E61","v":"メジカルビュー社"},{"$f":"分類順!F61","v":64},"脳神経医療の本Ad：検査志賀　逸夫　編メジカルビュー社",1,{"$f":"VLOOKUP(\"*\"&目次加工!$B$2&\"*\",J62:K62,2,0)","v":1},{"$error":"#N/A"}]
[null,null,null,{"$f":"分類順!A62","v":"０８　放射線療法　ＣＤ－ＲＯＭ付★"},{"$f":"分類順!B62","v":"医療の本"},{"$f":"分類順!C62","v":"Ad：検査"},{"$f":"分類順!D62","v":"日本乳癌学会　編"},{"$f":"分類順!E62","v":"金原出版"},{"$f":"分類順!F62","v":983},"０８　放射線療法　ＣＤ－ＲＯＭ付★医療の本Ad：検査日本乳癌学会　編金原出版",1,{"$f":"VLOOKUP(\"*\"&目次加工!$B$2&\"*\",J63:K63,2,0)","v":1},{"$error":"#N/A"}]
[null,null,null,{"$f":"分類順!A63","v":"健康診断の検査値がとことんわかる事典―基本健診から精密検査まで"},{"$f":"分類順!B63","v":"医療の本"},{"$f":"分類順!C63","v":"Ad：検査"},{"$f":"分類順!D63","v":"西崎　統　編集"},{"$f":"分類順!E63","v":"主婦と生活社"},{"$f":"分類順!F63","v":5347},"健康診断の検査値がとことんわかる事典―基本健診から精密検査まで医療の本Ad：検査西崎　統　編集主婦と生活社",1,{"$f":"VLOOKUP(\"*\"&目次加工!$B$2&\"*\",J64:K64,2,0)","v":1},{"$error":"#N/A"}]
[null,null,null,{"$f":"分類順!A64","v":"病院で受ける検査がわかる本"},{"$f":"分類順!B64","v":"医療の本"},{"$f":"分類順!C64","v":"Ad：検査"},{"$f":"分類順!D64","v":"高木 康/田口 進　著"},{"$f":"分類順!E64","v":"法研"},{"$f":"分類順!F64","v":5348},"病院で受ける検査がわかる本医療の本Ad：検査高木 康/田口 進　著法研",1,{"$f":"VLOOKUP(\"*\"&目次加工!$B$2&\"*\",J65:K65,2,0)","v":1},{"$error":"#N/A"}]
[null,null,null,{"$f":"分類順!A65","v":"改訂版　看護に生かす検査マニュアル"},{"$f":"分類順!B65","v":"医療の本"},{"$f":"分類順!C65","v":"Ad：検査"},{"$f":"分類順!D65","v":"高木　康"},{"$f":"分類順!E65","v":"医学芸術社"},{"$f":"分類順!F65","v":8044},"改訂版　看護に生かす検査マニュアル医療の本Ad：検査高木　康医学芸術社",1,{"$f":"VLOOKUP(\"*\"&目次加工!$B$2&\"*\",J66:K66,2,0)","v":1},{"$error":"#N/A"}]
[null,null,null,{"$f":"分類順!A66","v":"検査でわかること～健康診断ガイドブック　（別冊NHKきょうの健康）"},{"$f":"分類順!B66","v":"医療の本"},{"$f":"分類順!C66","v":"Ad：検査"},{"$f":"分類順!D66","v":"NHK出版"},{"$f":"分類順!E66","v":"NHK出版"},{"$f":"分類順!F66","v":8094},"検査でわかること～健康診断ガイドブック　（別冊NHKきょうの健康）医療の本Ad：検査NHK出版NHK出版",1,{"$f":"VLOOKUP(\"*\"&目次加工!$B$2&\"*\",J67:K67,2,0)","v":1},{"$error":"#N/A"}]
[null,null,null,{"$f":"分類順!A67","v":"検査値の読み方"},{"$f":"分類順!B67","v":"医療の本"},{"$f":"分類順!C67","v":"Ad：検査"},{"$f":"分類順!D67","v":"西﨑祐史/渡邊千登世"},{"$f":"分類順!E67","v":"照林社"},{"$f":"分類順!F67","v":10057},"検査値の読み方医療の本Ad：検査西﨑祐史/渡邊千登世照林社",1,{"$f":"VLOOKUP(\"*\"&目次加工!$B$2&\"*\",J68:K68,2,0)","v":1},{"$f":"VLOOKUP(\"*\"&$A$2&\"*\",J68:K68,2,0)","v":{"$error":"#N/A"}}]
[null,null,null,{"$f":"分類順!A68","v":"検査値・数式ハンドブック"},{"$f":"分類順!B68","v":"医療の本"},{"$f":"分類順!C68","v":"Ad：検査"},{"$f":"分類順!D68","v":"奈良信雄"},{"$f":"分類順!E68","v":"エクスナレッジ"},{"$f":"分類順!F68","v":10058},"検査値・数式ハンドブック医療の本Ad：検査奈良信雄エクスナレッジ",1,{"$f":"VLOOKUP(\"*\"&目次加工!$B$2&\"*\",J69:K69,2,0)","v":1},{"$error":"#N/A"}]
[null,null,null,{"$f":"分類順!A69","v":"検査と数値がわかる事典"},{"$f":"分類順!B69","v":"医療の本"},{"$f":"分類順!C69","v":"Ad：検査"},{"$f":"分類順!D69","v":"祝田靖"},{"$f":"分類順!E69","v":"成美堂出版"},{"$f":"分類順!F69","v":10059},"検査と数値がわかる事典医療の本Ad：検査祝田靖成美堂出版",1,{"$f":"VLOOKUP(\"*\"&目次加工!$B$2&\"*\",J70:K70,2,0)","v":1},{"$error":"#N/A"}]
[null,null,null,{"$f":"分類順!A70","v":"患者さんが安心できる検査説明ガイドブック"},{"$f":"分類順!B70","v":"医療の本"},{"$f":"分類順!C70","v":"Ad：検査"},{"$f":"分類順!D70","v":"東京慈恵会医科大学附属病院"},{"$f":"分類順!E70","v":"医学書院"},{"$f":"分類順!F70","v":10280},"患者さんが安心できる検査説明ガイドブック医療の本Ad：検査東京慈恵会医科大学附属病院医学書院",1,{"$f":"VLOOKUP(\"*\"&目次加工!$B$2&\"*\",J71:K71,2,0)","v":1},{"$error":"#N/A"}]
[null,null,null,{"$f":"分類順!A71","v":"放射線検査説明の手引き"},{"$f":"分類順!B71","v":"医療の本"},{"$f":"分類順!C71","v":"Ad：検査"},{"$f":"分類順!D71","v":"日本診療放射線技師会"},{"$f":"分類順!E71","v":"医療科学社"},{"$f":"分類順!F71","v":10607},"放射線検査説明の手引き医療の本Ad：検査日本診療放射線技師会医療科学社",1,{"$f":"VLOOKUP(\"*\"&目次加工!$B$2&\"*\",J72:K72,2,0)","v":1},{"$error":"#N/A"}]
[null,null,null,{"$f":"分類順!A72","v":"医療被ばく相談Q&A"},{"$f":"分類順!B72","v":"医療の本"},{"$f":"分類順!C72","v":"Ad：検査"},{"$f":"分類順!D72","v":"日本診療放射線技師会医療被ばく安全管理委員会"},{"$f":"分類順!E72","v":"医療科学社"},{"$f":"分類順!F72","v":10608},"医療被ばく相談Q&A医療の本Ad：検査日本診療放射線技師会医療被ばく安全管理委員会医療科学社",1,{"$f":"VLOOKUP(\"*\"&目次加工!$B$2&\"*\",J73:K73,2,0)","v":1},{"$error":"#N/A"}]
[null,null,null,{"$f":"分類順!A73","v":"臨床看護"},{"$f":"分類順!B73","v":"目次へ"},{"$f":"分類順!C73","v":"※PDF版ではリンクしておりません。"},{"$f":"分類順!D73","v":0},{"$f":"分類順!E73","v":0},{"$f":"分類順!F73","v":0},"臨床看護目次へ※PDF版ではリンクしておりません。00",1,{"$f":"VLOOKUP(\"*\"&目次加工!$B$2&\"*\",J74:K74,2,0)","v":1},1]
[null,null,null,{"$f":"分類順!A74","v":"ナースが知っておくべきかゆみのケア"},{"$f":"分類順!B74","v":"医療の本"},{"$f":"分類順!C74","v":"Ae：臨床看護"},{"$f":"分類順!D74","v":"高島　玉青　著"},{"$f":"分類順!E74","v":"日本看護協会出版会"},{"$f":"分類順!F74","v":81},"ナースが知っておくべきかゆみのケア医療の本Ae：臨床看護高島　玉青　著日本看護協会出版会",1,{"$f":"VLOOKUP(\"*\"&目次加工!$B$2&\"*\",J75:K75,2,0)","v":1},{"$error":"#N/A"}]
[null,null,null,{"$f":"分類順!A75","v":"ナースの常識！？医者の非常識！？"},{"$f":"分類順!B75","v":"医療の本"},{"$f":"分類順!C75","v":"Ae：臨床看護"},{"$f":"分類順!D75","v":"南淵　明宏"},{"$f":"分類順!E75","v":"中山書店"},{"$f":"分類順!F75","v":83},"ナースの常識！？医者の非常識！？医療の本Ae：臨床看護南淵　明宏中山書店",1,{"$f":"VLOOKUP(\"*\"&目次加工!$B$2&\"*\",J76:K76,2,0)","v":1},{"$error":"#N/A"}]
[null,null,null,{"$f":"分類順!A76","v":"ハイリスク患者の看護ケア"},{"$f":"分類順!B76","v":"医療の本"},{"$f":"分類順!C76","v":"Ae：臨床看護"},{"$f":"分類順!D76","v":0},{"$f":"分類順!E76","v":"中山書店"},{"$f":"分類順!F76","v":85},"ハイリスク患者の看護ケア医療の本Ae：臨床看護0中山書店",1,{"$f":"VLOOKUP(\"*\"&目次加工!$B$2&\"*\",J77:K77,2,0)","v":1},1]
[null,null,null,{"$f":"分類順!A77","v":"関節リウマチのある患者の看護相談室"},{"$f":"分類順!B77","v":"医療の本"},{"$f":"分類順!C77","v":"Ae：臨床看護"},{"$f":"分類順!D77","v":"尾岸　恵三子　編著"},{"$f":"分類順!E77","v":"医歯薬出版"},{"$f":"分類順!F77","v":88},"関節リウマチのある患者の看護相談室医療の本Ae：臨床看護尾岸　恵三子　編著医歯薬出版",1,{"$f":"VLOOKUP(\"*\"&目次加工!$B$2&\"*\",J78:K78,2,0)","v":1},{"$error":"#N/A"}]
[null,null,null,{"$f":"分類順!A78","v":"マネジメントツールとしての看護必要度 第２版"},{"$f":"分類順!B78","v":"医療の本"},{"$f":"分類順!C78","v":"Ae：臨床看護"},{"$f":"分類順!D78","v":"嶋森　好子;筒井　孝子"},{"$f":"分類順!E78","v":"中山書店"},{"$f":"分類順!F78","v":991},"マネジメントツールとしての看護必要度 第２版医療の本Ae：臨床看護嶋森　好子;筒井　孝子中山書店",1,{"$f":"VLOOKUP(\"*\"&目次加工!$B$2&\"*\",J79:K79,2,0)","v":1},{"$error":"#N/A"}]
[null,null,null,{"$f":"分類順!A79","v":"臨床という海"},{"$f":"分類順!B79","v":"一般図書"},{"$f":"分類順!C79","v":"Ae：臨床看護"},{"$f":"分類順!D79","v":"徳永進"},{"$f":"分類順!E79","v":"看護の科学社"},{"$f":"分類順!F79","v":5550},"臨床という海一般図書Ae：臨床看護徳永進看護の科学社",1,{"$f":"VLOOKUP(\"*\"&目次加工!$B$2&\"*\",J80:K80,2,0)","v":1},{"$error":"#N/A"}]
[null,null,null,{"$f":"分類順!A80","v":"臨床という海"},{"$f":"分類順!B80","v":"一般図書"},{"$f":"分類順!C80","v":"Ae：臨床看護"},{"$f":"分類順!D80","v":"徳永進"},{"$f":"分類順!E80","v":"看護の科学社"},{"$f":"分類順!F80","v":5551},"臨床という海一般図書Ae：臨床看護徳永進看護の科学社",1,{"$f":"VLOOKUP(\"*\"&目次加工!$B$2&\"*\",J81:K81,2,0)","v":1},{"$error":"#N/A"}]
[null,null,null,{"$f":"分類順!A81","v":"看護技術のなぜ？ガイドブック　改訂・増補2版"},{"$f":"分類順!B81","v":"医療の本"},{"$f":"分類順!C81","v":"Ae：臨床看護"},{"$f":"分類順!D81","v":0},{"$f":"分類順!E81","v":"医学芸術社"},{"$f":"分類順!F81","v":8048},"看護技術のなぜ？ガイドブック　改訂・増補2版医療の本Ae：臨床看護0医学芸術社",1,{"$f":"VLOOKUP(\"*\"&目次加工!$B$2&\"*\",J82:K82,2,0)","v":1},1]
[null,null,null,{"$f":"分類順!A82","v":"からだの正常/異常ガイドブック　改訂・増補版"},{"$f":"分類順!B82","v":"医療の本"},{"$f":"分類順!C82","v":"Ae：臨床看護"},{"$f":"分類順!D82","v":0},{"$f":"分類順!E82","v":"医学芸術社"},{"$f":"分類順!F82","v":8049},{"$f":"D83&E83&F83&G83&H83","v":"からだの正常/異常ガイドブック　改訂・増補版医療の本Ae：臨床看護0医学芸術社"},1,{"$f":"VLOOKUP(\"*\"&目次加工!$B$2&\"*\",J83:K83,2,0)","v":1},1]
[null,null,null,{"$f":"分類順!A83","v":"症状Q&Aガイドブック"},{"$f":"分類順!B83","v":"医療の本"},{"$f":"分類順!C83","v":"Ae：臨床看護"},{"$f":"分類順!D83","v":"監修：岡田　忍"},{"$f":"分類順!E83","v":"医学芸術社"},{"$f":"分類順!F83","v":8050},"症状Q&Aガイドブック医療の本Ae：臨床看護監修：岡田　忍医学芸術社",1,{"$f":"VLOOKUP(\"*\"&目次加工!$B$2&\"*\",J84:K84,2,0)","v":1},{"$error":"#N/A"}]
[null,null,null,{"$f":"分類順!A84","v":"医療はとってもいい仕事"},{"$f":"分類順!B84","v":"医療の本"},{"$f":"分類順!C84","v":"Ae：臨床看護"},{"$f":"分類順!D84","v":"澤田勝寛"},{"$f":"分類順!E84","v":"薬事日報社"},{"$f":"分類順!F84","v":10317},"医療はとってもいい仕事医療の本Ae：臨床看護澤田勝寛薬事日報社",1,{"$f":"VLOOKUP(\"*\"&目次加工!$B$2&\"*\",J85:K85,2,0)","v":1},{"$error":"#N/A"}]
[null,null,null,{"$f":"分類順!A85","v":"栄養/食事"},{"$f":"分類順!B85","v":"目次へ"},{"$f":"分類順!C85","v":"※PDF版ではリンクしておりません。"},{"$f":"分類順!D85","v":0},{"$f":"分類順!E85","v":0},{"$f":"分類順!F85","v":0},"栄養/食事目次へ※PDF版ではリンクしておりません。00",1,{"$f":"VLOOKUP(\"*\"&目次加工!$B$2&\"*\",J86:K86,2,0)","v":1},1]
[null,null,null,{"$f":"分類順!A86","v":"ミッフィーの早引き 栄養の基本ハンドブック"},{"$f":"分類順!B86","v":"医療の本"},{"$f":"分類順!C86","v":"B：栄養/食事"},{"$f":"分類順!D86","v":"中村丁次/足立香代子/川島由起子"},{"$f":"分類順!E86","v":"エクスナレッジ"},{"$f":"分類順!F86","v":5349},"ミッフィーの早引き 栄養の基本ハンドブック医療の本B：栄養/食事中村丁次/足立香代子/川島由起子エクスナレッジ",1,{"$f":"VLOOKUP(\"*\"&目次加工!$B$2&\"*\",J87:K87,2,0)","v":1},{"$error":"#N/A"}]
[null,null,null,{"$f":"分類順!A87","v":"えいようせんたいしょくレンジャー"},{"$f":"分類順!B87","v":"医療の本"},{"$f":"分類順!C87","v":"B：栄養/食事"},{"$f":"分類順!D87","v":"久住 卓也 著"},{"$f":"分類順!E87","v":"ポプラ社"},{"$f":"分類順!F87","v":5350},"えいようせんたいしょくレンジャー医療の本B：栄養/食事久住 卓也 著ポプラ社",1,{"$f":"VLOOKUP(\"*\"&目次加工!$B$2&\"*\",J88:K88,2,0)","v":1},{"$error":"#N/A"}]
[null,null,null,{"$f":"分類順!A88","v":"ひと目でわかる！食品表示簡単チェックBOOK"},{"$f":"分類順!B88","v":"医療の本"},{"$f":"分類順!C88","v":"B：栄養/食事"},{"$f":"分類順!D88","v":"ホームライフセミナー/編"},{"$f":"分類順!E88","v":"青春出版社"},{"$f":"分類順!F88","v":8086},"ひと目でわかる！食品表示簡単チェックBOOK医療の本B：栄養/食事ホームライフセミナー/編青春出版社",1,{"$f":"VLOOKUP(\"*\"&目次加工!$B$2&\"*\",J89:K89,2,0)","v":1},{"$error":"#N/A"}]
[null,null,null,{"$f":"分類順!A89","v":"外食・デリカ・コンビニのカロリーガイド"},{"$f":"分類順!B89","v":"医療の本"},{"$f":"分類順!C89","v":"B：栄養/食事"},{"$f":"分類順!D89","v":"香川芳子"},{"$f":"分類順!E89","v":"女子栄養大学出版部"},{"$f":"分類順!F89","v":10060},"外食・デリカ・コンビニのカロリーガイド医療の本B：栄養/食事香川芳子女子栄養大学出版部",1,{"$f":"VLOOKUP(\"*\"&目次加工!$B$2&\"*\",J90:K90,2,0)","v":1},{"$error":"#N/A"}]
[null,null,null,{"$f":"分類順!A90","v":"毎日の食事のカロリーガイド"},{"$f":"分類順!B90","v":"医療の本"},{"$f":"分類順!C90","v":"B：栄養/食事"},{"$f":"分類順!D90","v":"香川芳子"},{"$f":"分類順!E90","v":"女子栄養大学出版部"},{"$f":"分類順!F90","v":10061},"毎日の食事のカロリーガイド医療の本B：栄養/食事香川芳子女子栄養大学出版部",1,{"$f":"VLOOKUP(\"*\"&目次加工!$B$2&\"*\",J91:K91,2,0)","v":1},{"$error":"#N/A"}]
[null,null,null,{"$f":"分類順!A91","v":"あなたに贈る食の玉手箱"},{"$f":"分類順!B91","v":"医療の本"},{"$f":"分類順!C91","v":"B：栄養/食事"},{"$f":"分類順!D91","v":"星澤幸子"},{"$f":"分類順!E91","v":"ワニ・プラス"},{"$f":"分類順!F91","v":10062},"あなたに贈る食の玉手箱医療の本B：栄養/食事星澤幸子ワニ・プラス",1,{"$f":"VLOOKUP(\"*\"&目次加工!$B$2&\"*\",J92:K92,2,0)","v":1},{"$error":"#N/A"}]
[null,null,null,{"$f":"分類順!A92","v":"心の健康"},{"$f":"分類順!B92","v":"目次へ"},{"$f":"分類順!C92","v":"※PDF版ではリンクしておりません。"},{"$f":"分類順!D92","v":0},{"$f":"分類順!E92","v":0},{"$f":"分類順!F92","v":0},"心の健康目次へ※PDF版ではリンクしておりません。00",1,{"$f":"VLOOKUP(\"*\"&目次加工!$B$2&\"*\",J93:K93,2,0)","v":1},1]
[null,null,null,{"$f":"分類順!A93","v":"「うつ」に陥っているあなたへ イラスト版"},{"$f":"分類順!B93","v":"医療の本"},{"$f":"分類順!C93","v":"C：心の健康"},{"$f":"分類順!D93","v":"野村　総一郎"},{"$f":"分類順!E93","v":"講談社"},{"$f":"分類順!F93","v":93},"「うつ」に陥っているあなたへ イラスト版医療の本C：心の健康野村　総一郎講談社",1,{"$f":"VLOOKUP(\"*\"&目次加工!$B$2&\"*\",J94:K94,2,0)","v":1},{"$error":"#N/A"}]
[null,null,null,{"$f":"分類順!A94","v":"ＰＴＳＤとトラウマのすべてがわかる本 イラスト版"},{"$f":"分類順!B94","v":"医療の本"},{"$f":"分類順!C94","v":"C：心の健康"},{"$f":"分類順!D94","v":"飛鳥井　望"},{"$f":"分類順!E94","v":"講談社"},{"$f":"分類順!F94","v":94},"ＰＴＳＤとトラウマのすべてがわかる本 イラスト版医療の本C：心の健康飛鳥井　望講談社",1,{"$f":"VLOOKUP(\"*\"&目次加工!$B$2&\"*\",J95:K95,2,0)","v":1},{"$error":"#N/A"}]
[null,null,null,{"$f":"分類順!A95","v":"うつ病　新版"},{"$f":"分類順!B95","v":"医療の本"},{"$f":"分類順!C95","v":"C：心の健康"},{"$f":"分類順!D95","v":"関谷　透　著"},{"$f":"分類順!E95","v":"主婦の友社"},{"$f":"分類順!F95","v":95},"うつ病　新版医療の本C：心の健康関谷　透　著主婦の友社",1,{"$f":"VLOOKUP(\"*\"&目次加工!$B$2&\"*\",J96:K96,2,0)","v":1},{"$error":"#N/A"}]
[null,null,null,{"$f":"分類順!A96","v":"パーソナリティ障害〈人格障害〉のことがよくわかる本 イラスト版"},{"$f":"分類順!B96","v":"医療の本"},{"$f":"分類順!C96","v":"C：心の健康"},{"$f":"分類順!D96","v":"市橋　秀夫"},{"$f":"分類順!E96","v":"講談社"},{"$f":"分類順!F96","v":96},"パーソナリティ障害〈人格障害〉のことがよくわかる本 イラスト版医療の本C：心の健康市橋　秀夫講談社",1,{"$f":"VLOOKUP(\"*\"&目次加工!$B$2&\"*\",J97:K97,2,0)","v":1},{"$error":"#N/A"}]
[null,null,null,{"$f":"分類順!A97","v":"パニック障害－心の不安はとり除ける－"},{"$f":"分類順!B97","v":"医療の本"},{"$f":"分類順!C97","v":"C：心の健康"},{"$f":"分類順!D97","v":"渡辺　登　監修"},{"$f":"分類順!E97","v":"講談社"},{"$f":"分類順!F97","v":97},"パニック障害－心の不安はとり除ける－医療の本C：心の健康渡辺　登　監修講談社",1,{"$f":"VLOOKUP(\"*\"&目次加工!$B$2&\"*\",J98:K98,2,0)","v":1},{"$error":"#N/A"}]
[null,null,null,{"$f":"分類順!A98","v":"ビジネスマンの心の病気がわかる本 イラスト版"},{"$f":"分類順!B98","v":"医療の本"},{"$f":"分類順!C98","v":"C：心の健康"},{"$f":"分類順!D98","v":"山本　晴義"},{"$f":"分類順!E98","v":"講談社"},{"$f":"分類順!F98","v":98},"ビジネスマンの心の病気がわかる本 イラスト版医療の本C：心の健康山本　晴義講談社",1,{"$f":"VLOOKUP(\"*\"&目次加工!$B$2&\"*\",J99:K99,2,0)","v":1},{"$error":"#N/A"}]
[null,null,null,{"$f":"分類順!A99","v":"依存症のすべてがわかる本 イラスト版"},{"$f":"分類順!B99","v":"医療の本"},{"$f":"分類順!C99","v":"C：心の健康"},{"$f":"分類順!D99","v":"渡辺　登"},{"$f":"分類順!E99","v":"講談社"},{"$f":"分類順!F99","v":99},"依存症のすべてがわかる本 イラスト版医療の本C：心の健康渡辺　登講談社",1,{"$f":"VLOOKUP(\"*\"&目次加工!$B$2&\"*\",J100:K100,2,0)","v":1},{"$error":"#N/A"}]
[null,null,null,{"$f":"分類順!A100","v":"拒食症と過食症 イラスト版"},{"$f":"分類順!B100","v":"医療の本"},{"$f":"分類順!C100","v":"C：心の健康"},{"$f":"分類順!D100","v":"切池　信夫"},{"$f":"分類順!E100","v":"講談社"},{"$f":"分類順!F100","v":101},"拒食症と過食症 イラスト版医療の本C：心の健康切池　信夫講談社",1,{"$f":"VLOOKUP(\"*\"&目次加工!$B$2&\"*\",J101:K101,2,0)","v":1},{"$error":"#N/A"}]
[null,null,null,{"$f":"分類順!A101","v":"自己愛性パーソナリティ障害のこと"},{"$f":"分類順!B101","v":"医療の本"},{"$f":"分類順!C101","v":"C：心の健康"},{"$f":"分類順!D101","v":"狩野　力八郎"},{"$f":"分類順!E101","v":"講談社"},{"$f":"分類順!F101","v":103},"自己愛性パーソナリティ障害のこと医療の本C：心の健康狩野　力八郎講談社",1,{"$f":"VLOOKUP(\"*\"&目次加工!$B$2&\"*\",J102:K102,2,0)","v":1},{"$error":"#N/A"}]
[null,null,null,{"$f":"分類順!A102","v":"失語症のすべてがわかる本 イラスト版"},{"$f":"分類順!B102","v":"医療の本"},{"$f":"分類順!C102","v":"C：心の健康"},{"$f":"分類順!D102","v":"加藤　正弘;小嶋　知幸"},{"$f":"分類順!E102","v":"講談社"},{"$f":"分類順!F102","v":105},"失語症のすべてがわかる本 イラスト版医療の本C：心の健康加藤　正弘;小嶋　知幸講談社",1,{"$f":"VLOOKUP(\"*\"&目次加工!$B$2&\"*\",J103:K103,2,0)","v":1},{"$error":"#N/A"}]
[null,null,null,{"$f":"分類順!A103","v":"社会不安障害のすべてがわかる本 イラスト版"},{"$f":"分類順!B103","v":"医療の本"},{"$f":"分類順!C103","v":"C：心の健康"},{"$f":"分類順!D103","v":"貝谷　久宣"},{"$f":"分類順!E103","v":"講談社"},{"$f":"分類順!F103","v":106},"社会不安障害のすべてがわかる本 イラスト版医療の本C：心の健康貝谷　久宣講談社",1,{"$f":"VLOOKUP(\"*\"&目次加工!$B$2&\"*\",J104:K104,2,0)","v":1},{"$error":"#N/A"}]
[null,null,null,{"$f":"分類順!A104","v":"「心がつかれた人」のためにあなたができる"},{"$f":"分類順!B104","v":"医療の本"},{"$f":"分類順!C104","v":"C：心の健康"},{"$f":"分類順!D104","v":"浮世　満理子　著"},{"$f":"分類順!E104","v":"あさ出版"},{"$f":"分類順!F104","v":117},"「心がつかれた人」のためにあなたができる医療の本C：心の健康浮世　満理子　著あさ出版",1,{"$f":"VLOOKUP(\"*\"&目次加工!$B$2&\"*\",J105:K105,2,0)","v":1},{"$error":"#N/A"}]
[null,null,null,{"$f":"分類順!A105","v":"うつ病の病態生理と診断・治療"},{"$f":"分類順!B105","v":"医療の本"},{"$f":"分類順!C105","v":"C：心の健康"},{"$f":"分類順!D105","v":"樋口　輝彦　他"},{"$f":"分類順!E105","v":"真興交易医書出版"},{"$f":"分類順!F105","v":120},"うつ病の病態生理と診断・治療医療の本C：心の健康樋口　輝彦　他真興交易医書出版",1,{"$f":"VLOOKUP(\"*\"&目次加工!$B$2&\"*\",J106:K106,2,0)","v":1},{"$error":"#N/A"}]
[null,null,null,{"$f":"分類順!A106","v":"こころの医者のフィールド・ノート　新装版"},{"$f":"分類順!B106","v":"医療の本"},{"$f":"分類順!C106","v":"C：心の健康"},{"$f":"分類順!D106","v":"中沢　正夫　著"},{"$f":"分類順!E106","v":"情報センター"},{"$f":"分類順!F106","v":122},"こころの医者のフィールド・ノート　新装版医療の本C：心の健康中沢　正夫　著情報センター",1,{"$f":"VLOOKUP(\"*\"&目次加工!$B$2&\"*\",J107:K107,2,0)","v":1},{"$error":"#N/A"}]
[null,null,null,{"$f":"分類順!A107","v":"こころをはぐくむ－アルコール依存症と自助"},{"$f":"分類順!B107","v":"医療の本"},{"$f":"分類順!C107","v":"C：心の健康"},{"$f":"分類順!D107","v":"今道　裕之　著"},{"$f":"分類順!E107","v":"東峰書房"},{"$f":"分類順!F107","v":123},"こころをはぐくむ－アルコール依存症と自助医療の本C：心の健康今道　裕之　著東峰書房",1,{"$f":"VLOOKUP(\"*\"&目次加工!$B$2&\"*\",J108:K108,2,0)","v":1},{"$error":"#N/A"}]
[null,null,null,{"$f":"分類順!A108","v":"テレメンタリング 双方向ツールによるヘルスケア・コミュニケーション"},{"$f":"分類順!B108","v":"医療の本"},{"$f":"分類順!C108","v":"C：心の健康"},{"$f":"分類順!D108","v":"日本遠隔医療学会"},{"$f":"分類順!E108","v":"中山書店"},{"$f":"分類順!F108","v":125},"テレメンタリング 双方向ツールによるヘルスケア・コミュニケーション医療の本C：心の健康日本遠隔医療学会中山書店",1,{"$f":"VLOOKUP(\"*\"&目次加工!$B$2&\"*\",J109:K109,2,0)","v":1},{"$error":"#N/A"}]
[null,null,null,{"$f":"分類順!A109","v":"ひきこもる心のカルテ　心の扉をひらくカウ"},{"$f":"分類順!B109","v":"医療の本"},{"$f":"分類順!C109","v":"C：心の健康"},{"$f":"分類順!D109","v":"井上　敏明"},{"$f":"分類順!E109","v":"朱鷺書房"},{"$f":"分類順!F109","v":126},"ひきこもる心のカルテ　心の扉をひらくカウ医療の本C：心の健康井上　敏明朱鷺書房",1,{"$f":"VLOOKUP(\"*\"&目次加工!$B$2&\"*\",J110:K110,2,0)","v":1},{"$error":"#N/A"}]
[null,null,null,{"$f":"分類順!A110","v":"やさしいうつ病・うつ状態のマネジメ　改訂"},{"$f":"分類順!B110","v":"医療の本"},{"$f":"分類順!C110","v":"C：心の健康"},{"$f":"分類順!D110","v":"桂　戴作　編"},{"$f":"分類順!E110","v":"医薬ジャーナル社"},{"$f":"分類順!F110","v":128},"やさしいうつ病・うつ状態のマネジメ　改訂医療の本C：心の健康桂　戴作　編医薬ジャーナル社",1,{"$f":"VLOOKUP(\"*\"&目次加工!$B$2&\"*\",J111:K111,2,0)","v":1},{"$error":"#N/A"}]
[null,null,null,{"$f":"分類順!A111","v":"やまない雨はない　妻の死、うつ病、それか"},{"$f":"分類順!B111","v":"医療の本"},{"$f":"分類順!C111","v":"C：心の健康"},{"$f":"分類順!D111","v":"倉嶋　厚　著"},{"$f":"分類順!E111","v":"文藝春秋"},{"$f":"分類順!F111","v":129},"やまない雨はない　妻の死、うつ病、それか医療の本C：心の健康倉嶋　厚　著文藝春秋",1,{"$f":"VLOOKUP(\"*\"&目次加工!$B$2&\"*\",J112:K112,2,0)","v":1},{"$error":"#N/A"}]
[null,null,null,{"$f":"分類順!A112","v":"医療事故防止・対策マニュアル　改訂版"},{"$f":"分類順!B112","v":"医療の本"},{"$f":"分類順!C112","v":"C：心の健康"},{"$f":"分類順!D112","v":"日本精神科看護技術協"},{"$f":"分類順!E112","v":"精神看護出版"},{"$f":"分類順!F112","v":131},"医療事故防止・対策マニュアル　改訂版医療の本C：心の健康日本精神科看護技術協精神看護出版",1,{"$f":"VLOOKUP(\"*\"&目次加工!$B$2&\"*\",J113:K113,2,0)","v":1},{"$error":"#N/A"}]
[null,null,null,{"$f":"分類順!A113","v":"看護のための精神医学　第２版"},{"$f":"分類順!B113","v":"医療の本"},{"$f":"分類順!C113","v":"C：心の健康"},{"$f":"分類順!D113","v":"中井　久夫　著"},{"$f":"分類順!E113","v":"医学書院"},{"$f":"分類順!F113","v":134},"看護のための精神医学　第２版医療の本C：心の健康中井　久夫　著医学書院",1,{"$f":"VLOOKUP(\"*\"&目次加工!$B$2&\"*\",J114:K114,2,0)","v":1},{"$error":"#N/A"}]
[null,null,null,{"$f":"分類順!A114","v":"危険がいっぱい思春期ダイエット"},{"$f":"分類順!B114","v":"医療の本"},{"$f":"分類順!C114","v":"C：心の健康"},{"$f":"分類順!D114","v":"福岡　秀興"},{"$f":"分類順!E114","v":"芳賀書店"},{"$f":"分類順!F114","v":135},"危険がいっぱい思春期ダイエット医療の本C：心の健康福岡　秀興芳賀書店",1,{"$f":"VLOOKUP(\"*\"&目次加工!$B$2&\"*\",J115:K115,2,0)","v":1},{"$error":"#N/A"}]
[null,null,null,{"$f":"分類順!A115","v":"気分障害治療ガイドライン"},{"$f":"分類順!B115","v":"医療の本"},{"$f":"分類順!C115","v":"C：心の健康"},{"$f":"分類順!D115","v":"精神医学講座担当者会"},{"$f":"分類順!E115","v":"医学書院"},{"$f":"分類順!F115","v":136},"気分障害治療ガイドライン医療の本C：心の健康精神医学講座担当者会医学書院",1,{"$f":"VLOOKUP(\"*\"&目次加工!$B$2&\"*\",J116:K116,2,0)","v":1},{"$error":"#N/A"}]
[null,null,null,{"$f":"分類順!A116","v":"好きになる精神医学"},{"$f":"分類順!B116","v":"医療の本"},{"$f":"分類順!C116","v":"C：心の健康"},{"$f":"分類順!D116","v":"越野　好文　著・絵"},{"$f":"分類順!E116","v":"講談社"},{"$f":"分類順!F116","v":137},"好きになる精神医学医療の本C：心の健康越野　好文　著・絵講談社",1,{"$f":"VLOOKUP(\"*\"&目次加工!$B$2&\"*\",J117:K117,2,0)","v":1},{"$error":"#N/A"}]
[null,null,null,{"$f":"分類順!A117","v":"広岡式　こころの病の治し方"},{"$f":"分類順!B117","v":"医療の本"},{"$f":"分類順!C117","v":"C：心の健康"},{"$f":"分類順!D117","v":"広岡　清伸　著"},{"$f":"分類順!E117","v":"日経BP社"},{"$f":"分類順!F117","v":138},"広岡式　こころの病の治し方医療の本C：心の健康広岡　清伸　著日経BP社",1,{"$f":"VLOOKUP(\"*\"&目次加工!$B$2&\"*\",J118:K118,2,0)","v":1},{"$error":"#N/A"}]
[null,null,null,{"$f":"分類順!A118","v":"事例にみるうつ病の理解とケア"},{"$f":"分類順!B118","v":"医療の本"},{"$f":"分類順!C118","v":"C：心の健康"},{"$f":"分類順!D118","v":"白石　弘巳　編著"},{"$f":"分類順!E118","v":"精神看護出版"},{"$f":"分類順!F118","v":139},"事例にみるうつ病の理解とケア医療の本C：心の健康白石　弘巳　編著精神看護出版",1,{"$f":"VLOOKUP(\"*\"&目次加工!$B$2&\"*\",J119:K119,2,0)","v":1},{"$error":"#N/A"}]
[null,null,null,{"$f":"分類順!A119","v":"全科で知っておきたい　心のケアＱ＆Ａ"},{"$f":"分類順!B119","v":"医療の本"},{"$f":"分類順!C119","v":"C：心の健康"},{"$f":"分類順!D119","v":0},{"$f":"分類順!E119","v":"中山書店"},{"$f":"分類順!F119","v":149},"全科で知っておきたい　心のケアＱ＆Ａ医療の本C：心の健康0中山書店",1,{"$f":"VLOOKUP(\"*\"&目次加工!$B$2&\"*\",J120:K120,2,0)","v":1},1]
[null,null,null,{"$f":"分類順!A120","v":"体の病と心のケア－身体疾患患者の精神症状"},{"$f":"分類順!B120","v":"医療の本"},{"$f":"分類順!C120","v":"C：心の健康"},{"$f":"分類順!D120","v":"堀川　直史　著"},{"$f":"分類順!E120","v":"文光堂"},{"$f":"分類順!F120","v":150},"体の病と心のケア－身体疾患患者の精神症状医療の本C：心の健康堀川　直史　著文光堂",1,{"$f":"VLOOKUP(\"*\"&目次加工!$B$2&\"*\",J121:K121,2,0)","v":1},{"$error":"#N/A"}]
[null,null,null,{"$f":"分類順!A121","v":"大往生の条件"},{"$f":"分類順!B121","v":"医療の本"},{"$f":"分類順!C121","v":"C：心の健康"},{"$f":"分類順!D121","v":"色平　哲郎"},{"$f":"分類順!E121","v":"角川書店"},{"$f":"分類順!F121","v":151},"大往生の条件医療の本C：心の健康色平　哲郎角川書店",1,{"$f":"VLOOKUP(\"*\"&目次加工!$B$2&\"*\",J122:K122,2,0)","v":1},{"$error":"#N/A"}]
[null,null,null,{"$f":"分類順!A122","v":"不眠症とつきあうコツ"},{"$f":"分類順!B122","v":"医療の本"},{"$f":"分類順!C122","v":"C：心の健康"},{"$f":"分類順!D122","v":"伊藤　洋　編著"},{"$f":"分類順!E122","v":"フジメディカル"},{"$f":"分類順!F122","v":152},"不眠症とつきあうコツ医療の本C：心の健康伊藤　洋　編著フジメディカル",1,{"$f":"VLOOKUP(\"*\"&目次加工!$B$2&\"*\",J123:K123,2,0)","v":1},{"$error":"#N/A"}]
[null,null,null,{"$f":"分類順!A123","v":"文化現象としての癒し　民間医療の現在"},{"$f":"分類順!B123","v":"医療の本"},{"$f":"分類順!C123","v":"C：心の健康"},{"$f":"分類順!D123","v":"佐藤　純一　編"},{"$f":"分類順!E123","v":"メディカ出版"},{"$f":"分類順!F123","v":153},"文化現象としての癒し　民間医療の現在医療の本C：心の健康佐藤　純一　編メディカ出版",1,{"$f":"VLOOKUP(\"*\"&目次加工!$B$2&\"*\",J124:K124,2,0)","v":1},{"$error":"#N/A"}]
[null,null,null,{"$f":"分類順!A124","v":"癒しのユーモア　いのちの輝きを支えるケア"},{"$f":"分類順!B124","v":"医療の本"},{"$f":"分類順!C124","v":"C：心の健康"},{"$f":"分類順!D124","v":"柏木　哲夫"},{"$f":"分類順!E124","v":"三輪書店"},{"$f":"分類順!F124","v":155},"癒しのユーモア　いのちの輝きを支えるケア医療の本C：心の健康柏木　哲夫三輪書店",1,{"$f":"VLOOKUP(\"*\"&目次加工!$B$2&\"*\",J125:K125,2,0)","v":1},{"$error":"#N/A"}]
[null,null,null,{"$f":"分類順!A125","v":"統合失調症 最新の薬物療法とその他の治療法"},{"$f":"分類順!B125","v":"医療の本"},{"$f":"分類順!C125","v":"C：心の健康"},{"$f":"分類順!D125","v":"春日　武彦;主婦の友社"},{"$f":"分類順!E125","v":"主婦の友社"},{"$f":"分類順!F125","v":156},"統合失調症 最新の薬物療法とその他の治療法医療の本C：心の健康春日　武彦;主婦の友社主婦の友社",1,{"$f":"VLOOKUP(\"*\"&目次加工!$B$2&\"*\",J126:K126,2,0)","v":1},{"$error":"#N/A"}]
[null,null,null,{"$f":"分類順!A126","v":"いのちを癒す「心のとまり木」　心のケアの"},{"$f":"分類順!B126","v":"医療の本"},{"$f":"分類順!C126","v":"C：心の健康"},{"$f":"分類順!D126","v":"小此木　啓吾　監"},{"$f":"分類順!E126","v":"ベストセラーズ"},{"$f":"分類順!F126","v":992},"いのちを癒す「心のとまり木」　心のケアの医療の本C：心の健康小此木　啓吾　監ベストセラーズ",1,{"$f":"VLOOKUP(\"*\"&目次加工!$B$2&\"*\",J127:K127,2,0)","v":1},{"$error":"#N/A"}]
[null,null,null,{"$f":"分類順!A127","v":"脳科学研究の現状と課題"},{"$f":"分類順!B127","v":"医療の本"},{"$f":"分類順!C127","v":"C：心の健康"},{"$f":"分類順!D127","v":"精神神経科学振興財団"},{"$f":"分類順!E127","v":"じほう"},{"$f":"分類順!F127","v":5325},"脳科学研究の現状と課題医療の本C：心の健康精神神経科学振興財団じほう",1,{"$f":"VLOOKUP(\"*\"&目次加工!$B$2&\"*\",J128:K128,2,0)","v":1},{"$error":"#N/A"}]
[null,null,null,{"$f":"分類順!A128","v":"シネマのなかの臨床心理学"},{"$f":"分類順!B128","v":"医療の本"},{"$f":"分類順!C128","v":"C：心の健康"},{"$f":"分類順!D128","v":"山中康裕/橋本やよい/高月玲子　編"},{"$f":"分類順!E128","v":"有斐閣"},{"$f":"分類順!F128","v":5326},"シネマのなかの臨床心理学医療の本C：心の健康山中康裕/橋本やよい/高月玲子　編有斐閣",1,{"$f":"VLOOKUP(\"*\"&目次加工!$B$2&\"*\",J129:K129,2,0)","v":1},{"$error":"#N/A"}]
[null,null,null,{"$f":"分類順!A129","v":"脳のメモ帳　ワーキングメモリ"},{"$f":"分類順!B129","v":"一般図書"},{"$f":"分類順!C129","v":"C：心の健康"},{"$f":"分類順!D129","v":"苧阪満里子"},{"$f":"分類順!E129","v":"新曜社"},{"$f":"分類順!F129","v":5328},"脳のメモ帳　ワーキングメモリ一般図書C：心の健康苧阪満里子新曜社",1,{"$f":"VLOOKUP(\"*\"&目次加工!$B$2&\"*\",J130:K130,2,0)","v":1},{"$error":"#N/A"}]
[null,null,null,{"$f":"分類順!A130","v":"心がフッと軽くなる「瞬間の心理学」"},{"$f":"分類順!B130","v":"医療の本"},{"$f":"分類順!C130","v":"C：心の健康"},{"$f":"分類順!D130","v":"名越 康文 "},{"$f":"分類順!E130","v":"角川SSコミュニケーションズ"},{"$f":"分類順!F130","v":5351},"心がフッと軽くなる「瞬間の心理学」医療の本C：心の健康名越 康文 角川SSコミュニケーションズ",1,{"$f":"VLOOKUP(\"*\"&目次加工!$B$2&\"*\",J131:K131,2,0)","v":1},{"$error":"#N/A"}]
[null,null,null,{"$f":"分類順!A131","v":"今すぐ使える心理学　しぐさを見れば心の９割がわかる！"},{"$f":"分類順!B131","v":"一般図書"},{"$f":"分類順!C131","v":"C：心の健康"},{"$f":"分類順!D131","v":"渋谷昌三"},{"$f":"分類順!E131","v":"三笠書房"},{"$f":"分類順!F131","v":5394},"今すぐ使える心理学　しぐさを見れば心の９割がわかる！一般図書C：心の健康渋谷昌三三笠書房",1,{"$f":"VLOOKUP(\"*\"&目次加工!$B$2&\"*\",J132:K132,2,0)","v":1},{"$f":"VLOOKUP(\"*\"&$A$2&\"*\",J132:K132,2,0)","v":{"$error":"#N/A"}}]
[null,null,null,{"$f":"分類順!A132","v":"雪見だいふくはなぜ大ヒットしたのかー７７の「特許」発想法ー"},{"$f":"分類順!B132","v":"一般図書"},{"$f":"分類順!C132","v":"C：心の健康"},{"$f":"分類順!D132","v":"重田暁彦"},{"$f":"分類順!E132","v":"講談社"},{"$f":"分類順!F132","v":5395},"雪見だいふくはなぜ大ヒットしたのかー７７の「特許」発想法ー一般図書C：心の健康重田暁彦講談社",1,{"$f":"VLOOKUP(\"*\"&目次加工!$B$2&\"*\",J133:K133,2,0)","v":1},{"$error":"#N/A"}]
[null,null,null,{"$f":"分類順!A133","v":"仕事の中の曖昧な不安"},{"$f":"分類順!B133","v":"一般図書"},{"$f":"分類順!C133","v":"C：心の健康"},{"$f":"分類順!D133","v":"玄田有史"},{"$f":"分類順!E133","v":"中央公論社"},{"$f":"分類順!F133","v":5396},"仕事の中の曖昧な不安一般図書C：心の健康玄田有史中央公論社",1,{"$f":"VLOOKUP(\"*\"&目次加工!$B$2&\"*\",J134:K134,2,0)","v":1},{"$error":"#N/A"}]
[null,null,null,{"$f":"分類順!A134","v":"自由と規律"},{"$f":"分類順!B134","v":"一般図書"},{"$f":"分類順!C134","v":"C：心の健康"},{"$f":"分類順!D134","v":"池田潔"},{"$f":"分類順!E134","v":"岩波書店"},{"$f":"分類順!F134","v":5397},"自由と規律一般図書C：心の健康池田潔岩波書店",1,{"$f":"VLOOKUP(\"*\"&目次加工!$B$2&\"*\",J135:K135,2,0)","v":1},{"$error":"#N/A"}]
[null,null,null,{"$f":"分類順!A135","v":"渡邉美樹のシゴト進化論"},{"$f":"分類順!B135","v":"一般図書"},{"$f":"分類順!C135","v":"C：心の健康"},{"$f":"分類順!D135","v":"渡邉美樹"},{"$f":"分類順!E135","v":"日経BP社"},{"$f":"分類順!F135","v":5398},"渡邉美樹のシゴト進化論一般図書C：心の健康渡邉美樹日経BP社",1,{"$f":"VLOOKUP(\"*\"&目次加工!$B$2&\"*\",J136:K136,2,0)","v":1},{"$error":"#N/A"}]
[null,null,null,{"$f":"分類順!A136","v":"ストレスゼロの仕事術"},{"$f":"分類順!B136","v":"一般図書"},{"$f":"分類順!C136","v":"C：心の健康"},{"$f":"分類順!D136","v":"木村英一"},{"$f":"分類順!E136","v":"阪急コミュニケーションズ"},{"$f":"分類順!F136","v":5399},"ストレスゼロの仕事術一般図書C：心の健康木村英一阪急コミュニケーションズ",1,{"$f":"VLOOKUP(\"*\"&目次加工!$B$2&\"*\",J137:K137,2,0)","v":1},{"$error":"#N/A"}]
[null,null,null,{"$f":"分類順!A137","v":"佐藤可士和の超整理術"},{"$f":"分類順!B137","v":"一般図書"},{"$f":"分類順!C137","v":"C：心の健康"},{"$f":"分類順!D137","v":"佐藤可士和"},{"$f":"分類順!E137","v":"日本経済新聞出版社"},{"$f":"分類順!F137","v":5401},"佐藤可士和の超整理術一般図書C：心の健康佐藤可士和日本経済新聞出版社",1,{"$f":"VLOOKUP(\"*\"&目次加工!$B$2&\"*\",J138:K138,2,0)","v":1},{"$error":"#N/A"}]
[null,null,null,{"$f":"分類順!A138","v":"めざせ！仕事のプロ　ﾓﾁﾍﾞｰｼｮﾝが上がるﾜｸﾜｸ仕事術"},{"$f":"分類順!B138","v":"一般図書"},{"$f":"分類順!C138","v":"C：心の健康"},{"$f":"分類順!D138","v":"小林英二"},{"$f":"分類順!E138","v":"シーアンドアール研究所"},{"$f":"分類順!F138","v":5402},"めざせ！仕事のプロ　ﾓﾁﾍﾞｰｼｮﾝが上がるﾜｸﾜｸ仕事術一般図書C：心の健康小林英二シーアンドアール研究所",1,{"$f":"VLOOKUP(\"*\"&目次加工!$B$2&\"*\",J139:K139,2,0)","v":1},{"$error":"#N/A"}]
[null,null,null,{"$f":"分類順!A139","v":"聞き書き　ダライ・ラマの言葉"},{"$f":"分類順!B139","v":"一般図書"},{"$f":"分類順!C139","v":"C：心の健康"},{"$f":"分類順!D139","v":"松本栄一著"},{"$f":"分類順!E139","v":"日本放送出版協会"},{"$f":"分類順!F139","v":5412},"聞き書き　ダライ・ラマの言葉一般図書C：心の健康松本栄一著日本放送出版協会",1,{"$f":"VLOOKUP(\"*\"&目次加工!$B$2&\"*\",J140:K140,2,0)","v":1},{"$error":"#N/A"}]
[null,null,null,{"$f":"分類順!A140","v":"にんげんだもの"},{"$f":"分類順!B140","v":"一般図書"},{"$f":"分類順!C140","v":"C：心の健康"},{"$f":"分類順!D140","v":"相田みつを著"},{"$f":"分類順!E140","v":"文化出版局"},{"$f":"分類順!F140","v":5413},"にんげんだもの一般図書C：心の健康相田みつを著文化出版局",1,{"$f":"VLOOKUP(\"*\"&目次加工!$B$2&\"*\",J141:K141,2,0)","v":1},{"$error":"#N/A"}]
[null,null,null,{"$f":"分類順!A141","v":"ネガティブな自分をゆるす本"},{"$f":"分類順!B141","v":"一般図書"},{"$f":"分類順!C141","v":"C：心の健康"},{"$f":"分類順!D141","v":"植木理恵著"},{"$f":"分類順!E141","v":"大和出版"},{"$f":"分類順!F141","v":5414},"ネガティブな自分をゆるす本一般図書C：心の健康植木理恵著大和出版",1,{"$f":"VLOOKUP(\"*\"&目次加工!$B$2&\"*\",J142:K142,2,0)","v":1},{"$error":"#N/A"}]
[null,null,null,{"$f":"分類順!A142","v":"弁護士が教える気弱なあなたの交渉術"},{"$f":"分類順!B142","v":"一般図書"},{"$f":"分類順!C142","v":"C：心の健康"},{"$f":"分類順!D142","v":"谷原　誠"},{"$f":"分類順!E142","v":"日本実業出版社"},{"$f":"分類順!F142","v":5416},"弁護士が教える気弱なあなたの交渉術一般図書C：心の健康谷原　誠日本実業出版社",1,{"$f":"VLOOKUP(\"*\"&目次加工!$B$2&\"*\",J143:K143,2,0)","v":1},{"$error":"#N/A"}]
[null,null,null,{"$f":"分類順!A143","v":"疑え、常識。"},{"$f":"分類順!B143","v":"一般図書"},{"$f":"分類順!C143","v":"C：心の健康"},{"$f":"分類順!D143","v":"川口淳一郎"},{"$f":"分類順!E143","v":"KKベストセラーズ"},{"$f":"分類順!F143","v":5466},"疑え、常識。一般図書C：心の健康川口淳一郎KKベストセラーズ",1,{"$f":"VLOOKUP(\"*\"&目次加工!$B$2&\"*\",J144:K144,2,0)","v":1},{"$error":"#N/A"}]
[null,null,null,{"$f":"分類順!A144","v":"不安な気持ちをしずめる方法"},{"$f":"分類順!B144","v":"医療の本"},{"$f":"分類順!C144","v":"C：心の健康"},{"$f":"分類順!D144","v":"キャロライン・カー"},{"$f":"分類順!E144","v":"PHP研究所"},{"$f":"分類順!F144","v":5502},"不安な気持ちをしずめる方法医療の本C：心の健康キャロライン・カーPHP研究所",1,{"$f":"VLOOKUP(\"*\"&目次加工!$B$2&\"*\",J145:K145,2,0)","v":1},{"$error":"#N/A"}]
[null,null,null,{"$f":"分類順!A145","v":"ものいうからだ"},{"$f":"分類順!B145","v":"医療の本"},{"$f":"分類順!C145","v":"C：心の健康"},{"$f":"分類順!D145","v":"南雲直二"},{"$f":"分類順!E145","v":"講談社"},{"$f":"分類順!F145","v":5552},"ものいうからだ医療の本C：心の健康南雲直二講談社",1,{"$f":"VLOOKUP(\"*\"&目次加工!$B$2&\"*\",J146:K146,2,0)","v":1},{"$error":"#N/A"}]
[null,null,null,{"$f":"分類順!A146","v":"おもいやりとホスピタリティの心理学"},{"$f":"分類順!B146","v":"医療の本"},{"$f":"分類順!C146","v":"C：心の健康"},{"$f":"分類順!D146","v":"平井誠也"},{"$f":"分類順!E146","v":"北大路書房"},{"$f":"分類順!F146","v":5554},{"$f":"D147&E147&F147&G147&H147","v":"おもいやりとホスピタリティの心理学医療の本C：心の健康平井誠也北大路書房"},1,{"$f":"VLOOKUP(\"*\"&目次加工!$B$2&\"*\",J147:K147,2,0)","v":1},{"$error":"#N/A"}]
[null,null,null,{"$f":"分類順!A147","v":"空への手紙"},{"$f":"分類順!B147","v":"一般図書"},{"$f":"分類順!C147","v":"C：心の健康"},{"$f":"分類順!D147","v":"佐藤律子"},{"$f":"分類順!E147","v":"ポプラ社"},{"$f":"分類順!F147","v":5555},"空への手紙一般図書C：心の健康佐藤律子ポプラ社",1,{"$f":"VLOOKUP(\"*\"&目次加工!$B$2&\"*\",J148:K148,2,0)","v":1},{"$error":"#N/A"}]
[null,null,null,{"$f":"分類順!A148","v":"四つ話のクローバー"},{"$f":"分類順!B148","v":"一般図書"},{"$f":"分類順!C148","v":"C：心の健康"},{"$f":"分類順!D148","v":"水野敬也"},{"$f":"分類順!E148","v":"文響社"},{"$f":"分類順!F148","v":5672},"四つ話のクローバー一般図書C：心の健康水野敬也文響社",1,{"$f":"VLOOKUP(\"*\"&目次加工!$B$2&\"*\",J149:K149,2,0)","v":1},{"$error":"#N/A"}]
[null,null,null,{"$f":"分類順!A149","v":"脳を究める　脳研最前線"},{"$f":"分類順!B149","v":"一般図書"},{"$f":"分類順!C149","v":"C：心の健康"},{"$f":"分類順!D149","v":"立花隆"},{"$f":"分類順!E149","v":"朝日新聞出版"},{"$f":"分類順!F149","v":5675},"脳を究める　脳研最前線一般図書C：心の健康立花隆朝日新聞出版",1,{"$f":"VLOOKUP(\"*\"&目次加工!$B$2&\"*\",J150:K150,2,0)","v":1},{"$error":"#N/A"}]
[null,null,null,{"$f":"分類順!A150","v":"ネガティブな自分をゆるす本"},{"$f":"分類順!B150","v":"一般図書"},{"$f":"分類順!C150","v":"C：心の健康"},{"$f":"分類順!D150","v":"植木理恵"},{"$f":"分類順!E150","v":"大和出版"},{"$f":"分類順!F150","v":5677},"ネガティブな自分をゆるす本一般図書C：心の健康植木理恵大和出版",1,{"$f":"VLOOKUP(\"*\"&目次加工!$B$2&\"*\",J151:K151,2,0)","v":1},{"$error":"#N/A"}]
[null,null,null,{"$f":"分類順!A151","v":"サンタクロースっているんでしょうか？"},{"$f":"分類順!B151","v":"一般図書"},{"$f":"分類順!C151","v":"C：心の健康"},{"$f":"分類順!D151","v":"中村妙子　訳"},{"$f":"分類順!E151","v":"偕成社"},{"$f":"分類順!F151","v":5678},"サンタクロースっているんでしょうか？一般図書C：心の健康中村妙子　訳偕成社",1,{"$f":"VLOOKUP(\"*\"&目次加工!$B$2&\"*\",J152:K152,2,0)","v":1},{"$error":"#N/A"}]
[null,null,null,{"$f":"分類順!A152","v":"妻を看取る日　国立がんセンター名誉総長の喪失と再生の記録"},{"$f":"分類順!B152","v":"医療の本"},{"$f":"分類順!C152","v":"C：心の健康"},{"$f":"分類順!D152","v":"垣添忠生"},{"$f":"分類順!E152","v":"新潮社"},{"$f":"分類順!F152","v":8114},"妻を看取る日　国立がんセンター名誉総長の喪失と再生の記録医療の本C：心の健康垣添忠生新潮社",1,{"$f":"VLOOKUP(\"*\"&目次加工!$B$2&\"*\",J153:K153,2,0)","v":1},{"$error":"#N/A"}]
[null,null,null,{"$f":"分類順!A153","v":"職場不適応症"},{"$f":"分類順!B153","v":"医療の本"},{"$f":"分類順!C153","v":"C：心の健康"},{"$f":"分類順!D153","v":"渡辺　登"},{"$f":"分類順!E153","v":"講談社"},{"$f":"分類順!F153","v":8118},"職場不適応症医療の本C：心の健康渡辺　登講談社",1,{"$f":"VLOOKUP(\"*\"&目次加工!$B$2&\"*\",J154:K154,2,0)","v":1},{"$error":"#N/A"}]
[null,null,null,{"$f":"分類順!A154","v":"なぜ、ヒトは「うつ」になるのか"},{"$f":"分類順!B154","v":"医療の本"},{"$f":"分類順!C154","v":"C：心の健康"},{"$f":"分類順!D154","v":"北島潤一郎"},{"$f":"分類順!E154","v":"シーアンドアール研究所"},{"$f":"分類順!F154","v":8122},"なぜ、ヒトは「うつ」になるのか医療の本C：心の健康北島潤一郎シーアンドアール研究所",1,{"$f":"VLOOKUP(\"*\"&目次加工!$B$2&\"*\",J155:K155,2,0)","v":1},{"$error":"#N/A"}]
[null,null,null,{"$f":"分類順!A155","v":"雑談力が上がる話し方"},{"$f":"分類順!B155","v":"一般図書"},{"$f":"分類順!C155","v":"C：心の健康"},{"$f":"分類順!D155","v":"齋藤　孝"},{"$f":"分類順!E155","v":"ダイヤモンド社"},{"$f":"分類順!F155","v":10001},"雑談力が上がる話し方一般図書C：心の健康齋藤　孝ダイヤモンド社",1,{"$f":"VLOOKUP(\"*\"&目次加工!$B$2&\"*\",J156:K156,2,0)","v":1},{"$error":"#N/A"}]
[null,null,null,{"$f":"分類順!A156","v":"脳はバカ、腸はかしこい"},{"$f":"分類順!B156","v":"医療の本"},{"$f":"分類順!C156","v":"C：心の健康"},{"$f":"分類順!D156","v":"藤田紘一郎"},{"$f":"分類順!E156","v":"三五館"},{"$f":"分類順!F156","v":10002},"脳はバカ、腸はかしこい医療の本C：心の健康藤田紘一郎三五館",1,{"$f":"VLOOKUP(\"*\"&目次加工!$B$2&\"*\",J157:K157,2,0)","v":1},{"$error":"#N/A"}]
[null,null,null,{"$f":"分類順!A157","v":"人生の実力"},{"$f":"分類順!B157","v":"一般図書"},{"$f":"分類順!C157","v":"C：心の健康"},{"$f":"分類順!D157","v":"柏木哲夫"},{"$f":"分類順!E157","v":"幻冬舎"},{"$f":"分類順!F157","v":10004},"人生の実力一般図書C：心の健康柏木哲夫幻冬舎",1,{"$f":"VLOOKUP(\"*\"&目次加工!$B$2&\"*\",J158:K158,2,0)","v":1},{"$error":"#N/A"}]
[null,null,null,{"$f":"分類順!A158","v":"ストレス対策で病気を防ぐ、治す本"},{"$f":"分類順!B158","v":"医療の本"},{"$f":"分類順!C158","v":"C：心の健康"},{"$f":"分類順!D158","v":"村上正人"},{"$f":"分類順!E158","v":"主婦と生活社"},{"$f":"分類順!F158","v":10005},"ストレス対策で病気を防ぐ、治す本医療の本C：心の健康村上正人主婦と生活社",1,{"$f":"VLOOKUP(\"*\"&目次加工!$B$2&\"*\",J159:K159,2,0)","v":1},{"$error":"#N/A"}]
[null,null,null,{"$f":"分類順!A159","v":"気分障害治療ガイドライン"},{"$f":"分類順!B159","v":"医療の本"},{"$f":"分類順!C159","v":"C：心の健康"},{"$f":"分類順!D159","v":"精神医学講座担当者会議"},{"$f":"分類順!E159","v":"医学書院"},{"$f":"分類順!F159","v":10006},"気分障害治療ガイドライン医療の本C：心の健康精神医学講座担当者会議医学書院",1,{"$f":"VLOOKUP(\"*\"&目次加工!$B$2&\"*\",J160:K160,2,0)","v":1},{"$error":"#N/A"}]
[null,null,null,{"$f":"分類順!A160","v":"自律神経失調症の悩みをぐんぐん解消する基本ワザ"},{"$f":"分類順!B160","v":"医療の本"},{"$f":"分類順!C160","v":"C：心の健康"},{"$f":"分類順!D160","v":"久保木富房"},{"$f":"分類順!E160","v":"日東書院"},{"$f":"分類順!F160","v":10063},"自律神経失調症の悩みをぐんぐん解消する基本ワザ医療の本C：心の健康久保木富房日東書院",1,{"$f":"VLOOKUP(\"*\"&目次加工!$B$2&\"*\",J161:K161,2,0)","v":1},{"$error":"#N/A"}]
[null,null,null,{"$f":"分類順!A161","v":"パニック障害とうまくつきあうルール"},{"$f":"分類順!B161","v":"医療の本"},{"$f":"分類順!C161","v":"C：心の健康"},{"$f":"分類順!D161","v":"べヴ・エイズベット"},{"$f":"分類順!E161","v":"大和書房"},{"$f":"分類順!F161","v":10064},"パニック障害とうまくつきあうルール医療の本C：心の健康べヴ・エイズベット大和書房",1,{"$f":"VLOOKUP(\"*\"&目次加工!$B$2&\"*\",J162:K162,2,0)","v":1},{"$error":"#N/A"}]
[null,null,null,{"$f":"分類順!A162","v":"うつ病がよくわかる本"},{"$f":"分類順!B162","v":"医療の本"},{"$f":"分類順!C162","v":"C：心の健康"},{"$f":"分類順!D162","v":"鍋田恭孝"},{"$f":"分類順!E162","v":"日本評論社"},{"$f":"分類順!F162","v":10065},"うつ病がよくわかる本医療の本C：心の健康鍋田恭孝日本評論社",1,{"$f":"VLOOKUP(\"*\"&目次加工!$B$2&\"*\",J163:K163,2,0)","v":1},{"$error":"#N/A"}]
[null,null,null,{"$f":"分類順!A163","v":"死にカタログ"},{"$f":"分類順!B163","v":"一般図書"},{"$f":"分類順!C163","v":"C：心の健康"},{"$f":"分類順!D163","v":"寄藤文平"},{"$f":"分類順!E163","v":"大和書房"},{"$f":"分類順!F163","v":10066},"死にカタログ一般図書C：心の健康寄藤文平大和書房",1,{"$f":"VLOOKUP(\"*\"&目次加工!$B$2&\"*\",J164:K164,2,0)","v":1},{"$error":"#N/A"}]
[null,null,null,{"$f":"分類順!A164","v":"シルバー川柳　誕生日　ローソク吹いて　たちくらみ"},{"$f":"分類順!B164","v":"一般図書"},{"$f":"分類順!C164","v":"C：心の健康"},{"$f":"分類順!D164","v":"全国有料老人ホーム協会"},{"$f":"分類順!E164","v":"ポプラ社"},{"$f":"分類順!F164","v":10102},"シルバー川柳　誕生日　ローソク吹いて　たちくらみ一般図書C：心の健康全国有料老人ホーム協会ポプラ社",1,{"$f":"VLOOKUP(\"*\"&目次加工!$B$2&\"*\",J165:K165,2,0)","v":1},{"$error":"#N/A"}]
[null,null,null,{"$f":"分類順!A165","v":"武器としての交渉思考"},{"$f":"分類順!B165","v":"一般図書"},{"$f":"分類順!C165","v":"C：心の健康"},{"$f":"分類順!D165","v":"瀧本哲史"},{"$f":"分類順!E165","v":"星海社"},{"$f":"分類順!F165","v":10128},"武器としての交渉思考一般図書C：心の健康瀧本哲史星海社",1,{"$f":"VLOOKUP(\"*\"&目次加工!$B$2&\"*\",J166:K166,2,0)","v":1},{"$error":"#N/A"}]
[null,null,null,{"$f":"分類順!A166","v":"自分のことをしゃべりすぎる若者たち"},{"$f":"分類順!B166","v":"一般図書"},{"$f":"分類順!C166","v":"C：心の健康"},{"$f":"分類順!D166","v":"杉浦由美子"},{"$f":"分類順!E166","v":"講談社"},{"$f":"分類順!F166","v":10129},"自分のことをしゃべりすぎる若者たち一般図書C：心の健康杉浦由美子講談社",1,{"$f":"VLOOKUP(\"*\"&目次加工!$B$2&\"*\",J167:K167,2,0)","v":1},{"$error":"#N/A"}]
[null,null,null,{"$f":"分類順!A167","v":"「はやぶさ」式思考法"},{"$f":"分類順!B167","v":"一般図書"},{"$f":"分類順!C167","v":"C：心の健康"},{"$f":"分類順!D167","v":"川口淳一郎"},{"$f":"分類順!E167","v":"飛鳥新社"},{"$f":"分類順!F167","v":10130},"「はやぶさ」式思考法一般図書C：心の健康川口淳一郎飛鳥新社",1,{"$f":"VLOOKUP(\"*\"&目次加工!$B$2&\"*\",J168:K168,2,0)","v":1},{"$error":"#N/A"}]
[null,null,null,{"$f":"分類順!A168","v":"心がふわっと軽くなる考え方"},{"$f":"分類順!B168","v":"一般図書"},{"$f":"分類順!C168","v":"C：心の健康"},{"$f":"分類順!D168","v":"ひすいこたろう　他"},{"$f":"分類順!E168","v":"ソフトバンククリエイティブ"},{"$f":"分類順!F168","v":10131},"心がふわっと軽くなる考え方一般図書C：心の健康ひすいこたろう　他ソフトバンククリエイティブ",1,{"$f":"VLOOKUP(\"*\"&目次加工!$B$2&\"*\",J169:K169,2,0)","v":1},{"$error":"#N/A"}]
[null,null,null,{"$f":"分類順!A169","v":"自分のこころのトリセツ"},{"$f":"分類順!B169","v":"一般図書"},{"$f":"分類順!C169","v":"C：心の健康"},{"$f":"分類順!D169","v":"下園壮太"},{"$f":"分類順!E169","v":"日経BPマーケティング"},{"$f":"分類順!F169","v":10132},"自分のこころのトリセツ一般図書C：心の健康下園壮太日経BPマーケティング",1,{"$f":"VLOOKUP(\"*\"&目次加工!$B$2&\"*\",J170:K170,2,0)","v":1},{"$error":"#N/A"}]
[null,null,null,{"$f":"分類順!A170","v":"読まずにいられぬ名短編集"},{"$f":"分類順!B170","v":"一般図書"},{"$f":"分類順!C170","v":"C：心の健康"},{"$f":"分類順!D170","v":"宮部みゆき"},{"$f":"分類順!E170","v":"筑摩書房"},{"$f":"分類順!F170","v":10135},"読まずにいられぬ名短編集一般図書C：心の健康宮部みゆき筑摩書房",1,{"$f":"VLOOKUP(\"*\"&目次加工!$B$2&\"*\",J171:K171,2,0)","v":1},{"$error":"#N/A"}]
[null,null,null,{"$f":"分類順!A171","v":"プラハの春"},{"$f":"分類順!B171","v":"一般図書"},{"$f":"分類順!C171","v":"C：心の健康"},{"$f":"分類順!D171","v":"春江一也"},{"$f":"分類順!E171","v":"集英社"},{"$f":"分類順!F171","v":10141},"プラハの春一般図書C：心の健康春江一也集英社",1,{"$f":"VLOOKUP(\"*\"&目次加工!$B$2&\"*\",J172:K172,2,0)","v":1},{"$error":"#N/A"}]
[null,null,null,{"$f":"分類順!A172","v":"晏子（あんし）上"},{"$f":"分類順!B172","v":"一般図書"},{"$f":"分類順!C172","v":"C：心の健康"},{"$f":"分類順!D172","v":"宮城谷昌光"},{"$f":"分類順!E172","v":"新潮社"},{"$f":"分類順!F172","v":10142},"晏子（あんし）上一般図書C：心の健康宮城谷昌光新潮社",1,{"$f":"VLOOKUP(\"*\"&目次加工!$B$2&\"*\",J173:K173,2,0)","v":1},{"$error":"#N/A"}]
[null,null,null,{"$f":"分類順!A173","v":"晏子（あんし）中"},{"$f":"分類順!B173","v":"一般図書"},{"$f":"分類順!C173","v":"C：心の健康"},{"$f":"分類順!D173","v":"宮城谷昌光"},{"$f":"分類順!E173","v":"新潮社"},{"$f":"分類順!F173","v":10143},"晏子（あんし）中一般図書C：心の健康宮城谷昌光新潮社",1,{"$f":"VLOOKUP(\"*\"&目次加工!$B$2&\"*\",J174:K174,2,0)","v":1},{"$error":"#N/A"}]
[null,null,null,{"$f":"分類順!A174","v":"晏子（あんし）下"},{"$f":"分類順!B174","v":"一般図書"},{"$f":"分類順!C174","v":"C：心の健康"},{"$f":"分類順!D174","v":"宮城谷昌光"},{"$f":"分類順!E174","v":"新潮社"},{"$f":"分類順!F174","v":10144},"晏子（あんし）下一般図書C：心の健康宮城谷昌光新潮社",1,{"$f":"VLOOKUP(\"*\"&目次加工!$B$2&\"*\",J175:K175,2,0)","v":1},{"$error":"#N/A"}]
[null,null,null,{"$f":"分類順!A175","v":"女性のうつ病 (よくわかる最新医学シリーズ）"},{"$f":"分類順!B175","v":"医療の本"},{"$f":"分類順!C175","v":"C：心の健康"},{"$f":"分類順!D175","v":"野田 順子"},{"$f":"分類順!E175","v":"主婦の友社"},{"$f":"分類順!F175","v":10147},"女性のうつ病 (よくわかる最新医学シリーズ）医療の本C：心の健康野田 順子主婦の友社",1,{"$f":"VLOOKUP(\"*\"&目次加工!$B$2&\"*\",J176:K176,2,0)","v":1},{"$error":"#N/A"}]
[null,null,null,{"$f":"分類順!A176","v":"マンガでわかる！統合失調症"},{"$f":"分類順!B176","v":"医療の本"},{"$f":"分類順!C176","v":"C：心の健康"},{"$f":"分類順!D176","v":"中村ユキ"},{"$f":"分類順!E176","v":"日本評論社"},{"$f":"分類順!F176","v":10148},"マンガでわかる！統合失調症医療の本C：心の健康中村ユキ日本評論社",1,{"$f":"VLOOKUP(\"*\"&目次加工!$B$2&\"*\",J177:K177,2,0)","v":1},{"$error":"#N/A"}]
[null,null,null,{"$f":"分類順!A177","v":"新幹線お掃除の天使たち"},{"$f":"分類順!B177","v":"一般図書"},{"$f":"分類順!C177","v":"C：心の健康"},{"$f":"分類順!D177","v":"遠藤功"},{"$f":"分類順!E177","v":"あさ出版"},{"$f":"分類順!F177","v":10192},"新幹線お掃除の天使たち一般図書C：心の健康遠藤功あさ出版",1,{"$f":"VLOOKUP(\"*\"&目次加工!$B$2&\"*\",J178:K178,2,0)","v":1},{"$error":"#N/A"}]
[null,null,null,{"$f":"分類順!A178","v":"こころの天気図"},{"$f":"分類順!B178","v":"一般図書"},{"$f":"分類順!C178","v":"C：心の健康"},{"$f":"分類順!D178","v":"河合隼雄"},{"$f":"分類順!E178","v":"毎日新聞社"},{"$f":"分類順!F178","v":10193},"こころの天気図一般図書C：心の健康河合隼雄毎日新聞社",1,{"$f":"VLOOKUP(\"*\"&目次加工!$B$2&\"*\",J179:K179,2,0)","v":1},{"$error":"#N/A"}]
[null,null,null,{"$f":"分類順!A179","v":"こころの声を聴く"},{"$f":"分類順!B179","v":"一般図書"},{"$f":"分類順!C179","v":"C：心の健康"},{"$f":"分類順!D179","v":"河合隼雄"},{"$f":"分類順!E179","v":"新潮社"},{"$f":"分類順!F179","v":10194},"こころの声を聴く一般図書C：心の健康河合隼雄新潮社",1,{"$f":"VLOOKUP(\"*\"&目次加工!$B$2&\"*\",J180:K180,2,0)","v":1},{"$error":"#N/A"}]
[null,null,null,{"$f":"分類順!A180","v":"こころの旅"},{"$f":"分類順!B180","v":"一般図書"},{"$f":"分類順!C180","v":"C：心の健康"},{"$f":"分類順!D180","v":"神谷恵美子"},{"$f":"分類順!E180","v":"日本評論社"},{"$f":"分類順!F180","v":10195},"こころの旅一般図書C：心の健康神谷恵美子日本評論社",1,{"$f":"VLOOKUP(\"*\"&目次加工!$B$2&\"*\",J181:K181,2,0)","v":1},{"$error":"#N/A"}]
[null,null,null,{"$f":"分類順!A181","v":"夢をかなえるゾウ"},{"$f":"分類順!B181","v":"一般図書"},{"$f":"分類順!C181","v":"C：心の健康"},{"$f":"分類順!D181","v":"水野敬也"},{"$f":"分類順!E181","v":"飛鳥新社"},{"$f":"分類順!F181","v":10196},"夢をかなえるゾウ一般図書C：心の健康水野敬也飛鳥新社",1,{"$f":"VLOOKUP(\"*\"&目次加工!$B$2&\"*\",J182:K182,2,0)","v":1},{"$error":"#N/A"}]
[null,null,null,{"$f":"分類順!A182","v":"恋愛成就寺"},{"$f":"分類順!B182","v":"一般図書"},{"$f":"分類順!C182","v":"C：心の健康"},{"$f":"分類順!D182","v":"小池龍之介"},{"$f":"分類順!E182","v":"ディスカヴァー・トゥエンティワン"},{"$f":"分類順!F182","v":10197},"恋愛成就寺一般図書C：心の健康小池龍之介ディスカヴァー・トゥエンティワン",1,{"$f":"VLOOKUP(\"*\"&目次加工!$B$2&\"*\",J183:K183,2,0)","v":1},{"$error":"#N/A"}]
[null,null,null,{"$f":"分類順!A183","v":"他人をほめる人、けなす人"},{"$f":"分類順!B183","v":"一般図書"},{"$f":"分類順!C183","v":"C：心の健康"},{"$f":"分類順!D183","v":"フランチェスコ・アルベローニ"},{"$f":"分類順!E183","v":"草思社"},{"$f":"分類順!F183","v":10198},"他人をほめる人、けなす人一般図書C：心の健康フランチェスコ・アルベローニ草思社",1,{"$f":"VLOOKUP(\"*\"&目次加工!$B$2&\"*\",J184:K184,2,0)","v":1},{"$error":"#N/A"}]
[null,null,null,{"$f":"分類順!A184","v":"もの食う人びと"},{"$f":"分類順!B184","v":"一般図書"},{"$f":"分類順!C184","v":"C：心の健康"},{"$f":"分類順!D184","v":"辺見庸"},{"$f":"分類順!E184","v":"共同通信社"},{"$f":"分類順!F184","v":10199},"もの食う人びと一般図書C：心の健康辺見庸共同通信社",1,{"$f":"VLOOKUP(\"*\"&目次加工!$B$2&\"*\",J185:K185,2,0)","v":1},{"$error":"#N/A"}]
[null,null,null,{"$f":"分類順!A185","v":"世界と日本のまちがい"},{"$f":"分類順!B185","v":"一般図書"},{"$f":"分類順!C185","v":"C：心の健康"},{"$f":"分類順!D185","v":"松岡正剛"},{"$f":"分類順!E185","v":"春秋社"},{"$f":"分類順!F185","v":10200},"世界と日本のまちがい一般図書C：心の健康松岡正剛春秋社",1,{"$f":"VLOOKUP(\"*\"&目次加工!$B$2&\"*\",J186:K186,2,0)","v":1},{"$error":"#N/A"}]
[null,null,null,{"$f":"分類順!A186","v":"鉄道員"},{"$f":"分類順!B186","v":"一般図書"},{"$f":"分類順!C186","v":"C：心の健康"},{"$f":"分類順!D186","v":"浅田次郎"},{"$f":"分類順!E186","v":"集英社"},{"$f":"分類順!F186","v":10201},"鉄道員一般図書C：心の健康浅田次郎集英社",1,{"$f":"VLOOKUP(\"*\"&目次加工!$B$2&\"*\",J187:K187,2,0)","v":1},{"$error":"#N/A"}]
[null,null,null,{"$f":"分類順!A187","v":"耳ぶくろ"},{"$f":"分類順!B187","v":"一般図書"},{"$f":"分類順!C187","v":"C：心の健康"},{"$f":"分類順!D187","v":"日本エッセイストクラブ"},{"$f":"分類順!E187","v":"文藝春秋"},{"$f":"分類順!F187","v":10202},"耳ぶくろ一般図書C：心の健康日本エッセイストクラブ文藝春秋",1,{"$f":"VLOOKUP(\"*\"&目次加工!$B$2&\"*\",J188:K188,2,0)","v":1},{"$error":"#N/A"}]
[null,null,null,{"$f":"分類順!A188","v":"ネパールのビール"},{"$f":"分類順!B188","v":"一般図書"},{"$f":"分類順!C188","v":"C：心の健康"},{"$f":"分類順!D188","v":"日本エッセイストクラブ"},{"$f":"分類順!E188","v":"文藝春秋"},{"$f":"分類順!F188","v":10203},"ネパールのビール一般図書C：心の健康日本エッセイストクラブ文藝春秋",1,{"$f":"VLOOKUP(\"*\"&目次加工!$B$2&\"*\",J189:K189,2,0)","v":1},{"$error":"#N/A"}]
[null,null,null,{"$f":"分類順!A189","v":"明治のベースボール"},{"$f":"分類順!B189","v":"一般図書"},{"$f":"分類順!C189","v":"C：心の健康"},{"$f":"分類順!D189","v":"日本エッセイストクラブ"},{"$f":"分類順!E189","v":"文藝春秋"},{"$f":"分類順!F189","v":10204},"明治のベースボール一般図書C：心の健康日本エッセイストクラブ文藝春秋",1,{"$f":"VLOOKUP(\"*\"&目次加工!$B$2&\"*\",J190:K190,2,0)","v":1},{"$error":"#N/A"}]
[null,null,null,{"$f":"分類順!A190","v":"母の写真"},{"$f":"分類順!B190","v":"一般図書"},{"$f":"分類順!C190","v":"C：心の健康"},{"$f":"分類順!D190","v":"日本エッセイストクラブ"},{"$f":"分類順!E190","v":"文藝春秋"},{"$f":"分類順!F190","v":10205},"母の写真一般図書C：心の健康日本エッセイストクラブ文藝春秋",1,{"$f":"VLOOKUP(\"*\"&目次加工!$B$2&\"*\",J191:K191,2,0)","v":1},{"$error":"#N/A"}]
[null,null,null,{"$f":"分類順!A191","v":"司馬サンの大阪弁"},{"$f":"分類順!B191","v":"一般図書"},{"$f":"分類順!C191","v":"C：心の健康"},{"$f":"分類順!D191","v":"日本エッセイストクラブ"},{"$f":"分類順!E191","v":"文藝春秋"},{"$f":"分類順!F191","v":10206},"司馬サンの大阪弁一般図書C：心の健康日本エッセイストクラブ文藝春秋",1,{"$f":"VLOOKUP(\"*\"&目次加工!$B$2&\"*\",J192:K192,2,0)","v":1},{"$error":"#N/A"}]
[null,null,null,{"$f":"分類順!A192","v":"誕生日のアップルパイ"},{"$f":"分類順!B192","v":"一般図書"},{"$f":"分類順!C192","v":"C：心の健康"},{"$f":"分類順!D192","v":"日本エッセイストクラブ"},{"$f":"分類順!E192","v":"文藝春秋"},{"$f":"分類順!F192","v":10207},"誕生日のアップルパイ一般図書C：心の健康日本エッセイストクラブ文藝春秋",1,{"$f":"VLOOKUP(\"*\"&目次加工!$B$2&\"*\",J193:K193,2,0)","v":1},{"$error":"#N/A"}]
[null,null,null,{"$f":"分類順!A193","v":"中くらいの妻"},{"$f":"分類順!B193","v":"一般図書"},{"$f":"分類順!C193","v":"C：心の健康"},{"$f":"分類順!D193","v":"日本エッセイストクラブ"},{"$f":"分類順!E193","v":"文藝春秋"},{"$f":"分類順!F193","v":10208},"中くらいの妻一般図書C：心の健康日本エッセイストクラブ文藝春秋",1,{"$f":"VLOOKUP(\"*\"&目次加工!$B$2&\"*\",J194:K194,2,0)","v":1},{"$error":"#N/A"}]
[null,null,null,{"$f":"分類順!A194","v":"お父っつあんの冒険"},{"$f":"分類順!B194","v":"一般図書"},{"$f":"分類順!C194","v":"C：心の健康"},{"$f":"分類順!D194","v":"日本エッセイストクラブ"},{"$f":"分類順!E194","v":"文藝春秋"},{"$f":"分類順!F194","v":10209},"お父っつあんの冒険一般図書C：心の健康日本エッセイストクラブ文藝春秋",1,{"$f":"VLOOKUP(\"*\"&目次加工!$B$2&\"*\",J195:K195,2,0)","v":1},{"$error":"#N/A"}]
[null,null,null,{"$f":"分類順!A195","v":"幸せになる魔法のことば"},{"$f":"分類順!B195","v":"一般図書"},{"$f":"分類順!C195","v":"C：心の健康"},{"$f":"分類順!D195","v":"森　惟明"},{"$f":"分類順!E195","v":"高知新聞総合印刷"},{"$f":"分類順!F195","v":10215},"幸せになる魔法のことば一般図書C：心の健康森　惟明高知新聞総合印刷",1,{"$f":"VLOOKUP(\"*\"&目次加工!$B$2&\"*\",J196:K196,2,0)","v":1},{"$f":"VLOOKUP(\"*\"&$A$2&\"*\",J196:K196,2,0)","v":{"$error":"#N/A"}}]
[null,null,null,{"$f":"分類順!A196","v":"脳を活かす勉強法"},{"$f":"分類順!B196","v":"一般図書"},{"$f":"分類順!C196","v":"C：心の健康"},{"$f":"分類順!D196","v":"茂木健一郎"},{"$f":"分類順!E196","v":"PHP研究所"},{"$f":"分類順!F196","v":10223},"脳を活かす勉強法一般図書C：心の健康茂木健一郎PHP研究所",1,{"$f":"VLOOKUP(\"*\"&目次加工!$B$2&\"*\",J197:K197,2,0)","v":1},{"$error":"#N/A"}]
[null,null,null,{"$f":"分類順!A197","v":"小さいことにくよくよするな！"},{"$f":"分類順!B197","v":"一般図書"},{"$f":"分類順!C197","v":"C：心の健康"},{"$f":"分類順!D197","v":"リチャード・カールソン"},{"$f":"分類順!E197","v":"サンマーク出版"},{"$f":"分類順!F197","v":10224},"小さいことにくよくよするな！一般図書C：心の健康リチャード・カールソンサンマーク出版",1,{"$f":"VLOOKUP(\"*\"&目次加工!$B$2&\"*\",J198:K198,2,0)","v":1},{"$error":"#N/A"}]
[null,null,null,{"$f":"分類順!A198","v":"「そ・わ・か」の法則"},{"$f":"分類順!B198","v":"一般図書"},{"$f":"分類順!C198","v":"C：心の健康"},{"$f":"分類順!D198","v":"小林正観"},{"$f":"分類順!E198","v":"サンマーク出版"},{"$f":"分類順!F198","v":10225},"「そ・わ・か」の法則一般図書C：心の健康小林正観サンマーク出版",1,{"$f":"VLOOKUP(\"*\"&目次加工!$B$2&\"*\",J199:K199,2,0)","v":1},{"$error":"#N/A"}]
[null,null,null,{"$f":"分類順!A199","v":"青春とは"},{"$f":"分類順!B199","v":"一般図書"},{"$f":"分類順!C199","v":"C：心の健康"},{"$f":"分類順!D199","v":"サムエル・ウルマン"},{"$f":"分類順!E199","v":"講談社"},{"$f":"分類順!F199","v":10226},"青春とは一般図書C：心の健康サムエル・ウルマン講談社",1,{"$f":"VLOOKUP(\"*\"&目次加工!$B$2&\"*\",J200:K200,2,0)","v":1},{"$error":"#N/A"}]
[null,null,null,{"$f":"分類順!A200","v":"納得いく仕事　納得できる人生"},{"$f":"分類順!B200","v":"一般図書"},{"$f":"分類順!C200","v":"C：心の健康"},{"$f":"分類順!D200","v":"江波戸哲夫"},{"$f":"分類順!E200","v":"プレジデント社"},{"$f":"分類順!F200","v":10227},"納得いく仕事　納得できる人生一般図書C：心の健康江波戸哲夫プレジデント社",1,{"$f":"VLOOKUP(\"*\"&目次加工!$B$2&\"*\",J201:K201,2,0)","v":1},{"$error":"#N/A"}]
[null,null,null,{"$f":"分類順!A201","v":"あなたを変える「稼ぎ力」養成講座"},{"$f":"分類順!B201","v":"一般図書"},{"$f":"分類順!C201","v":"C：心の健康"},{"$f":"分類順!D201","v":"渋井真帆"},{"$f":"分類順!E201","v":"ダイヤモンド社"},{"$f":"分類順!F201","v":10228},"あなたを変える「稼ぎ力」養成講座一般図書C：心の健康渋井真帆ダイヤモンド社",1,{"$f":"VLOOKUP(\"*\"&目次加工!$B$2&\"*\",J202:K202,2,0)","v":1},{"$error":"#N/A"}]
[null,null,null,{"$f":"分類順!A202","v":"やさしい人"},{"$f":"分類順!B202","v":"一般図書"},{"$f":"分類順!C202","v":"C：心の健康"},{"$f":"分類順!D202","v":"加藤諦三"},{"$f":"分類順!E202","v":"PHP研究所"},{"$f":"分類順!F202","v":10229},"やさしい人一般図書C：心の健康加藤諦三PHP研究所",1,{"$f":"VLOOKUP(\"*\"&目次加工!$B$2&\"*\",J203:K203,2,0)","v":1},{"$error":"#N/A"}]
[null,null,null,{"$f":"分類順!A203","v":"能率手帳の流儀"},{"$f":"分類順!B203","v":"一般図書"},{"$f":"分類順!C203","v":"C：心の健康"},{"$f":"分類順!D203","v":"野口晴巳"},{"$f":"分類順!E203","v":"日本能率協会マネジメントセンター"},{"$f":"分類順!F203","v":10230},"能率手帳の流儀一般図書C：心の健康野口晴巳日本能率協会マネジメントセンター",1,{"$f":"VLOOKUP(\"*\"&目次加工!$B$2&\"*\",J204:K204,2,0)","v":1},{"$error":"#N/A"}]
[null,null,null,{"$f":"分類順!A204","v":"理系思考"},{"$f":"分類順!B204","v":"一般図書"},{"$f":"分類順!C204","v":"C：心の健康"},{"$f":"分類順!D204","v":"元村有希子"},{"$f":"分類順!E204","v":"毎日新聞社"},{"$f":"分類順!F204","v":10231},"理系思考一般図書C：心の健康元村有希子毎日新聞社",1,{"$f":"VLOOKUP(\"*\"&目次加工!$B$2&\"*\",J205:K205,2,0)","v":1},{"$error":"#N/A"}]
[null,null,null,{"$f":"分類順!A205","v":"天声人語　人物編"},{"$f":"分類順!B205","v":"一般図書"},{"$f":"分類順!C205","v":"C：心の健康"},{"$f":"分類順!D205","v":"辰濃和男"},{"$f":"分類順!E205","v":"朝日新聞出版"},{"$f":"分類順!F205","v":10232},"天声人語　人物編一般図書C：心の健康辰濃和男朝日新聞出版",1,{"$f":"VLOOKUP(\"*\"&目次加工!$B$2&\"*\",J206:K206,2,0)","v":1},{"$error":"#N/A"}]
[null,null,null,{"$f":"分類順!A206","v":"天声人語　自然編"},{"$f":"分類順!B206","v":"一般図書"},{"$f":"分類順!C206","v":"C：心の健康"},{"$f":"分類順!D206","v":"辰濃和男"},{"$f":"分類順!E206","v":"朝日新聞出版"},{"$f":"分類順!F206","v":10233},"天声人語　自然編一般図書C：心の健康辰濃和男朝日新聞出版",1,{"$f":"VLOOKUP(\"*\"&目次加工!$B$2&\"*\",J207:K207,2,0)","v":1},{"$error":"#N/A"}]
[null,null,null,{"$f":"分類順!A207","v":"自分を超える法"},{"$f":"分類順!B207","v":"一般図書"},{"$f":"分類順!C207","v":"C：心の健康"},{"$f":"分類順!D207","v":"ピーター・セージ"},{"$f":"分類順!E207","v":"ダイヤモンド社"},{"$f":"分類順!F207","v":10234},"自分を超える法一般図書C：心の健康ピーター・セージダイヤモンド社",1,{"$f":"VLOOKUP(\"*\"&目次加工!$B$2&\"*\",J208:K208,2,0)","v":1},{"$error":"#N/A"}]
[null,null,null,{"$f":"分類順!A208","v":"脳が冴える15の習慣　記憶・集中・思考力を高める"},{"$f":"分類順!B208","v":"一般図書"},{"$f":"分類順!C208","v":"C：心の健康"},{"$f":"分類順!D208","v":"築山節"},{"$f":"分類順!E208","v":"NHK出版"},{"$f":"分類順!F208","v":10235},"脳が冴える15の習慣　記憶・集中・思考力を高める一般図書C：心の健康築山節NHK出版",1,{"$f":"VLOOKUP(\"*\"&目次加工!$B$2&\"*\",J209:K209,2,0)","v":1},{"$error":"#N/A"}]
[null,null,null,{"$f":"分類順!A209","v":"行列ができる店はどこが違うのか　飲食店の心理学"},{"$f":"分類順!B209","v":"一般図書"},{"$f":"分類順!C209","v":"C：心の健康"},{"$f":"分類順!D209","v":"大久保一彦"},{"$f":"分類順!E209","v":"精興社"},{"$f":"分類順!F209","v":10236},"行列ができる店はどこが違うのか　飲食店の心理学一般図書C：心の健康大久保一彦精興社",1,{"$f":"VLOOKUP(\"*\"&目次加工!$B$2&\"*\",J210:K210,2,0)","v":1},{"$error":"#N/A"}]
[null,null,null,{"$f":"分類順!A210","v":"牛丼一杯の儲けは9円"},{"$f":"分類順!B210","v":"一般図書"},{"$f":"分類順!C210","v":"C：心の健康"},{"$f":"分類順!D210","v":"坂口孝則"},{"$f":"分類順!E210","v":"幻冬舎"},{"$f":"分類順!F210","v":10237},{"$f":"D211&E211&F211&G211&H211","v":"牛丼一杯の儲けは9円一般図書C：心の健康坂口孝則幻冬舎"},1,{"$f":"VLOOKUP(\"*\"&目次加工!$B$2&\"*\",J211:K211,2,0)","v":1},{"$error":"#N/A"}]
[null,null,null,{"$f":"分類順!A211","v":"仕事ができる人はなぜ筋トレをするのか"},{"$f":"分類順!B211","v":"一般図書"},{"$f":"分類順!C211","v":"C：心の健康"},{"$f":"分類順!D211","v":"山本ケイイチ"},{"$f":"分類順!E211","v":"幻冬舎"},{"$f":"分類順!F211","v":10238},"仕事ができる人はなぜ筋トレをするのか一般図書C：心の健康山本ケイイチ幻冬舎",1,{"$f":"VLOOKUP(\"*\"&目次加工!$B$2&\"*\",J212:K212,2,0)","v":1},{"$error":"#N/A"}]
[null,null,null,{"$f":"分類順!A212","v":"神の交渉力"},{"$f":"分類順!B212","v":"一般図書"},{"$f":"分類順!C212","v":"C：心の健康"},{"$f":"分類順!D212","v":"竹内一正"},{"$f":"分類順!E212","v":"経済界"},{"$f":"分類順!F212","v":10239},"神の交渉力一般図書C：心の健康竹内一正経済界",1,{"$f":"VLOOKUP(\"*\"&目次加工!$B$2&\"*\",J213:K213,2,0)","v":1},{"$error":"#N/A"}]
[null,null,null,{"$f":"分類順!A213","v":"明日をひらく言葉"},{"$f":"分類順!B213","v":"一般図書"},{"$f":"分類順!C213","v":"C：心の健康"},{"$f":"分類順!D213","v":"やなせたかし"},{"$f":"分類順!E213","v":"PHP研究所"},{"$f":"分類順!F213","v":10244},"明日をひらく言葉一般図書C：心の健康やなせたかしPHP研究所",1,{"$f":"VLOOKUP(\"*\"&目次加工!$B$2&\"*\",J214:K214,2,0)","v":1},{"$error":"#N/A"}]
[null,null,null,{"$f":"分類順!A214","v":"仕事をしたつもり"},{"$f":"分類順!B214","v":"一般図書"},{"$f":"分類順!C214","v":"C：心の健康"},{"$f":"分類順!D214","v":"海老原嗣生"},{"$f":"分類順!E214","v":"星海社"},{"$f":"分類順!F214","v":10245},"仕事をしたつもり一般図書C：心の健康海老原嗣生星海社",1,{"$f":"VLOOKUP(\"*\"&目次加工!$B$2&\"*\",J215:K215,2,0)","v":1},{"$error":"#N/A"}]
[null,null,null,{"$f":"分類順!A215","v":"夢をかなえるゾウ②"},{"$f":"分類順!B215","v":"一般図書"},{"$f":"分類順!C215","v":"C：心の健康"},{"$f":"分類順!D215","v":"水野敬也"},{"$f":"分類順!E215","v":"飛鳥新社"},{"$f":"分類順!F215","v":10246},"夢をかなえるゾウ②一般図書C：心の健康水野敬也飛鳥新社",1,{"$f":"VLOOKUP(\"*\"&目次加工!$B$2&\"*\",J216:K216,2,0)","v":1},{"$error":"#N/A"}]
[null,null,null,{"$f":"分類順!A216","v":"理系白書"},{"$f":"分類順!B216","v":"一般図書"},{"$f":"分類順!C216","v":"C：心の健康"},{"$f":"分類順!D216","v":"毎日新聞科学環境部"},{"$f":"分類順!E216","v":"講談社"},{"$f":"分類順!F216","v":10247},"理系白書一般図書C：心の健康毎日新聞科学環境部講談社",1,{"$f":"VLOOKUP(\"*\"&目次加工!$B$2&\"*\",J217:K217,2,0)","v":1},{"$error":"#N/A"}]
[null,null,null,{"$f":"分類順!A217","v":"「見た目」の流儀"},{"$f":"分類順!B217","v":"一般図書"},{"$f":"分類順!C217","v":"C：心の健康"},{"$f":"分類順!D217","v":"岡野　宏"},{"$f":"分類順!E217","v":"ダイヤモンド社"},{"$f":"分類順!F217","v":10248},"「見た目」の流儀一般図書C：心の健康岡野　宏ダイヤモンド社",1,{"$f":"VLOOKUP(\"*\"&目次加工!$B$2&\"*\",J218:K218,2,0)","v":1},{"$error":"#N/A"}]
[null,null,null,{"$f":"分類順!A218","v":"よくわかる双極性障害（躁うつ病）　両極端な気分の変動をコントロールする"},{"$f":"分類順!B218","v":"医療の本"},{"$f":"分類順!C218","v":"C：心の健康"},{"$f":"分類順!D218","v":"貝谷久宣"},{"$f":"分類順!E218","v":"主婦の友社"},{"$f":"分類順!F218","v":10268},"よくわかる双極性障害（躁うつ病）　両極端な気分の変動をコントロールする医療の本C：心の健康貝谷久宣主婦の友社",1,{"$f":"VLOOKUP(\"*\"&目次加工!$B$2&\"*\",J219:K219,2,0)","v":1},{"$error":"#N/A"}]
[null,null,null,{"$f":"分類順!A219","v":"非定型うつ病 パニック症・社交不安症 (よくわかる最新医学)"},{"$f":"分類順!B219","v":"医療の本"},{"$f":"分類順!C219","v":"C：心の健康"},{"$f":"分類順!D219","v":"貝谷久宣"},{"$f":"分類順!E219","v":"主婦の友社"},{"$f":"分類順!F219","v":10269},"非定型うつ病 パニック症・社交不安症 (よくわかる最新医学)医療の本C：心の健康貝谷久宣主婦の友社",1,{"$f":"VLOOKUP(\"*\"&目次加工!$B$2&\"*\",J220:K220,2,0)","v":1},{"$error":"#N/A"}]
[null,null,null,{"$f":"分類順!A220","v":"‐薬に頼らずラクになる‐やさしいうつの治しかた"},{"$f":"分類順!B220","v":"医療の本"},{"$f":"分類順!C220","v":"C：心の健康"},{"$f":"分類順!D220","v":"弥永英晃"},{"$f":"分類順!E220","v":"パブラボ"},{"$f":"分類順!F220","v":10270},"‐薬に頼らずラクになる‐やさしいうつの治しかた医療の本C：心の健康弥永英晃パブラボ",1,{"$f":"VLOOKUP(\"*\"&目次加工!$B$2&\"*\",J221:K221,2,0)","v":1},{"$error":"#N/A"}]
[null,null,null,{"$f":"分類順!A221","v":"美國"},{"$f":"分類順!B221","v":"一般図書"},{"$f":"分類順!C221","v":"C：心の健康"},{"$f":"分類順!D221","v":"三枝濱子"},{"$f":"分類順!E221","v":"ショーアート"},{"$f":"分類順!F221","v":10297},"美國一般図書C：心の健康三枝濱子ショーアート",1,{"$f":"VLOOKUP(\"*\"&目次加工!$B$2&\"*\",J222:K222,2,0)","v":1},{"$error":"#N/A"}]
[null,null,null,{"$f":"分類順!A222","v":"ハリー・ポッターと賢者の石①"},{"$f":"分類順!B222","v":"一般図書"},{"$f":"分類順!C222","v":"C：心の健康"},{"$f":"分類順!D222","v":"J.K.ローリング"},{"$f":"分類順!E222","v":"静山社"},{"$f":"分類順!F222","v":10298},"ハリー・ポッターと賢者の石①一般図書C：心の健康J.K.ローリング静山社",1,{"$f":"VLOOKUP(\"*\"&目次加工!$B$2&\"*\",J223:K223,2,0)","v":1},{"$error":"#N/A"}]
[null,null,null,{"$f":"分類順!A223","v":"ハリー・ポッターと秘密の部屋②"},{"$f":"分類順!B223","v":"一般図書"},{"$f":"分類順!C223","v":"C：心の健康"},{"$f":"分類順!D223","v":"J.K.ローリング"},{"$f":"分類順!E223","v":"静山社"},{"$f":"分類順!F223","v":10299},"ハリー・ポッターと秘密の部屋②一般図書C：心の健康J.K.ローリング静山社",1,{"$f":"VLOOKUP(\"*\"&目次加工!$B$2&\"*\",J224:K224,2,0)","v":1},{"$error":"#N/A"}]
[null,null,null,{"$f":"分類順!A224","v":"ハリー・ポッターとアズガバンの囚人③"},{"$f":"分類順!B224","v":"一般図書"},{"$f":"分類順!C224","v":"C：心の健康"},{"$f":"分類順!D224","v":"J.K.ローリング"},{"$f":"分類順!E224","v":"静山社"},{"$f":"分類順!F224","v":10300},"ハリー・ポッターとアズガバンの囚人③一般図書C：心の健康J.K.ローリング静山社",1,{"$f":"VLOOKUP(\"*\"&目次加工!$B$2&\"*\",J225:K225,2,0)","v":1},{"$error":"#N/A"}]
[null,null,null,{"$f":"分類順!A225","v":"ハリー・ポッターと炎のゴブレット④（上）"},{"$f":"分類順!B225","v":"一般図書"},{"$f":"分類順!C225","v":"C：心の健康"},{"$f":"分類順!D225","v":"J.K.ローリング"},{"$f":"分類順!E225","v":"静山社"},{"$f":"分類順!F225","v":10301},"ハリー・ポッターと炎のゴブレット④（上）一般図書C：心の健康J.K.ローリング静山社",1,{"$f":"VLOOKUP(\"*\"&目次加工!$B$2&\"*\",J226:K226,2,0)","v":1},{"$error":"#N/A"}]
[null,null,null,{"$f":"分類順!A226","v":"ハリー・ポッターと炎のゴブレット④（下）"},{"$f":"分類順!B226","v":"一般図書"},{"$f":"分類順!C226","v":"C：心の健康"},{"$f":"分類順!D226","v":"J.K.ローリング"},{"$f":"分類順!E226","v":"静山社"},{"$f":"分類順!F226","v":10302},"ハリー・ポッターと炎のゴブレット④（下）一般図書C：心の健康J.K.ローリング静山社",1,{"$f":"VLOOKUP(\"*\"&目次加工!$B$2&\"*\",J227:K227,2,0)","v":1},{"$error":"#N/A"}]
[null,null,null,{"$f":"分類順!A227","v":"ハリー・ポッターと不死鳥の騎士団⑤（上）"},{"$f":"分類順!B227","v":"一般図書"},{"$f":"分類順!C227","v":"C：心の健康"},{"$f":"分類順!D227","v":"J.K.ローリング"},{"$f":"分類順!E227","v":"静山社"},{"$f":"分類順!F227","v":10303},"ハリー・ポッターと不死鳥の騎士団⑤（上）一般図書C：心の健康J.K.ローリング静山社",1,{"$f":"VLOOKUP(\"*\"&目次加工!$B$2&\"*\",J228:K228,2,0)","v":1},{"$error":"#N/A"}]
[null,null,null,{"$f":"分類順!A228","v":"ハリー・ポッターと不死鳥の騎士団⑤（下）"},{"$f":"分類順!B228","v":"一般図書"},{"$f":"分類順!C228","v":"C：心の健康"},{"$f":"分類順!D228","v":"J.K.ローリング"},{"$f":"分類順!E228","v":"静山社"},{"$f":"分類順!F228","v":10304},"ハリー・ポッターと不死鳥の騎士団⑤（下）一般図書C：心の健康J.K.ローリング静山社",1,{"$f":"VLOOKUP(\"*\"&目次加工!$B$2&\"*\",J229:K229,2,0)","v":1},{"$error":"#N/A"}]
[null,null,null,{"$f":"分類順!A229","v":"ハリー・ポッターと謎のプリンス　上巻"},{"$f":"分類順!B229","v":"一般図書"},{"$f":"分類順!C229","v":"C：心の健康"},{"$f":"分類順!D229","v":"J.K.ローリング"},{"$f":"分類順!E229","v":"静山社"},{"$f":"分類順!F229","v":10305},"ハリー・ポッターと謎のプリンス　上巻一般図書C：心の健康J.K.ローリング静山社",1,{"$f":"VLOOKUP(\"*\"&目次加工!$B$2&\"*\",J230:K230,2,0)","v":1},{"$error":"#N/A"}]
[null,null,null,{"$f":"分類順!A230","v":"ハリー・ポッターと謎のプリンス　下巻"},{"$f":"分類順!B230","v":"一般図書"},{"$f":"分類順!C230","v":"C：心の健康"},{"$f":"分類順!D230","v":"J.K.ローリング"},{"$f":"分類順!E230","v":"静山社"},{"$f":"分類順!F230","v":10306},"ハリー・ポッターと謎のプリンス　下巻一般図書C：心の健康J.K.ローリング静山社",1,{"$f":"VLOOKUP(\"*\"&目次加工!$B$2&\"*\",J231:K231,2,0)","v":1},{"$error":"#N/A"}]
[null,null,null,{"$f":"分類順!A231","v":"ハリー・ポッターと死の秘宝　上巻"},{"$f":"分類順!B231","v":"一般図書"},{"$f":"分類順!C231","v":"C：心の健康"},{"$f":"分類順!D231","v":"J.K.ローリング"},{"$f":"分類順!E231","v":"静山社"},{"$f":"分類順!F231","v":10307},"ハリー・ポッターと死の秘宝　上巻一般図書C：心の健康J.K.ローリング静山社",1,{"$f":"VLOOKUP(\"*\"&目次加工!$B$2&\"*\",J232:K232,2,0)","v":1},{"$error":"#N/A"}]
[null,null,null,{"$f":"分類順!A232","v":"ハリー・ポッターと死の秘宝　下巻"},{"$f":"分類順!B232","v":"一般図書"},{"$f":"分類順!C232","v":"C：心の健康"},{"$f":"分類順!D232","v":"J.K.ローリング"},{"$f":"分類順!E232","v":"静山社"},{"$f":"分類順!F232","v":10308},"ハリー・ポッターと死の秘宝　下巻一般図書C：心の健康J.K.ローリング静山社",1,{"$f":"VLOOKUP(\"*\"&目次加工!$B$2&\"*\",J233:K233,2,0)","v":1},{"$error":"#N/A"}]
[null,null,null,{"$f":"分類順!A233","v":"ステージ"},{"$f":"分類順!B233","v":"一般図書"},{"$f":"分類順!C233","v":"C：心の健康"},{"$f":"分類順!D233","v":"演劇ストーリー入選作品集"},{"$f":"分類順!E233","v":"大阪市人権啓発推進協議会"},{"$f":"分類順!F233","v":10309},"ステージ一般図書C：心の健康演劇ストーリー入選作品集大阪市人権啓発推進協議会",1,{"$f":"VLOOKUP(\"*\"&目次加工!$B$2&\"*\",J234:K234,2,0)","v":1},{"$error":"#N/A"}]
[null,null,null,{"$f":"分類順!A234","v":"あんたらヤメときや！"},{"$f":"分類順!B234","v":"一般図書"},{"$f":"分類順!C234","v":"C：心の健康"},{"$f":"分類順!D234","v":"演劇ストーリー入選作品集"},{"$f":"分類順!E234","v":"大阪市人権啓発推進協議会"},{"$f":"分類順!F234","v":10310},"あんたらヤメときや！一般図書C：心の健康演劇ストーリー入選作品集大阪市人権啓発推進協議会",1,{"$f":"VLOOKUP(\"*\"&目次加工!$B$2&\"*\",J235:K235,2,0)","v":1},{"$error":"#N/A"}]
[null,null,null,{"$f":"分類順!A235","v":"幸せになる魔法のことば"},{"$f":"分類順!B235","v":"一般図書"},{"$f":"分類順!C235","v":"C：心の健康"},{"$f":"分類順!D235","v":"森惟明"},{"$f":"分類順!E235","v":"高知新聞総合印刷"},{"$f":"分類順!F235","v":10316},"幸せになる魔法のことば一般図書C：心の健康森惟明高知新聞総合印刷",1,{"$f":"VLOOKUP(\"*\"&目次加工!$B$2&\"*\",J236:K236,2,0)","v":1},{"$error":"#N/A"}]
[null,null,null,{"$f":"分類順!A236","v":"キャッチ！ ＪＲ福知山線脱線事故がわたしに教えてくれたこと"},{"$f":"分類順!B236","v":"一般図書"},{"$f":"分類順!C236","v":"C：心の健康"},{"$f":"分類順!D236","v":"岡崎愛子"},{"$f":"分類順!E236","v":"ポプラ社"},{"$f":"分類順!F236","v":10318},"キャッチ！ ＪＲ福知山線脱線事故がわたしに教えてくれたこと一般図書C：心の健康岡崎愛子ポプラ社",1,{"$f":"VLOOKUP(\"*\"&目次加工!$B$2&\"*\",J237:K237,2,0)","v":1},{"$error":"#N/A"}]
[null,null,null,{"$f":"分類順!A237","v":"一歩一路中村敦子四文字熟語　母から子へ残しておきたい七選"},{"$f":"分類順!B237","v":"一般図書"},{"$f":"分類順!C237","v":"C：心の健康"},{"$f":"分類順!D237","v":"中村淳子"},{"$f":"分類順!E237","v":"水山産業"},{"$f":"分類順!F237","v":10320},"一歩一路中村敦子四文字熟語　母から子へ残しておきたい七選一般図書C：心の健康中村淳子水山産業",1,{"$f":"VLOOKUP(\"*\"&目次加工!$B$2&\"*\",J238:K238,2,0)","v":1},{"$error":"#N/A"}]
[null,null,null,{"$f":"分類順!A238","v":"家族のためのはじめての認知症介護"},{"$f":"分類順!B238","v":"一般図書"},{"$f":"分類順!C238","v":"C：心の健康"},{"$f":"分類順!D238","v":"田中知世子"},{"$f":"分類順!E238","v":"幻冬舎"},{"$f":"分類順!F238","v":10321},"家族のためのはじめての認知症介護一般図書C：心の健康田中知世子幻冬舎",1,{"$f":"VLOOKUP(\"*\"&目次加工!$B$2&\"*\",J239:K239,2,0)","v":1},{"$error":"#N/A"}]
[null,null,null,{"$f":"分類順!A239","v":"Dr.モリの転ばぬ先の杖"},{"$f":"分類順!B239","v":"一般図書"},{"$f":"分類順!C239","v":"C：心の健康"},{"$f":"分類順!D239","v":"森惟明"},{"$f":"分類順!E239","v":"高知新聞総合印刷"},{"$f":"分類順!F239","v":10323},"Dr.モリの転ばぬ先の杖一般図書C：心の健康森惟明高知新聞総合印刷",1,{"$f":"VLOOKUP(\"*\"&目次加工!$B$2&\"*\",J240:K240,2,0)","v":1},{"$error":"#N/A"}]
[null,null,null,{"$f":"分類順!A240","v":"嫌われる勇気"},{"$f":"分類順!B240","v":"一般図書"},{"$f":"分類順!C240","v":"C：心の健康"},{"$f":"分類順!D240","v":"岸見一郎・古賀史健"},{"$f":"分類順!E240","v":"ダイヤモンド社"},{"$f":"分類順!F240","v":10325},"嫌われる勇気一般図書C：心の健康岸見一郎・古賀史健ダイヤモンド社",1,{"$f":"VLOOKUP(\"*\"&目次加工!$B$2&\"*\",J241:K241,2,0)","v":1},{"$error":"#N/A"}]
[null,null,null,{"$f":"分類順!A241","v":"こころにみことばの処方箋"},{"$f":"分類順!B241","v":"医療の本"},{"$f":"分類順!C241","v":"C：心の健康"},{"$f":"分類順!D241","v":"樋野興夫"},{"$f":"分類順!E241","v":"いのちのことば社"},{"$f":"分類順!F241","v":10331},"こころにみことばの処方箋医療の本C：心の健康樋野興夫いのちのことば社",1,{"$f":"VLOOKUP(\"*\"&目次加工!$B$2&\"*\",J242:K242,2,0)","v":1},{"$error":"#N/A"}]
[null,null,null,{"$f":"分類順!A242","v":"明日この世を去るとしても今日の花に水をあげなさい"},{"$f":"分類順!B242","v":"医療の本"},{"$f":"分類順!C242","v":"C：心の健康"},{"$f":"分類順!D242","v":"樋野興夫"},{"$f":"分類順!E242","v":"幻冬舎"},{"$f":"分類順!F242","v":10332},"明日この世を去るとしても今日の花に水をあげなさい医療の本C：心の健康樋野興夫幻冬舎",1,{"$f":"VLOOKUP(\"*\"&目次加工!$B$2&\"*\",J243:K243,2,0)","v":1},{"$error":"#N/A"}]
[null,null,null,{"$f":"分類順!A243","v":"いい覚悟で生きる"},{"$f":"分類順!B243","v":"医療の本"},{"$f":"分類順!C243","v":"C：心の健康"},{"$f":"分類順!D243","v":"樋野興夫"},{"$f":"分類順!E243","v":"小学館"},{"$f":"分類順!F243","v":10333},"いい覚悟で生きる医療の本C：心の健康樋野興夫小学館",1,{"$f":"VLOOKUP(\"*\"&目次加工!$B$2&\"*\",J244:K244,2,0)","v":1},{"$error":"#N/A"}]
[null,null,null,{"$f":"分類順!A244","v":"拒食症と過食症の治し方"},{"$f":"分類順!B244","v":"医療の本"},{"$f":"分類順!C244","v":"C：心の健康"},{"$f":"分類順!D244","v":"切池信夫"},{"$f":"分類順!E244","v":"講談社"},{"$f":"分類順!F244","v":10334},"拒食症と過食症の治し方医療の本C：心の健康切池信夫講談社",1,{"$f":"VLOOKUP(\"*\"&目次加工!$B$2&\"*\",J245:K245,2,0)","v":1},{"$error":"#N/A"}]
[null,null,null,{"$f":"分類順!A245","v":"認知行動療法のすべてがわかる本"},{"$f":"分類順!B245","v":"医療の本"},{"$f":"分類順!C245","v":"C：心の健康"},{"$f":"分類順!D245","v":"清水栄司"},{"$f":"分類順!E245","v":"講談社"},{"$f":"分類順!F245","v":10363},"認知行動療法のすべてがわかる本医療の本C：心の健康清水栄司講談社",1,{"$f":"VLOOKUP(\"*\"&目次加工!$B$2&\"*\",J246:K246,2,0)","v":1},{"$error":"#N/A"}]
[null,null,null,{"$f":"分類順!A246","v":"あなたに、会えてよかった。"},{"$f":"分類順!B246","v":"一般図書"},{"$f":"分類順!C246","v":"C：心の健康"},{"$f":"分類順!D246","v":"中島未月"},{"$f":"分類順!E246","v":"PHP研究所"},{"$f":"分類順!F246","v":10373},"あなたに、会えてよかった。一般図書C：心の健康中島未月PHP研究所",1,{"$f":"VLOOKUP(\"*\"&目次加工!$B$2&\"*\",J247:K247,2,0)","v":1},{"$error":"#N/A"}]
[null,null,null,{"$f":"分類順!A247","v":"だから優しく、と空が言う"},{"$f":"分類順!B247","v":"一般図書"},{"$f":"分類順!C247","v":"C：心の健康"},{"$f":"分類順!D247","v":"中島未月"},{"$f":"分類順!E247","v":"PHP研究所"},{"$f":"分類順!F247","v":10374},"だから優しく、と空が言う一般図書C：心の健康中島未月PHP研究所",1,{"$f":"VLOOKUP(\"*\"&目次加工!$B$2&\"*\",J248:K248,2,0)","v":1},{"$error":"#N/A"}]
[null,null,null,{"$f":"分類順!A248","v":"笑顔のおくりもの"},{"$f":"分類順!B248","v":"一般図書"},{"$f":"分類順!C248","v":"C：心の健康"},{"$f":"分類順!D248","v":"中島未月"},{"$f":"分類順!E248","v":"PHP研究所"},{"$f":"分類順!F248","v":10375},"笑顔のおくりもの一般図書C：心の健康中島未月PHP研究所",1,{"$f":"VLOOKUP(\"*\"&目次加工!$B$2&\"*\",J249:K249,2,0)","v":1},{"$error":"#N/A"}]
[null,null,null,{"$f":"分類順!A249","v":"ゴリラはごりら"},{"$f":"分類順!B249","v":"一般図書"},{"$f":"分類順!C249","v":"C：心の健康"},{"$f":"分類順!D249","v":"くどうなおこ"},{"$f":"分類順!E249","v":"童話屋"},{"$f":"分類順!F249","v":10378},"ゴリラはごりら一般図書C：心の健康くどうなおこ童話屋",1,{"$f":"VLOOKUP(\"*\"&目次加工!$B$2&\"*\",J250:K250,2,0)","v":1},{"$error":"#N/A"}]
[null,null,null,{"$f":"分類順!A250","v":"のはらのうたⅠ"},{"$f":"分類順!B250","v":"一般図書"},{"$f":"分類順!C250","v":"C：心の健康"},{"$f":"分類順!D250","v":"くどうなおこ"},{"$f":"分類順!E250","v":"童話屋"},{"$f":"分類順!F250","v":10379},"のはらのうたⅠ一般図書C：心の健康くどうなおこ童話屋",1,{"$f":"VLOOKUP(\"*\"&目次加工!$B$2&\"*\",J251:K251,2,0)","v":1},{"$error":"#N/A"}]
[null,null,null,{"$f":"分類順!A251","v":"煩悩リセット稽古帖"},{"$f":"分類順!B251","v":"一般図書"},{"$f":"分類順!C251","v":"C：心の健康"},{"$f":"分類順!D251","v":"小池龍之介"},{"$f":"分類順!E251","v":"ディスカヴァー・トゥエンティワン"},{"$f":"分類順!F251","v":10380},"煩悩リセット稽古帖一般図書C：心の健康小池龍之介ディスカヴァー・トゥエンティワン",1,{"$f":"VLOOKUP(\"*\"&目次加工!$B$2&\"*\",J252:K252,2,0)","v":1},{"$error":"#N/A"}]
[null,null,null,{"$f":"分類順!A252","v":"いい運気と仲良しになれる！引き寄せ行動術"},{"$f":"分類順!B252","v":"一般図書"},{"$f":"分類順!C252","v":"C：心の健康"},{"$f":"分類順!D252","v":"卯野たまご"},{"$f":"分類順!E252","v":"角川書店"},{"$f":"分類順!F252","v":10381},"いい運気と仲良しになれる！引き寄せ行動術一般図書C：心の健康卯野たまご角川書店",1,{"$f":"VLOOKUP(\"*\"&目次加工!$B$2&\"*\",J253:K253,2,0)","v":1},{"$error":"#N/A"}]
[null,null,null,{"$f":"分類順!A253","v":"夜明けの街で"},{"$f":"分類順!B253","v":"一般図書"},{"$f":"分類順!C253","v":"C：心の健康"},{"$f":"分類順!D253","v":"東野圭吾"},{"$f":"分類順!E253","v":"角川文庫"},{"$f":"分類順!F253","v":10383},"夜明けの街で一般図書C：心の健康東野圭吾角川文庫",1,{"$f":"VLOOKUP(\"*\"&目次加工!$B$2&\"*\",J254:K254,2,0)","v":1},{"$error":"#N/A"}]
[null,null,null,{"$f":"分類順!A254","v":"スローレNo.4"},{"$f":"分類順!B254","v":"一般図書"},{"$f":"分類順!C254","v":"C：心の健康"},{"$f":"分類順!D254","v":"宮下奈都"},{"$f":"分類順!E254","v":"光文社"},{"$f":"分類順!F254","v":10384},"スローレNo.4一般図書C：心の健康宮下奈都光文社",1,{"$f":"VLOOKUP(\"*\"&目次加工!$B$2&\"*\",J255:K255,2,0)","v":1},{"$error":"#N/A"}]
[null,null,null,{"$f":"分類順!A255","v":"慟哭"},{"$f":"分類順!B255","v":"一般図書"},{"$f":"分類順!C255","v":"C：心の健康"},{"$f":"分類順!D255","v":"貫井徳郎"},{"$f":"分類順!E255","v":"東京創元社"},{"$f":"分類順!F255","v":10385},"慟哭一般図書C：心の健康貫井徳郎東京創元社",1,{"$f":"VLOOKUP(\"*\"&目次加工!$B$2&\"*\",J256:K256,2,0)","v":1},{"$error":"#N/A"}]
[null,null,null,{"$f":"分類順!A256","v":"悼む人　上"},{"$f":"分類順!B256","v":"一般図書"},{"$f":"分類順!C256","v":"C：心の健康"},{"$f":"分類順!D256","v":"天童荒太"},{"$f":"分類順!E256","v":"文藝春秋"},{"$f":"分類順!F256","v":10386},"悼む人　上一般図書C：心の健康天童荒太文藝春秋",1,{"$f":"VLOOKUP(\"*\"&目次加工!$B$2&\"*\",J257:K257,2,0)","v":1},{"$error":"#N/A"}]
[null,null,null,{"$f":"分類順!A257","v":"悼む人　下"},{"$f":"分類順!B257","v":"一般図書"},{"$f":"分類順!C257","v":"C：心の健康"},{"$f":"分類順!D257","v":"天童　荒太"},{"$f":"分類順!E257","v":"文藝春秋"},{"$f":"分類順!F257","v":10387},"悼む人　下一般図書C：心の健康天童　荒太文藝春秋",1,{"$f":"VLOOKUP(\"*\"&目次加工!$B$2&\"*\",J258:K258,2,0)","v":1},{"$error":"#N/A"}]
[null,null,null,{"$f":"分類順!A258","v":"16歳の教科書　なぜ学び、なにを学ぶのか"},{"$f":"分類順!B258","v":"一般図書"},{"$f":"分類順!C258","v":"C：心の健康"},{"$f":"分類順!D258","v":"7人の特別講義プロジェクト＆モーニング編集部"},{"$f":"分類順!E258","v":"講談社"},{"$f":"分類順!F258","v":10388},"16歳の教科書　なぜ学び、なにを学ぶのか一般図書C：心の健康7人の特別講義プロジェクト＆モーニング編集部講談社",1,{"$f":"VLOOKUP(\"*\"&目次加工!$B$2&\"*\",J259:K259,2,0)","v":1},{"$error":"#N/A"}]
[null,null,null,{"$f":"分類順!A259","v":"子ぎつねヘレンがのこしたもの"},{"$f":"分類順!B259","v":"一般図書"},{"$f":"分類順!C259","v":"C：心の健康"},{"$f":"分類順!D259","v":"竹田津実"},{"$f":"分類順!E259","v":"偕成社"},{"$f":"分類順!F259","v":10389},"子ぎつねヘレンがのこしたもの一般図書C：心の健康竹田津実偕成社",1,{"$f":"VLOOKUP(\"*\"&目次加工!$B$2&\"*\",J260:K260,2,0)","v":1},{"$f":"VLOOKUP(\"*\"&$A$2&\"*\",J260:K260,2,0)","v":{"$error":"#N/A"}}]
[null,null,null,{"$f":"分類順!A260","v":"利休にたずねよ"},{"$f":"分類順!B260","v":"一般図書"},{"$f":"分類順!C260","v":"C：心の健康"},{"$f":"分類順!D260","v":"山本兼一"},{"$f":"分類順!E260","v":"PHP研究所"},{"$f":"分類順!F260","v":10390},"利休にたずねよ一般図書C：心の健康山本兼一PHP研究所",1,{"$f":"VLOOKUP(\"*\"&目次加工!$B$2&\"*\",J261:K261,2,0)","v":1},{"$error":"#N/A"}]
[null,null,null,{"$f":"分類順!A261","v":"聞く力　心をひらく35のヒント"},{"$f":"分類順!B261","v":"一般図書"},{"$f":"分類順!C261","v":"C：心の健康"},{"$f":"分類順!D261","v":"阿川佐和子"},{"$f":"分類順!E261","v":"文藝春秋"},{"$f":"分類順!F261","v":10391},"聞く力　心をひらく35のヒント一般図書C：心の健康阿川佐和子文藝春秋",1,{"$f":"VLOOKUP(\"*\"&目次加工!$B$2&\"*\",J262:K262,2,0)","v":1},{"$error":"#N/A"}]
[null,null,null,{"$f":"分類順!A262","v":"やんちゃな時代"},{"$f":"分類順!B262","v":"一般図書"},{"$f":"分類順!C262","v":"C：心の健康"},{"$f":"分類順!D262","v":"林真理子"},{"$f":"分類順!E262","v":"文藝春秋"},{"$f":"分類順!F262","v":10395},"やんちゃな時代一般図書C：心の健康林真理子文藝春秋",1,{"$f":"VLOOKUP(\"*\"&目次加工!$B$2&\"*\",J263:K263,2,0)","v":1},{"$error":"#N/A"}]
[null,null,null,{"$f":"分類順!A263","v":"ホームレス中学生"},{"$f":"分類順!B263","v":"一般図書"},{"$f":"分類順!C263","v":"C：心の健康"},{"$f":"分類順!D263","v":"田村裕"},{"$f":"分類順!E263","v":"ワニブックス"},{"$f":"分類順!F263","v":10396},"ホームレス中学生一般図書C：心の健康田村裕ワニブックス",1,{"$f":"VLOOKUP(\"*\"&目次加工!$B$2&\"*\",J264:K264,2,0)","v":1},{"$error":"#N/A"}]
[null,null,null,{"$f":"分類順!A264","v":"武器より一冊の本をください　少女マララ・ユスフザイの祈り"},{"$f":"分類順!B264","v":"一般図書"},{"$f":"分類順!C264","v":"C：心の健康"},{"$f":"分類順!D264","v":"ヴィヴィアナ・マッツァ"},{"$f":"分類順!E264","v":"金の星社"},{"$f":"分類順!F264","v":10397},"武器より一冊の本をください　少女マララ・ユスフザイの祈り一般図書C：心の健康ヴィヴィアナ・マッツァ金の星社",1,{"$f":"VLOOKUP(\"*\"&目次加工!$B$2&\"*\",J265:K265,2,0)","v":1},{"$error":"#N/A"}]
[null,null,null,{"$f":"分類順!A265","v":"雨ふる本屋"},{"$f":"分類順!B265","v":"一般図書"},{"$f":"分類順!C265","v":"C：心の健康"},{"$f":"分類順!D265","v":"日向理恵子"},{"$f":"分類順!E265","v":"童心社"},{"$f":"分類順!F265","v":10398},"雨ふる本屋一般図書C：心の健康日向理恵子童心社",1,{"$f":"VLOOKUP(\"*\"&目次加工!$B$2&\"*\",J266:K266,2,0)","v":1},{"$error":"#N/A"}]
[null,null,null,{"$f":"分類順!A266","v":"走れ！マスワラ"},{"$f":"分類順!B266","v":"一般図書"},{"$f":"分類順!C266","v":"C：心の健康"},{"$f":"分類順!D266","v":"グザヴィエ=ローラン=プティ"},{"$f":"分類順!E266","v":"PHPエディターズ・グループ"},{"$f":"分類順!F266","v":10399},"走れ！マスワラ一般図書C：心の健康グザヴィエ=ローラン=プティPHPエディターズ・グループ",1,{"$f":"VLOOKUP(\"*\"&目次加工!$B$2&\"*\",J267:K267,2,0)","v":1},{"$error":"#N/A"}]
[null,null,null,{"$f":"分類順!A267","v":"「考えすぎる自分」をお休みしよう"},{"$f":"分類順!B267","v":"一般図書"},{"$f":"分類順!C267","v":"C：心の健康"},{"$f":"分類順!D267","v":"フェミニストセラピー”なかま”編"},{"$f":"分類順!E267","v":"リヨン社"},{"$f":"分類順!F267","v":10400},"「考えすぎる自分」をお休みしよう一般図書C：心の健康フェミニストセラピー”なかま”編リヨン社",1,{"$f":"VLOOKUP(\"*\"&目次加工!$B$2&\"*\",J268:K268,2,0)","v":1},{"$error":"#N/A"}]
[null,null,null,{"$f":"分類順!A268","v":"地下街の雨"},{"$f":"分類順!B268","v":"一般図書"},{"$f":"分類順!C268","v":"C：心の健康"},{"$f":"分類順!D268","v":"宮部みゆき"},{"$f":"分類順!E268","v":"集英社"},{"$f":"分類順!F268","v":10401},"地下街の雨一般図書C：心の健康宮部みゆき集英社",1,{"$f":"VLOOKUP(\"*\"&目次加工!$B$2&\"*\",J269:K269,2,0)","v":1},{"$error":"#N/A"}]
[null,null,null,{"$f":"分類順!A269","v":"クイズ・ショウ　上"},{"$f":"分類順!B269","v":"一般図書"},{"$f":"分類順!C269","v":"C：心の健康"},{"$f":"分類順!D269","v":"リチャード・Ｎ・グッドウィン"},{"$f":"分類順!E269","v":"扶桑社"},{"$f":"分類順!F269","v":10411},"クイズ・ショウ　上一般図書C：心の健康リチャード・Ｎ・グッドウィン扶桑社",1,{"$f":"VLOOKUP(\"*\"&目次加工!$B$2&\"*\",J270:K270,2,0)","v":1},{"$error":"#N/A"}]
[null,null,null,{"$f":"分類順!A270","v":"クイズ・ショウ　下"},{"$f":"分類順!B270","v":"一般図書"},{"$f":"分類順!C270","v":"C：心の健康"},{"$f":"分類順!D270","v":"リチャード・Ｎ・グッドウィン"},{"$f":"分類順!E270","v":"扶桑社"},{"$f":"分類順!F270","v":10412},"クイズ・ショウ　下一般図書C：心の健康リチャード・Ｎ・グッドウィン扶桑社",1,{"$f":"VLOOKUP(\"*\"&目次加工!$B$2&\"*\",J271:K271,2,0)","v":1},{"$error":"#N/A"}]
[null,null,null,{"$f":"分類順!A271","v":"とかげ"},{"$f":"分類順!B271","v":"一般図書"},{"$f":"分類順!C271","v":"C：心の健康"},{"$f":"分類順!D271","v":"吉本ばなな"},{"$f":"分類順!E271","v":"新潮社"},{"$f":"分類順!F271","v":10413},"とかげ一般図書C：心の健康吉本ばなな新潮社",1,{"$f":"VLOOKUP(\"*\"&目次加工!$B$2&\"*\",J272:K272,2,0)","v":1},{"$error":"#N/A"}]
[null,null,null,{"$f":"分類順!A272","v":"人生ピロピロ"},{"$f":"分類順!B272","v":"一般図書"},{"$f":"分類順!C272","v":"C：心の健康"},{"$f":"分類順!D272","v":"さとなお"},{"$f":"分類順!E272","v":"角川書店"},{"$f":"分類順!F272","v":10414},"人生ピロピロ一般図書C：心の健康さとなお角川書店",1,{"$f":"VLOOKUP(\"*\"&目次加工!$B$2&\"*\",J273:K273,2,0)","v":1},{"$error":"#N/A"}]
[null,null,null,{"$f":"分類順!A273","v":"泳ぐのに安全でも適切でもありません"},{"$f":"分類順!B273","v":"一般図書"},{"$f":"分類順!C273","v":"C：心の健康"},{"$f":"分類順!D273","v":"江國香織"},{"$f":"分類順!E273","v":"集英社"},{"$f":"分類順!F273","v":10415},"泳ぐのに安全でも適切でもありません一般図書C：心の健康江國香織集英社",1,{"$f":"VLOOKUP(\"*\"&目次加工!$B$2&\"*\",J274:K274,2,0)","v":1},{"$error":"#N/A"}]
[null,null,null,{"$f":"分類順!A274","v":"探偵ガリレオ"},{"$f":"分類順!B274","v":"一般図書"},{"$f":"分類順!C274","v":"C：心の健康"},{"$f":"分類順!D274","v":"東野圭吾"},{"$f":"分類順!E274","v":"文藝春秋"},{"$f":"分類順!F274","v":10416},{"$f":"D275&E275&F275&G275&H275","v":"探偵ガリレオ一般図書C：心の健康東野圭吾文藝春秋"},1,{"$f":"VLOOKUP(\"*\"&目次加工!$B$2&\"*\",J275:K275,2,0)","v":1},{"$error":"#N/A"}]
[null,null,null,{"$f":"分類順!A275","v":"クロスファイア　上"},{"$f":"分類順!B275","v":"一般図書"},{"$f":"分類順!C275","v":"C：心の健康"},{"$f":"分類順!D275","v":"宮部みゆき"},{"$f":"分類順!E275","v":"光文社"},{"$f":"分類順!F275","v":10417},"クロスファイア　上一般図書C：心の健康宮部みゆき光文社",1,{"$f":"VLOOKUP(\"*\"&目次加工!$B$2&\"*\",J276:K276,2,0)","v":1},{"$error":"#N/A"}]
[null,null,null,{"$f":"分類順!A276","v":"クロスファイア　下"},{"$f":"分類順!B276","v":"一般図書"},{"$f":"分類順!C276","v":"C：心の健康"},{"$f":"分類順!D276","v":"宮部みゆき"},{"$f":"分類順!E276","v":"光文社"},{"$f":"分類順!F276","v":10418},"クロスファイア　下一般図書C：心の健康宮部みゆき光文社",1,{"$f":"VLOOKUP(\"*\"&目次加工!$B$2&\"*\",J277:K277,2,0)","v":1},{"$error":"#N/A"}]
[null,null,null,{"$f":"分類順!A277","v":"海峡の光"},{"$f":"分類順!B277","v":"一般図書"},{"$f":"分類順!C277","v":"C：心の健康"},{"$f":"分類順!D277","v":"辻仁成"},{"$f":"分類順!E277","v":"新潮社"},{"$f":"分類順!F277","v":10419},"海峡の光一般図書C：心の健康辻仁成新潮社",1,{"$f":"VLOOKUP(\"*\"&目次加工!$B$2&\"*\",J278:K278,2,0)","v":1},{"$error":"#N/A"}]
[null,null,null,{"$f":"分類順!A278","v":"オレンジの壺"},{"$f":"分類順!B278","v":"一般図書"},{"$f":"分類順!C278","v":"C：心の健康"},{"$f":"分類順!D278","v":"宮本輝"},{"$f":"分類順!E278","v":"光文社"},{"$f":"分類順!F278","v":10420},"オレンジの壺一般図書C：心の健康宮本輝光文社",1,{"$f":"VLOOKUP(\"*\"&目次加工!$B$2&\"*\",J279:K279,2,0)","v":1},{"$error":"#N/A"}]
[null,null,null,{"$f":"分類順!A279","v":"オレンジの壺　下"},{"$f":"分類順!B279","v":"一般図書"},{"$f":"分類順!C279","v":"C：心の健康"},{"$f":"分類順!D279","v":"宮本輝"},{"$f":"分類順!E279","v":"光文社"},{"$f":"分類順!F279","v":10421},"オレンジの壺　下一般図書C：心の健康宮本輝光文社",1,{"$f":"VLOOKUP(\"*\"&目次加工!$B$2&\"*\",J280:K280,2,0)","v":1},{"$error":"#N/A"}]
[null,null,null,{"$f":"分類順!A280","v":"無印ＯＬ物語"},{"$f":"分類順!B280","v":"一般図書"},{"$f":"分類順!C280","v":"C：心の健康"},{"$f":"分類順!D280","v":"群ようこ"},{"$f":"分類順!E280","v":"角川書店"},{"$f":"分類順!F280","v":10422},"無印ＯＬ物語一般図書C：心の健康群ようこ角川書店",1,{"$f":"VLOOKUP(\"*\"&目次加工!$B$2&\"*\",J281:K281,2,0)","v":1},{"$error":"#N/A"}]
[null,null,null,{"$f":"分類順!A281","v":"無印失恋物語"},{"$f":"分類順!B281","v":"一般図書"},{"$f":"分類順!C281","v":"C：心の健康"},{"$f":"分類順!D281","v":"群ようこ"},{"$f":"分類順!E281","v":"角川書店"},{"$f":"分類順!F281","v":10423},"無印失恋物語一般図書C：心の健康群ようこ角川書店",1,{"$f":"VLOOKUP(\"*\"&目次加工!$B$2&\"*\",J282:K282,2,0)","v":1},{"$error":"#N/A"}]
[null,null,null,{"$f":"分類順!A282","v":"無印結婚物語"},{"$f":"分類順!B282","v":"一般図書"},{"$f":"分類順!C282","v":"C：心の健康"},{"$f":"分類順!D282","v":"群ようこ"},{"$f":"分類順!E282","v":"角川書店"},{"$f":"分類順!F282","v":10424},"無印結婚物語一般図書C：心の健康群ようこ角川書店",1,{"$f":"VLOOKUP(\"*\"&目次加工!$B$2&\"*\",J283:K283,2,0)","v":1},{"$error":"#N/A"}]
[null,null,null,{"$f":"分類順!A283","v":"無印親子物語"},{"$f":"分類順!B283","v":"一般図書"},{"$f":"分類順!C283","v":"C：心の健康"},{"$f":"分類順!D283","v":"群ようこ"},{"$f":"分類順!E283","v":"角川書店"},{"$f":"分類順!F283","v":10425},"無印親子物語一般図書C：心の健康群ようこ角川書店",1,{"$f":"VLOOKUP(\"*\"&目次加工!$B$2&\"*\",J284:K284,2,0)","v":1},{"$error":"#N/A"}]
[null,null,null,{"$f":"分類順!A284","v":"無印おまじない物語"},{"$f":"分類順!B284","v":"一般図書"},{"$f":"分類順!C284","v":"C：心の健康"},{"$f":"分類順!D284","v":"群ようこ"},{"$f":"分類順!E284","v":"角川書店"},{"$f":"分類順!F284","v":10426},"無印おまじない物語一般図書C：心の健康群ようこ角川書店",1,{"$f":"VLOOKUP(\"*\"&目次加工!$B$2&\"*\",J285:K285,2,0)","v":1},{"$error":"#N/A"}]
[null,null,null,{"$f":"分類順!A285","v":"姉の結婚"},{"$f":"分類順!B285","v":"一般図書"},{"$f":"分類順!C285","v":"C：心の健康"},{"$f":"分類順!D285","v":"群ようこ"},{"$f":"分類順!E285","v":"集英社"},{"$f":"分類順!F285","v":10427},"姉の結婚一般図書C：心の健康群ようこ集英社",1,{"$f":"VLOOKUP(\"*\"&目次加工!$B$2&\"*\",J286:K286,2,0)","v":1},{"$error":"#N/A"}]
[null,null,null,{"$f":"分類順!A286","v":"トラブルクッキング"},{"$f":"分類順!B286","v":"一般図書"},{"$f":"分類順!C286","v":"C：心の健康"},{"$f":"分類順!D286","v":"群ようこ"},{"$f":"分類順!E286","v":"集英社"},{"$f":"分類順!F286","v":10428},"トラブルクッキング一般図書C：心の健康群ようこ集英社",1,{"$f":"VLOOKUP(\"*\"&目次加工!$B$2&\"*\",J287:K287,2,0)","v":1},{"$error":"#N/A"}]
[null,null,null,{"$f":"分類順!A287","v":"でも女"},{"$f":"分類順!B287","v":"一般図書"},{"$f":"分類順!C287","v":"C：心の健康"},{"$f":"分類順!D287","v":"群ようこ"},{"$f":"分類順!E287","v":"集英社"},{"$f":"分類順!F287","v":10429},"でも女一般図書C：心の健康群ようこ集英社",1,{"$f":"VLOOKUP(\"*\"&目次加工!$B$2&\"*\",J288:K288,2,0)","v":1},{"$error":"#N/A"}]
[null,null,null,{"$f":"分類順!A288","v":"天璋院篤姫　上"},{"$f":"分類順!B288","v":"一般図書"},{"$f":"分類順!C288","v":"C：心の健康"},{"$f":"分類順!D288","v":"宮尾登美子"},{"$f":"分類順!E288","v":"講談社"},{"$f":"分類順!F288","v":10430},"天璋院篤姫　上一般図書C：心の健康宮尾登美子講談社",1,{"$f":"VLOOKUP(\"*\"&目次加工!$B$2&\"*\",J289:K289,2,0)","v":1},{"$error":"#N/A"}]
[null,null,null,{"$f":"分類順!A289","v":"天璋院篤姫　下"},{"$f":"分類順!B289","v":"一般図書"},{"$f":"分類順!C289","v":"C：心の健康"},{"$f":"分類順!D289","v":"宮尾登美子"},{"$f":"分類順!E289","v":"講談社"},{"$f":"分類順!F289","v":10431},"天璋院篤姫　下一般図書C：心の健康宮尾登美子講談社",1,{"$f":"VLOOKUP(\"*\"&目次加工!$B$2&\"*\",J290:K290,2,0)","v":1},{"$error":"#N/A"}]
[null,null,null,{"$f":"分類順!A290","v":"雁"},{"$f":"分類順!B290","v":"一般図書"},{"$f":"分類順!C290","v":"C：心の健康"},{"$f":"分類順!D290","v":"森鷗外"},{"$f":"分類順!E290","v":"新潮社"},{"$f":"分類順!F290","v":10432},"雁一般図書C：心の健康森鷗外新潮社",1,{"$f":"VLOOKUP(\"*\"&目次加工!$B$2&\"*\",J291:K291,2,0)","v":1},{"$error":"#N/A"}]
[null,null,null,{"$f":"分類順!A291","v":"きよしこ"},{"$f":"分類順!B291","v":"一般図書"},{"$f":"分類順!C291","v":"C：心の健康"},{"$f":"分類順!D291","v":"重松清"},{"$f":"分類順!E291","v":"新潮社"},{"$f":"分類順!F291","v":10433},"きよしこ一般図書C：心の健康重松清新潮社",1,{"$f":"VLOOKUP(\"*\"&目次加工!$B$2&\"*\",J292:K292,2,0)","v":1},{"$error":"#N/A"}]
[null,null,null,{"$f":"分類順!A292","v":"亜細亜ふむふむ紀行"},{"$f":"分類順!B292","v":"一般図書"},{"$f":"分類順!C292","v":"C：心の健康"},{"$f":"分類順!D292","v":"群ようこ"},{"$f":"分類順!E292","v":"新潮社"},{"$f":"分類順!F292","v":10434},"亜細亜ふむふむ紀行一般図書C：心の健康群ようこ新潮社",1,{"$f":"VLOOKUP(\"*\"&目次加工!$B$2&\"*\",J293:K293,2,0)","v":1},{"$error":"#N/A"}]
[null,null,null,{"$f":"分類順!A293","v":"太陽の子"},{"$f":"分類順!B293","v":"一般図書"},{"$f":"分類順!C293","v":"C：心の健康"},{"$f":"分類順!D293","v":"灰谷健次郎"},{"$f":"分類順!E293","v":"角川書店"},{"$f":"分類順!F293","v":10435},"太陽の子一般図書C：心の健康灰谷健次郎角川書店",1,{"$f":"VLOOKUP(\"*\"&目次加工!$B$2&\"*\",J294:K294,2,0)","v":1},{"$error":"#N/A"}]
[null,null,null,{"$f":"分類順!A294","v":"おじいちゃん、戦争のことを教えて"},{"$f":"分類順!B294","v":"一般図書"},{"$f":"分類順!C294","v":"C：心の健康"},{"$f":"分類順!D294","v":"中條高徳"},{"$f":"分類順!E294","v":"小学館"},{"$f":"分類順!F294","v":10436},"おじいちゃん、戦争のことを教えて一般図書C：心の健康中條高徳小学館",1,{"$f":"VLOOKUP(\"*\"&目次加工!$B$2&\"*\",J295:K295,2,0)","v":1},{"$error":"#N/A"}]
[null,null,null,{"$f":"分類順!A295","v":"今夜、すべてのバーで"},{"$f":"分類順!B295","v":"一般図書"},{"$f":"分類順!C295","v":"C：心の健康"},{"$f":"分類順!D295","v":"中島らも"},{"$f":"分類順!E295","v":"講談社"},{"$f":"分類順!F295","v":10437},"今夜、すべてのバーで一般図書C：心の健康中島らも講談社",1,{"$f":"VLOOKUP(\"*\"&目次加工!$B$2&\"*\",J296:K296,2,0)","v":1},{"$error":"#N/A"}]
[null,null,null,{"$f":"分類順!A296","v":"水曜日の朝、午前三時"},{"$f":"分類順!B296","v":"一般図書"},{"$f":"分類順!C296","v":"C：心の健康"},{"$f":"分類順!D296","v":"蓮見圭一"},{"$f":"分類順!E296","v":"新潮社"},{"$f":"分類順!F296","v":10438},"水曜日の朝、午前三時一般図書C：心の健康蓮見圭一新潮社",1,{"$f":"VLOOKUP(\"*\"&目次加工!$B$2&\"*\",J297:K297,2,0)","v":1},{"$error":"#N/A"}]
[null,null,null,{"$f":"分類順!A297","v":"残響"},{"$f":"分類順!B297","v":"一般図書"},{"$f":"分類順!C297","v":"C：心の健康"},{"$f":"分類順!D297","v":"保坂和志"},{"$f":"分類順!E297","v":"中央公論社"},{"$f":"分類順!F297","v":10439},"残響一般図書C：心の健康保坂和志中央公論社",1,{"$f":"VLOOKUP(\"*\"&目次加工!$B$2&\"*\",J298:K298,2,0)","v":1},{"$error":"#N/A"}]
[null,null,null,{"$f":"分類順!A298","v":"夏の夜の夢・間違いの喜劇"},{"$f":"分類順!B298","v":"一般図書"},{"$f":"分類順!C298","v":"C：心の健康"},{"$f":"分類順!D298","v":"シェイクスピア"},{"$f":"分類順!E298","v":"筑摩書房"},{"$f":"分類順!F298","v":10440},"夏の夜の夢・間違いの喜劇一般図書C：心の健康シェイクスピア筑摩書房",1,{"$f":"VLOOKUP(\"*\"&目次加工!$B$2&\"*\",J299:K299,2,0)","v":1},{"$error":"#N/A"}]
[null,null,null,{"$f":"分類順!A299","v":"小美代姐さん花乱万丈"},{"$f":"分類順!B299","v":"一般図書"},{"$f":"分類順!C299","v":"C：心の健康"},{"$f":"分類順!D299","v":"群ようこ"},{"$f":"分類順!E299","v":"集英社"},{"$f":"分類順!F299","v":10441},"小美代姐さん花乱万丈一般図書C：心の健康群ようこ集英社",1,{"$f":"VLOOKUP(\"*\"&目次加工!$B$2&\"*\",J300:K300,2,0)","v":1},{"$error":"#N/A"}]
[null,null,null,{"$f":"分類順!A300","v":"不自由な心"},{"$f":"分類順!B300","v":"一般図書"},{"$f":"分類順!C300","v":"C：心の健康"},{"$f":"分類順!D300","v":"白石一文"},{"$f":"分類順!E300","v":"角川書店"},{"$f":"分類順!F300","v":10442},"不自由な心一般図書C：心の健康白石一文角川書店",1,{"$f":"VLOOKUP(\"*\"&目次加工!$B$2&\"*\",J301:K301,2,0)","v":1},{"$error":"#N/A"}]
[null,null,null,{"$f":"分類順!A301","v":"なぜか「美人」に見える女性の習慣"},{"$f":"分類順!B301","v":"一般図書"},{"$f":"分類順!C301","v":"C：心の健康"},{"$f":"分類順!D301","v":"中谷彰宏"},{"$f":"分類順!E301","v":"大和書房"},{"$f":"分類順!F301","v":10443},"なぜか「美人」に見える女性の習慣一般図書C：心の健康中谷彰宏大和書房",1,{"$f":"VLOOKUP(\"*\"&目次加工!$B$2&\"*\",J302:K302,2,0)","v":1},{"$error":"#N/A"}]
[null,null,null,{"$f":"分類順!A302","v":"アイリーンといっしょに"},{"$f":"分類順!B302","v":"一般図書"},{"$f":"分類順!C302","v":"C：心の健康"},{"$f":"分類順!D302","v":"テレル・ハリス・ドゥーガン"},{"$f":"分類順!E302","v":"ポプラ社"},{"$f":"分類順!F302","v":10444},"アイリーンといっしょに一般図書C：心の健康テレル・ハリス・ドゥーガンポプラ社",1,{"$f":"VLOOKUP(\"*\"&目次加工!$B$2&\"*\",J303:K303,2,0)","v":1},{"$error":"#N/A"}]
[null,null,null,{"$f":"分類順!A303","v":"嫌な女"},{"$f":"分類順!B303","v":"一般図書"},{"$f":"分類順!C303","v":"C：心の健康"},{"$f":"分類順!D303","v":"桂望実"},{"$f":"分類順!E303","v":"光文社"},{"$f":"分類順!F303","v":10445},"嫌な女一般図書C：心の健康桂望実光文社",1,{"$f":"VLOOKUP(\"*\"&目次加工!$B$2&\"*\",J304:K304,2,0)","v":1},{"$error":"#N/A"}]
[null,null,null,{"$f":"分類順!A304","v":"マンガ坂本龍馬伝！"},{"$f":"分類順!B304","v":"一般図書"},{"$f":"分類順!C304","v":"C：心の健康"},{"$f":"分類順!D304","v":"風槇絃一"},{"$f":"分類順!E304","v":"三笠書房"},{"$f":"分類順!F304","v":10446},"マンガ坂本龍馬伝！一般図書C：心の健康風槇絃一三笠書房",1,{"$f":"VLOOKUP(\"*\"&目次加工!$B$2&\"*\",J305:K305,2,0)","v":1},{"$error":"#N/A"}]
[null,null,null,{"$f":"分類順!A305","v":"その後ツレがうつになりまして"},{"$f":"分類順!B305","v":"医療の本"},{"$f":"分類順!C305","v":"C：心の健康"},{"$f":"分類順!D305","v":"細川貂々"},{"$f":"分類順!E305","v":"幻冬舎"},{"$f":"分類順!F305","v":10447},"その後ツレがうつになりまして医療の本C：心の健康細川貂々幻冬舎",1,{"$f":"VLOOKUP(\"*\"&目次加工!$B$2&\"*\",J306:K306,2,0)","v":1},{"$error":"#N/A"}]
[null,null,null,{"$f":"分類順!A306","v":"かぜのてのひら"},{"$f":"分類順!B306","v":"一般図書"},{"$f":"分類順!C306","v":"C：心の健康"},{"$f":"分類順!D306","v":"俵万智"},{"$f":"分類順!E306","v":"河出書房新社"},{"$f":"分類順!F306","v":10448},"かぜのてのひら一般図書C：心の健康俵万智河出書房新社",1,{"$f":"VLOOKUP(\"*\"&目次加工!$B$2&\"*\",J307:K307,2,0)","v":1},{"$error":"#N/A"}]
[null,null,null,{"$f":"分類順!A307","v":"跳びはねる思考"},{"$f":"分類順!B307","v":"一般図書"},{"$f":"分類順!C307","v":"C：心の健康"},{"$f":"分類順!D307","v":"東田直樹"},{"$f":"分類順!E307","v":"イースト・プレス"},{"$f":"分類順!F307","v":10449},"跳びはねる思考一般図書C：心の健康東田直樹イースト・プレス",1,{"$f":"VLOOKUP(\"*\"&目次加工!$B$2&\"*\",J308:K308,2,0)","v":1},{"$error":"#N/A"}]
[null,null,null,{"$f":"分類順!A308","v":"97歳の幸福論"},{"$f":"分類順!B308","v":"一般図書"},{"$f":"分類順!C308","v":"C：心の健康"},{"$f":"分類順!D308","v":"笹本恒子"},{"$f":"分類順!E308","v":"講談社"},{"$f":"分類順!F308","v":10450},"97歳の幸福論一般図書C：心の健康笹本恒子講談社",1,{"$f":"VLOOKUP(\"*\"&目次加工!$B$2&\"*\",J309:K309,2,0)","v":1},{"$error":"#N/A"}]
[null,null,null,{"$f":"分類順!A309","v":"夢幻花"},{"$f":"分類順!B309","v":"一般図書"},{"$f":"分類順!C309","v":"C：心の健康"},{"$f":"分類順!D309","v":"東野圭吾"},{"$f":"分類順!E309","v":"PHP研究所"},{"$f":"分類順!F309","v":10452},"夢幻花一般図書C：心の健康東野圭吾PHP研究所",1,{"$f":"VLOOKUP(\"*\"&目次加工!$B$2&\"*\",J310:K310,2,0)","v":1},{"$error":"#N/A"}]
[null,null,null,{"$f":"分類順!A310","v":"摂食障害から回復するための8つの秘訣"},{"$f":"分類順!B310","v":"医療の本"},{"$f":"分類順!C310","v":"C：心の健康"},{"$f":"分類順!D310","v":"キャロリン・コスティン"},{"$f":"分類順!E310","v":"星和書店"},{"$f":"分類順!F310","v":10458},"摂食障害から回復するための8つの秘訣医療の本C：心の健康キャロリン・コスティン星和書店",1,{"$f":"VLOOKUP(\"*\"&目次加工!$B$2&\"*\",J311:K311,2,0)","v":1},{"$error":"#N/A"}]
[null,null,null,{"$f":"分類順!A311","v":"螢"},{"$f":"分類順!B311","v":"一般図書"},{"$f":"分類順!C311","v":"C：心の健康"},{"$f":"分類順!D311","v":"麻耶雄嵩"},{"$f":"分類順!E311","v":"幻冬舎"},{"$f":"分類順!F311","v":10459},"螢一般図書C：心の健康麻耶雄嵩幻冬舎",1,{"$f":"VLOOKUP(\"*\"&目次加工!$B$2&\"*\",J312:K312,2,0)","v":1},{"$error":"#N/A"}]
[null,null,null,{"$f":"分類順!A312","v":"いなくなった私へ"},{"$f":"分類順!B312","v":"一般図書"},{"$f":"分類順!C312","v":"C：心の健康"},{"$f":"分類順!D312","v":"辻堂ゆめ"},{"$f":"分類順!E312","v":"宝島社"},{"$f":"分類順!F312","v":10460},"いなくなった私へ一般図書C：心の健康辻堂ゆめ宝島社",1,{"$f":"VLOOKUP(\"*\"&目次加工!$B$2&\"*\",J313:K313,2,0)","v":1},{"$error":"#N/A"}]
[null,null,null,{"$f":"分類順!A313","v":"仇敵"},{"$f":"分類順!B313","v":"一般図書"},{"$f":"分類順!C313","v":"C：心の健康"},{"$f":"分類順!D313","v":"池井戸潤"},{"$f":"分類順!E313","v":"実業之日本社"},{"$f":"分類順!F313","v":10461},"仇敵一般図書C：心の健康池井戸潤実業之日本社",1,{"$f":"VLOOKUP(\"*\"&目次加工!$B$2&\"*\",J314:K314,2,0)","v":1},{"$error":"#N/A"}]
[null,null,null,{"$f":"分類順!A314","v":"アリアドネの弾丸"},{"$f":"分類順!B314","v":"一般図書"},{"$f":"分類順!C314","v":"C：心の健康"},{"$f":"分類順!D314","v":"海棠尊"},{"$f":"分類順!E314","v":"宝島社"},{"$f":"分類順!F314","v":10462},"アリアドネの弾丸一般図書C：心の健康海棠尊宝島社",1,{"$f":"VLOOKUP(\"*\"&目次加工!$B$2&\"*\",J315:K315,2,0)","v":1},{"$error":"#N/A"}]
[null,null,null,{"$f":"分類順!A315","v":"孤独の歌声"},{"$f":"分類順!B315","v":"一般図書"},{"$f":"分類順!C315","v":"C：心の健康"},{"$f":"分類順!D315","v":"天童荒太"},{"$f":"分類順!E315","v":"新潮社"},{"$f":"分類順!F315","v":10463},"孤独の歌声一般図書C：心の健康天童荒太新潮社",1,{"$f":"VLOOKUP(\"*\"&目次加工!$B$2&\"*\",J316:K316,2,0)","v":1},{"$error":"#N/A"}]
[null,null,null,{"$f":"分類順!A316","v":"湖底のまつり"},{"$f":"分類順!B316","v":"一般図書"},{"$f":"分類順!C316","v":"C：心の健康"},{"$f":"分類順!D316","v":"泡坂妻夫"},{"$f":"分類順!E316","v":"東京創元社"},{"$f":"分類順!F316","v":10464},"湖底のまつり一般図書C：心の健康泡坂妻夫東京創元社",1,{"$f":"VLOOKUP(\"*\"&目次加工!$B$2&\"*\",J317:K317,2,0)","v":1},{"$error":"#N/A"}]
[null,null,null,{"$f":"分類順!A317","v":"流"},{"$f":"分類順!B317","v":"一般図書"},{"$f":"分類順!C317","v":"C：心の健康"},{"$f":"分類順!D317","v":"東山彰良"},{"$f":"分類順!E317","v":"講談社"},{"$f":"分類順!F317","v":10465},"流一般図書C：心の健康東山彰良講談社",1,{"$f":"VLOOKUP(\"*\"&目次加工!$B$2&\"*\",J318:K318,2,0)","v":1},{"$error":"#N/A"}]
[null,null,null,{"$f":"分類順!A318","v":"ショットバー"},{"$f":"分類順!B318","v":"一般図書"},{"$f":"分類順!C318","v":"C：心の健康"},{"$f":"分類順!D318","v":"麻生幾"},{"$f":"分類順!E318","v":"幻冬舎"},{"$f":"分類順!F318","v":10466},"ショットバー一般図書C：心の健康麻生幾幻冬舎",1,{"$f":"VLOOKUP(\"*\"&目次加工!$B$2&\"*\",J319:K319,2,0)","v":1},{"$error":"#N/A"}]
[null,null,null,{"$f":"分類順!A319","v":"仮面病棟"},{"$f":"分類順!B319","v":"一般図書"},{"$f":"分類順!C319","v":"C：心の健康"},{"$f":"分類順!D319","v":"知念実希人"},{"$f":"分類順!E319","v":"実業之日本社"},{"$f":"分類順!F319","v":10467},"仮面病棟一般図書C：心の健康知念実希人実業之日本社",1,{"$f":"VLOOKUP(\"*\"&目次加工!$B$2&\"*\",J320:K320,2,0)","v":1},{"$error":"#N/A"}]
[null,null,null,{"$f":"分類順!A320","v":"その女アレックス"},{"$f":"分類順!B320","v":"一般図書"},{"$f":"分類順!C320","v":"C：心の健康"},{"$f":"分類順!D320","v":"ピエール・ルメートル"},{"$f":"分類順!E320","v":"文藝春秋"},{"$f":"分類順!F320","v":10468},"その女アレックス一般図書C：心の健康ピエール・ルメートル文藝春秋",1,{"$f":"VLOOKUP(\"*\"&目次加工!$B$2&\"*\",J321:K321,2,0)","v":1},{"$error":"#N/A"}]
[null,null,null,{"$f":"分類順!A321","v":"星新一　YAセレクション"},{"$f":"分類順!B321","v":"一般図書"},{"$f":"分類順!C321","v":"C：心の健康"},{"$f":"分類順!D321","v":"星新一"},{"$f":"分類順!E321","v":"理論社"},{"$f":"分類順!F321","v":10469},"星新一　YAセレクション一般図書C：心の健康星新一理論社",1,{"$f":"VLOOKUP(\"*\"&目次加工!$B$2&\"*\",J322:K322,2,0)","v":1},{"$error":"#N/A"}]
[null,null,null,{"$f":"分類順!A322","v":"星新一　ちょっと長めのショートショート　七人の犯罪者"},{"$f":"分類順!B322","v":"一般図書"},{"$f":"分類順!C322","v":"C：心の健康"},{"$f":"分類順!D322","v":"星新一"},{"$f":"分類順!E322","v":"理論社"},{"$f":"分類順!F322","v":10470},"星新一　ちょっと長めのショートショート　七人の犯罪者一般図書C：心の健康星新一理論社",1,{"$f":"VLOOKUP(\"*\"&目次加工!$B$2&\"*\",J323:K323,2,0)","v":1},{"$error":"#N/A"}]
[null,null,null,{"$f":"分類順!A323","v":"億男"},{"$f":"分類順!B323","v":"一般図書"},{"$f":"分類順!C323","v":"C：心の健康"},{"$f":"分類順!D323","v":"川村元気"},{"$f":"分類順!E323","v":"マガジンハウス"},{"$f":"分類順!F323","v":10471},"億男一般図書C：心の健康川村元気マガジンハウス",1,{"$f":"VLOOKUP(\"*\"&目次加工!$B$2&\"*\",J324:K324,2,0)","v":1},{"$f":"VLOOKUP(\"*\"&$A$2&\"*\",J324:K324,2,0)","v":{"$error":"#N/A"}}]
[null,null,null,{"$f":"分類順!A324","v":"あしながおじさん"},{"$f":"分類順!B324","v":"一般図書"},{"$f":"分類順!C324","v":"C：心の健康"},{"$f":"分類順!D324","v":"ジーン・ウェブスター"},{"$f":"分類順!E324","v":"ｳﾞｨﾚｯｼﾞﾌﾞｯｸｽ"},{"$f":"分類順!F324","v":10489},"あしながおじさん一般図書C：心の健康ジーン・ウェブスターｳﾞｨﾚｯｼﾞﾌﾞｯｸｽ",1,{"$f":"VLOOKUP(\"*\"&目次加工!$B$2&\"*\",J325:K325,2,0)","v":1},{"$error":"#N/A"}]
[null,null,null,{"$f":"分類順!A325","v":"星の王子さま"},{"$f":"分類順!B325","v":"一般図書"},{"$f":"分類順!C325","v":"C：心の健康"},{"$f":"分類順!D325","v":"ｻﾝ=ﾃｸﾞｼﾞｭﾍﾟﾘ"},{"$f":"分類順!E325","v":"新潮社"},{"$f":"分類順!F325","v":10504},"星の王子さま一般図書C：心の健康ｻﾝ=ﾃｸﾞｼﾞｭﾍﾟﾘ新潮社",1,{"$f":"VLOOKUP(\"*\"&目次加工!$B$2&\"*\",J326:K326,2,0)","v":1},{"$error":"#N/A"}]
[null,null,null,{"$f":"分類順!A326","v":"うつヌケ"},{"$f":"分類順!B326","v":"一般図書"},{"$f":"分類順!C326","v":"C：心の健康"},{"$f":"分類順!D326","v":"田中　圭一"},{"$f":"分類順!E326","v":"角川書店"},{"$f":"分類順!F326","v":10506},"うつヌケ一般図書C：心の健康田中　圭一角川書店",1,{"$f":"VLOOKUP(\"*\"&目次加工!$B$2&\"*\",J327:K327,2,0)","v":1},{"$error":"#N/A"}]
[null,null,null,{"$f":"分類順!A327","v":"下半身に筋肉をつけると「太らない」「疲れない」"},{"$f":"分類順!B327","v":"一般図書"},{"$f":"分類順!C327","v":"C：心の健康"},{"$f":"分類順!D327","v":"中野ジェームス修一"},{"$f":"分類順!E327","v":"大和書房"},{"$f":"分類順!F327","v":10507},"下半身に筋肉をつけると「太らない」「疲れない」一般図書C：心の健康中野ジェームス修一大和書房",1,{"$f":"VLOOKUP(\"*\"&目次加工!$B$2&\"*\",J328:K328,2,0)","v":1},{"$error":"#N/A"}]
[null,null,null,{"$f":"分類順!A328","v":"部屋とこころのシンプルな掃除"},{"$f":"分類順!B328","v":"一般図書"},{"$f":"分類順!C328","v":"C：心の健康"},{"$f":"分類順!D328","v":"ドミニック・ローホー"},{"$f":"分類順!E328","v":"幻冬舎"},{"$f":"分類順!F328","v":10508},"部屋とこころのシンプルな掃除一般図書C：心の健康ドミニック・ローホー幻冬舎",1,{"$f":"VLOOKUP(\"*\"&目次加工!$B$2&\"*\",J329:K329,2,0)","v":1},{"$error":"#N/A"}]
[null,null,null,{"$f":"分類順!A329","v":"ストレスマネジメント入門"},{"$f":"分類順!B329","v":"一般図書"},{"$f":"分類順!C329","v":"C：心の健康"},{"$f":"分類順!D329","v":"島　悟・佐藤　恵美"},{"$f":"分類順!E329","v":"日本経済新聞出版社"},{"$f":"分類順!F329","v":10509},"ストレスマネジメント入門一般図書C：心の健康島　悟・佐藤　恵美日本経済新聞出版社",1,{"$f":"VLOOKUP(\"*\"&目次加工!$B$2&\"*\",J330:K330,2,0)","v":1},{"$error":"#N/A"}]
[null,null,null,{"$f":"分類順!A330","v":"たった１文からトコトン学べる私の英語ノートを紹介します。"},{"$f":"分類順!B330","v":"一般図書"},{"$f":"分類順!C330","v":"C：心の健康"},{"$f":"分類順!D330","v":"石原　真弓"},{"$f":"分類順!E330","v":"株域会社　アスコム"},{"$f":"分類順!F330","v":10510},"たった１文からトコトン学べる私の英語ノートを紹介します。一般図書C：心の健康石原　真弓株域会社　アスコム",1,{"$f":"VLOOKUP(\"*\"&目次加工!$B$2&\"*\",J331:K331,2,0)","v":1},{"$error":"#N/A"}]
[null,null,null,{"$f":"分類順!A331","v":"性格リフォームカウンセラー心屋仁之助の「ありのままの自分」に○をつけよう"},{"$f":"分類順!B331","v":"一般図書"},{"$f":"分類順!C331","v":"C：心の健康"},{"$f":"分類順!D331","v":"心屋仁之助"},{"$f":"分類順!E331","v":"三笠書房"},{"$f":"分類順!F331","v":10511},"性格リフォームカウンセラー心屋仁之助の「ありのままの自分」に○をつけよう一般図書C：心の健康心屋仁之助三笠書房",1,{"$f":"VLOOKUP(\"*\"&目次加工!$B$2&\"*\",J332:K332,2,0)","v":1},{"$error":"#N/A"}]
[null,null,null,{"$f":"分類順!A332","v":"アナと雪の女王　愛されるエルサ女王"},{"$f":"分類順!B332","v":"一般図書"},{"$f":"分類順!C332","v":"C：心の健康"},{"$f":"分類順!D332","v":"エリカ・デイビット"},{"$f":"分類順!E332","v":"角川書店"},{"$f":"分類順!F332","v":10512},"アナと雪の女王　愛されるエルサ女王一般図書C：心の健康エリカ・デイビット角川書店",1,{"$f":"VLOOKUP(\"*\"&目次加工!$B$2&\"*\",J333:K333,2,0)","v":1},{"$error":"#N/A"}]
[null,null,null,{"$f":"分類順!A333","v":"銀の匙"},{"$f":"分類順!B333","v":"一般図書"},{"$f":"分類順!C333","v":"C：心の健康"},{"$f":"分類順!D333","v":"荒川　弘"},{"$f":"分類順!E333","v":"小学館"},{"$f":"分類順!F333","v":10513},"銀の匙一般図書C：心の健康荒川　弘小学館",1,{"$f":"VLOOKUP(\"*\"&目次加工!$B$2&\"*\",J334:K334,2,0)","v":1},{"$error":"#N/A"}]
[null,null,null,{"$f":"分類順!A334","v":"幻の女"},{"$f":"分類順!B334","v":"一般図書"},{"$f":"分類順!C334","v":"C：心の健康"},{"$f":"分類順!D334","v":"ウイリアム・アイリッシュ"},{"$f":"分類順!E334","v":"株式会社　早川書房"},{"$f":"分類順!F334","v":10514},"幻の女一般図書C：心の健康ウイリアム・アイリッシュ株式会社　早川書房",1,{"$f":"VLOOKUP(\"*\"&目次加工!$B$2&\"*\",J335:K335,2,0)","v":1},{"$error":"#N/A"}]
[null,null,null,{"$f":"分類順!A335","v":"ガリレオの苦悩"},{"$f":"分類順!B335","v":"一般図書"},{"$f":"分類順!C335","v":"C：心の健康"},{"$f":"分類順!D335","v":"東野　圭吾"},{"$f":"分類順!E335","v":"文藝春秋"},{"$f":"分類順!F335","v":10515},"ガリレオの苦悩一般図書C：心の健康東野　圭吾文藝春秋",1,{"$f":"VLOOKUP(\"*\"&目次加工!$B$2&\"*\",J336:K336,2,0)","v":1},{"$error":"#N/A"}]
[null,null,null,{"$f":"分類順!A336","v":"悲嘆の門（上）"},{"$f":"分類順!B336","v":"一般図書"},{"$f":"分類順!C336","v":"C：心の健康"},{"$f":"分類順!D336","v":"宮部みゆき"},{"$f":"分類順!E336","v":"新潮社"},{"$f":"分類順!F336","v":10516},"悲嘆の門（上）一般図書C：心の健康宮部みゆき新潮社",1,{"$f":"VLOOKUP(\"*\"&目次加工!$B$2&\"*\",J337:K337,2,0)","v":1},{"$error":"#N/A"}]
[null,null,null,{"$f":"分類順!A337","v":"悲嘆の門（中）"},{"$f":"分類順!B337","v":"一般図書"},{"$f":"分類順!C337","v":"C：心の健康"},{"$f":"分類順!D337","v":"宮部　みゆき"},{"$f":"分類順!E337","v":"新潮社"},{"$f":"分類順!F337","v":10517},"悲嘆の門（中）一般図書C：心の健康宮部　みゆき新潮社",1,{"$f":"VLOOKUP(\"*\"&目次加工!$B$2&\"*\",J338:K338,2,0)","v":1},{"$error":"#N/A"}]
[null,null,null,{"$f":"分類順!A338","v":"悲嘆の門（下）"},{"$f":"分類順!B338","v":"一般図書"},{"$f":"分類順!C338","v":"C：心の健康"},{"$f":"分類順!D338","v":"宮部　みゆき"},{"$f":"分類順!E338","v":"新潮社"},{"$f":"分類順!F338","v":10518},{"$f":"D339&E339&F339&G339&H339","v":"悲嘆の門（下）一般図書C：心の健康宮部　みゆき新潮社"},1,{"$f":"VLOOKUP(\"*\"&目次加工!$B$2&\"*\",J339:K339,2,0)","v":1},{"$error":"#N/A"}]
[null,null,null,{"$f":"分類順!A339","v":"名もなき毒"},{"$f":"分類順!B339","v":"一般図書"},{"$f":"分類順!C339","v":"C：心の健康"},{"$f":"分類順!D339","v":"宮部　みゆき"},{"$f":"分類順!E339","v":"文藝春秋"},{"$f":"分類順!F339","v":10519},"名もなき毒一般図書C：心の健康宮部　みゆき文藝春秋",1,{"$f":"VLOOKUP(\"*\"&目次加工!$B$2&\"*\",J340:K340,2,0)","v":1},{"$error":"#N/A"}]
[null,null,null,{"$f":"分類順!A340","v":"風の中のマリア"},{"$f":"分類順!B340","v":"一般図書"},{"$f":"分類順!C340","v":"C：心の健康"},{"$f":"分類順!D340","v":"百田　尚樹"},{"$f":"分類順!E340","v":"講談社"},{"$f":"分類順!F340","v":10520},"風の中のマリア一般図書C：心の健康百田　尚樹講談社",1,{"$f":"VLOOKUP(\"*\"&目次加工!$B$2&\"*\",J341:K341,2,0)","v":1},{"$error":"#N/A"}]
[null,null,null,{"$f":"分類順!A341","v":"生存者ゼロ"},{"$f":"分類順!B341","v":"一般図書"},{"$f":"分類順!C341","v":"C：心の健康"},{"$f":"分類順!D341","v":"安生　正"},{"$f":"分類順!E341","v":"宝島社"},{"$f":"分類順!F341","v":10521},"生存者ゼロ一般図書C：心の健康安生　正宝島社",1,{"$f":"VLOOKUP(\"*\"&目次加工!$B$2&\"*\",J342:K342,2,0)","v":1},{"$error":"#N/A"}]
[null,null,null,{"$f":"分類順!A342","v":"教団Ｘ"},{"$f":"分類順!B342","v":"一般図書"},{"$f":"分類順!C342","v":"C：心の健康"},{"$f":"分類順!D342","v":"中村　文則"},{"$f":"分類順!E342","v":"集英社"},{"$f":"分類順!F342","v":10522},"教団Ｘ一般図書C：心の健康中村　文則集英社",1,{"$f":"VLOOKUP(\"*\"&目次加工!$B$2&\"*\",J343:K343,2,0)","v":1},{"$error":"#N/A"}]
[null,null,null,{"$f":"分類順!A343","v":"予知夢"},{"$f":"分類順!B343","v":"一般図書"},{"$f":"分類順!C343","v":"C：心の健康"},{"$f":"分類順!D343","v":"東野　圭吾"},{"$f":"分類順!E343","v":"文藝春秋"},{"$f":"分類順!F343","v":10523},"予知夢一般図書C：心の健康東野　圭吾文藝春秋",1,{"$f":"VLOOKUP(\"*\"&目次加工!$B$2&\"*\",J344:K344,2,0)","v":1},{"$error":"#N/A"}]
[null,null,null,{"$f":"分類順!A344","v":"住友銀行秘史"},{"$f":"分類順!B344","v":"一般図書"},{"$f":"分類順!C344","v":"C：心の健康"},{"$f":"分類順!D344","v":"國重　惇史"},{"$f":"分類順!E344","v":"講談社"},{"$f":"分類順!F344","v":10524},"住友銀行秘史一般図書C：心の健康國重　惇史講談社",1,{"$f":"VLOOKUP(\"*\"&目次加工!$B$2&\"*\",J345:K345,2,0)","v":1},{"$error":"#N/A"}]
[null,null,null,{"$f":"分類順!A345","v":"折れない自信をつくるシンプルな習慣"},{"$f":"分類順!B345","v":"一般図書"},{"$f":"分類順!C345","v":"C：心の健康"},{"$f":"分類順!D345","v":"心屋仁之助"},{"$f":"分類順!E345","v":"朝日新聞出版"},{"$f":"分類順!F345","v":10526},"折れない自信をつくるシンプルな習慣一般図書C：心の健康心屋仁之助朝日新聞出版",1,{"$f":"VLOOKUP(\"*\"&目次加工!$B$2&\"*\",J346:K346,2,0)","v":1},{"$error":"#N/A"}]
[null,null,null,{"$f":"分類順!A346","v":"株価暴落"},{"$f":"分類順!B346","v":"一般図書"},{"$f":"分類順!C346","v":"C：心の健康"},{"$f":"分類順!D346","v":"池井戸潤"},{"$f":"分類順!E346","v":"文藝春秋"},{"$f":"分類順!F346","v":10527},"株価暴落一般図書C：心の健康池井戸潤文藝春秋",1,{"$f":"VLOOKUP(\"*\"&目次加工!$B$2&\"*\",J347:K347,2,0)","v":1},{"$error":"#N/A"}]
[null,null,null,{"$f":"分類順!A347","v":"勁草の人　中山素平"},{"$f":"分類順!B347","v":"一般図書"},{"$f":"分類順!C347","v":"C：心の健康"},{"$f":"分類順!D347","v":"高杉　良"},{"$f":"分類順!E347","v":"文藝春秋"},{"$f":"分類順!F347","v":10528},"勁草の人　中山素平一般図書C：心の健康高杉　良文藝春秋",1,{"$f":"VLOOKUP(\"*\"&目次加工!$B$2&\"*\",J348:K348,2,0)","v":1},{"$error":"#N/A"}]
[null,null,null,{"$f":"分類順!A348","v":"銃・病原菌・鉄　上"},{"$f":"分類順!B348","v":"一般図書"},{"$f":"分類順!C348","v":"C：心の健康"},{"$f":"分類順!D348","v":"ジャレンド・ダイヤモンド"},{"$f":"分類順!E348","v":"草思社"},{"$f":"分類順!F348","v":10529},"銃・病原菌・鉄　上一般図書C：心の健康ジャレンド・ダイヤモンド草思社",1,{"$f":"VLOOKUP(\"*\"&目次加工!$B$2&\"*\",J349:K349,2,0)","v":1},{"$error":"#N/A"}]
[null,null,null,{"$f":"分類順!A349","v":"彼女がその名を知らない鳥たち"},{"$f":"分類順!B349","v":"一般図書"},{"$f":"分類順!C349","v":"C：心の健康"},{"$f":"分類順!D349","v":"沼田まほかる"},{"$f":"分類順!E349","v":"幻冬舎"},{"$f":"分類順!F349","v":10530},"彼女がその名を知らない鳥たち一般図書C：心の健康沼田まほかる幻冬舎",1,{"$f":"VLOOKUP(\"*\"&目次加工!$B$2&\"*\",J350:K350,2,0)","v":1},{"$error":"#N/A"}]
[null,null,null,{"$f":"分類順!A350","v":"車イスの私がアメリカで医療ソーシャルワーカーになった理由"},{"$f":"分類順!B350","v":"一般図書"},{"$f":"分類順!C350","v":"C：心の健康"},{"$f":"分類順!D350","v":"上原寛奈"},{"$f":"分類順!E350","v":"幻冬舎"},{"$f":"分類順!F350","v":10531},"車イスの私がアメリカで医療ソーシャルワーカーになった理由一般図書C：心の健康上原寛奈幻冬舎",1,{"$f":"VLOOKUP(\"*\"&目次加工!$B$2&\"*\",J351:K351,2,0)","v":1},{"$error":"#N/A"}]
[null,null,null,{"$f":"分類順!A351","v":"マンガでわかる! 統合失調症〔家族の対応編〕"},{"$f":"分類順!B351","v":"医療の本"},{"$f":"分類順!C351","v":"C：心の健康"},{"$f":"分類順!D351","v":"中村ユキ　著"},{"$f":"分類順!E351","v":"日本評論社"},{"$f":"分類順!F351","v":10553},"マンガでわかる! 統合失調症〔家族の対応編〕医療の本C：心の健康中村ユキ　著日本評論社",1,{"$f":"VLOOKUP(\"*\"&目次加工!$B$2&\"*\",J352:K352,2,0)","v":1},{"$error":"#N/A"}]
[null,null,null,{"$f":"分類順!A352","v":"統合失調症　（よくわかる最新医学シリーズ）"},{"$f":"分類順!B352","v":"医療の本"},{"$f":"分類順!C352","v":"C：心の健康"},{"$f":"分類順!D352","v":"春日武彦　監修"},{"$f":"分類順!E352","v":"主婦の友社"},{"$f":"分類順!F352","v":10566},"統合失調症　（よくわかる最新医学シリーズ）医療の本C：心の健康春日武彦　監修主婦の友社",1,{"$f":"VLOOKUP(\"*\"&目次加工!$B$2&\"*\",J353:K353,2,0)","v":1},{"$error":"#N/A"}]
[null,null,null,{"$f":"分類順!A353","v":"統合失調症スペクトラムがよくわかる本"},{"$f":"分類順!B353","v":"医療の本"},{"$f":"分類順!C353","v":"C：心の健康"},{"$f":"分類順!D353","v":"糸川昌成　監修"},{"$f":"分類順!E353","v":"講談社"},{"$f":"分類順!F353","v":10581},"統合失調症スペクトラムがよくわかる本医療の本C：心の健康糸川昌成　監修講談社",1,{"$f":"VLOOKUP(\"*\"&目次加工!$B$2&\"*\",J354:K354,2,0)","v":1},{"$error":"#N/A"}]
[null,null,null,{"$f":"分類順!A354","v":"ボクのせいかも・・・"},{"$f":"分類順!B354","v":"医療の本"},{"$f":"分類順!C354","v":"C：心の健康"},{"$f":"分類順!D354","v":"プルスアルハ"},{"$f":"分類順!E354","v":"ゆまに書房"},{"$f":"分類順!F354","v":10612},"ボクのせいかも・・・医療の本C：心の健康プルスアルハゆまに書房",1,{"$f":"VLOOKUP(\"*\"&目次加工!$B$2&\"*\",J355:K355,2,0)","v":1},{"$error":"#N/A"}]
[null,null,null,{"$f":"分類順!A355","v":"お母さんどうしちゃったの・・・"},{"$f":"分類順!B355","v":"医療の本"},{"$f":"分類順!C355","v":"C：心の健康"},{"$f":"分類順!D355","v":"プルスアルハ"},{"$f":"分類順!E355","v":"ゆまに書房"},{"$f":"分類順!F355","v":10613},"お母さんどうしちゃったの・・・医療の本C：心の健康プルスアルハゆまに書房",1,{"$f":"VLOOKUP(\"*\"&目次加工!$B$2&\"*\",J356:K356,2,0)","v":1},{"$error":"#N/A"}]
[null,null,null,{"$f":"分類順!A356","v":"お母さんは静養中"},{"$f":"分類順!B356","v":"医療の本"},{"$f":"分類順!C356","v":"C：心の健康"},{"$f":"分類順!D356","v":"プルスアルハ"},{"$f":"分類順!E356","v":"ゆまに書房"},{"$f":"分類順!F356","v":10614},"お母さんは静養中医療の本C：心の健康プルスアルハゆまに書房",1,{"$f":"VLOOKUP(\"*\"&目次加工!$B$2&\"*\",J357:K357,2,0)","v":1},{"$error":"#N/A"}]
[null,null,null,{"$f":"分類順!A357","v":"薬"},{"$f":"分類順!B357","v":"目次へ"},{"$f":"分類順!C357","v":"※PDF版ではリンクしておりません。"},{"$f":"分類順!D357","v":0},{"$f":"分類順!E357","v":0},{"$f":"分類順!F357","v":0},"薬目次へ※PDF版ではリンクしておりません。00",1,{"$f":"VLOOKUP(\"*\"&目次加工!$B$2&\"*\",J358:K358,2,0)","v":1},1]
[null,null,null,{"$f":"分類順!A358","v":"抗生物質治療ガイドライン　第２版"},{"$f":"分類順!B358","v":"医療の本"},{"$f":"分類順!C358","v":"D：薬"},{"$f":"分類順!D358","v":"オーストラリア治療ガ"},{"$f":"分類順!E358","v":"医薬ビジランスセンター"},{"$f":"分類順!F358","v":163},"抗生物質治療ガイドライン　第２版医療の本D：薬オーストラリア治療ガ医薬ビジランスセンター",1,{"$f":"VLOOKUP(\"*\"&目次加工!$B$2&\"*\",J359:K359,2,0)","v":1},{"$error":"#N/A"}]
[null,null,null,{"$f":"分類順!A359","v":"鎮痛・解熱治療ガイドライン"},{"$f":"分類順!B359","v":"医療の本"},{"$f":"分類順!C359","v":"D：薬"},{"$f":"分類順!D359","v":"オーストラリア治療ガ"},{"$f":"分類順!E359","v":"プリメド社"},{"$f":"分類順!F359","v":165},"鎮痛・解熱治療ガイドライン医療の本D：薬オーストラリア治療ガプリメド社",1,{"$f":"VLOOKUP(\"*\"&目次加工!$B$2&\"*\",J360:K360,2,0)","v":1},{"$error":"#N/A"}]
[null,null,null,{"$f":"分類順!A360","v":"2010　薬の事典　ピルブック"},{"$f":"分類順!B360","v":"医療の本"},{"$f":"分類順!C360","v":"D：薬"},{"$f":"分類順!D360","v":"橘　敏也　著"},{"$f":"分類順!E360","v":"ソシム"},{"$f":"分類順!F360","v":170},"2010　薬の事典　ピルブック医療の本D：薬橘　敏也　著ソシム",1,{"$f":"VLOOKUP(\"*\"&目次加工!$B$2&\"*\",J361:K361,2,0)","v":1},1]
[null,null,null,{"$f":"分類順!A361","v":"くすりと健康についてくすりになる話"},{"$f":"分類順!B361","v":"医療の本"},{"$f":"分類順!C361","v":"D：薬"},{"$f":"分類順!D361","v":"大野　誠　監修"},{"$f":"分類順!E361","v":"レーダー出版"},{"$f":"分類順!F361","v":173},"くすりと健康についてくすりになる話医療の本D：薬大野　誠　監修レーダー出版",1,{"$f":"VLOOKUP(\"*\"&目次加工!$B$2&\"*\",J362:K362,2,0)","v":1},{"$error":"#N/A"}]
[null,null,null,{"$f":"分類順!A362","v":"くすりの地図帳"},{"$f":"分類順!B362","v":"医療の本"},{"$f":"分類順!C362","v":"D：薬"},{"$f":"分類順!D362","v":"伊賀　立二;小滝　一;沢田　康文"},{"$f":"分類順!E362","v":"講談社"},{"$f":"分類順!F362","v":174},"くすりの地図帳医療の本D：薬伊賀　立二;小滝　一;沢田　康文講談社",1,{"$f":"VLOOKUP(\"*\"&目次加工!$B$2&\"*\",J363:K363,2,0)","v":1},{"$error":"#N/A"}]
[null,null,null,{"$f":"分類順!A363","v":"これだけは知っておきたい抗アレルギー薬の"},{"$f":"分類順!B363","v":"医療の本"},{"$f":"分類順!C363","v":"D：薬"},{"$f":"分類順!D363","v":"中川　武正　編"},{"$f":"分類順!E363","v":"医薬ジャーナル社"},{"$f":"分類順!F363","v":175},"これだけは知っておきたい抗アレルギー薬の医療の本D：薬中川　武正　編医薬ジャーナル社",1,{"$f":"VLOOKUP(\"*\"&目次加工!$B$2&\"*\",J364:K364,2,0)","v":1},{"$error":"#N/A"}]
[null,null,null,{"$f":"分類順!A364","v":"ひと目でわかる向精神薬の薬効比較　４"},{"$f":"分類順!B364","v":"医療の本"},{"$f":"分類順!C364","v":"D：薬"},{"$f":"分類順!D364","v":"稲田　俊也"},{"$f":"分類順!E364","v":"じほう"},{"$f":"分類順!F364","v":177},"ひと目でわかる向精神薬の薬効比較　４医療の本D：薬稲田　俊也じほう",1,{"$f":"VLOOKUP(\"*\"&目次加工!$B$2&\"*\",J365:K365,2,0)","v":1},{"$error":"#N/A"}]
[null,null,null,{"$f":"分類順!A365","v":"ポケット版　基本薬事典　第３版"},{"$f":"分類順!B365","v":"医療の本"},{"$f":"分類順!C365","v":"D：薬"},{"$f":"分類順!D365","v":"岡島　重孝　編集"},{"$f":"分類順!E365","v":"照林社"},{"$f":"分類順!F365","v":178},"ポケット版　基本薬事典　第３版医療の本D：薬岡島　重孝　編集照林社",1,{"$f":"VLOOKUP(\"*\"&目次加工!$B$2&\"*\",J366:K366,2,0)","v":1},{"$error":"#N/A"}]
[null,null,null,{"$f":"分類順!A366","v":"やさしく学ぶ薬剤経済学"},{"$f":"分類順!B366","v":"医療の本"},{"$f":"分類順!C366","v":"D：薬"},{"$f":"分類順!D366","v":"坂巻　弘之"},{"$f":"分類順!E366","v":"じほう"},{"$f":"分類順!F366","v":180},"やさしく学ぶ薬剤経済学医療の本D：薬坂巻　弘之じほう",1,{"$f":"VLOOKUP(\"*\"&目次加工!$B$2&\"*\",J367:K367,2,0)","v":1},{"$error":"#N/A"}]
[null,null,null,{"$f":"分類順!A367","v":"よくわかる薬の知識と自己管理　きちんとし"},{"$f":"分類順!B367","v":"医療の本"},{"$f":"分類順!C367","v":"D：薬"},{"$f":"分類順!D367","v":"杉山　正敏　他編"},{"$f":"分類順!E367","v":"医薬ジャーナル社"},{"$f":"分類順!F367","v":181},"よくわかる薬の知識と自己管理　きちんとし医療の本D：薬杉山　正敏　他編医薬ジャーナル社",1,{"$f":"VLOOKUP(\"*\"&目次加工!$B$2&\"*\",J368:K368,2,0)","v":1},{"$error":"#N/A"}]
[null,null,null,{"$f":"分類順!A368","v":"安全ながん治療とテーラーメイド医療に向け"},{"$f":"分類順!B368","v":"医療の本"},{"$f":"分類順!C368","v":"D：薬"},{"$f":"分類順!D368","v":"乾　賢一　監修"},{"$f":"分類順!E368","v":"じほう"},{"$f":"分類順!F368","v":182},"安全ながん治療とテーラーメイド医療に向け医療の本D：薬乾　賢一　監修じほう",1,{"$f":"VLOOKUP(\"*\"&目次加工!$B$2&\"*\",J369:K369,2,0)","v":1},{"$error":"#N/A"}]
[null,null,null,{"$f":"分類順!A369","v":"降圧薬の知識と自己管理"},{"$f":"分類順!B369","v":"医療の本"},{"$f":"分類順!C369","v":"D：薬"},{"$f":"分類順!D369","v":"日和田　邦男　編"},{"$f":"分類順!E369","v":"医薬ジャーナル社"},{"$f":"分類順!F369","v":187},"降圧薬の知識と自己管理医療の本D：薬日和田　邦男　編医薬ジャーナル社",1,{"$f":"VLOOKUP(\"*\"&目次加工!$B$2&\"*\",J370:K370,2,0)","v":1},{"$error":"#N/A"}]
[null,null,null,{"$f":"分類順!A370","v":"治療薬ハンドブック　第２版"},{"$f":"分類順!B370","v":"医療の本"},{"$f":"分類順!C370","v":"D：薬"},{"$f":"分類順!D370","v":"奈良　信雄　著"},{"$f":"分類順!E370","v":"医歯薬出版"},{"$f":"分類順!F370","v":189},"治療薬ハンドブック　第２版医療の本D：薬奈良　信雄　著医歯薬出版",1,{"$f":"VLOOKUP(\"*\"&目次加工!$B$2&\"*\",J371:K371,2,0)","v":1},{"$error":"#N/A"}]
[null,null,null,{"$f":"分類順!A371","v":"疾患別服薬指導マニュアル　３　第２版"},{"$f":"分類順!B371","v":"医療の本"},{"$f":"分類順!C371","v":"D：薬"},{"$f":"分類順!D371","v":"宮本　謙一　監修"},{"$f":"分類順!E371","v":"じほう"},{"$f":"分類順!F371","v":193},"疾患別服薬指導マニュアル　３　第２版医療の本D：薬宮本　謙一　監修じほう",1,{"$f":"VLOOKUP(\"*\"&目次加工!$B$2&\"*\",J372:K372,2,0)","v":1},{"$error":"#N/A"}]
[null,null,null,{"$f":"分類順!A372","v":"手術室・ＩＣＵで使う薬剤ノート　改訂４版"},{"$f":"分類順!B372","v":"医療の本"},{"$f":"分類順!C372","v":"D：薬"},{"$f":"分類順!D372","v":"弓削　孟文　監修"},{"$f":"分類順!E372","v":"メディカ出版"},{"$f":"分類順!F372","v":194},"手術室・ＩＣＵで使う薬剤ノート　改訂４版医療の本D：薬弓削　孟文　監修メディカ出版",1,{"$f":"VLOOKUP(\"*\"&目次加工!$B$2&\"*\",J373:K373,2,0)","v":1},{"$error":"#N/A"}]
[null,null,null,{"$f":"分類順!A373","v":"循環器用薬の薬物相互作用"},{"$f":"分類順!B373","v":"医療の本"},{"$f":"分類順!C373","v":"D：薬"},{"$f":"分類順!D373","v":"高田　充隆　編"},{"$f":"分類順!E373","v":"医薬ジャーナル社"},{"$f":"分類順!F373","v":195},"循環器用薬の薬物相互作用医療の本D：薬高田　充隆　編医薬ジャーナル社",1,{"$f":"VLOOKUP(\"*\"&目次加工!$B$2&\"*\",J374:K374,2,0)","v":1},{"$error":"#N/A"}]
[null,null,null,{"$f":"分類順!A374","v":"消毒剤の選び方と使用上の留意点　改訂２版"},{"$f":"分類順!B374","v":"医療の本"},{"$f":"分類順!C374","v":"D：薬"},{"$f":"分類順!D374","v":"神谷　晃　著"},{"$f":"分類順!E374","v":"じほう"},{"$f":"分類順!F374","v":196},"消毒剤の選び方と使用上の留意点　改訂２版医療の本D：薬神谷　晃　著じほう",1,{"$f":"VLOOKUP(\"*\"&目次加工!$B$2&\"*\",J375:K375,2,0)","v":1},{"$error":"#N/A"}]
[null,null,null,{"$f":"分類順!A375","v":"正しいステロイド剤の使い方　２　外用剤編"},{"$f":"分類順!B375","v":"医療の本"},{"$f":"分類順!C375","v":"D：薬"},{"$f":"分類順!D375","v":"塩原 哲夫　編"},{"$f":"分類順!E375","v":"医薬ジャーナル社"},{"$f":"分類順!F375","v":199},"正しいステロイド剤の使い方　２　外用剤編医療の本D：薬塩原 哲夫　編医薬ジャーナル社",1,{"$f":"VLOOKUP(\"*\"&目次加工!$B$2&\"*\",J376:K376,2,0)","v":1},{"$error":"#N/A"}]
[null,null,null,{"$f":"分類順!A376","v":"生活習慣病とその治療薬"},{"$f":"分類順!B376","v":"医療の本"},{"$f":"分類順!C376","v":"D：薬"},{"$f":"分類順!D376","v":"橘　敏也"},{"$f":"分類順!E376","v":"じほう"},{"$f":"分類順!F376","v":200},"生活習慣病とその治療薬医療の本D：薬橘　敏也じほう",1,{"$f":"VLOOKUP(\"*\"&目次加工!$B$2&\"*\",J377:K377,2,0)","v":1},{"$error":"#N/A"}]
[null,null,null,{"$f":"分類順!A377","v":"注射薬投与法の基本と工夫　安全かつ有効な"},{"$f":"分類順!B377","v":"医療の本"},{"$f":"分類順!C377","v":"D：薬"},{"$f":"分類順!D377","v":"幸保　文治"},{"$f":"分類順!E377","v":"メディカルトリビューン"},{"$f":"分類順!F377","v":201},"注射薬投与法の基本と工夫　安全かつ有効な医療の本D：薬幸保　文治メディカルトリビューン",1,{"$f":"VLOOKUP(\"*\"&目次加工!$B$2&\"*\",J378:K378,2,0)","v":1},{"$error":"#N/A"}]
[null,null,null,{"$f":"分類順!A378","v":"薬のサイエンス　Ｖｏｌ．８"},{"$f":"分類順!B378","v":"医療の本"},{"$f":"分類順!C378","v":"D：薬"},{"$f":"分類順!D378","v":"井村　裕夫"},{"$f":"分類順!E378","v":"フジメディカル"},{"$f":"分類順!F378","v":203},"薬のサイエンス　Ｖｏｌ．８医療の本D：薬井村　裕夫フジメディカル",1,{"$f":"VLOOKUP(\"*\"&目次加工!$B$2&\"*\",J379:K379,2,0)","v":1},{"$error":"#N/A"}]
[null,null,null,{"$f":"分類順!A379","v":"薬剤識別コード事典　平成２１年改訂版★"},{"$f":"分類順!B379","v":"医療の本"},{"$f":"分類順!C379","v":"D：薬"},{"$f":"分類順!D379","v":"医薬ジャーナル社編集"},{"$f":"分類順!E379","v":"医薬ジャーナル社"},{"$f":"分類順!F379","v":984},"薬剤識別コード事典　平成２１年改訂版★医療の本D：薬医薬ジャーナル社編集医薬ジャーナル社",1,{"$f":"VLOOKUP(\"*\"&目次加工!$B$2&\"*\",J380:K380,2,0)","v":1},{"$error":"#N/A"}]
[null,null,null,{"$f":"分類順!A380","v":"2010　今日の治療薬"},{"$f":"分類順!B380","v":"医療の本"},{"$f":"分類順!C380","v":"D：薬"},{"$f":"分類順!D380","v":"水島　裕　編集"},{"$f":"分類順!E380","v":"南江堂"},{"$f":"分類順!F380","v":993},"2010　今日の治療薬医療の本D：薬水島　裕　編集南江堂",1,{"$f":"VLOOKUP(\"*\"&目次加工!$B$2&\"*\",J381:K381,2,0)","v":1},1]
[null,null,null,{"$f":"分類順!A381","v":"2010　医者からもらった薬がわかる本"},{"$f":"分類順!B381","v":"医療の本"},{"$f":"分類順!C381","v":"D：薬"},{"$f":"分類順!D381","v":"木村　繁　著"},{"$f":"分類順!E381","v":"法研"},{"$f":"分類順!F381","v":994},"2010　医者からもらった薬がわかる本医療の本D：薬木村　繁　著法研",1,{"$f":"VLOOKUP(\"*\"&目次加工!$B$2&\"*\",J382:K382,2,0)","v":1},1]
[null,null,null,{"$f":"分類順!A382","v":"2009　最近の新薬"},{"$f":"分類順!B382","v":"医療の本"},{"$f":"分類順!C382","v":"D：薬"},{"$f":"分類順!D382","v":0},{"$f":"分類順!E382","v":"薬事日報社"},{"$f":"分類順!F382","v":995},"2009　最近の新薬医療の本D：薬0薬事日報社",1,{"$f":"VLOOKUP(\"*\"&目次加工!$B$2&\"*\",J383:K383,2,0)","v":1},1]
[null,null,null,{"$f":"分類順!A383","v":"2010　くすりの事典"},{"$f":"分類順!B383","v":"医療の本"},{"$f":"分類順!C383","v":"D：薬"},{"$f":"分類順!D383","v":"小林　輝明　監修"},{"$f":"分類順!E383","v":"成美堂出版"},{"$f":"分類順!F383","v":996},"2010　くすりの事典医療の本D：薬小林　輝明　監修成美堂出版",1,{"$f":"VLOOKUP(\"*\"&目次加工!$B$2&\"*\",J384:K384,2,0)","v":1},1]
[null,null,null,{"$f":"分類順!A384","v":"2010　医療用医薬品集　ＣＤ－ＲＯＭ付"},{"$f":"分類順!B384","v":"医療の本"},{"$f":"分類順!C384","v":"D：薬"},{"$f":"分類順!D384","v":0},{"$f":"分類順!E384","v":"日本医薬情報センター"},{"$f":"分類順!F384","v":997},"2010　医療用医薬品集　ＣＤ－ＲＯＭ付医療の本D：薬0日本医薬情報センター",1,{"$f":"VLOOKUP(\"*\"&目次加工!$B$2&\"*\",J385:K385,2,0)","v":1},1]
[null,null,null,{"$f":"分類順!A385","v":"２０１０－1１　日本医薬品集　一般薬"},{"$f":"分類順!B385","v":"医療の本"},{"$f":"分類順!C385","v":"D：薬"},{"$f":"分類順!D385","v":"日本医薬品集フォーラ"},{"$f":"分類順!E385","v":"じほう"},{"$f":"分類順!F385","v":998},"２０１０－1１　日本医薬品集　一般薬医療の本D：薬日本医薬品集フォーラじほう",1,{"$f":"VLOOKUP(\"*\"&目次加工!$B$2&\"*\",J386:K386,2,0)","v":1},{"$error":"#N/A"}]
[null,null,null,{"$f":"分類順!A386","v":"疾患と今日の処方　第５版"},{"$f":"分類順!B386","v":"医療の本"},{"$f":"分類順!C386","v":"D：薬"},{"$f":"分類順!D386","v":"福田　保　監修"},{"$f":"分類順!E386","v":"医歯薬出版"},{"$f":"分類順!F386","v":999},"疾患と今日の処方　第５版医療の本D：薬福田　保　監修医歯薬出版",1,{"$f":"VLOOKUP(\"*\"&目次加工!$B$2&\"*\",J387:K387,2,0)","v":1},{"$error":"#N/A"}]
[null,null,null,{"$f":"分類順!A387","v":"正しいステロイド剤の使い方　１　内用剤編　改訂版"},{"$f":"分類順!B387","v":"医療の本"},{"$f":"分類順!C387","v":"D：薬"},{"$f":"分類順!D387","v":"宮坂　信之　編"},{"$f":"分類順!E387","v":"医薬ジャーナル社"},{"$f":"分類順!F387","v":1000},"正しいステロイド剤の使い方　１　内用剤編　改訂版医療の本D：薬宮坂　信之　編医薬ジャーナル社",1,{"$f":"VLOOKUP(\"*\"&目次加工!$B$2&\"*\",J388:K388,2,0)","v":1},{"$f":"VLOOKUP(\"*\"&$A$2&\"*\",J388:K388,2,0)","v":{"$error":"#N/A"}}]
[null,null,null,{"$f":"分類順!A388","v":"今日の治療薬　２０１２"},{"$f":"分類順!B388","v":"医療の本"},{"$f":"分類順!C388","v":"D：薬"},{"$f":"分類順!D388","v":"浦部晶夫/島田和幸/川合眞一編集"},{"$f":"分類順!E388","v":"南江堂"},{"$f":"分類順!F388","v":5334},"今日の治療薬　２０１２医療の本D：薬浦部晶夫/島田和幸/川合眞一編集南江堂",1,{"$f":"VLOOKUP(\"*\"&目次加工!$B$2&\"*\",J389:K389,2,0)","v":1},{"$error":"#N/A"}]
[null,null,null,{"$f":"分類順!A389","v":"薬の事典 ピルブック〈2012年版〉"},{"$f":"分類順!B389","v":"医療の本"},{"$f":"分類順!C389","v":"D：薬"},{"$f":"分類順!D389","v":"橘　敏也　著"},{"$f":"分類順!E389","v":"ソシム"},{"$f":"分類順!F389","v":5335},"薬の事典 ピルブック〈2012年版〉医療の本D：薬橘　敏也　著ソシム",1,{"$f":"VLOOKUP(\"*\"&目次加工!$B$2&\"*\",J390:K390,2,0)","v":1},1]
[null,null,null,{"$f":"分類順!A390","v":"くすりの事典―病院からもらった薬がよくわかる〈2012年版〉"},{"$f":"分類順!B390","v":"医療の本"},{"$f":"分類順!C390","v":"D：薬"},{"$f":"分類順!D390","v":"小林　輝明　監修"},{"$f":"分類順!E390","v":"成美堂出版"},{"$f":"分類順!F390","v":5336},"くすりの事典―病院からもらった薬がよくわかる〈2012年版〉医療の本D：薬小林　輝明　監修成美堂出版",1,{"$f":"VLOOKUP(\"*\"&目次加工!$B$2&\"*\",J391:K391,2,0)","v":1},1]
[null,null,null,{"$f":"分類順!A391","v":"今日のジェネリック医薬品 〈2011‐2012〉"},{"$f":"分類順!B391","v":"医療の本"},{"$f":"分類順!C391","v":"D：薬"},{"$f":"分類順!D391","v":"増原慶壮/北村正樹編集"},{"$f":"分類順!E391","v":"南江堂"},{"$f":"分類順!F391","v":5352},"今日のジェネリック医薬品 〈2011‐2012〉医療の本D：薬増原慶壮/北村正樹編集南江堂",1,{"$f":"VLOOKUP(\"*\"&目次加工!$B$2&\"*\",J392:K392,2,0)","v":1},1]
[null,null,null,{"$f":"分類順!A392","v":"ミッフィーの早引き薬の使い方ハンドブック"},{"$f":"分類順!B392","v":"医療の本"},{"$f":"分類順!C392","v":"D：薬"},{"$f":"分類順!D392","v":"根橋一夫　著"},{"$f":"分類順!E392","v":"エクスナレッジ"},{"$f":"分類順!F392","v":5353},"ミッフィーの早引き薬の使い方ハンドブック医療の本D：薬根橋一夫　著エクスナレッジ",1,{"$f":"VLOOKUP(\"*\"&目次加工!$B$2&\"*\",J393:K393,2,0)","v":1},{"$error":"#N/A"}]
[null,null,null,{"$f":"分類順!A393","v":"日本医薬品集　医療薬　2010"},{"$f":"分類順!B393","v":"医療の本"},{"$f":"分類順!C393","v":"D：薬"},{"$f":"分類順!D393","v":0},{"$f":"分類順!E393","v":"じほう"},{"$f":"分類順!F393","v":8007},"日本医薬品集　医療薬　2010医療の本D：薬0じほう",1,{"$f":"VLOOKUP(\"*\"&目次加工!$B$2&\"*\",J394:K394,2,0)","v":1},1]
[null,null,null,{"$f":"分類順!A394","v":"今日のジェネリック医薬品　20122013"},{"$f":"分類順!B394","v":"医療の本"},{"$f":"分類順!C394","v":"D：薬"},{"$f":"分類順!D394","v":"増原慶壮"},{"$f":"分類順!E394","v":"南山堂"},{"$f":"分類順!F394","v":10007},"今日のジェネリック医薬品　20122013医療の本D：薬増原慶壮南山堂",1,{"$f":"VLOOKUP(\"*\"&目次加工!$B$2&\"*\",J395:K395,2,0)","v":1},1]
[null,null,null,{"$f":"分類順!A395","v":"医者からもらった薬がわかる本"},{"$f":"分類順!B395","v":"医療の本"},{"$f":"分類順!C395","v":"D：薬"},{"$f":"分類順!D395","v":"医薬制度研究会"},{"$f":"分類順!E395","v":"法研"},{"$f":"分類順!F395","v":10008},"医者からもらった薬がわかる本医療の本D：薬医薬制度研究会法研",1,{"$f":"VLOOKUP(\"*\"&目次加工!$B$2&\"*\",J396:K396,2,0)","v":1},{"$error":"#N/A"}]
[null,null,null,{"$f":"分類順!A396","v":"今日の治療薬　２０１３"},{"$f":"分類順!B396","v":"医療の本"},{"$f":"分類順!C396","v":"D：薬"},{"$f":"分類順!D396","v":"浦部晶夫"},{"$f":"分類順!E396","v":"南江堂"},{"$f":"分類順!F396","v":10009},"今日の治療薬　２０１３医療の本D：薬浦部晶夫南江堂",1,{"$f":"VLOOKUP(\"*\"&目次加工!$B$2&\"*\",J397:K397,2,0)","v":1},{"$error":"#N/A"}]
[null,null,null,{"$f":"分類順!A397","v":"薬の事典　ピルブック　２０１３年版"},{"$f":"分類順!B397","v":"医療の本"},{"$f":"分類順!C397","v":"D：薬"},{"$f":"分類順!D397","v":"橘敏也"},{"$f":"分類順!E397","v":"じほう"},{"$f":"分類順!F397","v":10010},"薬の事典　ピルブック　２０１３年版医療の本D：薬橘敏也じほう",1,{"$f":"VLOOKUP(\"*\"&目次加工!$B$2&\"*\",J398:K398,2,0)","v":1},{"$error":"#N/A"}]
[null,null,null,{"$f":"分類順!A398","v":"病院からもらった薬がよくわかる　薬の事典　２０１３年版"},{"$f":"分類順!B398","v":"医療の本"},{"$f":"分類順!C398","v":"D：薬"},{"$f":"分類順!D398","v":"小林輝明"},{"$f":"分類順!E398","v":"成美堂出版"},{"$f":"分類順!F398","v":10011},"病院からもらった薬がよくわかる　薬の事典　２０１３年版医療の本D：薬小林輝明成美堂出版",1,{"$f":"VLOOKUP(\"*\"&目次加工!$B$2&\"*\",J399:K399,2,0)","v":1},{"$error":"#N/A"}]
[null,null,null,{"$f":"分類順!A399","v":"薬の事典 ピルブック 2014年度"},{"$f":"分類順!B399","v":"医療の本"},{"$f":"分類順!C399","v":"D：薬"},{"$f":"分類順!D399","v":"橘　敏也"},{"$f":"分類順!E399","v":"ソシム"},{"$f":"分類順!F399","v":10149},"薬の事典 ピルブック 2014年度医療の本D：薬橘　敏也ソシム",1,{"$f":"VLOOKUP(\"*\"&目次加工!$B$2&\"*\",J400:K400,2,0)","v":1},1]
[null,null,null,{"$f":"分類順!A400","v":"今日の治療薬 2014 解説と便覧"},{"$f":"分類順!B400","v":"医療の本"},{"$f":"分類順!C400","v":"D：薬"},{"$f":"分類順!D400","v":"浦部 晶夫"},{"$f":"分類順!E400","v":"南江堂"},{"$f":"分類順!F400","v":10150},"今日の治療薬 2014 解説と便覧医療の本D：薬浦部 晶夫南江堂",1,{"$f":"VLOOKUP(\"*\"&目次加工!$B$2&\"*\",J401:K401,2,0)","v":1},1]
[null,null,null,{"$f":"分類順!A401","v":"医者からもらった薬がわかる本 第29版"},{"$f":"分類順!B401","v":"医療の本"},{"$f":"分類順!C401","v":"D：薬"},{"$f":"分類順!D401","v":"医薬制度研究会"},{"$f":"分類順!E401","v":"法研"},{"$f":"分類順!F401","v":10151},"医者からもらった薬がわかる本 第29版医療の本D：薬医薬制度研究会法研",1,{"$f":"VLOOKUP(\"*\"&目次加工!$B$2&\"*\",J402:K402,2,0)","v":1},{"$error":"#N/A"}]
[null,null,null,{"$f":"分類順!A402","v":"くすりの事典 2015年版―病院からもらった薬がよくわかる"},{"$f":"分類順!B402","v":"医療の本"},{"$f":"分類順!C402","v":"D：薬"},{"$f":"分類順!D402","v":"小林　輝明"},{"$f":"分類順!E402","v":"成美堂出版"},{"$f":"分類順!F402","v":10152},{"$f":"D403&E403&F403&G403&H403","v":"くすりの事典 2015年版―病院からもらった薬がよくわかる医療の本D：薬小林　輝明成美堂出版"},1,{"$f":"VLOOKUP(\"*\"&目次加工!$B$2&\"*\",J403:K403,2,0)","v":1},1]
[null,null,null,{"$f":"分類順!A403","v":"今日のジェネリック医薬品　２０１４－２０１５"},{"$f":"分類順!B403","v":"医療の本"},{"$f":"分類順!C403","v":"D：薬"},{"$f":"分類順!D403","v":"増原慶壮/北村正樹"},{"$f":"分類順!E403","v":"南江堂"},{"$f":"分類順!F403","v":10153},"今日のジェネリック医薬品　２０１４－２０１５医療の本D：薬増原慶壮/北村正樹南江堂",1,{"$f":"VLOOKUP(\"*\"&目次加工!$B$2&\"*\",J404:K404,2,0)","v":1},{"$error":"#N/A"}]
[null,null,null,{"$f":"分類順!A404","v":"薬がみえる　vol.1"},{"$f":"分類順!B404","v":"医療の本"},{"$f":"分類順!C404","v":"D：薬"},{"$f":"分類順!D404","v":"医療情報科学研究所"},{"$f":"分類順!E404","v":"メディックメディア"},{"$f":"分類順!F404","v":10278},"薬がみえる　vol.1医療の本D：薬医療情報科学研究所メディックメディア",1,{"$f":"VLOOKUP(\"*\"&目次加工!$B$2&\"*\",J405:K405,2,0)","v":1},{"$error":"#N/A"}]
[null,null,null,{"$f":"分類順!A405","v":"メディクイックブック（2015年版　第1部）　患者さんによくわかる薬の説明"},{"$f":"分類順!B405","v":"医療の本"},{"$f":"分類順!C405","v":"D：薬"},{"$f":"分類順!D405","v":"鈴木康夫（リウマチ内科学）"},{"$f":"分類順!E405","v":"金原出版"},{"$f":"分類順!F405","v":10279},"メディクイックブック（2015年版　第1部）　患者さんによくわかる薬の説明医療の本D：薬鈴木康夫（リウマチ内科学）金原出版",1,{"$f":"VLOOKUP(\"*\"&目次加工!$B$2&\"*\",J406:K406,2,0)","v":1},1]
[null,null,null,{"$f":"分類順!A406","v":"今日の治療薬2017"},{"$f":"分類順!B406","v":"医療の本"},{"$f":"分類順!C406","v":"D：薬"},{"$f":"分類順!D406","v":"浦部晶夫"},{"$f":"分類順!E406","v":"南江堂"},{"$f":"分類順!F406","v":10478},"今日の治療薬2017医療の本D：薬浦部晶夫南江堂",1,{"$f":"VLOOKUP(\"*\"&目次加工!$B$2&\"*\",J407:K407,2,0)","v":1},1]
[null,null,null,{"$f":"分類順!A407","v":"病院からもらった薬がよくわかるくすりの事典2018"},{"$f":"分類順!B407","v":"医療の本"},{"$f":"分類順!C407","v":"D：薬"},{"$f":"分類順!D407","v":"片山志郎"},{"$f":"分類順!E407","v":"成美堂出版"},{"$f":"分類順!F407","v":10479},"病院からもらった薬がよくわかるくすりの事典2018医療の本D：薬片山志郎成美堂出版",1,{"$f":"VLOOKUP(\"*\"&目次加工!$B$2&\"*\",J408:K408,2,0)","v":1},1]
[null,null,null,{"$f":"分類順!A408","v":"薬剤識別コード事典　平成29年改訂版"},{"$f":"分類順!B408","v":"医療の本"},{"$f":"分類順!C408","v":"D：薬"},{"$f":"分類順!D408","v":"医薬ジャーナル社編集部"},{"$f":"分類順!E408","v":"医薬ジャーナル社"},{"$f":"分類順!F408","v":10480},"薬剤識別コード事典　平成29年改訂版医療の本D：薬医薬ジャーナル社編集部医薬ジャーナル社",1,{"$f":"VLOOKUP(\"*\"&目次加工!$B$2&\"*\",J409:K409,2,0)","v":1},{"$error":"#N/A"}]
[null,null,null,{"$f":"分類順!A409","v":"日本医薬品集　医療薬　2018"},{"$f":"分類順!B409","v":"医療の本"},{"$f":"分類順!C409","v":"D：薬"},{"$f":"分類順!D409","v":"日本医薬品集フォーラム"},{"$f":"分類順!E409","v":"じほう"},{"$f":"分類順!F409","v":10481},"日本医薬品集　医療薬　2018医療の本D：薬日本医薬品集フォーラムじほう",1,{"$f":"VLOOKUP(\"*\"&目次加工!$B$2&\"*\",J410:K410,2,0)","v":1},1]
[null,null,null,{"$f":"分類順!A410","v":"医者からもらった薬がわかる本　第30版"},{"$f":"分類順!B410","v":"医療の本"},{"$f":"分類順!C410","v":"D：薬"},{"$f":"分類順!D410","v":0},{"$f":"分類順!E410","v":"法研"},{"$f":"分類順!F410","v":10500},"医者からもらった薬がわかる本　第30版医療の本D：薬0法研",1,{"$f":"VLOOKUP(\"*\"&目次加工!$B$2&\"*\",J411:K411,2,0)","v":1},1]
[null,null,null,{"$f":"分類順!A411","v":"薬がみえるvol.1"},{"$f":"分類順!B411","v":"医療の本"},{"$f":"分類順!C411","v":"D：薬"},{"$f":"分類順!D411","v":"医療情報科学研究所"},{"$f":"分類順!E411","v":"メディックメディア"},{"$f":"分類順!F411","v":10543},"薬がみえるvol.1医療の本D：薬医療情報科学研究所メディックメディア",1,{"$f":"VLOOKUP(\"*\"&目次加工!$B$2&\"*\",J412:K412,2,0)","v":1},{"$error":"#N/A"}]
[null,null,null,{"$f":"分類順!A412","v":"薬がみえるvol.2"},{"$f":"分類順!B412","v":"医療の本"},{"$f":"分類順!C412","v":"D：薬"},{"$f":"分類順!D412","v":"医療情報科学研究所"},{"$f":"分類順!E412","v":"メディックメディア"},{"$f":"分類順!F412","v":10544},"薬がみえるvol.2医療の本D：薬医療情報科学研究所メディックメディア",1,{"$f":"VLOOKUP(\"*\"&目次加工!$B$2&\"*\",J413:K413,2,0)","v":1},{"$error":"#N/A"}]
[null,null,null,{"$f":"分類順!A413","v":"薬がみえるvol.3"},{"$f":"分類順!B413","v":"医療の本"},{"$f":"分類順!C413","v":"D：薬"},{"$f":"分類順!D413","v":"医療情報科学研究所"},{"$f":"分類順!E413","v":"メディックメディア"},{"$f":"分類順!F413","v":10545},"薬がみえるvol.3医療の本D：薬医療情報科学研究所メディックメディア",1,{"$f":"VLOOKUP(\"*\"&目次加工!$B$2&\"*\",J414:K414,2,0)","v":1},{"$error":"#N/A"}]
[null,null,null,{"$f":"分類順!A414","v":"トレーニング"},{"$f":"分類順!B414","v":"目次へ"},{"$f":"分類順!C414","v":"※PDF版ではリンクしておりません。"},{"$f":"分類順!D414","v":0},{"$f":"分類順!E414","v":0},{"$f":"分類順!F414","v":0},"トレーニング目次へ※PDF版ではリンクしておりません。00",1,{"$f":"VLOOKUP(\"*\"&目次加工!$B$2&\"*\",J415:K415,2,0)","v":1},1]
[null,null,null,{"$f":"分類順!A415","v":"リハビリ療法"},{"$f":"分類順!B415","v":"目次へ"},{"$f":"分類順!C415","v":"※PDF版ではリンクしておりません。"},{"$f":"分類順!D415","v":0},{"$f":"分類順!E415","v":0},{"$f":"分類順!F415","v":0},"リハビリ療法目次へ※PDF版ではリンクしておりません。00",1,{"$f":"VLOOKUP(\"*\"&目次加工!$B$2&\"*\",J416:K416,2,0)","v":1},1]
[null,null,null,{"$f":"分類順!A416","v":"脳卒中とリハビリテーション"},{"$f":"分類順!B416","v":"医療の本"},{"$f":"分類順!C416","v":"Ee：リハビリ療法"},{"$f":"分類順!D416","v":"本多　虔夫;星野　晴彦"},{"$f":"分類順!E416","v":"保健同人社"},{"$f":"分類順!F416","v":219},"脳卒中とリハビリテーション医療の本Ee：リハビリ療法本多　虔夫;星野　晴彦保健同人社",1,{"$f":"VLOOKUP(\"*\"&目次加工!$B$2&\"*\",J417:K417,2,0)","v":1},{"$error":"#N/A"}]
[null,null,null,{"$f":"分類順!A417","v":"高齢者のリハビリＱ＆Ａ(新版)"},{"$f":"分類順!B417","v":"医療の本"},{"$f":"分類順!C417","v":"Ee：リハビリ療法"},{"$f":"分類順!D417","v":"岡本 五十雄著"},{"$f":"分類順!E417","v":"講談社"},{"$f":"分類順!F417","v":229},"高齢者のリハビリＱ＆Ａ(新版)医療の本Ee：リハビリ療法岡本 五十雄著講談社",1,{"$f":"VLOOKUP(\"*\"&目次加工!$B$2&\"*\",J418:K418,2,0)","v":1},{"$error":"#N/A"}]
[null,null,null,{"$f":"分類順!A418","v":"家庭でできるリハビリテーション"},{"$f":"分類順!B418","v":"医療の本"},{"$f":"分類順!C418","v":"Ee：リハビリ療法"},{"$f":"分類順!D418","v":"隆島　研吾　著"},{"$f":"分類順!E418","v":"法研"},{"$f":"分類順!F418","v":230},"家庭でできるリハビリテーション医療の本Ee：リハビリ療法隆島　研吾　著法研",1,{"$f":"VLOOKUP(\"*\"&目次加工!$B$2&\"*\",J419:K419,2,0)","v":1},{"$error":"#N/A"}]
[null,null,null,{"$f":"分類順!A419","v":"日常生活指導のためのリハビリ・テクニック"},{"$f":"分類順!B419","v":"医療の本"},{"$f":"分類順!C419","v":"Ee：リハビリ療法"},{"$f":"分類順!D419","v":"林　ヤス史"},{"$f":"分類順!E419","v":"文光堂"},{"$f":"分類順!F419","v":231},"日常生活指導のためのリハビリ・テクニック医療の本Ee：リハビリ療法林　ヤス史文光堂",1,{"$f":"VLOOKUP(\"*\"&目次加工!$B$2&\"*\",J420:K420,2,0)","v":1},{"$error":"#N/A"}]
[null,null,null,{"$f":"分類順!A420","v":"リハビリテーションのための脳・神経科学入"},{"$f":"分類順!B420","v":"医療の本"},{"$f":"分類順!C420","v":"Ee：リハビリ療法"},{"$f":"分類順!D420","v":"森岡　周　著"},{"$f":"分類順!E420","v":"協同医書出版社"},{"$f":"分類順!F420","v":599},"リハビリテーションのための脳・神経科学入医療の本Ee：リハビリ療法森岡　周　著協同医書出版社",1,{"$f":"VLOOKUP(\"*\"&目次加工!$B$2&\"*\",J421:K421,2,0)","v":1},{"$error":"#N/A"}]
[null,null,null,{"$f":"分類順!A421","v":"理学療法ハンドブック　改訂第３版　全３巻 第2巻"},{"$f":"分類順!B421","v":"医療の本"},{"$f":"分類順!C421","v":"Ee：リハビリ療法"},{"$f":"分類順!D421","v":"細田　多穂　他編"},{"$f":"分類順!E421","v":"協同医書出版社"},{"$f":"分類順!F421","v":981},"理学療法ハンドブック　改訂第３版　全３巻 第2巻医療の本Ee：リハビリ療法細田　多穂　他編協同医書出版社",1,{"$f":"VLOOKUP(\"*\"&目次加工!$B$2&\"*\",J422:K422,2,0)","v":1},{"$error":"#N/A"}]
[null,null,null,{"$f":"分類順!A422","v":"理学療法ハンドブック　改訂第３版　全３巻 第3巻"},{"$f":"分類順!B422","v":"医療の本"},{"$f":"分類順!C422","v":"Ee：リハビリ療法"},{"$f":"分類順!D422","v":"細田　多穂　他編"},{"$f":"分類順!E422","v":"協同医書出版社"},{"$f":"分類順!F422","v":982},"理学療法ハンドブック　改訂第３版　全３巻 第3巻医療の本Ee：リハビリ療法細田　多穂　他編協同医書出版社",1,{"$f":"VLOOKUP(\"*\"&目次加工!$B$2&\"*\",J423:K423,2,0)","v":1},{"$error":"#N/A"}]
[null,null,null,{"$f":"分類順!A423","v":"理学療法ハンドブック　改訂第３版　全３巻 第1巻"},{"$f":"分類順!B423","v":"医療の本"},{"$f":"分類順!C423","v":"Ee：リハビリ療法"},{"$f":"分類順!D423","v":"細田　多穂　他編"},{"$f":"分類順!E423","v":"協同医書出版社"},{"$f":"分類順!F423","v":1001},"理学療法ハンドブック　改訂第３版　全３巻 第1巻医療の本Ee：リハビリ療法細田　多穂　他編協同医書出版社",1,{"$f":"VLOOKUP(\"*\"&目次加工!$B$2&\"*\",J424:K424,2,0)","v":1},{"$error":"#N/A"}]
[null,null,null,{"$f":"分類順!A424","v":"リハビリテーション医学白書"},{"$f":"分類順!B424","v":"医療の本"},{"$f":"分類順!C424","v":"Ee：リハビリ療法"},{"$f":"分類順!D424","v":"日本リハビリテーション医学会"},{"$f":"分類順!E424","v":"リハビリテーション医学白書委員会"},{"$f":"分類順!F424","v":10053},"リハビリテーション医学白書医療の本Ee：リハビリ療法日本リハビリテーション医学会リハビリテーション医学白書委員会",1,{"$f":"VLOOKUP(\"*\"&目次加工!$B$2&\"*\",J425:K425,2,0)","v":1},{"$error":"#N/A"}]
[null,null,null,{"$f":"分類順!A425","v":"リハビリテーションビジュアルブック"},{"$f":"分類順!B425","v":"医療の本"},{"$f":"分類順!C425","v":"Ee：リハビリ療法"},{"$f":"分類順!D425","v":"稲川利光, 落合慈之"},{"$f":"分類順!E425","v":"学研メディカル秀潤社"},{"$f":"分類順!F425","v":10266},"リハビリテーションビジュアルブック医療の本Ee：リハビリ療法稲川利光, 落合慈之学研メディカル秀潤社",1,{"$f":"VLOOKUP(\"*\"&目次加工!$B$2&\"*\",J426:K426,2,0)","v":1},{"$error":"#N/A"}]
[null,null,null,{"$f":"分類順!A426","v":"嚥下障害"},{"$f":"分類順!B426","v":"目次へ"},{"$f":"分類順!C426","v":"※PDF版ではリンクしておりません。"},{"$f":"分類順!D426","v":0},{"$f":"分類順!E426","v":0},{"$f":"分類順!F426","v":0},"嚥下障害目次へ※PDF版ではリンクしておりません。00",1,{"$f":"VLOOKUP(\"*\"&目次加工!$B$2&\"*\",J427:K427,2,0)","v":1},1]
[null,null,null,{"$f":"分類順!A427","v":"口から食べる　嚥下障害Ｑ＆Ａ　第３版"},{"$f":"分類順!B427","v":"医療の本"},{"$f":"分類順!C427","v":"Ee5：嚥下障害"},{"$f":"分類順!D427","v":"藤島　一郎"},{"$f":"分類順!E427","v":"中央法規出版"},{"$f":"分類順!F427","v":233},"口から食べる　嚥下障害Ｑ＆Ａ　第３版医療の本Ee5：嚥下障害藤島　一郎中央法規出版",1,{"$f":"VLOOKUP(\"*\"&目次加工!$B$2&\"*\",J428:K428,2,0)","v":1},{"$error":"#N/A"}]
[null,null,null,{"$f":"分類順!A428","v":"誤嚥を防ぐケアとリハビリテーション"},{"$f":"分類順!B428","v":"医療の本"},{"$f":"分類順!C428","v":"Ee5：嚥下障害"},{"$f":"分類順!D428","v":"藤谷　順子　他編著"},{"$f":"分類順!E428","v":"日本看護協会出版会"},{"$f":"分類順!F428","v":234},"誤嚥を防ぐケアとリハビリテーション医療の本Ee5：嚥下障害藤谷　順子　他編著日本看護協会出版会",1,{"$f":"VLOOKUP(\"*\"&目次加工!$B$2&\"*\",J429:K429,2,0)","v":1},{"$error":"#N/A"}]
[null,null,null,{"$f":"分類順!A429","v":"嚥下障害食のつくりかた　改訂新版"},{"$f":"分類順!B429","v":"医療の本"},{"$f":"分類順!C429","v":"Ee5：嚥下障害"},{"$f":"分類順!D429","v":"藤谷　順子　他"},{"$f":"分類順!E429","v":"日本医療企画"},{"$f":"分類順!F429","v":235},"嚥下障害食のつくりかた　改訂新版医療の本Ee5：嚥下障害藤谷　順子　他日本医療企画",1,{"$f":"VLOOKUP(\"*\"&目次加工!$B$2&\"*\",J430:K430,2,0)","v":1},{"$error":"#N/A"}]
[null,null,null,{"$f":"分類順!A430","v":"かむ・飲み込むが難しい人の食事"},{"$f":"分類順!B430","v":"医療の本"},{"$f":"分類順!C430","v":"Ee5：嚥下障害"},{"$f":"分類順!D430","v":"藤谷順子"},{"$f":"分類順!E430","v":"講談社"},{"$f":"分類順!F430","v":5538},"かむ・飲み込むが難しい人の食事医療の本Ee5：嚥下障害藤谷順子講談社",1,{"$f":"VLOOKUP(\"*\"&目次加工!$B$2&\"*\",J431:K431,2,0)","v":1},{"$error":"#N/A"}]
[null,null,null,{"$f":"分類順!A431","v":"禁煙"},{"$f":"分類順!B431","v":"目次へ"},{"$f":"分類順!C431","v":"※PDF版ではリンクしておりません。"},{"$f":"分類順!D431","v":0},{"$f":"分類順!E431","v":0},{"$f":"分類順!F431","v":0},"禁煙目次へ※PDF版ではリンクしておりません。00",1,{"$f":"VLOOKUP(\"*\"&目次加工!$B$2&\"*\",J432:K432,2,0)","v":1},1]
[null,null,null,{"$f":"分類順!A432","v":"やさしい禁煙の方法と自己管理"},{"$f":"分類順!B432","v":"医療の本"},{"$f":"分類順!C432","v":"Ei：禁煙"},{"$f":"分類順!D432","v":"北村　諭"},{"$f":"分類順!E432","v":"医薬ジャーナル社"},{"$f":"分類順!F432","v":237},"やさしい禁煙の方法と自己管理医療の本Ei：禁煙北村　諭医薬ジャーナル社",1,{"$f":"VLOOKUP(\"*\"&目次加工!$B$2&\"*\",J433:K433,2,0)","v":1},{"$error":"#N/A"}]
[null,null,null,{"$f":"分類順!A433","v":"禁煙セラピー　らくらく成功日誌３６５"},{"$f":"分類順!B433","v":"医療の本"},{"$f":"分類順!C433","v":"Ei：禁煙"},{"$f":"分類順!D433","v":"Ａ．カー　著"},{"$f":"分類順!E433","v":"ロングセラーズ"},{"$f":"分類順!F433","v":238},"禁煙セラピー　らくらく成功日誌３６５医療の本Ei：禁煙Ａ．カー　著ロングセラーズ",1,{"$f":"VLOOKUP(\"*\"&目次加工!$B$2&\"*\",J434:K434,2,0)","v":1},{"$error":"#N/A"}]
[null,null,null,{"$f":"分類順!A434","v":"体と病気"},{"$f":"分類順!B434","v":"目次へ"},{"$f":"分類順!C434","v":"※PDF版ではリンクしておりません。"},{"$f":"分類順!D434","v":0},{"$f":"分類順!E434","v":0},{"$f":"分類順!F434","v":0},"体と病気目次へ※PDF版ではリンクしておりません。00",1,{"$f":"VLOOKUP(\"*\"&目次加工!$B$2&\"*\",J435:K435,2,0)","v":1},1]
[null,null,null,{"$f":"分類順!A435","v":"健康の基本"},{"$f":"分類順!B435","v":"医療の本"},{"$f":"分類順!C435","v":"F：体と病気"},{"$f":"分類順!D435","v":"鳴海周平"},{"$f":"分類順!E435","v":"ワニ・プラス"},{"$f":"分類順!F435","v":10067},"健康の基本医療の本F：体と病気鳴海周平ワニ・プラス",1,{"$f":"VLOOKUP(\"*\"&目次加工!$B$2&\"*\",J436:K436,2,0)","v":1},{"$error":"#N/A"}]
[null,null,null,{"$f":"分類順!A436","v":"一般医学"},{"$f":"分類順!B436","v":"目次へ"},{"$f":"分類順!C436","v":"※PDF版ではリンクしておりません。"},{"$f":"分類順!D436","v":0},{"$f":"分類順!E436","v":0},{"$f":"分類順!F436","v":0},"一般医学目次へ※PDF版ではリンクしておりません。00",1,{"$f":"VLOOKUP(\"*\"&目次加工!$B$2&\"*\",J437:K437,2,0)","v":1},1]
[null,null,null,{"$f":"分類順!A437","v":"Disease 人類を襲った30の病魔"},{"$f":"分類順!B437","v":"医療の本"},{"$f":"分類順!C437","v":"Fa：一般医学"},{"$f":"分類順!D437","v":"小林力"},{"$f":"分類順!E437","v":"医学書院"},{"$f":"分類順!F437","v":10068},"Disease 人類を襲った30の病魔医療の本Fa：一般医学小林力医学書院",1,{"$f":"VLOOKUP(\"*\"&目次加工!$B$2&\"*\",J438:K438,2,0)","v":1},1]
[null,null,null,{"$f":"分類順!A438","v":"ドクター夏井の外傷治療「裏」マニュアル"},{"$f":"分類順!B438","v":"医療の本"},{"$f":"分類順!C438","v":"Fa：一般医学"},{"$f":"分類順!D438","v":"夏井睦"},{"$f":"分類順!E438","v":"三輪書店"},{"$f":"分類順!F438","v":10335},"ドクター夏井の外傷治療「裏」マニュアル医療の本Fa：一般医学夏井睦三輪書店",1,{"$f":"VLOOKUP(\"*\"&目次加工!$B$2&\"*\",J439:K439,2,0)","v":1},{"$error":"#N/A"}]
[null,null,null,{"$f":"分類順!A439","v":"よくわかる病理学の基本としくみ"},{"$f":"分類順!B439","v":"医療の本"},{"$f":"分類順!C439","v":"Fa：一般医学"},{"$f":"分類順!D439","v":"田村浩一"},{"$f":"分類順!E439","v":"秀和システム"},{"$f":"分類順!F439","v":10336},"よくわかる病理学の基本としくみ医療の本Fa：一般医学田村浩一秀和システム",1,{"$f":"VLOOKUP(\"*\"&目次加工!$B$2&\"*\",J440:K440,2,0)","v":1},{"$error":"#N/A"}]
[null,null,null,{"$f":"分類順!A440","v":"一般"},{"$f":"分類順!B440","v":"目次へ"},{"$f":"分類順!C440","v":"※PDF版ではリンクしておりません。"},{"$f":"分類順!D440","v":0},{"$f":"分類順!E440","v":0},{"$f":"分類順!F440","v":0},"一般目次へ※PDF版ではリンクしておりません。00",1,{"$f":"VLOOKUP(\"*\"&目次加工!$B$2&\"*\",J441:K441,2,0)","v":1},1]
[null,null,null,{"$f":"分類順!A441","v":"よくわかる最新「病」の基本としくみ"},{"$f":"分類順!B441","v":"医療の本"},{"$f":"分類順!C441","v":"Fa1：一般"},{"$f":"分類順!D441","v":0},{"$f":"分類順!E441","v":"秀和システム"},{"$f":"分類順!F441","v":8052},"よくわかる最新「病」の基本としくみ医療の本Fa1：一般0秀和システム",1,{"$f":"VLOOKUP(\"*\"&目次加工!$B$2&\"*\",J442:K442,2,0)","v":1},1]
[null,null,null,{"$f":"分類順!A442","v":"からだのしくみ全書"},{"$f":"分類順!B442","v":"医療の本"},{"$f":"分類順!C442","v":"Fa1：一般"},{"$f":"分類順!D442","v":"飯野晃啓"},{"$f":"分類順!E442","v":"東陽出版"},{"$f":"分類順!F442","v":10033},"からだのしくみ全書医療の本Fa1：一般飯野晃啓東陽出版",1,{"$f":"VLOOKUP(\"*\"&目次加工!$B$2&\"*\",J443:K443,2,0)","v":1},{"$error":"#N/A"}]
[null,null,null,{"$f":"分類順!A443","v":"からだのしくみ全書"},{"$f":"分類順!B443","v":"医療の本"},{"$f":"分類順!C443","v":"Fa1：一般"},{"$f":"分類順!D443","v":"飯野晃啓"},{"$f":"分類順!E443","v":"東陽出版"},{"$f":"分類順!F443","v":10034},"からだのしくみ全書医療の本Fa1：一般飯野晃啓東陽出版",1,{"$f":"VLOOKUP(\"*\"&目次加工!$B$2&\"*\",J444:K444,2,0)","v":1},{"$error":"#N/A"}]
[null,null,null,{"$f":"分類順!A444","v":"みんな知りたい　遺伝のはなし"},{"$f":"分類順!B444","v":"医療の本"},{"$f":"分類順!C444","v":"Fa1：一般"},{"$f":"分類順!D444","v":"藤田潤"},{"$f":"分類順!E444","v":"京都新聞出版センター"},{"$f":"分類順!F444","v":10093},"みんな知りたい　遺伝のはなし医療の本Fa1：一般藤田潤京都新聞出版センター",1,{"$f":"VLOOKUP(\"*\"&目次加工!$B$2&\"*\",J445:K445,2,0)","v":1},{"$error":"#N/A"}]
[null,null,null,{"$f":"分類順!A445","v":"子どもが育つ魔法の言葉"},{"$f":"分類順!B445","v":"一般図書"},{"$f":"分類順!C445","v":"Fa1：一般"},{"$f":"分類順!D445","v":"ドロシー・ロー・ノルト/レイチャル・ハリス"},{"$f":"分類順!E445","v":"PHP研究所"},{"$f":"分類順!F445","v":10618},"子どもが育つ魔法の言葉一般図書Fa1：一般ドロシー・ロー・ノルト/レイチャル・ハリスPHP研究所",1,{"$f":"VLOOKUP(\"*\"&目次加工!$B$2&\"*\",J446:K446,2,0)","v":1},{"$error":"#N/A"}]
[null,null,null,{"$f":"分類順!A446","v":"星がひとつほしいとの祈り"},{"$f":"分類順!B446","v":"一般図書"},{"$f":"分類順!C446","v":"Fa1：一般"},{"$f":"分類順!D446","v":"原田マハ"},{"$f":"分類順!E446","v":"実業之日本社"},{"$f":"分類順!F446","v":10619},"星がひとつほしいとの祈り一般図書Fa1：一般原田マハ実業之日本社",1,{"$f":"VLOOKUP(\"*\"&目次加工!$B$2&\"*\",J447:K447,2,0)","v":1},{"$error":"#N/A"}]
[null,null,null,{"$f":"分類順!A447","v":"疾風ロンド"},{"$f":"分類順!B447","v":"一般図書"},{"$f":"分類順!C447","v":"Fa1：一般"},{"$f":"分類順!D447","v":"東野圭吾"},{"$f":"分類順!E447","v":"実業之日本社"},{"$f":"分類順!F447","v":10620},"疾風ロンド一般図書Fa1：一般東野圭吾実業之日本社",1,{"$f":"VLOOKUP(\"*\"&目次加工!$B$2&\"*\",J448:K448,2,0)","v":1},{"$error":"#N/A"}]
[null,null,null,{"$f":"分類順!A448","v":"三人屋"},{"$f":"分類順!B448","v":"一般図書"},{"$f":"分類順!C448","v":"Fa1：一般"},{"$f":"分類順!D448","v":"原田ひ香"},{"$f":"分類順!E448","v":"実業之日本社"},{"$f":"分類順!F448","v":10621},"三人屋一般図書Fa1：一般原田ひ香実業之日本社",1,{"$f":"VLOOKUP(\"*\"&目次加工!$B$2&\"*\",J449:K449,2,0)","v":1},{"$error":"#N/A"}]
[null,null,null,{"$f":"分類順!A449","v":"伊藤くんＡｔｏＥ"},{"$f":"分類順!B449","v":"一般図書"},{"$f":"分類順!C449","v":"Fa1：一般"},{"$f":"分類順!D449","v":"柚木麻子"},{"$f":"分類順!E449","v":"幻冬舎"},{"$f":"分類順!F449","v":10622},"伊藤くんＡｔｏＥ一般図書Fa1：一般柚木麻子幻冬舎",1,{"$f":"VLOOKUP(\"*\"&目次加工!$B$2&\"*\",J450:K450,2,0)","v":1},{"$error":"#N/A"}]
[null,null,null,{"$f":"分類順!A450","v":"ストーリー・セラー"},{"$f":"分類順!B450","v":"一般図書"},{"$f":"分類順!C450","v":"Fa1：一般"},{"$f":"分類順!D450","v":"有川浩"},{"$f":"分類順!E450","v":"幻冬舎"},{"$f":"分類順!F450","v":10623},"ストーリー・セラー一般図書Fa1：一般有川浩幻冬舎",1,{"$f":"VLOOKUP(\"*\"&目次加工!$B$2&\"*\",J451:K451,2,0)","v":1},{"$error":"#N/A"}]
[null,null,null,{"$f":"分類順!A451","v":"ぼくは明日、昨日のきみとデートする"},{"$f":"分類順!B451","v":"一般図書"},{"$f":"分類順!C451","v":"Fa1：一般"},{"$f":"分類順!D451","v":"七月隆文"},{"$f":"分類順!E451","v":"宝島社"},{"$f":"分類順!F451","v":10624},"ぼくは明日、昨日のきみとデートする一般図書Fa1：一般七月隆文宝島社",1,{"$f":"VLOOKUP(\"*\"&目次加工!$B$2&\"*\",J452:K452,2,0)","v":1},{"$f":"VLOOKUP(\"*\"&$A$2&\"*\",J452:K452,2,0)","v":{"$error":"#N/A"}}]
[null,null,null,{"$f":"分類順!A452","v":"交錯"},{"$f":"分類順!B452","v":"一般図書"},{"$f":"分類順!C452","v":"Fa1：一般"},{"$f":"分類順!D452","v":"堂場　瞬一"},{"$f":"分類順!E452","v":"角川文庫"},{"$f":"分類順!F452","v":10625},"交錯一般図書Fa1：一般堂場　瞬一角川文庫",1,{"$f":"VLOOKUP(\"*\"&目次加工!$B$2&\"*\",J453:K453,2,0)","v":1},{"$error":"#N/A"}]
[null,null,null,{"$f":"分類順!A453","v":"凍結捜査"},{"$f":"分類順!B453","v":"一般図書"},{"$f":"分類順!C453","v":"Fa1：一般"},{"$f":"分類順!D453","v":"堂場瞬一"},{"$f":"分類順!E453","v":"集英社"},{"$f":"分類順!F453","v":10626},"凍結捜査一般図書Fa1：一般堂場瞬一集英社",1,{"$f":"VLOOKUP(\"*\"&目次加工!$B$2&\"*\",J454:K454,2,0)","v":1},{"$error":"#N/A"}]
[null,null,null,{"$f":"分類順!A454","v":"白夜行"},{"$f":"分類順!B454","v":"一般図書"},{"$f":"分類順!C454","v":"Fa1：一般"},{"$f":"分類順!D454","v":"東野圭吾"},{"$f":"分類順!E454","v":"集英社"},{"$f":"分類順!F454","v":10627},"白夜行一般図書Fa1：一般東野圭吾集英社",1,{"$f":"VLOOKUP(\"*\"&目次加工!$B$2&\"*\",J455:K455,2,0)","v":1},{"$error":"#N/A"}]
[null,null,null,{"$f":"分類順!A455","v":"カラフル"},{"$f":"分類順!B455","v":"一般図書"},{"$f":"分類順!C455","v":"Fa1：一般"},{"$f":"分類順!D455","v":"森絵都"},{"$f":"分類順!E455","v":"文藝春秋"},{"$f":"分類順!F455","v":10628},"カラフル一般図書Fa1：一般森絵都文藝春秋",1,{"$f":"VLOOKUP(\"*\"&目次加工!$B$2&\"*\",J456:K456,2,0)","v":1},{"$error":"#N/A"}]
[null,null,null,{"$f":"分類順!A456","v":"イン・ザ・プール"},{"$f":"分類順!B456","v":"一般図書"},{"$f":"分類順!C456","v":"Fa1：一般"},{"$f":"分類順!D456","v":"奥田英朗"},{"$f":"分類順!E456","v":"文藝春秋"},{"$f":"分類順!F456","v":10629},"イン・ザ・プール一般図書Fa1：一般奥田英朗文藝春秋",1,{"$f":"VLOOKUP(\"*\"&目次加工!$B$2&\"*\",J457:K457,2,0)","v":1},{"$error":"#N/A"}]
[null,null,null,{"$f":"分類順!A457","v":"ままならないから私とあなた"},{"$f":"分類順!B457","v":"一般図書"},{"$f":"分類順!C457","v":"Fa1：一般"},{"$f":"分類順!D457","v":"朝井リョウ"},{"$f":"分類順!E457","v":"文藝春秋"},{"$f":"分類順!F457","v":10630},"ままならないから私とあなた一般図書Fa1：一般朝井リョウ文藝春秋",1,{"$f":"VLOOKUP(\"*\"&目次加工!$B$2&\"*\",J458:K458,2,0)","v":1},{"$error":"#N/A"}]
[null,null,null,{"$f":"分類順!A458","v":"国境の銃弾"},{"$f":"分類順!B458","v":"一般図書"},{"$f":"分類順!C458","v":"Fa1：一般"},{"$f":"分類順!D458","v":"濱　嘉之"},{"$f":"分類順!E458","v":"文藝春秋"},{"$f":"分類順!F458","v":10631},"国境の銃弾一般図書Fa1：一般濱　嘉之文藝春秋",1,{"$f":"VLOOKUP(\"*\"&目次加工!$B$2&\"*\",J459:K459,2,0)","v":1},{"$error":"#N/A"}]
[null,null,null,{"$f":"分類順!A459","v":"地下鉄に乗って"},{"$f":"分類順!B459","v":"一般図書"},{"$f":"分類順!C459","v":"Fa1：一般"},{"$f":"分類順!D459","v":"浅田次郎"},{"$f":"分類順!E459","v":"講談社"},{"$f":"分類順!F459","v":10632},"地下鉄に乗って一般図書Fa1：一般浅田次郎講談社",1,{"$f":"VLOOKUP(\"*\"&目次加工!$B$2&\"*\",J460:K460,2,0)","v":1},{"$error":"#N/A"}]
[null,null,null,{"$f":"分類順!A460","v":"霞町物語"},{"$f":"分類順!B460","v":"一般図書"},{"$f":"分類順!C460","v":"Fa1：一般"},{"$f":"分類順!D460","v":"浅田次郎"},{"$f":"分類順!E460","v":"講談社"},{"$f":"分類順!F460","v":10633},"霞町物語一般図書Fa1：一般浅田次郎講談社",1,{"$f":"VLOOKUP(\"*\"&目次加工!$B$2&\"*\",J461:K461,2,0)","v":1},{"$error":"#N/A"}]
[null,null,null,{"$f":"分類順!A461","v":"僕のメジャースプーン"},{"$f":"分類順!B461","v":"一般図書"},{"$f":"分類順!C461","v":"Fa1：一般"},{"$f":"分類順!D461","v":"辻村深月"},{"$f":"分類順!E461","v":"講談社"},{"$f":"分類順!F461","v":10634},"僕のメジャースプーン一般図書Fa1：一般辻村深月講談社",1,{"$f":"VLOOKUP(\"*\"&目次加工!$B$2&\"*\",J462:K462,2,0)","v":1},{"$error":"#N/A"}]
[null,null,null,{"$f":"分類順!A462","v":"リバース"},{"$f":"分類順!B462","v":"一般図書"},{"$f":"分類順!C462","v":"Fa1：一般"},{"$f":"分類順!D462","v":"湊　かなえ"},{"$f":"分類順!E462","v":"講談社"},{"$f":"分類順!F462","v":10635},"リバース一般図書Fa1：一般湊　かなえ講談社",1,{"$f":"VLOOKUP(\"*\"&目次加工!$B$2&\"*\",J463:K463,2,0)","v":1},{"$error":"#N/A"}]
[null,null,null,{"$f":"分類順!A463","v":"夜のピクニック"},{"$f":"分類順!B463","v":"一般図書"},{"$f":"分類順!C463","v":"Fa1：一般"},{"$f":"分類順!D463","v":"恩田　陸"},{"$f":"分類順!E463","v":"新潮社"},{"$f":"分類順!F463","v":10636},"夜のピクニック一般図書Fa1：一般恩田　陸新潮社",1,{"$f":"VLOOKUP(\"*\"&目次加工!$B$2&\"*\",J464:K464,2,0)","v":1},{"$error":"#N/A"}]
[null,null,null,{"$f":"分類順!A464","v":"5年目の魔女"},{"$f":"分類順!B464","v":"一般図書"},{"$f":"分類順!C464","v":"Fa1：一般"},{"$f":"分類順!D464","v":"乃南アサ"},{"$f":"分類順!E464","v":"新潮社"},{"$f":"分類順!F464","v":10637},"5年目の魔女一般図書Fa1：一般乃南アサ新潮社",1,{"$f":"VLOOKUP(\"*\"&目次加工!$B$2&\"*\",J465:K465,2,0)","v":1},{"$error":"#N/A"}]
[null,null,null,{"$f":"分類順!A465","v":"しゃぼん玉"},{"$f":"分類順!B465","v":"一般図書"},{"$f":"分類順!C465","v":"Fa1：一般"},{"$f":"分類順!D465","v":"乃南アサ"},{"$f":"分類順!E465","v":"新潮社"},{"$f":"分類順!F465","v":10638},"しゃぼん玉一般図書Fa1：一般乃南アサ新潮社",1,{"$f":"VLOOKUP(\"*\"&目次加工!$B$2&\"*\",J466:K466,2,0)","v":1},{"$error":"#N/A"}]
[null,null,null,{"$f":"分類順!A466","v":"豆の上で眠る"},{"$f":"分類順!B466","v":"一般図書"},{"$f":"分類順!C466","v":"Fa1：一般"},{"$f":"分類順!D466","v":"湊　かなえ"},{"$f":"分類順!E466","v":"新潮社"},{"$f":"分類順!F466","v":10639},{"$f":"D467&E467&F467&G467&H467","v":"豆の上で眠る一般図書Fa1：一般湊　かなえ新潮社"},1,{"$f":"VLOOKUP(\"*\"&目次加工!$B$2&\"*\",J467:K467,2,0)","v":1},{"$error":"#N/A"}]
[null,null,null,{"$f":"分類順!A467","v":"レディ・ジョーカー(上)"},{"$f":"分類順!B467","v":"一般図書"},{"$f":"分類順!C467","v":"Fa1：一般"},{"$f":"分類順!D467","v":"髙村薫"},{"$f":"分類順!E467","v":"新潮社"},{"$f":"分類順!F467","v":10640},"レディ・ジョーカー(上)一般図書Fa1：一般髙村薫新潮社",1,{"$f":"VLOOKUP(\"*\"&目次加工!$B$2&\"*\",J468:K468,2,0)","v":1},{"$error":"#N/A"}]
[null,null,null,{"$f":"分類順!A468","v":"レディ・ジョーカー(中)"},{"$f":"分類順!B468","v":"一般図書"},{"$f":"分類順!C468","v":"Fa1：一般"},{"$f":"分類順!D468","v":"高村薫"},{"$f":"分類順!E468","v":"新潮社"},{"$f":"分類順!F468","v":10641},"レディ・ジョーカー(中)一般図書Fa1：一般高村薫新潮社",1,{"$f":"VLOOKUP(\"*\"&目次加工!$B$2&\"*\",J469:K469,2,0)","v":1},{"$error":"#N/A"}]
[null,null,null,{"$f":"分類順!A469","v":"レディ・ジョーカー(下)"},{"$f":"分類順!B469","v":"一般図書"},{"$f":"分類順!C469","v":"Fa1：一般"},{"$f":"分類順!D469","v":"高村薫"},{"$f":"分類順!E469","v":"新潮社"},{"$f":"分類順!F469","v":10642},"レディ・ジョーカー(下)一般図書Fa1：一般高村薫新潮社",1,{"$f":"VLOOKUP(\"*\"&目次加工!$B$2&\"*\",J470:K470,2,0)","v":1},{"$error":"#N/A"}]
[null,null,null,{"$f":"分類順!A470","v":"サラバ！上"},{"$f":"分類順!B470","v":"一般図書"},{"$f":"分類順!C470","v":"Fa1：一般"},{"$f":"分類順!D470","v":"西加奈子"},{"$f":"分類順!E470","v":"小学館"},{"$f":"分類順!F470","v":10643},"サラバ！上一般図書Fa1：一般西加奈子小学館",1,{"$f":"VLOOKUP(\"*\"&目次加工!$B$2&\"*\",J471:K471,2,0)","v":1},{"$error":"#N/A"}]
[null,null,null,{"$f":"分類順!A471","v":"サラバ！下"},{"$f":"分類順!B471","v":"一般図書"},{"$f":"分類順!C471","v":"Fa1：一般"},{"$f":"分類順!D471","v":"西加奈子"},{"$f":"分類順!E471","v":"小学館"},{"$f":"分類順!F471","v":10644},"サラバ！下一般図書Fa1：一般西加奈子小学館",1,{"$f":"VLOOKUP(\"*\"&目次加工!$B$2&\"*\",J472:K472,2,0)","v":1},{"$error":"#N/A"}]
[null,null,null,{"$f":"分類順!A472","v":"居酒屋ぼったくり"},{"$f":"分類順!B472","v":"一般図書"},{"$f":"分類順!C472","v":"Fa1：一般"},{"$f":"分類順!D472","v":"秋川滝美"},{"$f":"分類順!E472","v":"NULL"},{"$f":"分類順!F472","v":10645},"居酒屋ぼったくり一般図書Fa1：一般秋川滝美NULL",1,{"$f":"VLOOKUP(\"*\"&目次加工!$B$2&\"*\",J473:K473,2,0)","v":1},{"$error":"#N/A"}]
[null,null,null,{"$f":"分類順!A473","v":"天国の孝ちゃんへのメール　別れそして嘆き"},{"$f":"分類順!B473","v":"一般図書"},{"$f":"分類順!C473","v":"Fa1：一般"},{"$f":"分類順!D473","v":"孝ちゃんのパパ"},{"$f":"分類順!E473","v":"文芸社"},{"$f":"分類順!F473","v":10646},"天国の孝ちゃんへのメール　別れそして嘆き一般図書Fa1：一般孝ちゃんのパパ文芸社",1,{"$f":"VLOOKUP(\"*\"&目次加工!$B$2&\"*\",J474:K474,2,0)","v":1},{"$error":"#N/A"}]
[null,null,null,{"$f":"分類順!A474","v":"Dr.モリの転ばぬ先の杖"},{"$f":"分類順!B474","v":"一般図書"},{"$f":"分類順!C474","v":"Fa1：一般"},{"$f":"分類順!D474","v":"森惟明"},{"$f":"分類順!E474","v":"高知新聞総合印刷"},{"$f":"分類順!F474","v":10647},"Dr.モリの転ばぬ先の杖一般図書Fa1：一般森惟明高知新聞総合印刷",1,{"$f":"VLOOKUP(\"*\"&目次加工!$B$2&\"*\",J475:K475,2,0)","v":1},{"$error":"#N/A"}]
[null,null,null,{"$f":"分類順!A475","v":"海からの風"},{"$f":"分類順!B475","v":"一般図書"},{"$f":"分類順!C475","v":"Fa1：一般"},{"$f":"分類順!D475","v":"興梠みさ子"},{"$f":"分類順!E475","v":"NULL"},{"$f":"分類順!F475","v":10648},"海からの風一般図書Fa1：一般興梠みさ子NULL",1,{"$f":"VLOOKUP(\"*\"&目次加工!$B$2&\"*\",J476:K476,2,0)","v":1},{"$error":"#N/A"}]
[null,null,null,{"$f":"分類順!A476","v":"秘密"},{"$f":"分類順!B476","v":"一般図書"},{"$f":"分類順!C476","v":"Fa1：一般"},{"$f":"分類順!D476","v":"東野圭吾"},{"$f":"分類順!E476","v":"文藝春秋"},{"$f":"分類順!F476","v":10649},"秘密一般図書Fa1：一般東野圭吾文藝春秋",1,{"$f":"VLOOKUP(\"*\"&目次加工!$B$2&\"*\",J477:K477,2,0)","v":1},{"$error":"#N/A"}]
[null,null,null,{"$f":"分類順!A477","v":"食事療法"},{"$f":"分類順!B477","v":"目次へ"},{"$f":"分類順!C477","v":"※PDF版ではリンクしておりません。"},{"$f":"分類順!D477","v":0},{"$f":"分類順!E477","v":0},{"$f":"分類順!F477","v":0},"食事療法目次へ※PDF版ではリンクしておりません。00",1,{"$f":"VLOOKUP(\"*\"&目次加工!$B$2&\"*\",J478:K478,2,0)","v":1},1]
[null,null,null,{"$f":"分類順!A478","v":"がん抑制の食品事典"},{"$f":"分類順!B478","v":"医療の本"},{"$f":"分類順!C478","v":"Fa4：食事療法"},{"$f":"分類順!D478","v":"西野　輔翼　編著"},{"$f":"分類順!E478","v":"法研"},{"$f":"分類順!F478","v":241},"がん抑制の食品事典医療の本Fa4：食事療法西野　輔翼　編著法研",1,{"$f":"VLOOKUP(\"*\"&目次加工!$B$2&\"*\",J479:K479,2,0)","v":1},{"$error":"#N/A"}]
[null,null,null,{"$f":"分類順!A479","v":"骨/関節/筋肉"},{"$f":"分類順!B479","v":"目次へ"},{"$f":"分類順!C479","v":"※PDF版ではリンクしておりません。"},{"$f":"分類順!D479","v":0},{"$f":"分類順!E479","v":0},{"$f":"分類順!F479","v":0},"骨/関節/筋肉目次へ※PDF版ではリンクしておりません。00",1,{"$f":"VLOOKUP(\"*\"&目次加工!$B$2&\"*\",J480:K480,2,0)","v":1},1]
[null,null,null,{"$f":"分類順!A480","v":"ひざ・腰・肩の痛み 痛みの原因と治療法　新版"},{"$f":"分類順!B480","v":"医療の本"},{"$f":"分類順!C480","v":"Fb：骨/関節/筋肉"},{"$f":"分類順!D480","v":"三井　弘"},{"$f":"分類順!E480","v":"主婦の友社"},{"$f":"分類順!F480","v":254},"ひざ・腰・肩の痛み 痛みの原因と治療法　新版医療の本Fb：骨/関節/筋肉三井　弘主婦の友社",1,{"$f":"VLOOKUP(\"*\"&目次加工!$B$2&\"*\",J481:K481,2,0)","v":1},{"$error":"#N/A"}]
[null,null,null,{"$f":"分類順!A481","v":"外反母趾を防ぐ・治す　新版"},{"$f":"分類順!B481","v":"医療の本"},{"$f":"分類順!C481","v":"Fb：骨/関節/筋肉"},{"$f":"分類順!D481","v":"井口　傑　著"},{"$f":"分類順!E481","v":"講談社"},{"$f":"分類順!F481","v":257},"外反母趾を防ぐ・治す　新版医療の本Fb：骨/関節/筋肉井口　傑　著講談社",1,{"$f":"VLOOKUP(\"*\"&目次加工!$B$2&\"*\",J482:K482,2,0)","v":1},{"$error":"#N/A"}]
[null,null,null,{"$f":"分類順!A482","v":"股関節の痛みはこれでとる イラスト版"},{"$f":"分類順!B482","v":"医療の本"},{"$f":"分類順!C482","v":"Fb：骨/関節/筋肉"},{"$f":"分類順!D482","v":"二ノ宮　節夫"},{"$f":"分類順!E482","v":"講談社"},{"$f":"分類順!F482","v":258},"股関節の痛みはこれでとる イラスト版医療の本Fb：骨/関節/筋肉二ノ宮　節夫講談社",1,{"$f":"VLOOKUP(\"*\"&目次加工!$B$2&\"*\",J483:K483,2,0)","v":1},{"$error":"#N/A"}]
[null,null,null,{"$f":"分類順!A483","v":"「むち打ち症」はこれで治る！　改訂新版"},{"$f":"分類順!B483","v":"医療の本"},{"$f":"分類順!C483","v":"Fb：骨/関節/筋肉"},{"$f":"分類順!D483","v":"中井　宏　編著"},{"$f":"分類順!E483","v":"日本医療企画"},{"$f":"分類順!F483","v":270},"「むち打ち症」はこれで治る！　改訂新版医療の本Fb：骨/関節/筋肉中井　宏　編著日本医療企画",1,{"$f":"VLOOKUP(\"*\"&目次加工!$B$2&\"*\",J484:K484,2,0)","v":1},{"$error":"#N/A"}]
[null,null,null,{"$f":"分類順!A484","v":"ポケット版　整形外科ケアマニュアル"},{"$f":"分類順!B484","v":"医療の本"},{"$f":"分類順!C484","v":"Fb：骨/関節/筋肉"},{"$f":"分類順!D484","v":"土方　浩美　編著"},{"$f":"分類順!E484","v":"照林社"},{"$f":"分類順!F484","v":271},"ポケット版　整形外科ケアマニュアル医療の本Fb：骨/関節/筋肉土方　浩美　編著照林社",1,{"$f":"VLOOKUP(\"*\"&目次加工!$B$2&\"*\",J485:K485,2,0)","v":1},{"$error":"#N/A"}]
[null,null,null,{"$f":"分類順!A485","v":"変形性股関節症の運動・生活ガイド　第３版"},{"$f":"分類順!B485","v":"医療の本"},{"$f":"分類順!C485","v":"Fb：骨/関節/筋肉"},{"$f":"分類順!D485","v":"杉岡　洋一　監修"},{"$f":"分類順!E485","v":"日本醫事新報社"},{"$f":"分類順!F485","v":277},"変形性股関節症の運動・生活ガイド　第３版医療の本Fb：骨/関節/筋肉杉岡　洋一　監修日本醫事新報社",1,{"$f":"VLOOKUP(\"*\"&目次加工!$B$2&\"*\",J486:K486,2,0)","v":1},{"$error":"#N/A"}]
[null,null,null,{"$f":"分類順!A486","v":"歩き方を変えれば外反母趾はここまで治る！"},{"$f":"分類順!B486","v":"医療の本"},{"$f":"分類順!C486","v":"Fb：骨/関節/筋肉"},{"$f":"分類順!D486","v":"古屋達司　著"},{"$f":"分類順!E486","v":"メタモル出版"},{"$f":"分類順!F486","v":5354},"歩き方を変えれば外反母趾はここまで治る！医療の本Fb：骨/関節/筋肉古屋達司　著メタモル出版",1,{"$f":"VLOOKUP(\"*\"&目次加工!$B$2&\"*\",J487:K487,2,0)","v":1},{"$error":"#N/A"}]
[null,null,null,{"$f":"分類順!A487","v":"「体を温める」とすべての痛みが消える　―腰痛、ひざ痛、股関節痛、間欠性跛行が治った! "},{"$f":"分類順!B487","v":"医療の本"},{"$f":"分類順!C487","v":"Fb：骨/関節/筋肉"},{"$f":"分類順!D487","v":"坂井 学　著"},{"$f":"分類順!E487","v":"マキノ出版"},{"$f":"分類順!F487","v":5355},"「体を温める」とすべての痛みが消える　―腰痛、ひざ痛、股関節痛、間欠性跛行が治った! 医療の本Fb：骨/関節/筋肉坂井 学　著マキノ出版",1,{"$f":"VLOOKUP(\"*\"&目次加工!$B$2&\"*\",J488:K488,2,0)","v":1},{"$error":"#N/A"}]
[null,null,null,{"$f":"分類順!A488","v":"関節の痛み"},{"$f":"分類順!B488","v":"医療の本"},{"$f":"分類順!C488","v":"Fb：骨/関節/筋肉"},{"$f":"分類順!D488","v":"安倍千之　著"},{"$f":"分類順!E488","v":"日本医学館"},{"$f":"分類順!F488","v":8014},"関節の痛み医療の本Fb：骨/関節/筋肉安倍千之　著日本医学館",1,{"$f":"VLOOKUP(\"*\"&目次加工!$B$2&\"*\",J489:K489,2,0)","v":1},{"$error":"#N/A"}]
[null,null,null,{"$f":"分類順!A489","v":"坐骨神経痛"},{"$f":"分類順!B489","v":"医療の本"},{"$f":"分類順!C489","v":"Fb：骨/関節/筋肉"},{"$f":"分類順!D489","v":"久野木順一"},{"$f":"分類順!E489","v":"主婦の友社"},{"$f":"分類順!F489","v":8017},"坐骨神経痛医療の本Fb：骨/関節/筋肉久野木順一主婦の友社",1,{"$f":"VLOOKUP(\"*\"&目次加工!$B$2&\"*\",J490:K490,2,0)","v":1},{"$error":"#N/A"}]
[null,null,null,{"$f":"分類順!A490","v":"やさしい肩の痛みの自己管理"},{"$f":"分類順!B490","v":"医療の本"},{"$f":"分類順!C490","v":"Fb：骨/関節/筋肉"},{"$f":"分類順!D490","v":"井樋栄二　編"},{"$f":"分類順!E490","v":"医薬ジャーナル社"},{"$f":"分類順!F490","v":8027},"やさしい肩の痛みの自己管理医療の本Fb：骨/関節/筋肉井樋栄二　編医薬ジャーナル社",1,{"$f":"VLOOKUP(\"*\"&目次加工!$B$2&\"*\",J491:K491,2,0)","v":1},{"$error":"#N/A"}]
[null,null,null,{"$f":"分類順!A491","v":"患者さんのための頚椎後縦靭帯骨化症ガイドブック"},{"$f":"分類順!B491","v":"医療の本"},{"$f":"分類順!C491","v":"Fb：骨/関節/筋肉"},{"$f":"分類順!D491","v":0},{"$f":"分類順!E491","v":"南江堂"},{"$f":"分類順!F491","v":8041},"患者さんのための頚椎後縦靭帯骨化症ガイドブック医療の本Fb：骨/関節/筋肉0南江堂",1,{"$f":"VLOOKUP(\"*\"&目次加工!$B$2&\"*\",J492:K492,2,0)","v":1},1]
[null,null,null,{"$f":"分類順!A492","v":"手足のしびれ、歩きにくい症状がある方に"},{"$f":"分類順!B492","v":"医療の本"},{"$f":"分類順!C492","v":"Fb：骨/関節/筋肉"},{"$f":"分類順!D492","v":0},{"$f":"分類順!E492","v":"南江堂"},{"$f":"分類順!F492","v":8042},"手足のしびれ、歩きにくい症状がある方に医療の本Fb：骨/関節/筋肉0南江堂",1,{"$f":"VLOOKUP(\"*\"&目次加工!$B$2&\"*\",J493:K493,2,0)","v":1},1]
[null,null,null,{"$f":"分類順!A493","v":"スーパー図解　くび・肩・背中の痛み　不快な症状を消し去る生活処方と最新治療"},{"$f":"分類順!B493","v":"医療の本"},{"$f":"分類順!C493","v":"Fb：骨/関節/筋肉"},{"$f":"分類順!D493","v":"星川吉光監修"},{"$f":"分類順!E493","v":"法研"},{"$f":"分類順!F493","v":8080},"スーパー図解　くび・肩・背中の痛み　不快な症状を消し去る生活処方と最新治療医療の本Fb：骨/関節/筋肉星川吉光監修法研",1,{"$f":"VLOOKUP(\"*\"&目次加工!$B$2&\"*\",J494:K494,2,0)","v":1},{"$error":"#N/A"}]
[null,null,null,{"$f":"分類順!A494","v":"脊損慢性期マネジメントガイド"},{"$f":"分類順!B494","v":"医療の本"},{"$f":"分類順!C494","v":"Fb：骨/関節/筋肉"},{"$f":"分類順!D494","v":"住田幹男"},{"$f":"分類順!E494","v":"日本せきずい基金"},{"$f":"分類順!F494","v":10095},"脊損慢性期マネジメントガイド医療の本Fb：骨/関節/筋肉住田幹男日本せきずい基金",1,{"$f":"VLOOKUP(\"*\"&目次加工!$B$2&\"*\",J495:K495,2,0)","v":1},{"$error":"#N/A"}]
[null,null,null,{"$f":"分類順!A495","v":"脊髄損傷初めの1年"},{"$f":"分類順!B495","v":"医療の本"},{"$f":"分類順!C495","v":"Fb：骨/関節/筋肉"},{"$f":"分類順!D495","v":"米国脊髄医学ｺﾝｿｰｼｱﾑ"},{"$f":"分類順!E495","v":"日本せきずい基金"},{"$f":"分類順!F495","v":10096},"脊髄損傷初めの1年医療の本Fb：骨/関節/筋肉米国脊髄医学ｺﾝｿｰｼｱﾑ日本せきずい基金",1,{"$f":"VLOOKUP(\"*\"&目次加工!$B$2&\"*\",J496:K496,2,0)","v":1},{"$error":"#N/A"}]
[null,null,null,{"$f":"分類順!A496","v":"脊髄損傷者の社会参加マニュアル"},{"$f":"分類順!B496","v":"医療の本"},{"$f":"分類順!C496","v":"Fb：骨/関節/筋肉"},{"$f":"分類順!D496","v":"住田幹男"},{"$f":"分類順!E496","v":"日本せきずい基金"},{"$f":"分類順!F496","v":10097},"脊髄損傷者の社会参加マニュアル医療の本Fb：骨/関節/筋肉住田幹男日本せきずい基金",1,{"$f":"VLOOKUP(\"*\"&目次加工!$B$2&\"*\",J497:K497,2,0)","v":1},{"$error":"#N/A"}]
[null,null,null,{"$f":"分類順!A497","v":"上半身に筋肉をつけると「肩がこらない」「猫背にならない」"},{"$f":"分類順!B497","v":"医療の本"},{"$f":"分類順!C497","v":"Fb：骨/関節/筋肉"},{"$f":"分類順!D497","v":"中野ジェームズ修一"},{"$f":"分類順!E497","v":"厚徳社"},{"$f":"分類順!F497","v":10134},"上半身に筋肉をつけると「肩がこらない」「猫背にならない」医療の本Fb：骨/関節/筋肉中野ジェームズ修一厚徳社",1,{"$f":"VLOOKUP(\"*\"&目次加工!$B$2&\"*\",J498:K498,2,0)","v":1},{"$error":"#N/A"}]
[null,null,null,{"$f":"分類順!A498","v":"オールカラー 骨・関節・筋肉の構造と動作のしくみ"},{"$f":"分類順!B498","v":"医療の本"},{"$f":"分類順!C498","v":"Fb：骨/関節/筋肉"},{"$f":"分類順!D498","v":"深代 千之"},{"$f":"分類順!E498","v":"ナツメ社"},{"$f":"分類順!F498","v":10154},"オールカラー 骨・関節・筋肉の構造と動作のしくみ医療の本Fb：骨/関節/筋肉深代 千之ナツメ社",1,{"$f":"VLOOKUP(\"*\"&目次加工!$B$2&\"*\",J499:K499,2,0)","v":1},{"$error":"#N/A"}]
[null,null,null,{"$f":"分類順!A499","v":"全部見える整形外科疾患　スーパービジュアル"},{"$f":"分類順!B499","v":"医療の本"},{"$f":"分類順!C499","v":"Fb：骨/関節/筋肉"},{"$f":"分類順!D499","v":"高井信朗"},{"$f":"分類順!E499","v":"成美堂出版"},{"$f":"分類順!F499","v":10267},"全部見える整形外科疾患　スーパービジュアル医療の本Fb：骨/関節/筋肉高井信朗成美堂出版",1,{"$f":"VLOOKUP(\"*\"&目次加工!$B$2&\"*\",J500:K500,2,0)","v":1},{"$error":"#N/A"}]
[null,null,null,{"$f":"分類順!A500","v":"骨・軟部腫瘍　臨床・画像・病理　改訂第2版"},{"$f":"分類順!B500","v":"医療の本"},{"$f":"分類順!C500","v":"Fb：骨/関節/筋肉"},{"$f":"分類順!D500","v":"大塚隆信・福田国彦・小田義直"},{"$f":"分類順!E500","v":"診断と治療社"},{"$f":"分類順!F500","v":10337},"骨・軟部腫瘍　臨床・画像・病理　改訂第2版医療の本Fb：骨/関節/筋肉大塚隆信・福田国彦・小田義直診断と治療社",1,{"$f":"VLOOKUP(\"*\"&目次加工!$B$2&\"*\",J501:K501,2,0)","v":1},{"$error":"#N/A"}]
[null,null,null,{"$f":"分類順!A501","v":"病気がみえる　vol.11　運動器・整形外科"},{"$f":"分類順!B501","v":"医療の本"},{"$f":"分類順!C501","v":"Fb：骨/関節/筋肉"},{"$f":"分類順!D501","v":"医療情報科学研究所"},{"$f":"分類順!E501","v":"メディックメディア"},{"$f":"分類順!F501","v":10485},"病気がみえる　vol.11　運動器・整形外科医療の本Fb：骨/関節/筋肉医療情報科学研究所メディックメディア",1,{"$f":"VLOOKUP(\"*\"&目次加工!$B$2&\"*\",J502:K502,2,0)","v":1},{"$error":"#N/A"}]
[null,null,null,{"$f":"分類順!A502","v":"坐骨神経痛"},{"$f":"分類順!B502","v":"医療の本"},{"$f":"分類順!C502","v":"Fb：骨/関節/筋肉"},{"$f":"分類順!D502","v":"久野木順一"},{"$f":"分類順!E502","v":"主婦の友社"},{"$f":"分類順!F502","v":10486},"坐骨神経痛医療の本Fb：骨/関節/筋肉久野木順一主婦の友社",1,{"$f":"VLOOKUP(\"*\"&目次加工!$B$2&\"*\",J503:K503,2,0)","v":1},{"$error":"#N/A"}]
[null,null,null,{"$f":"分類順!A503","v":"病気がみえるvol.11　運動器・整形外科"},{"$f":"分類順!B503","v":"医療の本"},{"$f":"分類順!C503","v":"Fb：骨/関節/筋肉"},{"$f":"分類順!D503","v":"医療情報科学研究所"},{"$f":"分類順!E503","v":"メディックメディア"},{"$f":"分類順!F503","v":10542},"病気がみえるvol.11　運動器・整形外科医療の本Fb：骨/関節/筋肉医療情報科学研究所メディックメディア",1,{"$f":"VLOOKUP(\"*\"&目次加工!$B$2&\"*\",J504:K504,2,0)","v":1},{"$error":"#N/A"}]
[null,null,null,{"$f":"分類順!A504","v":"整形外科の疾患＆治療"},{"$f":"分類順!B504","v":"医療の本"},{"$f":"分類順!C504","v":"Fb：骨/関節/筋肉"},{"$f":"分類順!D504","v":"津村弘 監修"},{"$f":"分類順!E504","v":"メディカ出版"},{"$f":"分類順!F504","v":10552},"整形外科の疾患＆治療医療の本Fb：骨/関節/筋肉津村弘 監修メディカ出版",1,{"$f":"VLOOKUP(\"*\"&目次加工!$B$2&\"*\",J505:K505,2,0)","v":1},{"$error":"#N/A"}]
[null,null,null,{"$f":"分類順!A505","v":"変形性ひざ関節症　（よくわかる最新医学シリーズ）"},{"$f":"分類順!B505","v":"医療の本"},{"$f":"分類順!C505","v":"Fb：骨/関節/筋肉"},{"$f":"分類順!D505","v":"八木貴史　著"},{"$f":"分類順!E505","v":"主婦の友社"},{"$f":"分類順!F505","v":10573},"変形性ひざ関節症　（よくわかる最新医学シリーズ）医療の本Fb：骨/関節/筋肉八木貴史　著主婦の友社",1,{"$f":"VLOOKUP(\"*\"&目次加工!$B$2&\"*\",J506:K506,2,0)","v":1},{"$error":"#N/A"}]
[null,null,null,{"$f":"分類順!A506","v":"坐骨神経痛　（よくわかる最新医学シリーズ）"},{"$f":"分類順!B506","v":"医療の本"},{"$f":"分類順!C506","v":"Fb：骨/関節/筋肉"},{"$f":"分類順!D506","v":"久野木順一 著"},{"$f":"分類順!E506","v":"主婦の友社"},{"$f":"分類順!F506","v":10577},"坐骨神経痛　（よくわかる最新医学シリーズ）医療の本Fb：骨/関節/筋肉久野木順一 著主婦の友社",1,{"$f":"VLOOKUP(\"*\"&目次加工!$B$2&\"*\",J507:K507,2,0)","v":1},{"$error":"#N/A"}]
[null,null,null,{"$f":"分類順!A507","v":"腰痛"},{"$f":"分類順!B507","v":"目次へ"},{"$f":"分類順!C507","v":"※PDF版ではリンクしておりません。"},{"$f":"分類順!D507","v":0},{"$f":"分類順!E507","v":0},{"$f":"分類順!F507","v":0},"腰痛目次へ※PDF版ではリンクしておりません。00",1,{"$f":"VLOOKUP(\"*\"&目次加工!$B$2&\"*\",J508:K508,2,0)","v":1},1]
[null,null,null,{"$f":"分類順!A508","v":"腰痛"},{"$f":"分類順!B508","v":"医療の本"},{"$f":"分類順!C508","v":"Fb5：腰痛"},{"$f":"分類順!D508","v":"梶原　一"},{"$f":"分類順!E508","v":"日本医学館"},{"$f":"分類順!F508","v":260},"腰痛医療の本Fb5：腰痛梶原　一日本医学館",1,{"$f":"VLOOKUP(\"*\"&目次加工!$B$2&\"*\",J509:K509,2,0)","v":1},{"$error":"#N/A"}]
[null,null,null,{"$f":"分類順!A509","v":"やさしい腰痛の自己管理"},{"$f":"分類順!B509","v":"医療の本"},{"$f":"分類順!C509","v":"Fb5：腰痛"},{"$f":"分類順!D509","v":"米延　策雄　監"},{"$f":"分類順!E509","v":"医薬ジャーナル社"},{"$f":"分類順!F509","v":272},"やさしい腰痛の自己管理医療の本Fb5：腰痛米延　策雄　監医薬ジャーナル社",1,{"$f":"VLOOKUP(\"*\"&目次加工!$B$2&\"*\",J510:K510,2,0)","v":1},{"$error":"#N/A"}]
[null,null,null,{"$f":"分類順!A510","v":"腰痛"},{"$f":"分類順!B510","v":"医療の本"},{"$f":"分類順!C510","v":"Fb5：腰痛"},{"$f":"分類順!D510","v":"住田　憲是　監修"},{"$f":"分類順!E510","v":"主婦の友社"},{"$f":"分類順!F510","v":282},"腰痛医療の本Fb5：腰痛住田　憲是　監修主婦の友社",1,{"$f":"VLOOKUP(\"*\"&目次加工!$B$2&\"*\",J511:K511,2,0)","v":1},{"$error":"#N/A"}]
[null,null,null,{"$f":"分類順!A511","v":"腰痛の病態生理と診断・治療"},{"$f":"分類順!B511","v":"医療の本"},{"$f":"分類順!C511","v":"Fb5：腰痛"},{"$f":"分類順!D511","v":"山岸　正明　他"},{"$f":"分類順!E511","v":"真興交易医書出版"},{"$f":"分類順!F511","v":283},"腰痛の病態生理と診断・治療医療の本Fb5：腰痛山岸　正明　他真興交易医書出版",1,{"$f":"VLOOKUP(\"*\"&目次加工!$B$2&\"*\",J512:K512,2,0)","v":1},{"$error":"#N/A"}]
[null,null,null,{"$f":"分類順!A512","v":"椎間板ヘルニアと言われたらこの本を読もう"},{"$f":"分類順!B512","v":"医療の本"},{"$f":"分類順!C512","v":"Fb5：腰痛"},{"$f":"分類順!D512","v":"諸岡　正明　著"},{"$f":"分類順!E512","v":"文芸社"},{"$f":"分類順!F512","v":285},"椎間板ヘルニアと言われたらこの本を読もう医療の本Fb5：腰痛諸岡　正明　著文芸社",1,{"$f":"VLOOKUP(\"*\"&目次加工!$B$2&\"*\",J513:K513,2,0)","v":1},{"$error":"#N/A"}]
[null,null,null,{"$f":"分類順!A513","v":"新版　坐骨神経痛がわかる本　中高年を悩ます「腰"},{"$f":"分類順!B513","v":"医療の本"},{"$f":"分類順!C513","v":"Fb5：腰痛"},{"$f":"分類順!D513","v":"戸山　芳昭　著"},{"$f":"分類順!E513","v":"法研"},{"$f":"分類順!F513","v":1002},"新版　坐骨神経痛がわかる本　中高年を悩ます「腰医療の本Fb5：腰痛戸山　芳昭　著法研",1,{"$f":"VLOOKUP(\"*\"&目次加工!$B$2&\"*\",J514:K514,2,0)","v":1},{"$error":"#N/A"}]
[null,null,null,{"$f":"分類順!A514","v":"痛風"},{"$f":"分類順!B514","v":"目次へ"},{"$f":"分類順!C514","v":"※PDF版ではリンクしておりません。"},{"$f":"分類順!D514","v":0},{"$f":"分類順!E514","v":0},{"$f":"分類順!F514","v":0},"痛風目次へ※PDF版ではリンクしておりません。00",1,{"$f":"VLOOKUP(\"*\"&目次加工!$B$2&\"*\",J515:K515,2,0)","v":1},1]
[null,null,null,{"$f":"分類順!A515","v":"痛風 痛風の最新治療と発作への対処法　新版"},{"$f":"分類順!B515","v":"医療の本"},{"$f":"分類順!C515","v":"Fb6：痛風"},{"$f":"分類順!D515","v":"小田原　雅人;主婦の友社"},{"$f":"分類順!E515","v":"主婦の友社"},{"$f":"分類順!F515","v":264},"痛風 痛風の最新治療と発作への対処法　新版医療の本Fb6：痛風小田原　雅人;主婦の友社主婦の友社",1,{"$f":"VLOOKUP(\"*\"&目次加工!$B$2&\"*\",J516:K516,2,0)","v":1},{"$f":"VLOOKUP(\"*\"&$A$2&\"*\",J516:K516,2,0)","v":{"$error":"#N/A"}}]
[null,null,null,{"$f":"分類順!A516","v":"痛風の人の食事"},{"$f":"分類順!B516","v":"医療の本"},{"$f":"分類順!C516","v":"Fb6：痛風"},{"$f":"分類順!D516","v":"藤森　新　他"},{"$f":"分類順!E516","v":"女子栄養大学出版部"},{"$f":"分類順!F516","v":281},"痛風の人の食事医療の本Fb6：痛風藤森　新　他女子栄養大学出版部",1,{"$f":"VLOOKUP(\"*\"&目次加工!$B$2&\"*\",J517:K517,2,0)","v":1},{"$error":"#N/A"}]
[null,null,null,{"$f":"分類順!A517","v":"痛風と高尿酸血症"},{"$f":"分類順!B517","v":"医療の本"},{"$f":"分類順!C517","v":"Fb6：痛風"},{"$f":"分類順!D517","v":"御巫清允"},{"$f":"分類順!E517","v":"主婦の友社"},{"$f":"分類順!F517","v":5314},"痛風と高尿酸血症医療の本Fb6：痛風御巫清允主婦の友社",1,{"$f":"VLOOKUP(\"*\"&目次加工!$B$2&\"*\",J518:K518,2,0)","v":1},{"$error":"#N/A"}]
[null,null,null,{"$f":"分類順!A518","v":"骨粗鬆症"},{"$f":"分類順!B518","v":"目次へ"},{"$f":"分類順!C518","v":"※PDF版ではリンクしておりません。"},{"$f":"分類順!D518","v":0},{"$f":"分類順!E518","v":0},{"$f":"分類順!F518","v":0},"骨粗鬆症目次へ※PDF版ではリンクしておりません。00",1,{"$f":"VLOOKUP(\"*\"&目次加工!$B$2&\"*\",J519:K519,2,0)","v":1},1]
[null,null,null,{"$f":"分類順!A519","v":"骨粗しょう症 改訂新版"},{"$f":"分類順!B519","v":"医療の本"},{"$f":"分類順!C519","v":"Fb7：骨粗鬆症"},{"$f":"分類順!D519","v":"広田　憲二;広田　孝子"},{"$f":"分類順!E519","v":"保健同人社"},{"$f":"分類順!F519","v":261},"骨粗しょう症 改訂新版医療の本Fb7：骨粗鬆症広田　憲二;広田　孝子保健同人社",1,{"$f":"VLOOKUP(\"*\"&目次加工!$B$2&\"*\",J520:K520,2,0)","v":1},{"$error":"#N/A"}]
[null,null,null,{"$f":"分類順!A520","v":"骨粗鬆症の人の食事"},{"$f":"分類順!B520","v":"医療の本"},{"$f":"分類順!C520","v":"Fb7：骨粗鬆症"},{"$f":"分類順!D520","v":"白木　正孝　他"},{"$f":"分類順!E520","v":"女子栄養大学出版部"},{"$f":"分類順!F520","v":280},"骨粗鬆症の人の食事医療の本Fb7：骨粗鬆症白木　正孝　他女子栄養大学出版部",1,{"$f":"VLOOKUP(\"*\"&目次加工!$B$2&\"*\",J521:K521,2,0)","v":1},{"$error":"#N/A"}]
[null,null,null,{"$f":"分類順!A521","v":"骨粗鬆症"},{"$f":"分類順!B521","v":"医療の本"},{"$f":"分類順!C521","v":"Fb7：骨粗鬆症"},{"$f":"分類順!D521","v":"安倍　千之　著"},{"$f":"分類順!E521","v":"日本医学館"},{"$f":"分類順!F521","v":289},"骨粗鬆症医療の本Fb7：骨粗鬆症安倍　千之　著日本医学館",1,{"$f":"VLOOKUP(\"*\"&目次加工!$B$2&\"*\",J522:K522,2,0)","v":1},{"$error":"#N/A"}]
[null,null,null,{"$f":"分類順!A522","v":"やさしい骨粗鬆症の自己管理　改訂版"},{"$f":"分類順!B522","v":"医療の本"},{"$f":"分類順!C522","v":"Fb7：骨粗鬆症"},{"$f":"分類順!D522","v":"森井　浩世　著"},{"$f":"分類順!E522","v":"医薬ジャーナル社"},{"$f":"分類順!F522","v":291},"やさしい骨粗鬆症の自己管理　改訂版医療の本Fb7：骨粗鬆症森井　浩世　著医薬ジャーナル社",1,{"$f":"VLOOKUP(\"*\"&目次加工!$B$2&\"*\",J523:K523,2,0)","v":1},{"$error":"#N/A"}]
[null,null,null,{"$f":"分類順!A523","v":"骨粗しょう症に効くらくらくレシピ"},{"$f":"分類順!B523","v":"医療の本"},{"$f":"分類順!C523","v":"Fb7：骨粗鬆症"},{"$f":"分類順!D523","v":"林　泰史　監修"},{"$f":"分類順!E523","v":"法研"},{"$f":"分類順!F523","v":292},"骨粗しょう症に効くらくらくレシピ医療の本Fb7：骨粗鬆症林　泰史　監修法研",1,{"$f":"VLOOKUP(\"*\"&目次加工!$B$2&\"*\",J524:K524,2,0)","v":1},{"$error":"#N/A"}]
[null,null,null,{"$f":"分類順!A524","v":"骨粗鬆症の最新治療―いまからでも実行できる寝たきりにならない方法（よくわかる最新医学シリーズ）"},{"$f":"分類順!B524","v":"医療の本"},{"$f":"分類順!C524","v":"Fb7：骨粗鬆症"},{"$f":"分類順!D524","v":"石橋 英明"},{"$f":"分類順!E524","v":"主婦の友社"},{"$f":"分類順!F524","v":10155},"骨粗鬆症の最新治療―いまからでも実行できる寝たきりにならない方法（よくわかる最新医学シリーズ）医療の本Fb7：骨粗鬆症石橋 英明主婦の友社",1,{"$f":"VLOOKUP(\"*\"&目次加工!$B$2&\"*\",J525:K525,2,0)","v":1},{"$error":"#N/A"}]
[null,null,null,{"$f":"分類順!A525","v":"骨粗鬆症　（よくわかる最新医学シリーズ）"},{"$f":"分類順!B525","v":"医療の本"},{"$f":"分類順!C525","v":"Fb7：骨粗鬆症"},{"$f":"分類順!D525","v":"石橋英明　著"},{"$f":"分類順!E525","v":"主婦の友社"},{"$f":"分類順!F525","v":10562},"骨粗鬆症　（よくわかる最新医学シリーズ）医療の本Fb7：骨粗鬆症石橋英明　著主婦の友社",1,{"$f":"VLOOKUP(\"*\"&目次加工!$B$2&\"*\",J526:K526,2,0)","v":1},{"$error":"#N/A"}]
[null,null,null,{"$f":"分類順!A526","v":"血液/リンパ"},{"$f":"分類順!B526","v":"目次へ"},{"$f":"分類順!C526","v":"※PDF版ではリンクしておりません。"},{"$f":"分類順!D526","v":0},{"$f":"分類順!E526","v":0},{"$f":"分類順!F526","v":0},"血液/リンパ目次へ※PDF版ではリンクしておりません。00",1,{"$f":"VLOOKUP(\"*\"&目次加工!$B$2&\"*\",J527:K527,2,0)","v":1},1]
[null,null,null,{"$f":"分類順!A527","v":"リンパ浮腫がわかる本　予防と治療の実践ガ"},{"$f":"分類順!B527","v":"医療の本"},{"$f":"分類順!C527","v":"Fc：血液/リンパ"},{"$f":"分類順!D527","v":"廣田　彰男　他著"},{"$f":"分類順!E527","v":"法研"},{"$f":"分類順!F527","v":296},"リンパ浮腫がわかる本　予防と治療の実践ガ医療の本Fc：血液/リンパ廣田　彰男　他著法研",1,{"$f":"VLOOKUP(\"*\"&目次加工!$B$2&\"*\",J528:K528,2,0)","v":1},{"$error":"#N/A"}]
[null,null,null,{"$f":"分類順!A528","v":"血液のガン　悪性リンパ腫と白血病"},{"$f":"分類順!B528","v":"医療の本"},{"$f":"分類順!C528","v":"Fc：血液/リンパ"},{"$f":"分類順!D528","v":"飛内　賢正　監修"},{"$f":"分類順!E528","v":"講談社"},{"$f":"分類順!F528","v":298},"血液のガン　悪性リンパ腫と白血病医療の本Fc：血液/リンパ飛内　賢正　監修講談社",1,{"$f":"VLOOKUP(\"*\"&目次加工!$B$2&\"*\",J529:K529,2,0)","v":1},{"$error":"#N/A"}]
[null,null,null,{"$f":"分類順!A529","v":"貧血の人の食事"},{"$f":"分類順!B529","v":"医療の本"},{"$f":"分類順!C529","v":"Fc：血液/リンパ"},{"$f":"分類順!D529","v":"代田　常道　病態"},{"$f":"分類順!E529","v":"女子栄養大学出版部"},{"$f":"分類順!F529","v":300},"貧血の人の食事医療の本Fc：血液/リンパ代田　常道　病態女子栄養大学出版部",1,{"$f":"VLOOKUP(\"*\"&目次加工!$B$2&\"*\",J530:K530,2,0)","v":1},{"$error":"#N/A"}]
[null,null,null,{"$f":"分類順!A530","v":"冷え症・貧血・低血圧　新版"},{"$f":"分類順!B530","v":"医療の本"},{"$f":"分類順!C530","v":"Fc：血液/リンパ"},{"$f":"分類順!D530","v":"南雲　久美子　監修"},{"$f":"分類順!E530","v":"主婦の友社"},{"$f":"分類順!F530","v":301},{"$f":"D531&E531&F531&G531&H531","v":"冷え症・貧血・低血圧　新版医療の本Fc：血液/リンパ南雲　久美子　監修主婦の友社"},1,{"$f":"VLOOKUP(\"*\"&目次加工!$B$2&\"*\",J531:K531,2,0)","v":1},{"$error":"#N/A"}]
[null,null,null,{"$f":"分類順!A531","v":"絵でわかる血液のはたらき"},{"$f":"分類順!B531","v":"医療の本"},{"$f":"分類順!C531","v":"Fc：血液/リンパ"},{"$f":"分類順!D531","v":"八幡　義人　著"},{"$f":"分類順!E531","v":"講談社"},{"$f":"分類順!F531","v":304},"絵でわかる血液のはたらき医療の本Fc：血液/リンパ八幡　義人　著講談社",1,{"$f":"VLOOKUP(\"*\"&目次加工!$B$2&\"*\",J532:K532,2,0)","v":1},{"$error":"#N/A"}]
[null,null,null,{"$f":"分類順!A532","v":"血液サラサラ健康事典"},{"$f":"分類順!B532","v":"医療の本"},{"$f":"分類順!C532","v":"Fc：血液/リンパ"},{"$f":"分類順!D532","v":"藤井　潤　医学監修"},{"$f":"分類順!E532","v":"時事通信社"},{"$f":"分類順!F532","v":305},"血液サラサラ健康事典医療の本Fc：血液/リンパ藤井　潤　医学監修時事通信社",1,{"$f":"VLOOKUP(\"*\"&目次加工!$B$2&\"*\",J533:K533,2,0)","v":1},{"$error":"#N/A"}]
[null,null,null,{"$f":"分類順!A533","v":"やさしい貧血の自己管理"},{"$f":"分類順!B533","v":"医療の本"},{"$f":"分類順!C533","v":"Fc：血液/リンパ"},{"$f":"分類順!D533","v":"内田　立身　編"},{"$f":"分類順!E533","v":"医薬ジャーナル社"},{"$f":"分類順!F533","v":317},"やさしい貧血の自己管理医療の本Fc：血液/リンパ内田　立身　編医薬ジャーナル社",1,{"$f":"VLOOKUP(\"*\"&目次加工!$B$2&\"*\",J534:K534,2,0)","v":1},{"$error":"#N/A"}]
[null,null,null,{"$f":"分類順!A534","v":"やさしい血液疾患　第５版"},{"$f":"分類順!B534","v":"医療の本"},{"$f":"分類順!C534","v":"Fc：血液/リンパ"},{"$f":"分類順!D534","v":"押味　和夫　著"},{"$f":"分類順!E534","v":"日本醫事新報社"},{"$f":"分類順!F534","v":1003},"やさしい血液疾患　第５版医療の本Fc：血液/リンパ押味　和夫　著日本醫事新報社",1,{"$f":"VLOOKUP(\"*\"&目次加工!$B$2&\"*\",J535:K535,2,0)","v":1},{"$error":"#N/A"}]
[null,null,null,{"$f":"分類順!A535","v":"悪性リンパ腫　改訂版"},{"$f":"分類順!B535","v":"医療の本"},{"$f":"分類順!C535","v":"Fc：血液/リンパ"},{"$f":"分類順!D535","v":"堀田　知光　編"},{"$f":"分類順!E535","v":"医薬ジャーナル社"},{"$f":"分類順!F535","v":1004},"悪性リンパ腫　改訂版医療の本Fc：血液/リンパ堀田　知光　編医薬ジャーナル社",1,{"$f":"VLOOKUP(\"*\"&目次加工!$B$2&\"*\",J536:K536,2,0)","v":1},{"$error":"#N/A"}]
[null,null,null,{"$f":"分類順!A536","v":"最新　輸血のケアＱ＆Ａ　改訂版"},{"$f":"分類順!B536","v":"医療の本"},{"$f":"分類順!C536","v":"Fc：血液/リンパ"},{"$f":"分類順!D536","v":"藤田　浩　編著"},{"$f":"分類順!E536","v":"照林社"},{"$f":"分類順!F536","v":1005},"最新　輸血のケアＱ＆Ａ　改訂版医療の本Fc：血液/リンパ藤田　浩　編著照林社",1,{"$f":"VLOOKUP(\"*\"&目次加工!$B$2&\"*\",J537:K537,2,0)","v":1},{"$error":"#N/A"}]
[null,null,null,{"$f":"分類順!A537","v":"多発性骨髄腫の診療指針　第２版"},{"$f":"分類順!B537","v":"医療の本"},{"$f":"分類順!C537","v":"Fc：血液/リンパ"},{"$f":"分類順!D537","v":"日本骨髄腫研究会　編"},{"$f":"分類順!E537","v":"文光堂"},{"$f":"分類順!F537","v":1007},"多発性骨髄腫の診療指針　第２版医療の本Fc：血液/リンパ日本骨髄腫研究会　編文光堂",1,{"$f":"VLOOKUP(\"*\"&目次加工!$B$2&\"*\",J538:K538,2,0)","v":1},{"$error":"#N/A"}]
[null,null,null,{"$f":"分類順!A538","v":"こうして治す 下肢静脈瘤"},{"$f":"分類順!B538","v":"医療の本"},{"$f":"分類順!C538","v":"Fc：血液/リンパ"},{"$f":"分類順!D538","v":"岩井 武尚　著"},{"$f":"分類順!E538","v":"保健同人社"},{"$f":"分類順!F538","v":5356},"こうして治す 下肢静脈瘤医療の本Fc：血液/リンパ岩井 武尚　著保健同人社",1,{"$f":"VLOOKUP(\"*\"&目次加工!$B$2&\"*\",J539:K539,2,0)","v":1},{"$error":"#N/A"}]
[null,null,null,{"$f":"分類順!A539","v":"100歳まで長生きできるコレステロール革命 "},{"$f":"分類順!B539","v":"医療の本"},{"$f":"分類順!C539","v":"Fc：血液/リンパ"},{"$f":"分類順!D539","v":"大櫛 陽一 著"},{"$f":"分類順!E539","v":"永岡書店 "},{"$f":"分類順!F539","v":5357},"100歳まで長生きできるコレステロール革命 医療の本Fc：血液/リンパ大櫛 陽一 著永岡書店 ",1,{"$f":"VLOOKUP(\"*\"&目次加工!$B$2&\"*\",J540:K540,2,0)","v":1},1]
[null,null,null,{"$f":"分類順!A540","v":"病気がみえる　⑤：血液"},{"$f":"分類順!B540","v":"医療の本"},{"$f":"分類順!C540","v":"Fc：血液/リンパ"},{"$f":"分類順!D540","v":0},{"$f":"分類順!E540","v":"メディックメディア"},{"$f":"分類順!F540","v":8005},"病気がみえる　⑤：血液医療の本Fc：血液/リンパ0メディックメディア",1,{"$f":"VLOOKUP(\"*\"&目次加工!$B$2&\"*\",J541:K541,2,0)","v":1},1]
[null,null,null,{"$f":"分類順!A541","v":"リンパ浮腫治療のセルフケア"},{"$f":"分類順!B541","v":"医療の本"},{"$f":"分類順!C541","v":"Fc：血液/リンパ"},{"$f":"分類順!D541","v":"佐藤　佳代子"},{"$f":"分類順!E541","v":"文光堂"},{"$f":"分類順!F541","v":8009},"リンパ浮腫治療のセルフケア医療の本Fc：血液/リンパ佐藤　佳代子文光堂",1,{"$f":"VLOOKUP(\"*\"&目次加工!$B$2&\"*\",J542:K542,2,0)","v":1},{"$error":"#N/A"}]
[null,null,null,{"$f":"分類順!A542","v":"やさしい造血幹細胞移植へのアプローチ　改訂版"},{"$f":"分類順!B542","v":"医療の本"},{"$f":"分類順!C542","v":"Fc：血液/リンパ"},{"$f":"分類順!D542","v":"小寺良尚　編"},{"$f":"分類順!E542","v":"医薬ジャーナル社"},{"$f":"分類順!F542","v":8025},"やさしい造血幹細胞移植へのアプローチ　改訂版医療の本Fc：血液/リンパ小寺良尚　編医薬ジャーナル社",1,{"$f":"VLOOKUP(\"*\"&目次加工!$B$2&\"*\",J543:K543,2,0)","v":1},{"$error":"#N/A"}]
[null,null,null,{"$f":"分類順!A543","v":"心配しないでいいですよ　再発・転移　悪性リンパ腫"},{"$f":"分類順!B543","v":"医療の本"},{"$f":"分類順!C543","v":"Fc：血液/リンパ"},{"$f":"分類順!D543","v":"著/畠　清彦"},{"$f":"分類順!E543","v":"真興交易医書出版"},{"$f":"分類順!F543","v":8067},"心配しないでいいですよ　再発・転移　悪性リンパ腫医療の本Fc：血液/リンパ著/畠　清彦真興交易医書出版",1,{"$f":"VLOOKUP(\"*\"&目次加工!$B$2&\"*\",J544:K544,2,0)","v":1},{"$error":"#N/A"}]
[null,null,null,{"$f":"分類順!A544","v":"心配しないでいいですよ　再発・転移　多発性骨髄腫"},{"$f":"分類順!B544","v":"医療の本"},{"$f":"分類順!C544","v":"Fc：血液/リンパ"},{"$f":"分類順!D544","v":"編集/畠　清彦、著/照井康仁"},{"$f":"分類順!E544","v":"真興交易医書出版"},{"$f":"分類順!F544","v":8071},"心配しないでいいですよ　再発・転移　多発性骨髄腫医療の本Fc：血液/リンパ編集/畠　清彦、著/照井康仁真興交易医書出版",1,{"$f":"VLOOKUP(\"*\"&目次加工!$B$2&\"*\",J545:K545,2,0)","v":1},{"$error":"#N/A"}]
[null,null,null,{"$f":"分類順!A545","v":"心配しないでいいですよ　再発・転移　白血病"},{"$f":"分類順!B545","v":"医療の本"},{"$f":"分類順!C545","v":"Fc：血液/リンパ"},{"$f":"分類順!D545","v":"編集/畠　清彦、著/照井康仁"},{"$f":"分類順!E545","v":"真興交易医書出版"},{"$f":"分類順!F545","v":8075},"心配しないでいいですよ　再発・転移　白血病医療の本Fc：血液/リンパ編集/畠　清彦、著/照井康仁真興交易医書出版",1,{"$f":"VLOOKUP(\"*\"&目次加工!$B$2&\"*\",J546:K546,2,0)","v":1},{"$error":"#N/A"}]
[null,null,null,{"$f":"分類順!A546","v":"リンパ浮腫の治療とケア　第2版"},{"$f":"分類順!B546","v":"医療の本"},{"$f":"分類順!C546","v":"Fc：血液/リンパ"},{"$f":"分類順!D546","v":"佐藤　佳代子"},{"$f":"分類順!E546","v":"医学書院"},{"$f":"分類順!F546","v":8095},"リンパ浮腫の治療とケア　第2版医療の本Fc：血液/リンパ佐藤　佳代子医学書院",1,{"$f":"VLOOKUP(\"*\"&目次加工!$B$2&\"*\",J547:K547,2,0)","v":1},{"$error":"#N/A"}]
[null,null,null,{"$f":"分類順!A547","v":"図解　白血病・悪性リンパ腫がわかる本"},{"$f":"分類順!B547","v":"医療の本"},{"$f":"分類順!C547","v":"Fc：血液/リンパ"},{"$f":"分類順!D547","v":"永井　正"},{"$f":"分類順!E547","v":"法研"},{"$f":"分類順!F547","v":8096},"図解　白血病・悪性リンパ腫がわかる本医療の本Fc：血液/リンパ永井　正法研",1,{"$f":"VLOOKUP(\"*\"&目次加工!$B$2&\"*\",J548:K548,2,0)","v":1},{"$error":"#N/A"}]
[null,null,null,{"$f":"分類順!A548","v":"みるみるナットク血液疾患　病態生理がわかればケアがわかる"},{"$f":"分類順!B548","v":"医療の本"},{"$f":"分類順!C548","v":"Fc：血液/リンパ"},{"$f":"分類順!D548","v":"須永真司"},{"$f":"分類順!E548","v":"文光堂"},{"$f":"分類順!F548","v":10287},"みるみるナットク血液疾患　病態生理がわかればケアがわかる医療の本Fc：血液/リンパ須永真司文光堂",1,{"$f":"VLOOKUP(\"*\"&目次加工!$B$2&\"*\",J549:K549,2,0)","v":1},{"$error":"#N/A"}]
[null,null,null,{"$f":"分類順!A549","v":"「血液のがん」と言われたら…　お医者さんの話がよくわかるから安心できる"},{"$f":"分類順!B549","v":"医療の本"},{"$f":"分類順!C549","v":"Fc：血液/リンパ"},{"$f":"分類順!D549","v":"小沢敬也, 翁家国"},{"$f":"分類順!E549","v":"保健同人社"},{"$f":"分類順!F549","v":10288},"「血液のがん」と言われたら…　お医者さんの話がよくわかるから安心できる医療の本Fc：血液/リンパ小沢敬也, 翁家国保健同人社",1,{"$f":"VLOOKUP(\"*\"&目次加工!$B$2&\"*\",J550:K550,2,0)","v":1},{"$error":"#N/A"}]
[null,null,null,{"$f":"分類順!A550","v":"冷え症・貧血・低血圧　（よくわかる最新医学）"},{"$f":"分類順!B550","v":"医療の本"},{"$f":"分類順!C550","v":"Fc：血液/リンパ"},{"$f":"分類順!D550","v":"南雲久美子"},{"$f":"分類順!E550","v":"主婦の友社"},{"$f":"分類順!F550","v":10289},"冷え症・貧血・低血圧　（よくわかる最新医学）医療の本Fc：血液/リンパ南雲久美子主婦の友社",1,{"$f":"VLOOKUP(\"*\"&目次加工!$B$2&\"*\",J551:K551,2,0)","v":1},{"$error":"#N/A"}]
[null,null,null,{"$f":"分類順!A551","v":"病気がみえる　Vol.5　血液　第2版"},{"$f":"分類順!B551","v":"医療の本"},{"$f":"分類順!C551","v":"Fc：血液/リンパ"},{"$f":"分類順!D551","v":"医療情報科学研究所"},{"$f":"分類順!E551","v":"メディックメディア"},{"$f":"分類順!F551","v":10484},"病気がみえる　Vol.5　血液　第2版医療の本Fc：血液/リンパ医療情報科学研究所メディックメディア",1,{"$f":"VLOOKUP(\"*\"&目次加工!$B$2&\"*\",J552:K552,2,0)","v":1},{"$error":"#N/A"}]
[null,null,null,{"$f":"分類順!A552","v":"白血病と言われたら　疾患・治療編"},{"$f":"分類順!B552","v":"医療の本"},{"$f":"分類順!C552","v":"Fc：血液/リンパ"},{"$f":"分類順!D552","v":"特定非営利活動法人　全国骨髄バンク推進連絡協議会"},{"$f":"分類順!E552","v":"全国骨髄バンク推進連絡協議会"},{"$f":"分類順!F552","v":10502},"白血病と言われたら　疾患・治療編医療の本Fc：血液/リンパ特定非営利活動法人　全国骨髄バンク推進連絡協議会全国骨髄バンク推進連絡協議会",1,{"$f":"VLOOKUP(\"*\"&目次加工!$B$2&\"*\",J553:K553,2,0)","v":1},{"$error":"#N/A"}]
[null,null,null,{"$f":"分類順!A553","v":"白血病と言われたら　闘病支援編"},{"$f":"分類順!B553","v":"医療の本"},{"$f":"分類順!C553","v":"Fc：血液/リンパ"},{"$f":"分類順!D553","v":"特定非営利活動法人　全国骨髄バンク推進連絡協議会"},{"$f":"分類順!E553","v":"全国骨髄バンク推進連絡協議会"},{"$f":"分類順!F553","v":10503},"白血病と言われたら　闘病支援編医療の本Fc：血液/リンパ特定非営利活動法人　全国骨髄バンク推進連絡協議会全国骨髄バンク推進連絡協議会",1,{"$f":"VLOOKUP(\"*\"&目次加工!$B$2&\"*\",J554:K554,2,0)","v":1},{"$error":"#N/A"}]
[null,null,null,{"$f":"分類順!A554","v":"病気がみえるvol.5　血液　第2版"},{"$f":"分類順!B554","v":"医療の本"},{"$f":"分類順!C554","v":"Fc：血液/リンパ"},{"$f":"分類順!D554","v":"医療情報科学研究所"},{"$f":"分類順!E554","v":"メディックメディア"},{"$f":"分類順!F554","v":10536},"病気がみえるvol.5　血液　第2版医療の本Fc：血液/リンパ医療情報科学研究所メディックメディア",1,{"$f":"VLOOKUP(\"*\"&目次加工!$B$2&\"*\",J555:K555,2,0)","v":1},{"$error":"#N/A"}]
[null,null,null,{"$f":"分類順!A555","v":"リンパ浮腫　（よくわかる最新医学シリーズ）"},{"$f":"分類順!B555","v":"医療の本"},{"$f":"分類順!C555","v":"Fc：血液/リンパ"},{"$f":"分類順!D555","v":"廣田彰男　監修"},{"$f":"分類順!E555","v":"主婦の友社"},{"$f":"分類順!F555","v":10560},"リンパ浮腫　（よくわかる最新医学シリーズ）医療の本Fc：血液/リンパ廣田彰男　監修主婦の友社",1,{"$f":"VLOOKUP(\"*\"&目次加工!$B$2&\"*\",J556:K556,2,0)","v":1},{"$error":"#N/A"}]
[null,null,null,{"$f":"分類順!A556","v":"新版　下肢静脈瘤　（よくわかる最新医学シリーズ）"},{"$f":"分類順!B556","v":"医療の本"},{"$f":"分類順!C556","v":"Fc：血液/リンパ"},{"$f":"分類順!D556","v":"保坂純郎　著"},{"$f":"分類順!E556","v":"主婦の友社"},{"$f":"分類順!F556","v":10572},"新版　下肢静脈瘤　（よくわかる最新医学シリーズ）医療の本Fc：血液/リンパ保坂純郎　著主婦の友社",1,{"$f":"VLOOKUP(\"*\"&目次加工!$B$2&\"*\",J557:K557,2,0)","v":1},{"$error":"#N/A"}]
[null,null,null,{"$f":"分類順!A557","v":"冷え症・貧血・低血圧　（よくわかる最新医学シリーズ）"},{"$f":"分類順!B557","v":"医療の本"},{"$f":"分類順!C557","v":"Fc：血液/リンパ"},{"$f":"分類順!D557","v":"南雲久美子　監"},{"$f":"分類順!E557","v":"主婦の友社"},{"$f":"分類順!F557","v":10579},"冷え症・貧血・低血圧　（よくわかる最新医学シリーズ）医療の本Fc：血液/リンパ南雲久美子　監主婦の友社",1,{"$f":"VLOOKUP(\"*\"&目次加工!$B$2&\"*\",J558:K558,2,0)","v":1},{"$error":"#N/A"}]
[null,null,null,{"$f":"分類順!A558","v":"心臓・血管系"},{"$f":"分類順!B558","v":"目次へ"},{"$f":"分類順!C558","v":"※PDF版ではリンクしておりません。"},{"$f":"分類順!D558","v":0},{"$f":"分類順!E558","v":0},{"$f":"分類順!F558","v":0},"心臓・血管系目次へ※PDF版ではリンクしておりません。00",1,{"$f":"VLOOKUP(\"*\"&目次加工!$B$2&\"*\",J559:K559,2,0)","v":1},1]
[null,null,null,{"$f":"分類順!A559","v":"狭心症・心筋梗塞から身を守る"},{"$f":"分類順!B559","v":"医療の本"},{"$f":"分類順!C559","v":"Fd：心臓・血管系"},{"$f":"分類順!D559","v":"木全　心一"},{"$f":"分類順!E559","v":"講談社"},{"$f":"分類順!F559","v":310},"狭心症・心筋梗塞から身を守る医療の本Fd：心臓・血管系木全　心一講談社",1,{"$f":"VLOOKUP(\"*\"&目次加工!$B$2&\"*\",J560:K560,2,0)","v":1},{"$error":"#N/A"}]
[null,null,null,{"$f":"分類順!A560","v":"心臓病 検査と治療の最新情報を網羅　心臓病を悪化させないためには 新版"},{"$f":"分類順!B560","v":"医療の本"},{"$f":"分類順!C560","v":"Fd：心臓・血管系"},{"$f":"分類順!D560","v":"中村　治雄;主婦の友社"},{"$f":"分類順!E560","v":"主婦の友社"},{"$f":"分類順!F560","v":311},"心臓病 検査と治療の最新情報を網羅　心臓病を悪化させないためには 新版医療の本Fd：心臓・血管系中村　治雄;主婦の友社主婦の友社",1,{"$f":"VLOOKUP(\"*\"&目次加工!$B$2&\"*\",J561:K561,2,0)","v":1},{"$error":"#N/A"}]
[null,null,null,{"$f":"分類順!A561","v":"はじめてのモニター心電図"},{"$f":"分類順!B561","v":"医療の本"},{"$f":"分類順!C561","v":"Fd：心臓・血管系"},{"$f":"分類順!D561","v":"松井　由美恵　著"},{"$f":"分類順!E561","v":"メディカ出版"},{"$f":"分類順!F561","v":315},"はじめてのモニター心電図医療の本Fd：心臓・血管系松井　由美恵　著メディカ出版",1,{"$f":"VLOOKUP(\"*\"&目次加工!$B$2&\"*\",J562:K562,2,0)","v":1},{"$error":"#N/A"}]
[null,null,null,{"$f":"分類順!A562","v":"やさしい閉塞性動脈硬化症の自己管理"},{"$f":"分類順!B562","v":"医療の本"},{"$f":"分類順!C562","v":"Fd：心臓・血管系"},{"$f":"分類順!D562","v":"松尾　汎　編"},{"$f":"分類順!E562","v":"医薬ジャーナル社"},{"$f":"分類順!F562","v":318},"やさしい閉塞性動脈硬化症の自己管理医療の本Fd：心臓・血管系松尾　汎　編医薬ジャーナル社",1,{"$f":"VLOOKUP(\"*\"&目次加工!$B$2&\"*\",J563:K563,2,0)","v":1},{"$error":"#N/A"}]
[null,null,null,{"$f":"分類順!A563","v":"患者のためのやさしい心電図の見方"},{"$f":"分類順!B563","v":"医療の本"},{"$f":"分類順!C563","v":"Fd：心臓・血管系"},{"$f":"分類順!D563","v":"小沢　友紀雄　編"},{"$f":"分類順!E563","v":"医薬ジャーナル社"},{"$f":"分類順!F563","v":321},"患者のためのやさしい心電図の見方医療の本Fd：心臓・血管系小沢　友紀雄　編医薬ジャーナル社",1,{"$f":"VLOOKUP(\"*\"&目次加工!$B$2&\"*\",J564:K564,2,0)","v":1},{"$error":"#N/A"}]
[null,null,null,{"$f":"分類順!A564","v":"狭心症・心筋梗塞とつきあうコツ"},{"$f":"分類順!B564","v":"医療の本"},{"$f":"分類順!C564","v":"Fd：心臓・血管系"},{"$f":"分類順!D564","v":"佐々木　達哉　他"},{"$f":"分類順!E564","v":"フジメディカル"},{"$f":"分類順!F564","v":322},"狭心症・心筋梗塞とつきあうコツ医療の本Fd：心臓・血管系佐々木　達哉　他フジメディカル",1,{"$f":"VLOOKUP(\"*\"&目次加工!$B$2&\"*\",J565:K565,2,0)","v":1},{"$error":"#N/A"}]
[null,null,null,{"$f":"分類順!A565","v":"心臓ペースメーカー・植込み型除細動　改訂"},{"$f":"分類順!B565","v":"医療の本"},{"$f":"分類順!C565","v":"Fd：心臓・血管系"},{"$f":"分類順!D565","v":"田中　茂夫　編"},{"$f":"分類順!E565","v":"医薬ジャーナル社"},{"$f":"分類順!F565","v":332},"心臓ペースメーカー・植込み型除細動　改訂医療の本Fd：心臓・血管系田中　茂夫　編医薬ジャーナル社",1,{"$f":"VLOOKUP(\"*\"&目次加工!$B$2&\"*\",J566:K566,2,0)","v":1},{"$error":"#N/A"}]
[null,null,null,{"$f":"分類順!A566","v":"心臓病の予防・治療と生活のしかた"},{"$f":"分類順!B566","v":"医療の本"},{"$f":"分類順!C566","v":"Fd：心臓・血管系"},{"$f":"分類順!D566","v":"伊東　春樹"},{"$f":"分類順!E566","v":"主婦と生活社"},{"$f":"分類順!F566","v":335},"心臓病の予防・治療と生活のしかた医療の本Fd：心臓・血管系伊東　春樹主婦と生活社",1,{"$f":"VLOOKUP(\"*\"&目次加工!$B$2&\"*\",J567:K567,2,0)","v":1},{"$error":"#N/A"}]
[null,null,null,{"$f":"分類順!A567","v":"名医のわかりやすい狭心症・心筋梗塞　４版"},{"$f":"分類順!B567","v":"医療の本"},{"$f":"分類順!C567","v":"Fd：心臓・血管系"},{"$f":"分類順!D567","v":"小船井　良夫　著"},{"$f":"分類順!E567","v":"同文書院"},{"$f":"分類順!F567","v":1006},"名医のわかりやすい狭心症・心筋梗塞　４版医療の本Fd：心臓・血管系小船井　良夫　著同文書院",1,{"$f":"VLOOKUP(\"*\"&目次加工!$B$2&\"*\",J568:K568,2,0)","v":1},{"$error":"#N/A"}]
[null,null,null,{"$f":"分類順!A568","v":"完全図解　よくわかる心臓弁膜症"},{"$f":"分類順!B568","v":"医療の本"},{"$f":"分類順!C568","v":"Fd：心臓・血管系"},{"$f":"分類順!D568","v":"加瀬川 均　著"},{"$f":"分類順!E568","v":"講談社"},{"$f":"分類順!F568","v":5358},"完全図解　よくわかる心臓弁膜症医療の本Fd：心臓・血管系加瀬川 均　著講談社",1,{"$f":"VLOOKUP(\"*\"&目次加工!$B$2&\"*\",J569:K569,2,0)","v":1},{"$error":"#N/A"}]
[null,null,null,{"$f":"分類順!A569","v":"図解でわかる心臓病―世界一の心臓病最新治療が手に取るようによくわかる"},{"$f":"分類順!B569","v":"医療の本"},{"$f":"分類順!C569","v":"Fd：心臓・血管系"},{"$f":"分類順!D569","v":"中村 正人 監修"},{"$f":"分類順!E569","v":"主婦の友社"},{"$f":"分類順!F569","v":5359},"図解でわかる心臓病―世界一の心臓病最新治療が手に取るようによくわかる医療の本Fd：心臓・血管系中村 正人 監修主婦の友社",1,{"$f":"VLOOKUP(\"*\"&目次加工!$B$2&\"*\",J570:K570,2,0)","v":1},{"$error":"#N/A"}]
[null,null,null,{"$f":"分類順!A570","v":"病気がみえる　②：循環器　第2版"},{"$f":"分類順!B570","v":"医療の本"},{"$f":"分類順!C570","v":"Fd：心臓・血管系"},{"$f":"分類順!D570","v":0},{"$f":"分類順!E570","v":"メディックメディア"},{"$f":"分類順!F570","v":8002},"病気がみえる　②：循環器　第2版医療の本Fd：心臓・血管系0メディックメディア",1,{"$f":"VLOOKUP(\"*\"&目次加工!$B$2&\"*\",J571:K571,2,0)","v":1},1]
[null,null,null,{"$f":"分類順!A571","v":"狭心症・心筋梗塞の最新治療と発作を防ぐ安心読本"},{"$f":"分類順!B571","v":"医療の本"},{"$f":"分類順!C571","v":"Fd：心臓・血管系"},{"$f":"分類順!D571","v":"相澤忠範"},{"$f":"分類順!E571","v":"主婦と生活社"},{"$f":"分類順!F571","v":8083},"狭心症・心筋梗塞の最新治療と発作を防ぐ安心読本医療の本Fd：心臓・血管系相澤忠範主婦と生活社",1,{"$f":"VLOOKUP(\"*\"&目次加工!$B$2&\"*\",J572:K572,2,0)","v":1},{"$error":"#N/A"}]
[null,null,null,{"$f":"分類順!A572","v":"図説シリーズ　心臓ペースメーカー・植え込み型除細動器　改訂版"},{"$f":"分類順!B572","v":"医療の本"},{"$f":"分類順!C572","v":"Fd：心臓・血管系"},{"$f":"分類順!D572","v":"田中茂夫（編）"},{"$f":"分類順!E572","v":"医薬ジャーナル社"},{"$f":"分類順!F572","v":8112},"図説シリーズ　心臓ペースメーカー・植え込み型除細動器　改訂版医療の本Fd：心臓・血管系田中茂夫（編）医薬ジャーナル社",1,{"$f":"VLOOKUP(\"*\"&目次加工!$B$2&\"*\",J573:K573,2,0)","v":1},{"$error":"#N/A"}]
[null,null,null,{"$f":"分類順!A573","v":"病気がみえる　№２　循環器"},{"$f":"分類順!B573","v":"医療の本"},{"$f":"分類順!C573","v":"Fd：心臓・血管系"},{"$f":"分類順!D573","v":"メディックメディア"},{"$f":"分類順!E573","v":"メディックメディア"},{"$f":"分類順!F573","v":10012},"病気がみえる　№２　循環器医療の本Fd：心臓・血管系メディックメディアメディックメディア",1,{"$f":"VLOOKUP(\"*\"&目次加工!$B$2&\"*\",J574:K574,2,0)","v":1},{"$error":"#N/A"}]
[null,null,null,{"$f":"分類順!A574","v":"心臓病の最新治療（よくわかる最新医学シリーズ）"},{"$f":"分類順!B574","v":"医療の本"},{"$f":"分類順!C574","v":"Fd：心臓・血管系"},{"$f":"分類順!D574","v":"小橋 隆一郎"},{"$f":"分類順!E574","v":"主婦の友社"},{"$f":"分類順!F574","v":10156},"心臓病の最新治療（よくわかる最新医学シリーズ）医療の本Fd：心臓・血管系小橋 隆一郎主婦の友社",1,{"$f":"VLOOKUP(\"*\"&目次加工!$B$2&\"*\",J575:K575,2,0)","v":1},{"$error":"#N/A"}]
[null,null,null,{"$f":"分類順!A575","v":"病気がみえる　Vol.2　循環器　第4版"},{"$f":"分類順!B575","v":"医療の本"},{"$f":"分類順!C575","v":"Fd：心臓・血管系"},{"$f":"分類順!D575","v":"医療情報科学研究所"},{"$f":"分類順!E575","v":"メディックメディア"},{"$f":"分類順!F575","v":10483},"病気がみえる　Vol.2　循環器　第4版医療の本Fd：心臓・血管系医療情報科学研究所メディックメディア",1,{"$f":"VLOOKUP(\"*\"&目次加工!$B$2&\"*\",J576:K576,2,0)","v":1},{"$error":"#N/A"}]
[null,null,null,{"$f":"分類順!A576","v":"病気がみえるvol.2　循環器　第4版"},{"$f":"分類順!B576","v":"医療の本"},{"$f":"分類順!C576","v":"Fd：心臓・血管系"},{"$f":"分類順!D576","v":"医療情報科学研究所"},{"$f":"分類順!E576","v":"メディックメディア"},{"$f":"分類順!F576","v":10533},"病気がみえるvol.2　循環器　第4版医療の本Fd：心臓・血管系医療情報科学研究所メディックメディア",1,{"$f":"VLOOKUP(\"*\"&目次加工!$B$2&\"*\",J577:K577,2,0)","v":1},{"$error":"#N/A"}]
[null,null,null,{"$f":"分類順!A577","v":"がん"},{"$f":"分類順!B577","v":"目次へ"},{"$f":"分類順!C577","v":"※PDF版ではリンクしておりません。"},{"$f":"分類順!D577","v":0},{"$f":"分類順!E577","v":0},{"$f":"分類順!F577","v":0},"がん目次へ※PDF版ではリンクしておりません。00",1,{"$f":"VLOOKUP(\"*\"&目次加工!$B$2&\"*\",J578:K578,2,0)","v":1},1]
[null,null,null,{"$f":"分類順!A578","v":"がんを生きるガイド　「がん難民」にならな"},{"$f":"分類順!B578","v":"医療の本"},{"$f":"分類順!C578","v":"Fe：がん"},{"$f":"分類順!D578","v":"日経メディカル　編"},{"$f":"分類順!E578","v":"日経BP社"},{"$f":"分類順!F578","v":348},"がんを生きるガイド　「がん難民」にならな医療の本Fe：がん日経メディカル　編日経BP社",1,{"$f":"VLOOKUP(\"*\"&目次加工!$B$2&\"*\",J579:K579,2,0)","v":1},{"$error":"#N/A"}]
[null,null,null,{"$f":"分類順!A579","v":"がん患者さんの心と体の悩み解決ガイド"},{"$f":"分類順!B579","v":"医療の本"},{"$f":"分類順!C579","v":"Fe：がん"},{"$f":"分類順!D579","v":"日経メディカル"},{"$f":"分類順!E579","v":"日経BP社"},{"$f":"分類順!F579","v":349},"がん患者さんの心と体の悩み解決ガイド医療の本Fe：がん日経メディカル日経BP社",1,{"$f":"VLOOKUP(\"*\"&目次加工!$B$2&\"*\",J580:K580,2,0)","v":1},{"$f":"VLOOKUP(\"*\"&$A$2&\"*\",J580:K580,2,0)","v":{"$error":"#N/A"}}]
[null,null,null,{"$f":"分類順!A580","v":"がん術後の人の食事"},{"$f":"分類順!B580","v":"医療の本"},{"$f":"分類順!C580","v":"Fe：がん"},{"$f":"分類順!D580","v":"太田　博俊　他著"},{"$f":"分類順!E580","v":"女子栄養大学出版部"},{"$f":"分類順!F580","v":352},"がん術後の人の食事医療の本Fe：がん太田　博俊　他著女子栄養大学出版部",1,{"$f":"VLOOKUP(\"*\"&目次加工!$B$2&\"*\",J581:K581,2,0)","v":1},{"$error":"#N/A"}]
[null,null,null,{"$f":"分類順!A581","v":"あなたのためのがん用語事典"},{"$f":"分類順!B581","v":"医療の本"},{"$f":"分類順!C581","v":"Fe：がん"},{"$f":"分類順!D581","v":"日本医学ジャーナリス"},{"$f":"分類順!E581","v":"文藝春秋"},{"$f":"分類順!F581","v":361},"あなたのためのがん用語事典医療の本Fe：がん日本医学ジャーナリス文藝春秋",1,{"$f":"VLOOKUP(\"*\"&目次加工!$B$2&\"*\",J582:K582,2,0)","v":1},{"$error":"#N/A"}]
[null,null,null,{"$f":"分類順!A582","v":"がんと向き合う安心便利ノート"},{"$f":"分類順!B582","v":"医療の本"},{"$f":"分類順!C582","v":"Fe：がん"},{"$f":"分類順!D582","v":"中村　直行"},{"$f":"分類順!E582","v":"名著出版"},{"$f":"分類順!F582","v":364},"がんと向き合う安心便利ノート医療の本Fe：がん中村　直行名著出版",1,{"$f":"VLOOKUP(\"*\"&目次加工!$B$2&\"*\",J583:K583,2,0)","v":1},{"$error":"#N/A"}]
[null,null,null,{"$f":"分類順!A583","v":"がんに負けない　治療の最前線"},{"$f":"分類順!B583","v":"医療の本"},{"$f":"分類順!C583","v":"Fe：がん"},{"$f":"分類順!D583","v":"毎日新聞「がん」取材"},{"$f":"分類順!E583","v":"毎日新聞社"},{"$f":"分類順!F583","v":365},"がんに負けない　治療の最前線医療の本Fe：がん毎日新聞「がん」取材毎日新聞社",1,{"$f":"VLOOKUP(\"*\"&目次加工!$B$2&\"*\",J584:K584,2,0)","v":1},{"$error":"#N/A"}]
[null,null,null,{"$f":"分類順!A584","v":"がんはなぜ問題視されるのか"},{"$f":"分類順!B584","v":"医療の本"},{"$f":"分類順!C584","v":"Fe：がん"},{"$f":"分類順!D584","v":"谷田　憲俊"},{"$f":"分類順!E584","v":"プリメド社"},{"$f":"分類順!F584","v":369},"がんはなぜ問題視されるのか医療の本Fe：がん谷田　憲俊プリメド社",1,{"$f":"VLOOKUP(\"*\"&目次加工!$B$2&\"*\",J585:K585,2,0)","v":1},{"$error":"#N/A"}]
[null,null,null,{"$f":"分類順!A585","v":"ガン全種類別・最新治療法"},{"$f":"分類順!B585","v":"医療の本"},{"$f":"分類順!C585","v":"Fe：がん"},{"$f":"分類順!D585","v":"矢沢サイエンスオフィ"},{"$f":"分類順!E585","v":"学習研究社"},{"$f":"分類順!F585","v":379},"ガン全種類別・最新治療法医療の本Fe：がん矢沢サイエンスオフィ学習研究社",1,{"$f":"VLOOKUP(\"*\"&目次加工!$B$2&\"*\",J586:K586,2,0)","v":1},{"$error":"#N/A"}]
[null,null,null,{"$f":"分類順!A586","v":"がん疼痛治療ガイドライン"},{"$f":"分類順!B586","v":"医療の本"},{"$f":"分類順!C586","v":"Fe：がん"},{"$f":"分類順!D586","v":"日本緩和医療学会　他"},{"$f":"分類順!E586","v":"真興交易医書出版"},{"$f":"分類順!F586","v":381},"がん疼痛治療ガイドライン医療の本Fe：がん日本緩和医療学会　他真興交易医書出版",1,{"$f":"VLOOKUP(\"*\"&目次加工!$B$2&\"*\",J587:K587,2,0)","v":1},{"$error":"#N/A"}]
[null,null,null,{"$f":"分類順!A587","v":"やさしいがんの痛みの自己管理　改訂３版"},{"$f":"分類順!B587","v":"医療の本"},{"$f":"分類順!C587","v":"Fe：がん"},{"$f":"分類順!D587","v":"武田　文和　著"},{"$f":"分類順!E587","v":"医薬ジャーナル社"},{"$f":"分類順!F587","v":385},"やさしいがんの痛みの自己管理　改訂３版医療の本Fe：がん武田　文和　著医薬ジャーナル社",1,{"$f":"VLOOKUP(\"*\"&目次加工!$B$2&\"*\",J588:K588,2,0)","v":1},{"$error":"#N/A"}]
[null,null,null,{"$f":"分類順!A588","v":"よくわかる癌放射線治療の基本と実際"},{"$f":"分類順!B588","v":"医療の本"},{"$f":"分類順!C588","v":"Fe：がん"},{"$f":"分類順!D588","v":"兼平　千裕　編集"},{"$f":"分類順!E588","v":"真興交易医書出版"},{"$f":"分類順!F588","v":386},"よくわかる癌放射線治療の基本と実際医療の本Fe：がん兼平　千裕　編集真興交易医書出版",1,{"$f":"VLOOKUP(\"*\"&目次加工!$B$2&\"*\",J589:K589,2,0)","v":1},{"$error":"#N/A"}]
[null,null,null,{"$f":"分類順!A589","v":"悪化するがんの治療百科　改訂版"},{"$f":"分類順!B589","v":"医療の本"},{"$f":"分類順!C589","v":"Fe：がん"},{"$f":"分類順!D589","v":"幕内　雅敏　監修"},{"$f":"分類順!E589","v":"三省堂"},{"$f":"分類順!F589","v":387},"悪化するがんの治療百科　改訂版医療の本Fe：がん幕内　雅敏　監修三省堂",1,{"$f":"VLOOKUP(\"*\"&目次加工!$B$2&\"*\",J590:K590,2,0)","v":1},{"$error":"#N/A"}]
[null,null,null,{"$f":"分類順!A590","v":"癌についての５０５の質問に答える"},{"$f":"分類順!B590","v":"医療の本"},{"$f":"分類順!C590","v":"Fe：がん"},{"$f":"分類順!D590","v":"小川　道雄　編著"},{"$f":"分類順!E590","v":"へるす出版"},{"$f":"分類順!F590","v":395},"癌についての５０５の質問に答える医療の本Fe：がん小川　道雄　編著へるす出版",1,{"$f":"VLOOKUP(\"*\"&目次加工!$B$2&\"*\",J591:K591,2,0)","v":1},{"$error":"#N/A"}]
[null,null,null,{"$f":"分類順!A591","v":"痛みのケア　慢性痛、がん性疼痛へのアプロ"},{"$f":"分類順!B591","v":"医療の本"},{"$f":"分類順!C591","v":"Fe：がん"},{"$f":"分類順!D591","v":"熊澤　孝朗"},{"$f":"分類順!E591","v":"照林社"},{"$f":"分類順!F591","v":403},"痛みのケア　慢性痛、がん性疼痛へのアプロ医療の本Fe：がん熊澤　孝朗照林社",1,{"$f":"VLOOKUP(\"*\"&目次加工!$B$2&\"*\",J592:K592,2,0)","v":1},{"$error":"#N/A"}]
[null,null,null,{"$f":"分類順!A592","v":"がん患者ケアＱ＆Ａ－乳がん・消化器がんの"},{"$f":"分類順!B592","v":"医療の本"},{"$f":"分類順!C592","v":"Fe：がん"},{"$f":"分類順!D592","v":"古河　洋　他監修"},{"$f":"分類順!E592","v":"じほう"},{"$f":"分類順!F592","v":549},"がん患者ケアＱ＆Ａ－乳がん・消化器がんの医療の本Fe：がん古河　洋　他監修じほう",1,{"$f":"VLOOKUP(\"*\"&目次加工!$B$2&\"*\",J593:K593,2,0)","v":1},{"$error":"#N/A"}]
[null,null,null,{"$f":"分類順!A593","v":"もしも、がんが再発したら"},{"$f":"分類順!B593","v":"医療の本"},{"$f":"分類順!C593","v":"Fe：がん"},{"$f":"分類順!D593","v":"国立がん研究センター、がん対策情報センター"},{"$f":"分類順!E593","v":"英治出版"},{"$f":"分類順!F593","v":5333},"もしも、がんが再発したら医療の本Fe：がん国立がん研究センター、がん対策情報センター英治出版",1,{"$f":"VLOOKUP(\"*\"&目次加工!$B$2&\"*\",J594:K594,2,0)","v":1},{"$error":"#N/A"}]
[null,null,null,{"$f":"分類順!A594","v":"がんを生きる十二か条"},{"$f":"分類順!B594","v":"医療の本"},{"$f":"分類順!C594","v":"Fe：がん"},{"$f":"分類順!D594","v":"愛場庸雅"},{"$f":"分類順!E594","v":"NULL"},{"$f":"分類順!F594","v":5427},{"$f":"D595&E595&F595&G595&H595","v":"がんを生きる十二か条医療の本Fe：がん愛場庸雅NULL"},1,{"$f":"VLOOKUP(\"*\"&目次加工!$B$2&\"*\",J595:K595,2,0)","v":1},{"$error":"#N/A"}]
[null,null,null,{"$f":"分類順!A595","v":"安心立命有為転変"},{"$f":"分類順!B595","v":"一般図書"},{"$f":"分類順!C595","v":"Fe：がん"},{"$f":"分類順!D595","v":"福原拾十"},{"$f":"分類順!E595","v":"宮日文化情報センター"},{"$f":"分類順!F595","v":5464},"安心立命有為転変一般図書Fe：がん福原拾十宮日文化情報センター",1,{"$f":"VLOOKUP(\"*\"&目次加工!$B$2&\"*\",J596:K596,2,0)","v":1},{"$error":"#N/A"}]
[null,null,null,{"$f":"分類順!A596","v":"お父さん・お母さんががんになってしまったら"},{"$f":"分類順!B596","v":"医療の本"},{"$f":"分類順!C596","v":"Fe：がん"},{"$f":"分類順!D596","v":"Ann Couldrick"},{"$f":"分類順!E596","v":"ピラールプレス"},{"$f":"分類順!F596","v":5471},"お父さん・お母さんががんになってしまったら医療の本Fe：がんAnn Couldrickピラールプレス",1,{"$f":"VLOOKUP(\"*\"&目次加工!$B$2&\"*\",J597:K597,2,0)","v":1},{"$error":"#N/A"}]
[null,null,null,{"$f":"分類順!A597","v":"がんで不安なあなたへー心のケアの道しるべー"},{"$f":"分類順!B597","v":"医療の本"},{"$f":"分類順!C597","v":"Fe：がん"},{"$f":"分類順!D597","v":"岡村　仁"},{"$f":"分類順!E597","v":"メディカルトリビューン"},{"$f":"分類順!F597","v":5472},"がんで不安なあなたへー心のケアの道しるべー医療の本Fe：がん岡村　仁メディカルトリビューン",1,{"$f":"VLOOKUP(\"*\"&目次加工!$B$2&\"*\",J598:K598,2,0)","v":1},{"$error":"#N/A"}]
[null,null,null,{"$f":"分類順!A598","v":"がんと一緒に働こう！必携ＣＲＳハンドブック"},{"$f":"分類順!B598","v":"医療の本"},{"$f":"分類順!C598","v":"Fe：がん"},{"$f":"分類順!D598","v":"ＣＳＲプロジェクト"},{"$f":"分類順!E598","v":"合同出版"},{"$f":"分類順!F598","v":5473},"がんと一緒に働こう！必携ＣＲＳハンドブック医療の本Fe：がんＣＳＲプロジェクト合同出版",1,{"$f":"VLOOKUP(\"*\"&目次加工!$B$2&\"*\",J599:K599,2,0)","v":1},{"$error":"#N/A"}]
[null,null,null,{"$f":"分類順!A599","v":"がん専任栄養士が患者さんの声を聞いてつくった７３の食事レシピ"},{"$f":"分類順!B599","v":"医療の本"},{"$f":"分類順!C599","v":"Fe：がん"},{"$f":"分類順!D599","v":"川口美喜子/青山広美"},{"$f":"分類順!E599","v":"医学書院"},{"$f":"分類順!F599","v":5474},"がん専任栄養士が患者さんの声を聞いてつくった７３の食事レシピ医療の本Fe：がん川口美喜子/青山広美医学書院",1,{"$f":"VLOOKUP(\"*\"&目次加工!$B$2&\"*\",J600:K600,2,0)","v":1},{"$error":"#N/A"}]
[null,null,null,{"$f":"分類順!A600","v":"栄養とがん"},{"$f":"分類順!B600","v":"医療の本"},{"$f":"分類順!C600","v":"Fe：がん"},{"$f":"分類順!D600","v":"ネスレ栄養科学会議"},{"$f":"分類順!E600","v":"建帛社"},{"$f":"分類順!F600","v":5475},"栄養とがん医療の本Fe：がんネスレ栄養科学会議建帛社",1,{"$f":"VLOOKUP(\"*\"&目次加工!$B$2&\"*\",J601:K601,2,0)","v":1},{"$error":"#N/A"}]
[null,null,null,{"$f":"分類順!A601","v":"やさしい造血幹細胞移植後のＱＯＬの向上"},{"$f":"分類順!B601","v":"医療の本"},{"$f":"分類順!C601","v":"Fe：がん"},{"$f":"分類順!D601","v":"室井一男"},{"$f":"分類順!E601","v":"医薬ジャーナル社"},{"$f":"分類順!F601","v":5476},"やさしい造血幹細胞移植後のＱＯＬの向上医療の本Fe：がん室井一男医薬ジャーナル社",1,{"$f":"VLOOKUP(\"*\"&目次加工!$B$2&\"*\",J602:K602,2,0)","v":1},{"$error":"#N/A"}]
[null,null,null,{"$f":"分類順!A602","v":"よくわかる造血幹細胞移植コーディネートクリニカル移植コーディネーﾀｰからのヒント"},{"$f":"分類順!B602","v":"医療の本"},{"$f":"分類順!C602","v":"Fe：がん"},{"$f":"分類順!D602","v":"加藤俊一"},{"$f":"分類順!E602","v":"医薬ジャーナル社"},{"$f":"分類順!F602","v":5477},"よくわかる造血幹細胞移植コーディネートクリニカル移植コーディネーﾀｰからのヒント医療の本Fe：がん加藤俊一医薬ジャーナル社",1,{"$f":"VLOOKUP(\"*\"&目次加工!$B$2&\"*\",J603:K603,2,0)","v":1},{"$error":"#N/A"}]
[null,null,null,{"$f":"分類順!A603","v":"イラストでよくわかるがん治療とサポーティブケア"},{"$f":"分類順!B603","v":"医療の本"},{"$f":"分類順!C603","v":"Fe：がん"},{"$f":"分類順!D603","v":"田口哲也"},{"$f":"分類順!E603","v":"じほう"},{"$f":"分類順!F603","v":5478},"イラストでよくわかるがん治療とサポーティブケア医療の本Fe：がん田口哲也じほう",1,{"$f":"VLOOKUP(\"*\"&目次加工!$B$2&\"*\",J604:K604,2,0)","v":1},{"$error":"#N/A"}]
[null,null,null,{"$f":"分類順!A604","v":"がんのひみつ"},{"$f":"分類順!B604","v":"医療の本"},{"$f":"分類順!C604","v":"Fe：がん"},{"$f":"分類順!D604","v":"中川恵一"},{"$f":"分類順!E604","v":"朝日出版社"},{"$f":"分類順!F604","v":5503},"がんのひみつ医療の本Fe：がん中川恵一朝日出版社",1,{"$f":"VLOOKUP(\"*\"&目次加工!$B$2&\"*\",J605:K605,2,0)","v":1},{"$error":"#N/A"}]
[null,null,null,{"$f":"分類順!A605","v":"最新！がん治療予防から緩和ケアまですべてがわかる"},{"$f":"分類順!B605","v":"医療の本"},{"$f":"分類順!C605","v":"Fe：がん"},{"$f":"分類順!D605","v":"弘前大学大学院医学研究科"},{"$f":"分類順!E605","v":"朝日新聞出版"},{"$f":"分類順!F605","v":5504},"最新！がん治療予防から緩和ケアまですべてがわかる医療の本Fe：がん弘前大学大学院医学研究科朝日新聞出版",1,{"$f":"VLOOKUP(\"*\"&目次加工!$B$2&\"*\",J606:K606,2,0)","v":1},{"$error":"#N/A"}]
[null,null,null,{"$f":"分類順!A606","v":"がんとこころのケア"},{"$f":"分類順!B606","v":"医療の本"},{"$f":"分類順!C606","v":"Fe：がん"},{"$f":"分類順!D606","v":"明智龍男"},{"$f":"分類順!E606","v":"NHK出版"},{"$f":"分類順!F606","v":5505},"がんとこころのケア医療の本Fe：がん明智龍男NHK出版",1,{"$f":"VLOOKUP(\"*\"&目次加工!$B$2&\"*\",J607:K607,2,0)","v":1},{"$error":"#N/A"}]
[null,null,null,{"$f":"分類順!A607","v":"ガンに打ち勝つ患者学末期ガンから生還した1万５０００人の経験に学ぶ"},{"$f":"分類順!B607","v":"医療の本"},{"$f":"分類順!C607","v":"Fe：がん"},{"$f":"分類順!D607","v":"グレッグ・ダンダーソン"},{"$f":"分類順!E607","v":"実業之日本社"},{"$f":"分類順!F607","v":5506},"ガンに打ち勝つ患者学末期ガンから生還した1万５０００人の経験に学ぶ医療の本Fe：がんグレッグ・ダンダーソン実業之日本社",1,{"$f":"VLOOKUP(\"*\"&目次加工!$B$2&\"*\",J608:K608,2,0)","v":1},{"$error":"#N/A"}]
[null,null,null,{"$f":"分類順!A608","v":"がん「余命半年」からの生還患者と家族のための実践マニュアル"},{"$f":"分類順!B608","v":"医療の本"},{"$f":"分類順!C608","v":"Fe：がん"},{"$f":"分類順!D608","v":"平塚厚子"},{"$f":"分類順!E608","v":"梧桐書院"},{"$f":"分類順!F608","v":5507},"がん「余命半年」からの生還患者と家族のための実践マニュアル医療の本Fe：がん平塚厚子梧桐書院",1,{"$f":"VLOOKUP(\"*\"&目次加工!$B$2&\"*\",J609:K609,2,0)","v":1},{"$error":"#N/A"}]
[null,null,null,{"$f":"分類順!A609","v":"がんに効く生活克服した医師の自分でできる"},{"$f":"分類順!B609","v":"医療の本"},{"$f":"分類順!C609","v":"Fe：がん"},{"$f":"分類順!D609","v":"ダヴィド・S.シュレベール"},{"$f":"分類順!E609","v":"日本放送出版協会"},{"$f":"分類順!F609","v":5508},"がんに効く生活克服した医師の自分でできる医療の本Fe：がんダヴィド・S.シュレベール日本放送出版協会",1,{"$f":"VLOOKUP(\"*\"&目次加工!$B$2&\"*\",J610:K610,2,0)","v":1},{"$error":"#N/A"}]
[null,null,null,{"$f":"分類順!A610","v":"がん患者、お金との闘い"},{"$f":"分類順!B610","v":"医療の本"},{"$f":"分類順!C610","v":"Fe：がん"},{"$f":"分類順!D610","v":"札幌テレビ放送取材班"},{"$f":"分類順!E610","v":"岩波書店"},{"$f":"分類順!F610","v":5509},"がん患者、お金との闘い医療の本Fe：がん札幌テレビ放送取材班岩波書店",1,{"$f":"VLOOKUP(\"*\"&目次加工!$B$2&\"*\",J611:K611,2,0)","v":1},{"$error":"#N/A"}]
[null,null,null,{"$f":"分類順!A611","v":"がんとお金の本"},{"$f":"分類順!B611","v":"医療の本"},{"$f":"分類順!C611","v":"Fe：がん"},{"$f":"分類順!D611","v":"黒田尚子"},{"$f":"分類順!E611","v":"ビーシーケイ"},{"$f":"分類順!F611","v":5510},"がんとお金の本医療の本Fe：がん黒田尚子ビーシーケイ",1,{"$f":"VLOOKUP(\"*\"&目次加工!$B$2&\"*\",J612:K612,2,0)","v":1},{"$error":"#N/A"}]
[null,null,null,{"$f":"分類順!A612","v":"日本一わかりやすいがんの教科書"},{"$f":"分類順!B612","v":"医療の本"},{"$f":"分類順!C612","v":"Fe：がん"},{"$f":"分類順!D612","v":"水上治"},{"$f":"分類順!E612","v":"PHP研究所"},{"$f":"分類順!F612","v":5512},"日本一わかりやすいがんの教科書医療の本Fe：がん水上治PHP研究所",1,{"$f":"VLOOKUP(\"*\"&目次加工!$B$2&\"*\",J613:K613,2,0)","v":1},{"$error":"#N/A"}]
[null,null,null,{"$f":"分類順!A613","v":"がん患者の「迷い」に専門医が本音で答える本"},{"$f":"分類順!B613","v":"医療の本"},{"$f":"分類順!C613","v":"Fe：がん"},{"$f":"分類順!D613","v":"水上治"},{"$f":"分類順!E613","v":"草思社"},{"$f":"分類順!F613","v":5513},"がん患者の「迷い」に専門医が本音で答える本医療の本Fe：がん水上治草思社",1,{"$f":"VLOOKUP(\"*\"&目次加工!$B$2&\"*\",J614:K614,2,0)","v":1},{"$error":"#N/A"}]
[null,null,null,{"$f":"分類順!A614","v":"国立がん研究センターのがんの本がんの予防　科学的根拠にもとづいて"},{"$f":"分類順!B614","v":"医療の本"},{"$f":"分類順!C614","v":"Fe：がん"},{"$f":"分類順!D614","v":"がん予防・検診研究ｾﾝﾀｰ"},{"$f":"分類順!E614","v":"小学館クリエイティブ"},{"$f":"分類順!F614","v":5514},"国立がん研究センターのがんの本がんの予防　科学的根拠にもとづいて医療の本Fe：がんがん予防・検診研究ｾﾝﾀｰ小学館クリエイティブ",1,{"$f":"VLOOKUP(\"*\"&目次加工!$B$2&\"*\",J615:K615,2,0)","v":1},{"$error":"#N/A"}]
[null,null,null,{"$f":"分類順!A615","v":"ガンがゆっくり消えていく　再発・転移を防ぐ１７の戦略"},{"$f":"分類順!B615","v":"医療の本"},{"$f":"分類順!C615","v":"Fe：がん"},{"$f":"分類順!D615","v":"中山武"},{"$f":"分類順!E615","v":"草思社"},{"$f":"分類順!F615","v":5515},"ガンがゆっくり消えていく　再発・転移を防ぐ１７の戦略医療の本Fe：がん中山武草思社",1,{"$f":"VLOOKUP(\"*\"&目次加工!$B$2&\"*\",J616:K616,2,0)","v":1},{"$error":"#N/A"}]
[null,null,null,{"$f":"分類順!A616","v":"がん　生と死の謎に挑む"},{"$f":"分類順!B616","v":"医療の本"},{"$f":"分類順!C616","v":"Fe：がん"},{"$f":"分類順!D616","v":"立花隆/ＮＨＫスペシャル取材班"},{"$f":"分類順!E616","v":"文藝春秋"},{"$f":"分類順!F616","v":5516},"がん　生と死の謎に挑む医療の本Fe：がん立花隆/ＮＨＫスペシャル取材班文藝春秋",1,{"$f":"VLOOKUP(\"*\"&目次加工!$B$2&\"*\",J617:K617,2,0)","v":1},{"$error":"#N/A"}]
[null,null,null,{"$f":"分類順!A617","v":"サイモントン療法　治癒に導くがんのイメージ療法"},{"$f":"分類順!B617","v":"医療の本"},{"$f":"分類順!C617","v":"Fe：がん"},{"$f":"分類順!D617","v":"川端伸子"},{"$f":"分類順!E617","v":"同文館出版"},{"$f":"分類順!F617","v":5517},"サイモントン療法　治癒に導くがんのイメージ療法医療の本Fe：がん川端伸子同文館出版",1,{"$f":"VLOOKUP(\"*\"&目次加工!$B$2&\"*\",J618:K618,2,0)","v":1},{"$error":"#N/A"}]
[null,null,null,{"$f":"分類順!A618","v":"がん患者さんの心と体の悩み解決ガイド"},{"$f":"分類順!B618","v":"医療の本"},{"$f":"分類順!C618","v":"Fe：がん"},{"$f":"分類順!D618","v":"日経メディカル"},{"$f":"分類順!E618","v":"日経BP社"},{"$f":"分類順!F618","v":5518},"がん患者さんの心と体の悩み解決ガイド医療の本Fe：がん日経メディカル日経BP社",1,{"$f":"VLOOKUP(\"*\"&目次加工!$B$2&\"*\",J619:K619,2,0)","v":1},{"$error":"#N/A"}]
[null,null,null,{"$f":"分類順!A619","v":"象の背中"},{"$f":"分類順!B619","v":"医療の本"},{"$f":"分類順!C619","v":"Fe：がん"},{"$f":"分類順!D619","v":"秋元康"},{"$f":"分類順!E619","v":"扶桑社"},{"$f":"分類順!F619","v":5539},"象の背中医療の本Fe：がん秋元康扶桑社",1,{"$f":"VLOOKUP(\"*\"&目次加工!$B$2&\"*\",J620:K620,2,0)","v":1},{"$error":"#N/A"}]
[null,null,null,{"$f":"分類順!A620","v":"がん!患者会と相談窓口全ガイド"},{"$f":"分類順!B620","v":"医療の本"},{"$f":"分類順!C620","v":"Fe：がん"},{"$f":"分類順!D620","v":"いいなステーション"},{"$f":"分類順!E620","v":"三省堂"},{"$f":"分類順!F620","v":5540},"がん!患者会と相談窓口全ガイド医療の本Fe：がんいいなステーション三省堂",1,{"$f":"VLOOKUP(\"*\"&目次加工!$B$2&\"*\",J621:K621,2,0)","v":1},{"$error":"#N/A"}]
[null,null,null,{"$f":"分類順!A621","v":"がんを生きる"},{"$f":"分類順!B621","v":"医療の本"},{"$f":"分類順!C621","v":"Fe：がん"},{"$f":"分類順!D621","v":"佐々木常雄"},{"$f":"分類順!E621","v":"講談社現代新書"},{"$f":"分類順!F621","v":5543},"がんを生きる医療の本Fe：がん佐々木常雄講談社現代新書",1,{"$f":"VLOOKUP(\"*\"&目次加工!$B$2&\"*\",J622:K622,2,0)","v":1},{"$error":"#N/A"}]
[null,null,null,{"$f":"分類順!A622","v":"月のかがやく夜に-がんと向きあうあなたのために-"},{"$f":"分類順!B622","v":"医療の本"},{"$f":"分類順!C622","v":"Fe：がん"},{"$f":"分類順!D622","v":"リササックスヤッファ"},{"$f":"分類順!E622","v":"先端医学社"},{"$f":"分類順!F622","v":5556},"月のかがやく夜に-がんと向きあうあなたのために-医療の本Fe：がんリササックスヤッファ先端医学社",1,{"$f":"VLOOKUP(\"*\"&目次加工!$B$2&\"*\",J623:K623,2,0)","v":1},{"$error":"#N/A"}]
[null,null,null,{"$f":"分類順!A623","v":"ビジュアル版　がんの教科書"},{"$f":"分類順!B623","v":"医療の本"},{"$f":"分類順!C623","v":"Fe：がん"},{"$f":"分類順!D623","v":"中川恵一"},{"$f":"分類順!E623","v":"三省堂"},{"$f":"分類順!F623","v":8013},"ビジュアル版　がんの教科書医療の本Fe：がん中川恵一三省堂",1,{"$f":"VLOOKUP(\"*\"&目次加工!$B$2&\"*\",J624:K624,2,0)","v":1},{"$error":"#N/A"}]
[null,null,null,{"$f":"分類順!A624","v":"絵でわかるがんと遺伝子"},{"$f":"分類順!B624","v":"医療の本"},{"$f":"分類順!C624","v":"Fe：がん"},{"$f":"分類順!D624","v":"野島　博"},{"$f":"分類順!E624","v":"講談社"},{"$f":"分類順!F624","v":8053},"絵でわかるがんと遺伝子医療の本Fe：がん野島　博講談社",1,{"$f":"VLOOKUP(\"*\"&目次加工!$B$2&\"*\",J625:K625,2,0)","v":1},{"$error":"#N/A"}]
[null,null,null,{"$f":"分類順!A625","v":"患者さんのための乳がん診療ガイドライン 2009年版"},{"$f":"分類順!B625","v":"医療の本"},{"$f":"分類順!C625","v":"Fe：がん"},{"$f":"分類順!D625","v":0},{"$f":"分類順!E625","v":"金原出版"},{"$f":"分類順!F625","v":8054},"患者さんのための乳がん診療ガイドライン 2009年版医療の本Fe：がん0金原出版",1,{"$f":"VLOOKUP(\"*\"&目次加工!$B$2&\"*\",J626:K626,2,0)","v":1},1]
[null,null,null,{"$f":"分類順!A626","v":"がん・家族はどうしたらよいか"},{"$f":"分類順!B626","v":"医療の本"},{"$f":"分類順!C626","v":"Fe：がん"},{"$f":"分類順!D626","v":"季羽倭文子"},{"$f":"分類順!E626","v":"池田書店"},{"$f":"分類順!F626","v":8088},"がん・家族はどうしたらよいか医療の本Fe：がん季羽倭文子池田書店",1,{"$f":"VLOOKUP(\"*\"&目次加工!$B$2&\"*\",J627:K627,2,0)","v":1},{"$error":"#N/A"}]
[null,null,null,{"$f":"分類順!A627","v":"がんに負けない、あきらめないコツ"},{"$f":"分類順!B627","v":"医療の本"},{"$f":"分類順!C627","v":"Fe：がん"},{"$f":"分類順!D627","v":"鎌田　實"},{"$f":"分類順!E627","v":"朝日新聞出版"},{"$f":"分類順!F627","v":8121},"がんに負けない、あきらめないコツ医療の本Fe：がん鎌田　實朝日新聞出版",1,{"$f":"VLOOKUP(\"*\"&目次加工!$B$2&\"*\",J628:K628,2,0)","v":1},{"$error":"#N/A"}]
[null,null,null,{"$f":"分類順!A628","v":"がん患者と家族のためのサポートグループ"},{"$f":"分類順!B628","v":"医療の本"},{"$f":"分類順!C628","v":"Fe：がん"},{"$f":"分類順!D628","v":"デヴィッド・スピーゲル"},{"$f":"分類順!E628","v":"医学書院"},{"$f":"分類順!F628","v":10036},"がん患者と家族のためのサポートグループ医療の本Fe：がんデヴィッド・スピーゲル医学書院",1,{"$f":"VLOOKUP(\"*\"&目次加工!$B$2&\"*\",J629:K629,2,0)","v":1},{"$error":"#N/A"}]
[null,null,null,{"$f":"分類順!A629","v":"がん患者のための地域の療養情報"},{"$f":"分類順!B629","v":"医療の本"},{"$f":"分類順!C629","v":"Fe：がん"},{"$f":"分類順!D629","v":"大阪府立成人病センター"},{"$f":"分類順!E629","v":"大阪府立成人病センター"},{"$f":"分類順!F629","v":10037},"がん患者のための地域の療養情報医療の本Fe：がん大阪府立成人病センター大阪府立成人病センター",1,{"$f":"VLOOKUP(\"*\"&目次加工!$B$2&\"*\",J630:K630,2,0)","v":1},{"$error":"#N/A"}]
[null,null,null,{"$f":"分類順!A630","v":"がんになったら手にとるガイド"},{"$f":"分類順!B630","v":"医療の本"},{"$f":"分類順!C630","v":"Fe：がん"},{"$f":"分類順!D630","v":"国立がん研究センター"},{"$f":"分類順!E630","v":"学研メディカル秀潤社"},{"$f":"分類順!F630","v":10039},"がんになったら手にとるガイド医療の本Fe：がん国立がん研究センター学研メディカル秀潤社",1,{"$f":"VLOOKUP(\"*\"&目次加工!$B$2&\"*\",J631:K631,2,0)","v":1},{"$error":"#N/A"}]
[null,null,null,{"$f":"分類順!A631","v":"がん研有明病院の抗がん剤・放射線治療に向きあう食事"},{"$f":"分類順!B631","v":"医療の本"},{"$f":"分類順!C631","v":"Fe：がん"},{"$f":"分類順!D631","v":"伊沢由紀子, 小口正彦"},{"$f":"分類順!E631","v":"女子栄養大学出版部"},{"$f":"分類順!F631","v":10275},"がん研有明病院の抗がん剤・放射線治療に向きあう食事医療の本Fe：がん伊沢由紀子, 小口正彦女子栄養大学出版部",1,{"$f":"VLOOKUP(\"*\"&目次加工!$B$2&\"*\",J632:K632,2,0)","v":1},{"$error":"#N/A"}]
[null,null,null,{"$f":"分類順!A632","v":"家族のケアでがんは消える　患者を生還に導く48の智恵"},{"$f":"分類順!B632","v":"医療の本"},{"$f":"分類順!C632","v":"Fe：がん"},{"$f":"分類順!D632","v":"野本篤志"},{"$f":"分類順!E632","v":"遊タイム出版"},{"$f":"分類順!F632","v":10276},"家族のケアでがんは消える　患者を生還に導く48の智恵医療の本Fe：がん野本篤志遊タイム出版",1,{"$f":"VLOOKUP(\"*\"&目次加工!$B$2&\"*\",J633:K633,2,0)","v":1},{"$error":"#N/A"}]
[null,null,null,{"$f":"分類順!A633","v":"がん放射線治療　（がん看護セレクション）"},{"$f":"分類順!B633","v":"医療の本"},{"$f":"分類順!C633","v":"Fe：がん"},{"$f":"分類順!D633","v":"唐澤久美子, 藤本美生"},{"$f":"分類順!E633","v":"学研メディカル秀潤社"},{"$f":"分類順!F633","v":10277},"がん放射線治療　（がん看護セレクション）医療の本Fe：がん唐澤久美子, 藤本美生学研メディカル秀潤社",1,{"$f":"VLOOKUP(\"*\"&目次加工!$B$2&\"*\",J634:K634,2,0)","v":1},{"$error":"#N/A"}]
[null,null,null,{"$f":"分類順!A634","v":"がんとともに、自分らしく生きる　希望をもって、がんと向き合う「ＨＢＭ」のすすめ"},{"$f":"分類順!B634","v":"医療の本"},{"$f":"分類順!C634","v":"Fe：がん"},{"$f":"分類順!D634","v":"高野　利実"},{"$f":"分類順!E634","v":"きずな出版"},{"$f":"分類順!F634","v":10330},"がんとともに、自分らしく生きる　希望をもって、がんと向き合う「ＨＢＭ」のすすめ医療の本Fe：がん高野　利実きずな出版",1,{"$f":"VLOOKUP(\"*\"&目次加工!$B$2&\"*\",J635:K635,2,0)","v":1},{"$error":"#N/A"}]
[null,null,null,{"$f":"分類順!A635","v":"末期がんの逆転の治療法"},{"$f":"分類順!B635","v":"医療の本"},{"$f":"分類順!C635","v":"Fe：がん"},{"$f":"分類順!D635","v":"前山和宏"},{"$f":"分類順!E635","v":"幻冬舎"},{"$f":"分類順!F635","v":10338},"末期がんの逆転の治療法医療の本Fe：がん前山和宏幻冬舎",1,{"$f":"VLOOKUP(\"*\"&目次加工!$B$2&\"*\",J636:K636,2,0)","v":1},{"$error":"#N/A"}]
[null,null,null,{"$f":"分類順!A636","v":"振り回されない「がん」医療"},{"$f":"分類順!B636","v":"医療の本"},{"$f":"分類順!C636","v":"Fe：がん"},{"$f":"分類順!D636","v":"福嶋敬宜"},{"$f":"分類順!E636","v":"ワニブックス"},{"$f":"分類順!F636","v":10339},"振り回されない「がん」医療医療の本Fe：がん福嶋敬宜ワニブックス",1,{"$f":"VLOOKUP(\"*\"&目次加工!$B$2&\"*\",J637:K637,2,0)","v":1},{"$error":"#N/A"}]
[null,null,null,{"$f":"分類順!A637","v":"がんでも長生き心のメソッド"},{"$f":"分類順!B637","v":"医療の本"},{"$f":"分類順!C637","v":"Fe：がん"},{"$f":"分類順!D637","v":"保坂隆"},{"$f":"分類順!E637","v":"マガジンハウス"},{"$f":"分類順!F637","v":10340},"がんでも長生き心のメソッド医療の本Fe：がん保坂隆マガジンハウス",1,{"$f":"VLOOKUP(\"*\"&目次加工!$B$2&\"*\",J638:K638,2,0)","v":1},{"$error":"#N/A"}]
[null,null,null,{"$f":"分類順!A638","v":"心配しないでいいですよ　放射線治療　改訂2版"},{"$f":"分類順!B638","v":"医療の本"},{"$f":"分類順!C638","v":"Fe：がん"},{"$f":"分類順!D638","v":"がん研有明病院　放射線治療部"},{"$f":"分類順!E638","v":"真興交易医書出版"},{"$f":"分類順!F638","v":10341},"心配しないでいいですよ　放射線治療　改訂2版医療の本Fe：がんがん研有明病院　放射線治療部真興交易医書出版",1,{"$f":"VLOOKUP(\"*\"&目次加工!$B$2&\"*\",J639:K639,2,0)","v":1},{"$error":"#N/A"}]
[null,null,null,{"$f":"分類順!A639","v":"余命3カ月のガンを消したムラキテルミさんの奇跡のレシピ"},{"$f":"分類順!B639","v":"医療の本"},{"$f":"分類順!C639","v":"Fe：がん"},{"$f":"分類順!D639","v":"ムラキテルミ"},{"$f":"分類順!E639","v":"主婦の友社"},{"$f":"分類順!F639","v":10342},"余命3カ月のガンを消したムラキテルミさんの奇跡のレシピ医療の本Fe：がんムラキテルミ主婦の友社",1,{"$f":"VLOOKUP(\"*\"&目次加工!$B$2&\"*\",J640:K640,2,0)","v":1},{"$error":"#N/A"}]
[null,null,null,{"$f":"分類順!A640","v":"大切な人をがんから守るため今できること命の食事"},{"$f":"分類順!B640","v":"医療の本"},{"$f":"分類順!C640","v":"Fe：がん"},{"$f":"分類順!D640","v":"南雲吉則"},{"$f":"分類順!E640","v":"主婦の友社"},{"$f":"分類順!F640","v":10343},"大切な人をがんから守るため今できること命の食事医療の本Fe：がん南雲吉則主婦の友社",1,{"$f":"VLOOKUP(\"*\"&目次加工!$B$2&\"*\",J641:K641,2,0)","v":1},{"$error":"#N/A"}]
[null,null,null,{"$f":"分類順!A641","v":"患者さんと家族のための放射線治療Q&A"},{"$f":"分類順!B641","v":"医療の本"},{"$f":"分類順!C641","v":"Fe：がん"},{"$f":"分類順!D641","v":"日本放射線腫瘍学会"},{"$f":"分類順!E641","v":"金原出版"},{"$f":"分類順!F641","v":10344},"患者さんと家族のための放射線治療Q&A医療の本Fe：がん日本放射線腫瘍学会金原出版",1,{"$f":"VLOOKUP(\"*\"&目次加工!$B$2&\"*\",J642:K642,2,0)","v":1},{"$error":"#N/A"}]
[null,null,null,{"$f":"分類順!A642","v":"がんになって、止めたこと、やったこと"},{"$f":"分類順!B642","v":"医療の本"},{"$f":"分類順!C642","v":"Fe：がん"},{"$f":"分類順!D642","v":"野中秀訓"},{"$f":"分類順!E642","v":"主婦の友社"},{"$f":"分類順!F642","v":10345},"がんになって、止めたこと、やったこと医療の本Fe：がん野中秀訓主婦の友社",1,{"$f":"VLOOKUP(\"*\"&目次加工!$B$2&\"*\",J643:K643,2,0)","v":1},{"$error":"#N/A"}]
[null,null,null,{"$f":"分類順!A643","v":"若年性がん患者情報マガジン　STAND UP! 2017.08"},{"$f":"分類順!B643","v":"医療の本"},{"$f":"分類順!C643","v":"Fe：がん"},{"$f":"分類順!D643","v":"若年性がん患者団体STAND UP!!"},{"$f":"分類順!E643","v":"NULL"},{"$f":"分類順!F643","v":10451},"若年性がん患者情報マガジン　STAND UP! 2017.08医療の本Fe：がん若年性がん患者団体STAND UP!!NULL",1,{"$f":"VLOOKUP(\"*\"&目次加工!$B$2&\"*\",J644:K644,2,0)","v":1},{"$f":"VLOOKUP(\"*\"&$A$2&\"*\",J644:K644,2,0)","v":1}]
[null,null,null,{"$f":"分類順!A644","v":"自分らしい「がん」とのつきあい方"},{"$f":"分類順!B644","v":"医療の本"},{"$f":"分類順!C644","v":"Fe：がん"},{"$f":"分類順!D644","v":"富永博"},{"$f":"分類順!E644","v":"ウィング出版"},{"$f":"分類順!F644","v":10474},"自分らしい「がん」とのつきあい方医療の本Fe：がん富永博ウィング出版",1,{"$f":"VLOOKUP(\"*\"&目次加工!$B$2&\"*\",J645:K645,2,0)","v":1},{"$error":"#N/A"}]
[null,null,null,{"$f":"分類順!A645","v":"ガンが消えていく食事"},{"$f":"分類順!B645","v":"医療の本"},{"$f":"分類順!C645","v":"Fe：がん"},{"$f":"分類順!D645","v":"済陽高穂/志澤弘"},{"$f":"分類順!E645","v":"マキノ出版"},{"$f":"分類順!F645","v":10494},"ガンが消えていく食事医療の本Fe：がん済陽高穂/志澤弘マキノ出版",1,{"$f":"VLOOKUP(\"*\"&目次加工!$B$2&\"*\",J646:K646,2,0)","v":1},{"$error":"#N/A"}]
[null,null,null,{"$f":"分類順!A646","v":"抗がん剤・放射線治療と食事のくふう"},{"$f":"分類順!B646","v":"医療の本"},{"$f":"分類順!C646","v":"Fe：がん"},{"$f":"分類順!D646","v":"山口建"},{"$f":"分類順!E646","v":"女子栄養大学出版部"},{"$f":"分類順!F646","v":10554},"抗がん剤・放射線治療と食事のくふう医療の本Fe：がん山口建女子栄養大学出版部",1,{"$f":"VLOOKUP(\"*\"&目次加工!$B$2&\"*\",J647:K647,2,0)","v":1},{"$error":"#N/A"}]
[null,null,null,{"$f":"分類順!A647","v":"がん闘病中の髪・肌・爪の悩み　サポートブック"},{"$f":"分類順!B647","v":"医療の本"},{"$f":"分類順!C647","v":"Fe：がん"},{"$f":"分類順!D647","v":"赤木勝幸・岩岡ひとみ　箸"},{"$f":"分類順!E647","v":"英治出版"},{"$f":"分類順!F647","v":10606},"がん闘病中の髪・肌・爪の悩み　サポートブック医療の本Fe：がん赤木勝幸・岩岡ひとみ　箸英治出版",1,{"$f":"VLOOKUP(\"*\"&目次加工!$B$2&\"*\",J648:K648,2,0)","v":1},{"$error":"#N/A"}]
[null,null,null,{"$f":"分類順!A648","v":"がん介護"},{"$f":"分類順!B648","v":"目次へ"},{"$f":"分類順!C648","v":"※PDF版ではリンクしておりません。"},{"$f":"分類順!D648","v":0},{"$f":"分類順!E648","v":0},{"$f":"分類順!F648","v":0},"がん介護目次へ※PDF版ではリンクしておりません。00",1,{"$f":"VLOOKUP(\"*\"&目次加工!$B$2&\"*\",J649:K649,2,0)","v":1},1]
[null,null,null,{"$f":"分類順!A649","v":"退院後のがん患者と家族の支援ガイド"},{"$f":"分類順!B649","v":"医療の本"},{"$f":"分類順!C649","v":"Fe5：がん介護"},{"$f":"分類順!D649","v":"日本ホスピス・在宅ケ"},{"$f":"分類順!E649","v":"プリメド社"},{"$f":"分類順!F649","v":400},"退院後のがん患者と家族の支援ガイド医療の本Fe5：がん介護日本ホスピス・在宅ケプリメド社",1,{"$f":"VLOOKUP(\"*\"&目次加工!$B$2&\"*\",J650:K650,2,0)","v":1},{"$error":"#N/A"}]
[null,null,null,{"$f":"分類順!A650","v":"化学療法"},{"$f":"分類順!B650","v":"目次へ"},{"$f":"分類順!C650","v":"※PDF版ではリンクしておりません。"},{"$f":"分類順!D650","v":0},{"$f":"分類順!E650","v":0},{"$f":"分類順!F650","v":0},"化学療法目次へ※PDF版ではリンクしておりません。00",1,{"$f":"VLOOKUP(\"*\"&目次加工!$B$2&\"*\",J651:K651,2,0)","v":1},1]
[null,null,null,{"$f":"分類順!A651","v":"がん化学療法と患者ケア　改訂第２版"},{"$f":"分類順!B651","v":"医療の本"},{"$f":"分類順!C651","v":"Fe6：化学療法"},{"$f":"分類順!D651","v":"福島　雅典　監修"},{"$f":"分類順!E651","v":"医学芸術社"},{"$f":"分類順!F651","v":374},"がん化学療法と患者ケア　改訂第２版医療の本Fe6：化学療法福島　雅典　監修医学芸術社",1,{"$f":"VLOOKUP(\"*\"&目次加工!$B$2&\"*\",J652:K652,2,0)","v":1},{"$error":"#N/A"}]
[null,null,null,{"$f":"分類順!A652","v":"データで見る　抗がん剤のやめ方始め方"},{"$f":"分類順!B652","v":"医療の本"},{"$f":"分類順!C652","v":"Fe6：化学療法"},{"$f":"分類順!D652","v":"近藤　誠　著"},{"$f":"分類順!E652","v":"三省堂"},{"$f":"分類順!F652","v":382},"データで見る　抗がん剤のやめ方始め方医療の本Fe6：化学療法近藤　誠　著三省堂",1,{"$f":"VLOOKUP(\"*\"&目次加工!$B$2&\"*\",J653:K653,2,0)","v":1},{"$error":"#N/A"}]
[null,null,null,{"$f":"分類順!A653","v":"医者に聞けない抗癌剤の話　増補改訂版"},{"$f":"分類順!B653","v":"医療の本"},{"$f":"分類順!C653","v":"Fe6：化学療法"},{"$f":"分類順!D653","v":"平岩　正樹　著"},{"$f":"分類順!E653","v":"海竜社"},{"$f":"分類順!F653","v":390},"医者に聞けない抗癌剤の話　増補改訂版医療の本Fe6：化学療法平岩　正樹　著海竜社",1,{"$f":"VLOOKUP(\"*\"&目次加工!$B$2&\"*\",J654:K654,2,0)","v":1},{"$error":"#N/A"}]
[null,null,null,{"$f":"分類順!A654","v":"抗ガン剤治療のすべてがわかる本"},{"$f":"分類順!B654","v":"医療の本"},{"$f":"分類順!C654","v":"Fe6：化学療法"},{"$f":"分類順!D654","v":"秋田　弘俊　他"},{"$f":"分類順!E654","v":"学習研究社"},{"$f":"分類順!F654","v":412},"抗ガン剤治療のすべてがわかる本医療の本Fe6：化学療法秋田　弘俊　他学習研究社",1,{"$f":"VLOOKUP(\"*\"&目次加工!$B$2&\"*\",J655:K655,2,0)","v":1},{"$error":"#N/A"}]
[null,null,null,{"$f":"分類順!A655","v":"がん治療を受ける前に知っておきたい５５"},{"$f":"分類順!B655","v":"医療の本"},{"$f":"分類順!C655","v":"Fe6：化学療法"},{"$f":"分類順!D655","v":"土屋了介"},{"$f":"分類順!E655","v":"エクスナレッジ"},{"$f":"分類順!F655","v":5479},"がん治療を受ける前に知っておきたい５５医療の本Fe6：化学療法土屋了介エクスナレッジ",1,{"$f":"VLOOKUP(\"*\"&目次加工!$B$2&\"*\",J656:K656,2,0)","v":1},{"$error":"#N/A"}]
[null,null,null,{"$f":"分類順!A656","v":"癌患者の栄養管理"},{"$f":"分類順!B656","v":"医療の本"},{"$f":"分類順!C656","v":"Fe6：化学療法"},{"$f":"分類順!D656","v":"大村健二"},{"$f":"分類順!E656","v":"南江堂"},{"$f":"分類順!F656","v":5519},"癌患者の栄養管理医療の本Fe6：化学療法大村健二南江堂",1,{"$f":"VLOOKUP(\"*\"&目次加工!$B$2&\"*\",J657:K657,2,0)","v":1},{"$error":"#N/A"}]
[null,null,null,{"$f":"分類順!A657","v":"抗がんサプリメントの効果と副作用徹底検証"},{"$f":"分類順!B657","v":"医療の本"},{"$f":"分類順!C657","v":"Fe6：化学療法"},{"$f":"分類順!D657","v":"キャンサーネットジャパン"},{"$f":"分類順!E657","v":"三省堂"},{"$f":"分類順!F657","v":5520},"抗がんサプリメントの効果と副作用徹底検証医療の本Fe6：化学療法キャンサーネットジャパン三省堂",1,{"$f":"VLOOKUP(\"*\"&目次加工!$B$2&\"*\",J658:K658,2,0)","v":1},{"$error":"#N/A"}]
[null,null,null,{"$f":"分類順!A658","v":"患者の「なぜ」に答えるがん化学療法Q&A"},{"$f":"分類順!B658","v":"医療の本"},{"$f":"分類順!C658","v":"Fe6：化学療法"},{"$f":"分類順!D658","v":0},{"$f":"分類順!E658","v":"医学書院"},{"$f":"分類順!F658","v":8051},{"$f":"D659&E659&F659&G659&H659","v":"患者の「なぜ」に答えるがん化学療法Q&A医療の本Fe6：化学療法0医学書院"},1,{"$f":"VLOOKUP(\"*\"&目次加工!$B$2&\"*\",J659:K659,2,0)","v":1},1]
[null,null,null,{"$f":"分類順!A659","v":"はじめてでもやさしいがん化学療法看護　抗がん薬を扱う知識と副作用マネジメント"},{"$f":"分類順!B659","v":"医療の本"},{"$f":"分類順!C659","v":"Fe6：化学療法"},{"$f":"分類順!D659","v":"小西敏郎"},{"$f":"分類順!E659","v":"学研メディカル秀潤社"},{"$f":"分類順!F659","v":10274},"はじめてでもやさしいがん化学療法看護　抗がん薬を扱う知識と副作用マネジメント医療の本Fe6：化学療法小西敏郎学研メディカル秀潤社",1,{"$f":"VLOOKUP(\"*\"&目次加工!$B$2&\"*\",J660:K660,2,0)","v":1},{"$error":"#N/A"}]
[null,null,null,{"$f":"分類順!A660","v":"緩和ケア"},{"$f":"分類順!B660","v":"目次へ"},{"$f":"分類順!C660","v":"※PDF版ではリンクしておりません。"},{"$f":"分類順!D660","v":0},{"$f":"分類順!E660","v":0},{"$f":"分類順!F660","v":0},"緩和ケア目次へ※PDF版ではリンクしておりません。00",1,{"$f":"VLOOKUP(\"*\"&目次加工!$B$2&\"*\",J661:K661,2,0)","v":1},1]
[null,null,null,{"$f":"分類順!A661","v":"モルヒネと緩和ケア質問箱１０１"},{"$f":"分類順!B661","v":"医療の本"},{"$f":"分類順!C661","v":"Fe7：緩和ケア"},{"$f":"分類順!D661","v":"濱野　恭一　監修"},{"$f":"分類順!E661","v":"メディカルレビュー社"},{"$f":"分類順!F661","v":383},"モルヒネと緩和ケア質問箱１０１医療の本Fe7：緩和ケア濱野　恭一　監修メディカルレビュー社",1,{"$f":"VLOOKUP(\"*\"&目次加工!$B$2&\"*\",J662:K662,2,0)","v":1},{"$error":"#N/A"}]
[null,null,null,{"$f":"分類順!A662","v":"在宅での看取りと緩和ケア"},{"$f":"分類順!B662","v":"医療の本"},{"$f":"分類順!C662","v":"Fe7：緩和ケア"},{"$f":"分類順!D662","v":"佐藤智"},{"$f":"分類順!E662","v":"中央法規出版"},{"$f":"分類順!F662","v":5480},"在宅での看取りと緩和ケア医療の本Fe7：緩和ケア佐藤智中央法規出版",1,{"$f":"VLOOKUP(\"*\"&目次加工!$B$2&\"*\",J663:K663,2,0)","v":1},{"$error":"#N/A"}]
[null,null,null,{"$f":"分類順!A663","v":"がん治療レクチャー　やさしく学べる最新緩和医療Ｑ＆Ａ"},{"$f":"分類順!B663","v":"医療の本"},{"$f":"分類順!C663","v":"Fe7：緩和ケア"},{"$f":"分類順!D663","v":"江口研二/余宮きのみ"},{"$f":"分類順!E663","v":"総合医学社"},{"$f":"分類順!F663","v":5481},"がん治療レクチャー　やさしく学べる最新緩和医療Ｑ＆Ａ医療の本Fe7：緩和ケア江口研二/余宮きのみ総合医学社",1,{"$f":"VLOOKUP(\"*\"&目次加工!$B$2&\"*\",J664:K664,2,0)","v":1},{"$error":"#N/A"}]
[null,null,null,{"$f":"分類順!A664","v":"がんの在宅ホスピスケアガイド"},{"$f":"分類順!B664","v":"医療の本"},{"$f":"分類順!C664","v":"Fe7：緩和ケア"},{"$f":"分類順!D664","v":"吉田利康"},{"$f":"分類順!E664","v":"日本評論社"},{"$f":"分類順!F664","v":5521},"がんの在宅ホスピスケアガイド医療の本Fe7：緩和ケア吉田利康日本評論社",1,{"$f":"VLOOKUP(\"*\"&目次加工!$B$2&\"*\",J665:K665,2,0)","v":1},{"$error":"#N/A"}]
[null,null,null,{"$f":"分類順!A665","v":"がんの痛み対策と緩和ケア"},{"$f":"分類順!B665","v":"医療の本"},{"$f":"分類順!C665","v":"Fe7：緩和ケア"},{"$f":"分類順!D665","v":"向山雄人"},{"$f":"分類順!E665","v":"主婦の友社"},{"$f":"分類順!F665","v":8011},"がんの痛み対策と緩和ケア医療の本Fe7：緩和ケア向山雄人主婦の友社",1,{"$f":"VLOOKUP(\"*\"&目次加工!$B$2&\"*\",J666:K666,2,0)","v":1},{"$error":"#N/A"}]
[null,null,null,{"$f":"分類順!A666","v":"がん緩和マニュアル"},{"$f":"分類順!B666","v":"医療の本"},{"$f":"分類順!C666","v":"Fe7：緩和ケア"},{"$f":"分類順!D666","v":"財団法人先端医療振興財団"},{"$f":"分類順!E666","v":"日経メディカル開発"},{"$f":"分類順!F666","v":10069},"がん緩和マニュアル医療の本Fe7：緩和ケア財団法人先端医療振興財団日経メディカル開発",1,{"$f":"VLOOKUP(\"*\"&目次加工!$B$2&\"*\",J667:K667,2,0)","v":1},{"$error":"#N/A"}]
[null,null,null,{"$f":"分類順!A667","v":"免疫"},{"$f":"分類順!B667","v":"目次へ"},{"$f":"分類順!C667","v":"※PDF版ではリンクしておりません。"},{"$f":"分類順!D667","v":0},{"$f":"分類順!E667","v":0},{"$f":"分類順!F667","v":0},"免疫目次へ※PDF版ではリンクしておりません。00",1,{"$f":"VLOOKUP(\"*\"&目次加工!$B$2&\"*\",J668:K668,2,0)","v":1},1]
[null,null,null,{"$f":"分類順!A668","v":"図解雑学　安保徹の病気にならない免疫のしくみ"},{"$f":"分類順!B668","v":"医療の本"},{"$f":"分類順!C668","v":"Ff：免疫"},{"$f":"分類順!D668","v":"安保　徹"},{"$f":"分類順!E668","v":"ナツメ社"},{"$f":"分類順!F668","v":8097},"図解雑学　安保徹の病気にならない免疫のしくみ医療の本Ff：免疫安保　徹ナツメ社",1,{"$f":"VLOOKUP(\"*\"&目次加工!$B$2&\"*\",J669:K669,2,0)","v":1},{"$error":"#N/A"}]
[null,null,null,{"$f":"分類順!A669","v":"「酵素」が免疫力を上げる！"},{"$f":"分類順!B669","v":"医療の本"},{"$f":"分類順!C669","v":"Ff：免疫"},{"$f":"分類順!D669","v":"鶴見隆史"},{"$f":"分類順!E669","v":"永岡書店"},{"$f":"分類順!F669","v":10070},"「酵素」が免疫力を上げる！医療の本Ff：免疫鶴見隆史永岡書店",1,{"$f":"VLOOKUP(\"*\"&目次加工!$B$2&\"*\",J670:K670,2,0)","v":1},{"$error":"#N/A"}]
[null,null,null,{"$f":"分類順!A670","v":"からだをまもる免疫のふしぎ"},{"$f":"分類順!B670","v":"医療の本"},{"$f":"分類順!C670","v":"Ff：免疫"},{"$f":"分類順!D670","v":"日本免疫学会"},{"$f":"分類順!E670","v":"羊土社"},{"$f":"分類順!F670","v":10346},"からだをまもる免疫のふしぎ医療の本Ff：免疫日本免疫学会羊土社",1,{"$f":"VLOOKUP(\"*\"&目次加工!$B$2&\"*\",J671:K671,2,0)","v":1},{"$error":"#N/A"}]
[null,null,null,{"$f":"分類順!A671","v":"新しい自然免疫学　免疫システムの真の主役"},{"$f":"分類順!B671","v":"医療の本"},{"$f":"分類順!C671","v":"Ff：免疫"},{"$f":"分類順!D671","v":"坂野淳"},{"$f":"分類順!E671","v":"技術評論社"},{"$f":"分類順!F671","v":10348},"新しい自然免疫学　免疫システムの真の主役医療の本Ff：免疫坂野淳技術評論社",1,{"$f":"VLOOKUP(\"*\"&目次加工!$B$2&\"*\",J672:K672,2,0)","v":1},{"$error":"#N/A"}]
[null,null,null,{"$f":"分類順!A672","v":"病気がみえるvol.6　免疫・膠原病・感染症　第2版"},{"$f":"分類順!B672","v":"医療の本"},{"$f":"分類順!C672","v":"Ff：免疫"},{"$f":"分類順!D672","v":"医療情報科学研究所"},{"$f":"分類順!E672","v":"メディックメディア"},{"$f":"分類順!F672","v":10537},"病気がみえるvol.6　免疫・膠原病・感染症　第2版医療の本Ff：免疫医療情報科学研究所メディックメディア",1,{"$f":"VLOOKUP(\"*\"&目次加工!$B$2&\"*\",J673:K673,2,0)","v":1},{"$error":"#N/A"}]
[null,null,null,{"$f":"分類順!A673","v":"アレルギー"},{"$f":"分類順!B673","v":"目次へ"},{"$f":"分類順!C673","v":"※PDF版ではリンクしておりません。"},{"$f":"分類順!D673","v":0},{"$f":"分類順!E673","v":0},{"$f":"分類順!F673","v":0},"アレルギー目次へ※PDF版ではリンクしておりません。00",1,{"$f":"VLOOKUP(\"*\"&目次加工!$B$2&\"*\",J674:K674,2,0)","v":1},1]
[null,null,null,{"$f":"分類順!A674","v":"花粉症 改訂新版"},{"$f":"分類順!B674","v":"医療の本"},{"$f":"分類順!C674","v":"Ff5：アレルギー"},{"$f":"分類順!D674","v":"大塚　博邦"},{"$f":"分類順!E674","v":"保健同人社"},{"$f":"分類順!F674","v":491},"花粉症 改訂新版医療の本Ff5：アレルギー大塚　博邦保健同人社",1,{"$f":"VLOOKUP(\"*\"&目次加工!$B$2&\"*\",J675:K675,2,0)","v":1},{"$error":"#N/A"}]
[null,null,null,{"$f":"分類順!A675","v":"やさしい花粉症の自己管理　改訂版"},{"$f":"分類順!B675","v":"医療の本"},{"$f":"分類順!C675","v":"Ff5：アレルギー"},{"$f":"分類順!D675","v":"奥田　稔　著"},{"$f":"分類順!E675","v":"医薬ジャーナル社"},{"$f":"分類順!F675","v":497},"やさしい花粉症の自己管理　改訂版医療の本Ff5：アレルギー奥田　稔　著医薬ジャーナル社",1,{"$f":"VLOOKUP(\"*\"&目次加工!$B$2&\"*\",J676:K676,2,0)","v":1},{"$error":"#N/A"}]
[null,null,null,{"$f":"分類順!A676","v":"花粉症ここまで分かった！ここまで治る！！"},{"$f":"分類順!B676","v":"医療の本"},{"$f":"分類順!C676","v":"Ff5：アレルギー"},{"$f":"分類順!D676","v":"久松　建一"},{"$f":"分類順!E676","v":"北隆館"},{"$f":"分類順!F676","v":498},"花粉症ここまで分かった！ここまで治る！！医療の本Ff5：アレルギー久松　建一北隆館",1,{"$f":"VLOOKUP(\"*\"&目次加工!$B$2&\"*\",J677:K677,2,0)","v":1},{"$error":"#N/A"}]
[null,null,null,{"$f":"分類順!A677","v":"やさしい食物アレルギーの自己管理　改訂版"},{"$f":"分類順!B677","v":"医療の本"},{"$f":"分類順!C677","v":"Ff5：アレルギー"},{"$f":"分類順!D677","v":"馬場　実　編"},{"$f":"分類順!E677","v":"医薬ジャーナル社"},{"$f":"分類順!F677","v":1010},"やさしい食物アレルギーの自己管理　改訂版医療の本Ff5：アレルギー馬場　実　編医薬ジャーナル社",1,{"$f":"VLOOKUP(\"*\"&目次加工!$B$2&\"*\",J678:K678,2,0)","v":1},{"$error":"#N/A"}]
[null,null,null,{"$f":"分類順!A678","v":"膠原病"},{"$f":"分類順!B678","v":"目次へ"},{"$f":"分類順!C678","v":"※PDF版ではリンクしておりません。"},{"$f":"分類順!D678","v":0},{"$f":"分類順!E678","v":0},{"$f":"分類順!F678","v":0},"膠原病目次へ※PDF版ではリンクしておりません。00",1,{"$f":"VLOOKUP(\"*\"&目次加工!$B$2&\"*\",J679:K679,2,0)","v":1},1]
[null,null,null,{"$f":"分類順!A679","v":"リウマチ・膠原病: 病気別治療の最先端と痛みをやわらげるポイント"},{"$f":"分類順!B679","v":"医療の本"},{"$f":"分類順!C679","v":"Ff6：膠原病"},{"$f":"分類順!D679","v":"竹内勤　監修"},{"$f":"分類順!E679","v":"PHP研究所"},{"$f":"分類順!F679","v":5361},"リウマチ・膠原病: 病気別治療の最先端と痛みをやわらげるポイント医療の本Ff6：膠原病竹内勤　監修PHP研究所",1,{"$f":"VLOOKUP(\"*\"&目次加工!$B$2&\"*\",J680:K680,2,0)","v":1},{"$error":"#N/A"}]
[null,null,null,{"$f":"分類順!A680","v":"病気がみえる＜vol.６＞免疫・膠原病・感染症"},{"$f":"分類順!B680","v":"医療の本"},{"$f":"分類順!C680","v":"Ff6：膠原病"},{"$f":"分類順!D680","v":"医療情報科学研究所"},{"$f":"分類順!E680","v":"メディックメディア"},{"$f":"分類順!F680","v":5643},"病気がみえる＜vol.６＞免疫・膠原病・感染症医療の本Ff6：膠原病医療情報科学研究所メディックメディア",1,{"$f":"VLOOKUP(\"*\"&目次加工!$B$2&\"*\",J681:K681,2,0)","v":1},{"$error":"#N/A"}]
[null,null,null,{"$f":"分類順!A681","v":"新版膠原病（よくわかる最新医学シリーズ）"},{"$f":"分類順!B681","v":"医療の本"},{"$f":"分類順!C681","v":"Ff6：膠原病"},{"$f":"分類順!D681","v":"三森 明夫"},{"$f":"分類順!E681","v":"主婦の友社"},{"$f":"分類順!F681","v":10157},"新版膠原病（よくわかる最新医学シリーズ）医療の本Ff6：膠原病三森 明夫主婦の友社",1,{"$f":"VLOOKUP(\"*\"&目次加工!$B$2&\"*\",J682:K682,2,0)","v":1},{"$error":"#N/A"}]
[null,null,null,{"$f":"分類順!A682","v":"膠原病　（よくわかる最新医学シリーズ）"},{"$f":"分類順!B682","v":"医療の本"},{"$f":"分類順!C682","v":"Ff6：膠原病"},{"$f":"分類順!D682","v":"三森明夫　監修"},{"$f":"分類順!E682","v":"主婦の友社"},{"$f":"分類順!F682","v":10564},"膠原病　（よくわかる最新医学シリーズ）医療の本Ff6：膠原病三森明夫　監修主婦の友社",1,{"$f":"VLOOKUP(\"*\"&目次加工!$B$2&\"*\",J683:K683,2,0)","v":1},{"$error":"#N/A"}]
[null,null,null,{"$f":"分類順!A683","v":"リウマチ"},{"$f":"分類順!B683","v":"目次へ"},{"$f":"分類順!C683","v":"※PDF版ではリンクしておりません。"},{"$f":"分類順!D683","v":0},{"$f":"分類順!E683","v":0},{"$f":"分類順!F683","v":0},"リウマチ目次へ※PDF版ではリンクしておりません。00",1,{"$f":"VLOOKUP(\"*\"&目次加工!$B$2&\"*\",J684:K684,2,0)","v":1},1]
[null,null,null,{"$f":"分類順!A684","v":"リウマチ 早期発見・早期治療が決め手　新版"},{"$f":"分類順!B684","v":"医療の本"},{"$f":"分類順!C684","v":"Ff7：リウマチ"},{"$f":"分類順!D684","v":"吉野　槙一;主婦の友社"},{"$f":"分類順!E684","v":"主婦の友社"},{"$f":"分類順!F684","v":255},"リウマチ 早期発見・早期治療が決め手　新版医療の本Ff7：リウマチ吉野　槙一;主婦の友社主婦の友社",1,{"$f":"VLOOKUP(\"*\"&目次加工!$B$2&\"*\",J685:K685,2,0)","v":1},{"$error":"#N/A"}]
[null,null,null,{"$f":"分類順!A685","v":"徹底図解リウマチ がまんできない痛みをコントロール"},{"$f":"分類順!B685","v":"医療の本"},{"$f":"分類順!C685","v":"Ff7：リウマチ"},{"$f":"分類順!D685","v":"西岡　久寿樹"},{"$f":"分類順!E685","v":"法研"},{"$f":"分類順!F685","v":267},"徹底図解リウマチ がまんできない痛みをコントロール医療の本Ff7：リウマチ西岡　久寿樹法研",1,{"$f":"VLOOKUP(\"*\"&目次加工!$B$2&\"*\",J686:K686,2,0)","v":1},{"$error":"#N/A"}]
[null,null,null,{"$f":"分類順!A686","v":"歩いて治すひざの痛み イラスト版"},{"$f":"分類順!B686","v":"医療の本"},{"$f":"分類順!C686","v":"Ff7：リウマチ"},{"$f":"分類順!D686","v":"黒沢　尚"},{"$f":"分類順!E686","v":"講談社"},{"$f":"分類順!F686","v":269},"歩いて治すひざの痛み イラスト版医療の本Ff7：リウマチ黒沢　尚講談社",1,{"$f":"VLOOKUP(\"*\"&目次加工!$B$2&\"*\",J687:K687,2,0)","v":1},{"$error":"#N/A"}]
[null,null,null,{"$f":"分類順!A687","v":"やさしいリウマチ治療薬の基礎知識"},{"$f":"分類順!B687","v":"医療の本"},{"$f":"分類順!C687","v":"Ff7：リウマチ"},{"$f":"分類順!D687","v":"川合　眞一　著"},{"$f":"分類順!E687","v":"医薬ジャーナル社"},{"$f":"分類順!F687","v":447},"やさしいリウマチ治療薬の基礎知識医療の本Ff7：リウマチ川合　眞一　著医薬ジャーナル社",1,{"$f":"VLOOKUP(\"*\"&目次加工!$B$2&\"*\",J688:K688,2,0)","v":1},{"$error":"#N/A"}]
[null,null,null,{"$f":"分類順!A688","v":"リウマチ・膠原病ＡＢＣ　改訂第２版"},{"$f":"分類順!B688","v":"医療の本"},{"$f":"分類順!C688","v":"Ff7：リウマチ"},{"$f":"分類順!D688","v":"延永　正　著"},{"$f":"分類順!E688","v":"日本医学出版"},{"$f":"分類順!F688","v":448},"リウマチ・膠原病ＡＢＣ　改訂第２版医療の本Ff7：リウマチ延永　正　著日本医学出版",1,{"$f":"VLOOKUP(\"*\"&目次加工!$B$2&\"*\",J689:K689,2,0)","v":1},{"$error":"#N/A"}]
[null,null,null,{"$f":"分類順!A689","v":"関節リウマチ患者の在宅生活への支援"},{"$f":"分類順!B689","v":"医療の本"},{"$f":"分類順!C689","v":"Ff7：リウマチ"},{"$f":"分類順!D689","v":"今野　孝彦　編著"},{"$f":"分類順!E689","v":"メディカルトリビューン"},{"$f":"分類順!F689","v":449},"関節リウマチ患者の在宅生活への支援医療の本Ff7：リウマチ今野　孝彦　編著メディカルトリビューン",1,{"$f":"VLOOKUP(\"*\"&目次加工!$B$2&\"*\",J690:K690,2,0)","v":1},{"$error":"#N/A"}]
[null,null,null,{"$f":"分類順!A690","v":"関節リウマチ治療ガイドライン"},{"$f":"分類順!B690","v":"医療の本"},{"$f":"分類順!C690","v":"Ff7：リウマチ"},{"$f":"分類順!D690","v":"日本リウマチ財団　編"},{"$f":"分類順!E690","v":"医歯薬出版"},{"$f":"分類順!F690","v":450},"関節リウマチ治療ガイドライン医療の本Ff7：リウマチ日本リウマチ財団　編医歯薬出版",1,{"$f":"VLOOKUP(\"*\"&目次加工!$B$2&\"*\",J691:K691,2,0)","v":1},{"$error":"#N/A"}]
[null,null,null,{"$f":"分類順!A691","v":"よくわかる最新医学　リウマチの最新治療"},{"$f":"分類順!B691","v":"医療の本"},{"$f":"分類順!C691","v":"Ff7：リウマチ"},{"$f":"分類順!D691","v":"吉野槇一"},{"$f":"分類順!E691","v":"主婦の友社"},{"$f":"分類順!F691","v":10347},"よくわかる最新医学　リウマチの最新治療医療の本Ff7：リウマチ吉野槇一主婦の友社",1,{"$f":"VLOOKUP(\"*\"&目次加工!$B$2&\"*\",J692:K692,2,0)","v":1},{"$error":"#N/A"}]
[null,null,null,{"$f":"分類順!A692","v":"伝染・感染症"},{"$f":"分類順!B692","v":"目次へ"},{"$f":"分類順!C692","v":"※PDF版ではリンクしておりません。"},{"$f":"分類順!D692","v":0},{"$f":"分類順!E692","v":0},{"$f":"分類順!F692","v":0},"伝染・感染症目次へ※PDF版ではリンクしておりません。00",1,{"$f":"VLOOKUP(\"*\"&目次加工!$B$2&\"*\",J693:K693,2,0)","v":1},1]
[null,null,null,{"$f":"分類順!A693","v":"免疫力を鍛えるスーパー食事法 イラスト版"},{"$f":"分類順!B693","v":"医療の本"},{"$f":"分類順!C693","v":"Fg：伝染・感染症"},{"$f":"分類順!D693","v":"星野　泰三"},{"$f":"分類順!E693","v":"講談社"},{"$f":"分類順!F693","v":454},"免疫力を鍛えるスーパー食事法 イラスト版医療の本Fg：伝染・感染症星野　泰三講談社",1,{"$f":"VLOOKUP(\"*\"&目次加工!$B$2&\"*\",J694:K694,2,0)","v":1},{"$error":"#N/A"}]
[null,null,null,{"$f":"分類順!A694","v":"こうして防ぐ院内感染－患者の立場から－"},{"$f":"分類順!B694","v":"医療の本"},{"$f":"分類順!C694","v":"Fg：伝染・感染症"},{"$f":"分類順!D694","v":"金森　雅彦　著"},{"$f":"分類順!E694","v":"医歯薬出版"},{"$f":"分類順!F694","v":459},"こうして防ぐ院内感染－患者の立場から－医療の本Fg：伝染・感染症金森　雅彦　著医歯薬出版",1,{"$f":"VLOOKUP(\"*\"&目次加工!$B$2&\"*\",J695:K695,2,0)","v":1},{"$error":"#N/A"}]
[null,null,null,{"$f":"分類順!A695","v":"わかりやすい予防接種　改訂第３版"},{"$f":"分類順!B695","v":"医療の本"},{"$f":"分類順!C695","v":"Fg：伝染・感染症"},{"$f":"分類順!D695","v":"渡辺　博　著"},{"$f":"分類順!E695","v":"診断と治療社"},{"$f":"分類順!F695","v":460},"わかりやすい予防接種　改訂第３版医療の本Fg：伝染・感染症渡辺　博　著診断と治療社",1,{"$f":"VLOOKUP(\"*\"&目次加工!$B$2&\"*\",J696:K696,2,0)","v":1},{"$error":"#N/A"}]
[null,null,null,{"$f":"分類順!A696","v":"感染の理解と消毒・滅菌の看護へのい　２版"},{"$f":"分類順!B696","v":"医療の本"},{"$f":"分類順!C696","v":"Fg：伝染・感染症"},{"$f":"分類順!D696","v":"富野　康日己　編集"},{"$f":"分類順!E696","v":"医歯薬出版"},{"$f":"分類順!F696","v":462},"感染の理解と消毒・滅菌の看護へのい　２版医療の本Fg：伝染・感染症富野　康日己　編集医歯薬出版",1,{"$f":"VLOOKUP(\"*\"&目次加工!$B$2&\"*\",J697:K697,2,0)","v":1},{"$error":"#N/A"}]
[null,null,null,{"$f":"分類順!A697","v":"感染症診断に必要な微生物検査"},{"$f":"分類順!B697","v":"医療の本"},{"$f":"分類順!C697","v":"Fg：伝染・感染症"},{"$f":"分類順!D697","v":"菅野　治重　他監"},{"$f":"分類順!E697","v":"ライフサイエンス出版"},{"$f":"分類順!F697","v":463},"感染症診断に必要な微生物検査医療の本Fg：伝染・感染症菅野　治重　他監ライフサイエンス出版",1,{"$f":"VLOOKUP(\"*\"&目次加工!$B$2&\"*\",J698:K698,2,0)","v":1},{"$error":"#N/A"}]
[null,null,null,{"$f":"分類順!A698","v":"感染症法に基づく医師の届出基準"},{"$f":"分類順!B698","v":"医療の本"},{"$f":"分類順!C698","v":"Fg：伝染・感染症"},{"$f":"分類順!D698","v":0},{"$f":"分類順!E698","v":"中央法規出版"},{"$f":"分類順!F698","v":464},"感染症法に基づく医師の届出基準医療の本Fg：伝染・感染症0中央法規出版",1,{"$f":"VLOOKUP(\"*\"&目次加工!$B$2&\"*\",J699:K699,2,0)","v":1},1]
[null,null,null,{"$f":"分類順!A699","v":"細胞と組織の地図帳"},{"$f":"分類順!B699","v":"医療の本"},{"$f":"分類順!C699","v":"Fg：伝染・感染症"},{"$f":"分類順!D699","v":"和気　健二郎"},{"$f":"分類順!E699","v":"講談社"},{"$f":"分類順!F699","v":466},"細胞と組織の地図帳医療の本Fg：伝染・感染症和気　健二郎講談社",1,{"$f":"VLOOKUP(\"*\"&目次加工!$B$2&\"*\",J700:K700,2,0)","v":1},{"$error":"#N/A"}]
[null,null,null,{"$f":"分類順!A700","v":"一生インフルエンザにかからない体質の作り方 "},{"$f":"分類順!B700","v":"医療の本"},{"$f":"分類順!C700","v":"Fg：伝染・感染症"},{"$f":"分類順!D700","v":"村上一裕　著"},{"$f":"分類順!E700","v":"フォレスト出版"},{"$f":"分類順!F700","v":5362},"一生インフルエンザにかからない体質の作り方 医療の本Fg：伝染・感染症村上一裕　著フォレスト出版",1,{"$f":"VLOOKUP(\"*\"&目次加工!$B$2&\"*\",J701:K701,2,0)","v":1},{"$error":"#N/A"}]
[null,null,null,{"$f":"分類順!A701","v":"病気がみえる　6：免疫・膠原病・感染症"},{"$f":"分類順!B701","v":"医療の本"},{"$f":"分類順!C701","v":"Fg：伝染・感染症"},{"$f":"分類順!D701","v":"医療情報科学研究所/編"},{"$f":"分類順!E701","v":"メディックメディア"},{"$f":"分類順!F701","v":8089},"病気がみえる　6：免疫・膠原病・感染症医療の本Fg：伝染・感染症医療情報科学研究所/編メディックメディア",1,{"$f":"VLOOKUP(\"*\"&目次加工!$B$2&\"*\",J702:K702,2,0)","v":1},{"$error":"#N/A"}]
[null,null,null,{"$f":"分類順!A702","v":"ねころんで読めるCDCガイドライン"},{"$f":"分類順!B702","v":"医療の本"},{"$f":"分類順!C702","v":"Fg：伝染・感染症"},{"$f":"分類順!D702","v":"矢野邦夫"},{"$f":"分類順!E702","v":"メディカ出版"},{"$f":"分類順!F702","v":8113},"ねころんで読めるCDCガイドライン医療の本Fg：伝染・感染症矢野邦夫メディカ出版",1,{"$f":"VLOOKUP(\"*\"&目次加工!$B$2&\"*\",J703:K703,2,0)","v":1},{"$error":"#N/A"}]
[null,null,null,{"$f":"分類順!A703","v":"感染症ワールド"},{"$f":"分類順!B703","v":"医療の本"},{"$f":"分類順!C703","v":"Fg：伝染・感染症"},{"$f":"分類順!D703","v":"町田和彦"},{"$f":"分類順!E703","v":"早稲田大学出版部"},{"$f":"分類順!F703","v":10071},"感染症ワールド医療の本Fg：伝染・感染症町田和彦早稲田大学出版部",1,{"$f":"VLOOKUP(\"*\"&目次加工!$B$2&\"*\",J704:K704,2,0)","v":1},{"$error":"#N/A"}]
[null,null,null,{"$f":"分類順!A704","v":"だれでもわかる感染症"},{"$f":"分類順!B704","v":"医療の本"},{"$f":"分類順!C704","v":"Fg：伝染・感染症"},{"$f":"分類順!D704","v":"清水喜八郎"},{"$f":"分類順!E704","v":"へるす出版"},{"$f":"分類順!F704","v":10072},"だれでもわかる感染症医療の本Fg：伝染・感染症清水喜八郎へるす出版",1,{"$f":"VLOOKUP(\"*\"&目次加工!$B$2&\"*\",J705:K705,2,0)","v":1},{"$error":"#N/A"}]
[null,null,null,{"$f":"分類順!A705","v":"新型コロナウイルス　脅威を制する正しい知識"},{"$f":"分類順!B705","v":"医療の本"},{"$f":"分類順!C705","v":"Fg：伝染・感染症"},{"$f":"分類順!D705","v":"水谷哲也"},{"$f":"分類順!E705","v":"NULL"},{"$f":"分類順!F705","v":10651},"新型コロナウイルス　脅威を制する正しい知識医療の本Fg：伝染・感染症水谷哲也NULL",1,{"$f":"VLOOKUP(\"*\"&目次加工!$B$2&\"*\",J706:K706,2,0)","v":1},{"$error":"#N/A"}]
[null,null,null,{"$f":"分類順!A706","v":"呼吸器内科医が解説！新型コロナウイルス感染症COVID-19"},{"$f":"分類順!B706","v":"医療の本"},{"$f":"分類順!C706","v":"Fg：伝染・感染症"},{"$f":"分類順!D706","v":"粟野暢康　出雲雄大"},{"$f":"分類順!E706","v":"医療科学社"},{"$f":"分類順!F706","v":10652},"呼吸器内科医が解説！新型コロナウイルス感染症COVID-19医療の本Fg：伝染・感染症粟野暢康　出雲雄大医療科学社",1,{"$f":"VLOOKUP(\"*\"&目次加工!$B$2&\"*\",J707:K707,2,0)","v":1},{"$error":"#N/A"}]
[null,null,null,{"$f":"分類順!A707","v":"新型コロナウイルス緊急対策マニュアル"},{"$f":"分類順!B707","v":"医療の本"},{"$f":"分類順!C707","v":"Fg：伝染・感染症"},{"$f":"分類順!D707","v":"齋藤勝裕"},{"$f":"分類順!E707","v":"秀和システム"},{"$f":"分類順!F707","v":10653},"新型コロナウイルス緊急対策マニュアル医療の本Fg：伝染・感染症齋藤勝裕秀和システム",1,{"$f":"VLOOKUP(\"*\"&目次加工!$B$2&\"*\",J708:K708,2,0)","v":1},{"$f":"VLOOKUP(\"*\"&$A$2&\"*\",J708:K708,2,0)","v":{"$error":"#N/A"}}]
[null,null,null,{"$f":"分類順!A708","v":"新型コロナウイルスの真実"},{"$f":"分類順!B708","v":"医療の本"},{"$f":"分類順!C708","v":"Fg：伝染・感染症"},{"$f":"分類順!D708","v":"岩田健太郎"},{"$f":"分類順!E708","v":"ベストセラーズ"},{"$f":"分類順!F708","v":10654},"新型コロナウイルスの真実医療の本Fg：伝染・感染症岩田健太郎ベストセラーズ",1,{"$f":"VLOOKUP(\"*\"&目次加工!$B$2&\"*\",J709:K709,2,0)","v":1},{"$error":"#N/A"}]
[null,null,null,{"$f":"分類順!A709","v":"目"},{"$f":"分類順!B709","v":"目次へ"},{"$f":"分類順!C709","v":"※PDF版ではリンクしておりません。"},{"$f":"分類順!D709","v":0},{"$f":"分類順!E709","v":0},{"$f":"分類順!F709","v":0},"目目次へ※PDF版ではリンクしておりません。00",1,{"$f":"VLOOKUP(\"*\"&目次加工!$B$2&\"*\",J710:K710,2,0)","v":1},1]
[null,null,null,{"$f":"分類順!A710","v":"白内障・緑内障・糖尿病網膜症　新版"},{"$f":"分類順!B710","v":"医療の本"},{"$f":"分類順!C710","v":"Fh：目"},{"$f":"分類順!D710","v":"杉田　美由紀　監修"},{"$f":"分類順!E710","v":"主婦の友社"},{"$f":"分類順!F710","v":475},"白内障・緑内障・糖尿病網膜症　新版医療の本Fh：目杉田　美由紀　監修主婦の友社",1,{"$f":"VLOOKUP(\"*\"&目次加工!$B$2&\"*\",J711:K711,2,0)","v":1},{"$error":"#N/A"}]
[null,null,null,{"$f":"分類順!A711","v":"眼科"},{"$f":"分類順!B711","v":"医療の本"},{"$f":"分類順!C711","v":"Fh：目"},{"$f":"分類順!D711","v":"小口　芳久　編"},{"$f":"分類順!E711","v":"医薬ジャーナル社"},{"$f":"分類順!F711","v":481},"眼科医療の本Fh：目小口　芳久　編医薬ジャーナル社",1,{"$f":"VLOOKUP(\"*\"&目次加工!$B$2&\"*\",J712:K712,2,0)","v":1},{"$error":"#N/A"}]
[null,null,null,{"$f":"分類順!A712","v":"先端技術が応える！中高年の目の悩み"},{"$f":"分類順!B712","v":"医療の本"},{"$f":"分類順!C712","v":"Fh：目"},{"$f":"分類順!D712","v":"横井 則彦　著"},{"$f":"分類順!E712","v":"集英社"},{"$f":"分類順!F712","v":5363},"先端技術が応える！中高年の目の悩み医療の本Fh：目横井 則彦　著集英社",1,{"$f":"VLOOKUP(\"*\"&目次加工!$B$2&\"*\",J713:K713,2,0)","v":1},{"$error":"#N/A"}]
[null,null,null,{"$f":"分類順!A713","v":"新版　白内障・緑内障・糖尿病網膜症"},{"$f":"分類順!B713","v":"医療の本"},{"$f":"分類順!C713","v":"Fh：目"},{"$f":"分類順!D713","v":"杉田美由紀監修"},{"$f":"分類順!E713","v":"主婦の友社"},{"$f":"分類順!F713","v":8091},"新版　白内障・緑内障・糖尿病網膜症医療の本Fh：目杉田美由紀監修主婦の友社",1,{"$f":"VLOOKUP(\"*\"&目次加工!$B$2&\"*\",J714:K714,2,0)","v":1},{"$error":"#N/A"}]
[null,null,null,{"$f":"分類順!A714","v":"患者さんから浴びせられる眼科疾患100の質問～達人はどう答え、どう対応するか～"},{"$f":"分類順!B714","v":"医療の本"},{"$f":"分類順!C714","v":"Fh：目"},{"$f":"分類順!D714","v":"坪田一男 編"},{"$f":"分類順!E714","v":"メディカルレビュー社"},{"$f":"分類順!F714","v":8110},"患者さんから浴びせられる眼科疾患100の質問～達人はどう答え、どう対応するか～医療の本Fh：目坪田一男 編メディカルレビュー社",1,{"$f":"VLOOKUP(\"*\"&目次加工!$B$2&\"*\",J715:K715,2,0)","v":1},1]
[null,null,null,{"$f":"分類順!A715","v":"目の病気の最新治療 緑内障・糖尿病網膜症・白内障・黄斑変性症（よくわかる最新医学シリーズ）"},{"$f":"分類順!B715","v":"医療の本"},{"$f":"分類順!C715","v":"Fh：目"},{"$f":"分類順!D715","v":"杉田美由紀"},{"$f":"分類順!E715","v":"主婦の友社"},{"$f":"分類順!F715","v":10158},"目の病気の最新治療 緑内障・糖尿病網膜症・白内障・黄斑変性症（よくわかる最新医学シリーズ）医療の本Fh：目杉田美由紀主婦の友社",1,{"$f":"VLOOKUP(\"*\"&目次加工!$B$2&\"*\",J716:K716,2,0)","v":1},{"$error":"#N/A"}]
[null,null,null,{"$f":"分類順!A716","v":"眼科疾患ビジュアルブック"},{"$f":"分類順!B716","v":"医療の本"},{"$f":"分類順!C716","v":"Fh：目"},{"$f":"分類順!D716","v":"永本敏之, 岡田アナベルあやめ"},{"$f":"分類順!E716","v":"学研メディカル秀潤社"},{"$f":"分類順!F716","v":10251},"眼科疾患ビジュアルブック医療の本Fh：目永本敏之, 岡田アナベルあやめ学研メディカル秀潤社",1,{"$f":"VLOOKUP(\"*\"&目次加工!$B$2&\"*\",J717:K717,2,0)","v":1},{"$error":"#N/A"}]
[null,null,null,{"$f":"分類順!A717","v":"目がぐんぐん若返るNo．1自力療法　老眼、近視の視力が急向上！緑内障、白内障、飛蚊症、　（Makino　mook＊マキノ出版ムック）"},{"$f":"分類順!B717","v":"医療の本"},{"$f":"分類順!C717","v":"Fh：目"},{"$f":"分類順!D717","v":"マキノ出版"},{"$f":"分類順!E717","v":"マキノ出版"},{"$f":"分類順!F717","v":10252},"目がぐんぐん若返るNo．1自力療法　老眼、近視の視力が急向上！緑内障、白内障、飛蚊症、　（Makino　mook＊マキノ出版ムック）医療の本Fh：目マキノ出版マキノ出版",1,{"$f":"VLOOKUP(\"*\"&目次加工!$B$2&\"*\",J718:K718,2,0)","v":1},{"$error":"#N/A"}]
[null,null,null,{"$f":"分類順!A718","v":"目の病気がよくわかる本"},{"$f":"分類順!B718","v":"医療の本"},{"$f":"分類順!C718","v":"Fh：目"},{"$f":"分類順!D718","v":"大鹿哲郎"},{"$f":"分類順!E718","v":"講談社"},{"$f":"分類順!F718","v":10349},"目の病気がよくわかる本医療の本Fh：目大鹿哲郎講談社",1,{"$f":"VLOOKUP(\"*\"&目次加工!$B$2&\"*\",J719:K719,2,0)","v":1},{"$error":"#N/A"}]
[null,null,null,{"$f":"分類順!A719","v":"緑内障・白内障　（よくわかる最新医学シリーズ）"},{"$f":"分類順!B719","v":"医療の本"},{"$f":"分類順!C719","v":"Fh：目"},{"$f":"分類順!D719","v":"杉田美由紀 監"},{"$f":"分類順!E719","v":"主婦の友社"},{"$f":"分類順!F719","v":10563},"緑内障・白内障　（よくわかる最新医学シリーズ）医療の本Fh：目杉田美由紀 監主婦の友社",1,{"$f":"VLOOKUP(\"*\"&目次加工!$B$2&\"*\",J720:K720,2,0)","v":1},{"$error":"#N/A"}]
[null,null,null,{"$f":"分類順!A720","v":"耳/鼻/喉"},{"$f":"分類順!B720","v":"目次へ"},{"$f":"分類順!C720","v":"※PDF版ではリンクしておりません。"},{"$f":"分類順!D720","v":0},{"$f":"分類順!E720","v":0},{"$f":"分類順!F720","v":0},"耳/鼻/喉目次へ※PDF版ではリンクしておりません。00",1,{"$f":"VLOOKUP(\"*\"&目次加工!$B$2&\"*\",J721:K721,2,0)","v":1},1]
[null,null,null,{"$f":"分類順!A721","v":"中耳炎がわかる本 急性、慢性化膿性、滲出性、真珠腫性中耳炎"},{"$f":"分類順!B721","v":"医療の本"},{"$f":"分類順!C721","v":"Fi：耳/鼻/喉"},{"$f":"分類順!D721","v":"鈴木光也"},{"$f":"分類順!E721","v":"法研"},{"$f":"分類順!F721","v":487},"中耳炎がわかる本 急性、慢性化膿性、滲出性、真珠腫性中耳炎医療の本Fi：耳/鼻/喉鈴木光也法研",1,{"$f":"VLOOKUP(\"*\"&目次加工!$B$2&\"*\",J722:K722,2,0)","v":1},{"$error":"#N/A"}]
[null,null,null,{"$f":"分類順!A722","v":"鼻の病気がわかる本 慢性副鼻腔炎、アレルギ－性鼻炎"},{"$f":"分類順!B722","v":"医療の本"},{"$f":"分類順!C722","v":"Fi：耳/鼻/喉"},{"$f":"分類順!D722","v":"飯田誠"},{"$f":"分類順!E722","v":"法研"},{"$f":"分類順!F722","v":488},{"$f":"D723&E723&F723&G723&H723","v":"鼻の病気がわかる本 慢性副鼻腔炎、アレルギ－性鼻炎医療の本Fi：耳/鼻/喉飯田誠法研"},1,{"$f":"VLOOKUP(\"*\"&目次加工!$B$2&\"*\",J723:K723,2,0)","v":1},{"$error":"#N/A"}]
[null,null,null,{"$f":"分類順!A723","v":"めまい・耳鳴り　改訂新版"},{"$f":"分類順!B723","v":"医療の本"},{"$f":"分類順!C723","v":"Fi：耳/鼻/喉"},{"$f":"分類順!D723","v":"馬場　俊吉　著"},{"$f":"分類順!E723","v":"保健同人社"},{"$f":"分類順!F723","v":490},"めまい・耳鳴り　改訂新版医療の本Fi：耳/鼻/喉馬場　俊吉　著保健同人社",1,{"$f":"VLOOKUP(\"*\"&目次加工!$B$2&\"*\",J724:K724,2,0)","v":1},{"$error":"#N/A"}]
[null,null,null,{"$f":"分類順!A724","v":"耳鼻咽喉科の病気"},{"$f":"分類順!B724","v":"医療の本"},{"$f":"分類順!C724","v":"Fi：耳/鼻/喉"},{"$f":"分類順!D724","v":"飯田　順　著"},{"$f":"分類順!E724","v":"日本医学館"},{"$f":"分類順!F724","v":492},"耳鼻咽喉科の病気医療の本Fi：耳/鼻/喉飯田　順　著日本医学館",1,{"$f":"VLOOKUP(\"*\"&目次加工!$B$2&\"*\",J725:K725,2,0)","v":1},{"$error":"#N/A"}]
[null,null,null,{"$f":"分類順!A725","v":"中耳炎"},{"$f":"分類順!B725","v":"医療の本"},{"$f":"分類順!C725","v":"Fi：耳/鼻/喉"},{"$f":"分類順!D725","v":"老木　浩之"},{"$f":"分類順!E725","v":"保健同人社"},{"$f":"分類順!F725","v":494},"中耳炎医療の本Fi：耳/鼻/喉老木　浩之保健同人社",1,{"$f":"VLOOKUP(\"*\"&目次加工!$B$2&\"*\",J726:K726,2,0)","v":1},{"$error":"#N/A"}]
[null,null,null,{"$f":"分類順!A726","v":"難聴・めまい・耳鳴りを解消する イラスト版"},{"$f":"分類順!B726","v":"医療の本"},{"$f":"分類順!C726","v":"Fi：耳/鼻/喉"},{"$f":"分類順!D726","v":"神尾　友和;相原　康孝"},{"$f":"分類順!E726","v":"講談社"},{"$f":"分類順!F726","v":496},"難聴・めまい・耳鳴りを解消する イラスト版医療の本Fi：耳/鼻/喉神尾　友和;相原　康孝講談社",1,{"$f":"VLOOKUP(\"*\"&目次加工!$B$2&\"*\",J727:K727,2,0)","v":1},{"$error":"#N/A"}]
[null,null,null,{"$f":"分類順!A727","v":"新「お子さんの耳がきこえない」と言われたら・・・"},{"$f":"分類順!B727","v":"医療の本"},{"$f":"分類順!C727","v":"Fi：耳/鼻/喉"},{"$f":"分類順!D727","v":"全国早期支援研究協議会"},{"$f":"分類順!E727","v":"全国早期支援研究協議会"},{"$f":"分類順!F727","v":5428},"新「お子さんの耳がきこえない」と言われたら・・・医療の本Fi：耳/鼻/喉全国早期支援研究協議会全国早期支援研究協議会",1,{"$f":"VLOOKUP(\"*\"&目次加工!$B$2&\"*\",J728:K728,2,0)","v":1},{"$error":"#N/A"}]
[null,null,null,{"$f":"分類順!A728","v":"やさしいアレルギー性鼻炎の自己管理"},{"$f":"分類順!B728","v":"医療の本"},{"$f":"分類順!C728","v":"Fi：耳/鼻/喉"},{"$f":"分類順!D728","v":"大久保公裕　著"},{"$f":"分類順!E728","v":"医薬ジャーナル社"},{"$f":"分類順!F728","v":8029},"やさしいアレルギー性鼻炎の自己管理医療の本Fi：耳/鼻/喉大久保公裕　著医薬ジャーナル社",1,{"$f":"VLOOKUP(\"*\"&目次加工!$B$2&\"*\",J729:K729,2,0)","v":1},{"$error":"#N/A"}]
[null,null,null,{"$f":"分類順!A729","v":"やさしい味覚障害の自己管理"},{"$f":"分類順!B729","v":"医療の本"},{"$f":"分類順!C729","v":"Fi：耳/鼻/喉"},{"$f":"分類順!D729","v":"池田稔　編"},{"$f":"分類順!E729","v":"医薬ジャーナル社"},{"$f":"分類順!F729","v":8033},"やさしい味覚障害の自己管理医療の本Fi：耳/鼻/喉池田稔　編医薬ジャーナル社",1,{"$f":"VLOOKUP(\"*\"&目次加工!$B$2&\"*\",J730:K730,2,0)","v":1},{"$error":"#N/A"}]
[null,null,null,{"$f":"分類順!A730","v":"頭頚部癌診療ガイドライン　2009年版"},{"$f":"分類順!B730","v":"医療の本"},{"$f":"分類順!C730","v":"Fi：耳/鼻/喉"},{"$f":"分類順!D730","v":"日本頭頚部癌学会/編"},{"$f":"分類順!E730","v":"金原出版"},{"$f":"分類順!F730","v":8059},"頭頚部癌診療ガイドライン　2009年版医療の本Fi：耳/鼻/喉日本頭頚部癌学会/編金原出版",1,{"$f":"VLOOKUP(\"*\"&目次加工!$B$2&\"*\",J731:K731,2,0)","v":1},1]
[null,null,null,{"$f":"分類順!A731","v":"めまいは寝てては治らない　第2版"},{"$f":"分類順!B731","v":"医療の本"},{"$f":"分類順!C731","v":"Fi：耳/鼻/喉"},{"$f":"分類順!D731","v":"新井基洋"},{"$f":"分類順!E731","v":"中外医学社"},{"$f":"分類順!F731","v":8093},"めまいは寝てては治らない　第2版医療の本Fi：耳/鼻/喉新井基洋中外医学社",1,{"$f":"VLOOKUP(\"*\"&目次加工!$B$2&\"*\",J732:K732,2,0)","v":1},{"$error":"#N/A"}]
[null,null,null,{"$f":"分類順!A732","v":"やさしく理解できるメニエール病の自己管理　改訂版 (めまいと耳鳴り、難聴)"},{"$f":"分類順!B732","v":"医療の本"},{"$f":"分類順!C732","v":"Fi：耳/鼻/喉"},{"$f":"分類順!D732","v":"神崎仁"},{"$f":"分類順!E732","v":"医薬ジャーナル社"},{"$f":"分類順!F732","v":8123},"やさしく理解できるメニエール病の自己管理　改訂版 (めまいと耳鳴り、難聴)医療の本Fi：耳/鼻/喉神崎仁医薬ジャーナル社",1,{"$f":"VLOOKUP(\"*\"&目次加工!$B$2&\"*\",J733:K733,2,0)","v":1},{"$error":"#N/A"}]
[null,null,null,{"$f":"分類順!A733","v":"頭頸部癌診療ガイドライン 2013年版"},{"$f":"分類順!B733","v":"医療の本"},{"$f":"分類順!C733","v":"Fi：耳/鼻/喉"},{"$f":"分類順!D733","v":"日本頭頸部癌学会"},{"$f":"分類順!E733","v":"金原出版"},{"$f":"分類順!F733","v":10159},"頭頸部癌診療ガイドライン 2013年版医療の本Fi：耳/鼻/喉日本頭頸部癌学会金原出版",1,{"$f":"VLOOKUP(\"*\"&目次加工!$B$2&\"*\",J734:K734,2,0)","v":1},1]
[null,null,null,{"$f":"分類順!A734","v":"耳鼻咽喉科疾患ビジュアルブック"},{"$f":"分類順!B734","v":"医療の本"},{"$f":"分類順!C734","v":"Fi：耳/鼻/喉"},{"$f":"分類順!D734","v":"中尾一成, 落合慈之"},{"$f":"分類順!E734","v":"学研メディカル秀潤社"},{"$f":"分類順!F734","v":10253},"耳鼻咽喉科疾患ビジュアルブック医療の本Fi：耳/鼻/喉中尾一成, 落合慈之学研メディカル秀潤社",1,{"$f":"VLOOKUP(\"*\"&目次加工!$B$2&\"*\",J735:K735,2,0)","v":1},{"$error":"#N/A"}]
[null,null,null,{"$f":"分類順!A735","v":"歯"},{"$f":"分類順!B735","v":"目次へ"},{"$f":"分類順!C735","v":"※PDF版ではリンクしておりません。"},{"$f":"分類順!D735","v":0},{"$f":"分類順!E735","v":0},{"$f":"分類順!F735","v":0},"歯目次へ※PDF版ではリンクしておりません。00",1,{"$f":"VLOOKUP(\"*\"&目次加工!$B$2&\"*\",J736:K736,2,0)","v":1},1]
[null,null,null,{"$f":"分類順!A736","v":"口腔ケア 入れ歯で歩く元気な老後"},{"$f":"分類順!B736","v":"医療の本"},{"$f":"分類順!C736","v":"Fj：歯"},{"$f":"分類順!D736","v":"福田　徳治;石塚　三寿"},{"$f":"分類順!E736","v":"日本医学館"},{"$f":"分類順!F736","v":502},"口腔ケア 入れ歯で歩く元気な老後医療の本Fj：歯福田　徳治;石塚　三寿日本医学館",1,{"$f":"VLOOKUP(\"*\"&目次加工!$B$2&\"*\",J737:K737,2,0)","v":1},{"$error":"#N/A"}]
[null,null,null,{"$f":"分類順!A737","v":"歯周病"},{"$f":"分類順!B737","v":"医療の本"},{"$f":"分類順!C737","v":"Fj：歯"},{"$f":"分類順!D737","v":"新井　高"},{"$f":"分類順!E737","v":"保健同人社"},{"$f":"分類順!F737","v":504},"歯周病医療の本Fj：歯新井　高保健同人社",1,{"$f":"VLOOKUP(\"*\"&目次加工!$B$2&\"*\",J738:K738,2,0)","v":1},{"$error":"#N/A"}]
[null,null,null,{"$f":"分類順!A738","v":"高齢者・有病者のための歯科診療－さまざま"},{"$f":"分類順!B738","v":"医療の本"},{"$f":"分類順!C738","v":"Fj：歯"},{"$f":"分類順!D738","v":"山崎　博嗣　著"},{"$f":"分類順!E738","v":"学建書院"},{"$f":"分類順!F738","v":507},"高齢者・有病者のための歯科診療－さまざま医療の本Fj：歯山崎　博嗣　著学建書院",1,{"$f":"VLOOKUP(\"*\"&目次加工!$B$2&\"*\",J739:K739,2,0)","v":1},{"$error":"#N/A"}]
[null,null,null,{"$f":"分類順!A739","v":"歯のは★医療の本★　なんの歯この歯"},{"$f":"分類順!B739","v":"医療の本"},{"$f":"分類順!C739","v":"Fj：歯"},{"$f":"分類順!D739","v":"後藤　仁敏"},{"$f":"分類順!E739","v":"医歯薬出版"},{"$f":"分類順!F739","v":510},"歯のは★医療の本★　なんの歯この歯医療の本Fj：歯後藤　仁敏医歯薬出版",1,{"$f":"VLOOKUP(\"*\"&目次加工!$B$2&\"*\",J740:K740,2,0)","v":1},{"$error":"#N/A"}]
[null,null,null,{"$f":"分類順!A740","v":"心身医療と歯科医療－歯・口腔・顎と心と健"},{"$f":"分類順!B740","v":"医療の本"},{"$f":"分類順!C740","v":"Fj：歯"},{"$f":"分類順!D740","v":"都　温彦　編著"},{"$f":"分類順!E740","v":"新興医学出版社"},{"$f":"分類順!F740","v":512},"心身医療と歯科医療－歯・口腔・顎と心と健医療の本Fj：歯都　温彦　編著新興医学出版社",1,{"$f":"VLOOKUP(\"*\"&目次加工!$B$2&\"*\",J741:K741,2,0)","v":1},{"$error":"#N/A"}]
[null,null,null,{"$f":"分類順!A741","v":"完全図解顎関節症とかみ合わせの悩みが解決する本　東京医科歯科大学顎関節治療部部長が書いた"},{"$f":"分類順!B741","v":"医療の本"},{"$f":"分類順!C741","v":"Fj：歯"},{"$f":"分類順!D741","v":"木野 孔司　著"},{"$f":"分類順!E741","v":"講談社"},{"$f":"分類順!F741","v":5364},"完全図解顎関節症とかみ合わせの悩みが解決する本　東京医科歯科大学顎関節治療部部長が書いた医療の本Fj：歯木野 孔司　著講談社",1,{"$f":"VLOOKUP(\"*\"&目次加工!$B$2&\"*\",J742:K742,2,0)","v":1},{"$error":"#N/A"}]
[null,null,null,{"$f":"分類順!A742","v":"科学的根拠に基づく口腔癌診療ガイドライン　2009年版"},{"$f":"分類順!B742","v":"医療の本"},{"$f":"分類順!C742","v":"Fj：歯"},{"$f":"分類順!D742","v":"日本口腔腫瘍学会・日本口腔外科学会/編"},{"$f":"分類順!E742","v":"金原出版"},{"$f":"分類順!F742","v":8060},"科学的根拠に基づく口腔癌診療ガイドライン　2009年版医療の本Fj：歯日本口腔腫瘍学会・日本口腔外科学会/編金原出版",1,{"$f":"VLOOKUP(\"*\"&目次加工!$B$2&\"*\",J743:K743,2,0)","v":1},1]
[null,null,null,{"$f":"分類順!A743","v":"口唇裂・口蓋裂治療の手引き　改訂第3版"},{"$f":"分類順!B743","v":"医療の本"},{"$f":"分類順!C743","v":"Fj：歯"},{"$f":"分類順!D743","v":"昭和大学口唇裂・口蓋裂診療班"},{"$f":"分類順!E743","v":"金原出版"},{"$f":"分類順!F743","v":8102},"口唇裂・口蓋裂治療の手引き　改訂第3版医療の本Fj：歯昭和大学口唇裂・口蓋裂診療班金原出版",1,{"$f":"VLOOKUP(\"*\"&目次加工!$B$2&\"*\",J744:K744,2,0)","v":1},{"$error":"#N/A"}]
[null,null,null,{"$f":"分類順!A744","v":"科学的根拠に基づく口腔癌診療ガイドライン 2013年版: 構造化抄録CD-ROM付"},{"$f":"分類順!B744","v":"医療の本"},{"$f":"分類順!C744","v":"Fj：歯"},{"$f":"分類順!D744","v":"日本口腔腫瘍学会日腔癌治療ガイドライン改訂委員会"},{"$f":"分類順!E744","v":"金原出版"},{"$f":"分類順!F744","v":10160},"科学的根拠に基づく口腔癌診療ガイドライン 2013年版: 構造化抄録CD-ROM付医療の本Fj：歯日本口腔腫瘍学会日腔癌治療ガイドライン改訂委員会金原出版",1,{"$f":"VLOOKUP(\"*\"&目次加工!$B$2&\"*\",J745:K745,2,0)","v":1},1]
[null,null,null,{"$f":"分類順!A745","v":"内分泌"},{"$f":"分類順!B745","v":"目次へ"},{"$f":"分類順!C745","v":"※PDF版ではリンクしておりません。"},{"$f":"分類順!D745","v":0},{"$f":"分類順!E745","v":0},{"$f":"分類順!F745","v":0},"内分泌目次へ※PDF版ではリンクしておりません。00",1,{"$f":"VLOOKUP(\"*\"&目次加工!$B$2&\"*\",J746:K746,2,0)","v":1},1]
[null,null,null,{"$f":"分類順!A746","v":"甲状腺の病気　改訂新版"},{"$f":"分類順!B746","v":"医療の本"},{"$f":"分類順!C746","v":"Fl：内分泌"},{"$f":"分類順!D746","v":"佐藤　幹二　著"},{"$f":"分類順!E746","v":"保健同人社"},{"$f":"分類順!F746","v":558},"甲状腺の病気　改訂新版医療の本Fl：内分泌佐藤　幹二　著保健同人社",1,{"$f":"VLOOKUP(\"*\"&目次加工!$B$2&\"*\",J747:K747,2,0)","v":1},{"$error":"#N/A"}]
[null,null,null,{"$f":"分類順!A747","v":"甲状腺の病気　新版"},{"$f":"分類順!B747","v":"医療の本"},{"$f":"分類順!C747","v":"Fl：内分泌"},{"$f":"分類順!D747","v":"伊藤　公一　監修"},{"$f":"分類順!E747","v":"主婦の友社"},{"$f":"分類順!F747","v":559},"甲状腺の病気　新版医療の本Fl：内分泌伊藤　公一　監修主婦の友社",1,{"$f":"VLOOKUP(\"*\"&目次加工!$B$2&\"*\",J748:K748,2,0)","v":1},{"$error":"#N/A"}]
[null,null,null,{"$f":"分類順!A748","v":"甲状腺の病気を治す本"},{"$f":"分類順!B748","v":"医療の本"},{"$f":"分類順!C748","v":"Fl：内分泌"},{"$f":"分類順!D748","v":"栗原　英夫　著"},{"$f":"分類順!E748","v":"法研"},{"$f":"分類順!F748","v":1011},"甲状腺の病気を治す本医療の本Fl：内分泌栗原　英夫　著法研",1,{"$f":"VLOOKUP(\"*\"&目次加工!$B$2&\"*\",J749:K749,2,0)","v":1},{"$error":"#N/A"}]
[null,null,null,{"$f":"分類順!A749","v":"図解 甲状腺の病気がよくわかる最新治療と正しい知識 "},{"$f":"分類順!B749","v":"医療の本"},{"$f":"分類順!C749","v":"Fl：内分泌"},{"$f":"分類順!D749","v":"伊藤公一/高見博　監修"},{"$f":"分類順!E749","v":"日東書院"},{"$f":"分類順!F749","v":5366},"図解 甲状腺の病気がよくわかる最新治療と正しい知識 医療の本Fl：内分泌伊藤公一/高見博　監修日東書院",1,{"$f":"VLOOKUP(\"*\"&目次加工!$B$2&\"*\",J750:K750,2,0)","v":1},{"$error":"#N/A"}]
[null,null,null,{"$f":"分類順!A750","v":"甲状腺の病気の最新治療（よくわかる最新医学シリーズ）"},{"$f":"分類順!B750","v":"医療の本"},{"$f":"分類順!C750","v":"Fl：内分泌"},{"$f":"分類順!D750","v":"伊藤公一"},{"$f":"分類順!E750","v":"主婦の友社"},{"$f":"分類順!F750","v":10161},"甲状腺の病気の最新治療（よくわかる最新医学シリーズ）医療の本Fl：内分泌伊藤公一主婦の友社",1,{"$f":"VLOOKUP(\"*\"&目次加工!$B$2&\"*\",J751:K751,2,0)","v":1},{"$error":"#N/A"}]
[null,null,null,{"$f":"分類順!A751","v":"甲状腺の病気　バセドウ病・橋本病・甲状腺腫瘍ほか"},{"$f":"分類順!B751","v":"医療の本"},{"$f":"分類順!C751","v":"Fl：内分泌"},{"$f":"分類順!D751","v":"伊藤公一"},{"$f":"分類順!E751","v":"主婦の友社"},{"$f":"分類順!F751","v":10487},"甲状腺の病気　バセドウ病・橋本病・甲状腺腫瘍ほか医療の本Fl：内分泌伊藤公一主婦の友社",1,{"$f":"VLOOKUP(\"*\"&目次加工!$B$2&\"*\",J752:K752,2,0)","v":1},{"$error":"#N/A"}]
[null,null,null,{"$f":"分類順!A752","v":"甲状腺の病気　（よくわかる最新医学シリーズ）"},{"$f":"分類順!B752","v":"医療の本"},{"$f":"分類順!C752","v":"Fl：内分泌"},{"$f":"分類順!D752","v":"伊藤公一 監"},{"$f":"分類順!E752","v":"主婦の友社"},{"$f":"分類順!F752","v":10571},"甲状腺の病気　（よくわかる最新医学シリーズ）医療の本Fl：内分泌伊藤公一 監主婦の友社",1,{"$f":"VLOOKUP(\"*\"&目次加工!$B$2&\"*\",J753:K753,2,0)","v":1},{"$error":"#N/A"}]
[null,null,null,{"$f":"分類順!A753","v":"脳・神経系"},{"$f":"分類順!B753","v":"目次へ"},{"$f":"分類順!C753","v":"※PDF版ではリンクしておりません。"},{"$f":"分類順!D753","v":0},{"$f":"分類順!E753","v":0},{"$f":"分類順!F753","v":0},"脳・神経系目次へ※PDF版ではリンクしておりません。00",1,{"$f":"VLOOKUP(\"*\"&目次加工!$B$2&\"*\",J754:K754,2,0)","v":1},1]
[null,null,null,{"$f":"分類順!A754","v":"脳卒中"},{"$f":"分類順!B754","v":"医療の本"},{"$f":"分類順!C754","v":"Fm：脳・神経系"},{"$f":"分類順!D754","v":"伊藤　昌徳"},{"$f":"分類順!E754","v":"日本医学館"},{"$f":"分類順!F754","v":218},"脳卒中医療の本Fm：脳・神経系伊藤　昌徳日本医学館",1,{"$f":"VLOOKUP(\"*\"&目次加工!$B$2&\"*\",J755:K755,2,0)","v":1},{"$error":"#N/A"}]
[null,null,null,{"$f":"分類順!A755","v":"クモ膜下出血診療ガイドライン　ＲＯＭ付"},{"$f":"分類順!B755","v":"医療の本"},{"$f":"分類順!C755","v":"Fm：脳・神経系"},{"$f":"分類順!D755","v":"日本脳卒中の外科学会"},{"$f":"分類順!E755","v":"じほう"},{"$f":"分類順!F755","v":570},"クモ膜下出血診療ガイドライン　ＲＯＭ付医療の本Fm：脳・神経系日本脳卒中の外科学会じほう",1,{"$f":"VLOOKUP(\"*\"&目次加工!$B$2&\"*\",J756:K756,2,0)","v":1},{"$error":"#N/A"}]
[null,null,null,{"$f":"分類順!A756","v":"コントロールする　神経系・感覚器"},{"$f":"分類順!B756","v":"医療の本"},{"$f":"分類順!C756","v":"Fm：脳・神経系"},{"$f":"分類順!D756","v":0},{"$f":"分類順!E756","v":"メディ・イシュ"},{"$f":"分類順!F756","v":571},"コントロールする　神経系・感覚器医療の本Fm：脳・神経系0メディ・イシュ",1,{"$f":"VLOOKUP(\"*\"&目次加工!$B$2&\"*\",J757:K757,2,0)","v":1},1]
[null,null,null,{"$f":"分類順!A757","v":"パーキンソン病最新治療と生活法 イラスト版"},{"$f":"分類順!B757","v":"医療の本"},{"$f":"分類順!C757","v":"Fm：脳・神経系"},{"$f":"分類順!D757","v":"作田　学"},{"$f":"分類順!E757","v":"講談社"},{"$f":"分類順!F757","v":573},"パーキンソン病最新治療と生活法 イラスト版医療の本Fm：脳・神経系作田　学講談社",1,{"$f":"VLOOKUP(\"*\"&目次加工!$B$2&\"*\",J758:K758,2,0)","v":1},{"$error":"#N/A"}]
[null,null,null,{"$f":"分類順!A758","v":"知的障害のことがよくわかる本 イラスト版"},{"$f":"分類順!B758","v":"医療の本"},{"$f":"分類順!C758","v":"Fm：脳・神経系"},{"$f":"分類順!D758","v":"有馬　正高"},{"$f":"分類順!E758","v":"講談社"},{"$f":"分類順!F758","v":579},"知的障害のことがよくわかる本 イラスト版医療の本Fm：脳・神経系有馬　正高講談社",1,{"$f":"VLOOKUP(\"*\"&目次加工!$B$2&\"*\",J759:K759,2,0)","v":1},{"$error":"#N/A"}]
[null,null,null,{"$f":"分類順!A759","v":"脳梗塞・脳出血・くも膜下出血"},{"$f":"分類順!B759","v":"医療の本"},{"$f":"分類順!C759","v":"Fm：脳・神経系"},{"$f":"分類順!D759","v":"高木　誠　監修"},{"$f":"分類順!E759","v":"主婦の友社"},{"$f":"分類順!F759","v":584},"脳梗塞・脳出血・くも膜下出血医療の本Fm：脳・神経系高木　誠　監修主婦の友社",1,{"$f":"VLOOKUP(\"*\"&目次加工!$B$2&\"*\",J760:K760,2,0)","v":1},{"$error":"#N/A"}]
[null,null,null,{"$f":"分類順!A760","v":"脳梗塞はこうして防ぐ、治す イラスト版"},{"$f":"分類順!B760","v":"医療の本"},{"$f":"分類順!C760","v":"Fm：脳・神経系"},{"$f":"分類順!D760","v":"高木　誠"},{"$f":"分類順!E760","v":"講談社"},{"$f":"分類順!F760","v":585},"脳梗塞はこうして防ぐ、治す イラスト版医療の本Fm：脳・神経系高木　誠講談社",1,{"$f":"VLOOKUP(\"*\"&目次加工!$B$2&\"*\",J761:K761,2,0)","v":1},{"$error":"#N/A"}]
[null,null,null,{"$f":"分類順!A761","v":"脳出血・くも膜下出血はこうして防ぐ、治す イラスト版"},{"$f":"分類順!B761","v":"医療の本"},{"$f":"分類順!C761","v":"Fm：脳・神経系"},{"$f":"分類順!D761","v":"中込　忠好"},{"$f":"分類順!E761","v":"講談社"},{"$f":"分類順!F761","v":587},"脳出血・くも膜下出血はこうして防ぐ、治す イラスト版医療の本Fm：脳・神経系中込　忠好講談社",1,{"$f":"VLOOKUP(\"*\"&目次加工!$B$2&\"*\",J762:K762,2,0)","v":1},{"$error":"#N/A"}]
[null,null,null,{"$f":"分類順!A762","v":"慢性頭痛とつきあう法 イラスト版"},{"$f":"分類順!B762","v":"医療の本"},{"$f":"分類順!C762","v":"Fm：脳・神経系"},{"$f":"分類順!D762","v":"寺本　純"},{"$f":"分類順!E762","v":"講談社"},{"$f":"分類順!F762","v":589},"慢性頭痛とつきあう法 イラスト版医療の本Fm：脳・神経系寺本　純講談社",1,{"$f":"VLOOKUP(\"*\"&目次加工!$B$2&\"*\",J763:K763,2,0)","v":1},{"$error":"#N/A"}]
[null,null,null,{"$f":"分類順!A763","v":"せん妄　すぐに見つけて！すぐに対応！"},{"$f":"分類順!B763","v":"医療の本"},{"$f":"分類順!C763","v":"Fm：脳・神経系"},{"$f":"分類順!D763","v":"一瀬　邦弘　他監"},{"$f":"分類順!E763","v":"照林社"},{"$f":"分類順!F763","v":593},"せん妄　すぐに見つけて！すぐに対応！医療の本Fm：脳・神経系一瀬　邦弘　他監照林社",1,{"$f":"VLOOKUP(\"*\"&目次加工!$B$2&\"*\",J764:K764,2,0)","v":1},{"$error":"#N/A"}]
[null,null,null,{"$f":"分類順!A764","v":"ポケット版　脳神経外科ケアマニュアル"},{"$f":"分類順!B764","v":"医療の本"},{"$f":"分類順!C764","v":"Fm：脳・神経系"},{"$f":"分類順!D764","v":"大井　静雄　編著"},{"$f":"分類順!E764","v":"照林社"},{"$f":"分類順!F764","v":595},"ポケット版　脳神経外科ケアマニュアル医療の本Fm：脳・神経系大井　静雄　編著照林社",1,{"$f":"VLOOKUP(\"*\"&目次加工!$B$2&\"*\",J765:K765,2,0)","v":1},{"$error":"#N/A"}]
[null,null,null,{"$f":"分類順!A765","v":"やさしいてんかんの自己管理　ポケット版"},{"$f":"分類順!B765","v":"医療の本"},{"$f":"分類順!C765","v":"Fm：脳・神経系"},{"$f":"分類順!D765","v":"八木　和一　著"},{"$f":"分類順!E765","v":"医薬ジャーナル社"},{"$f":"分類順!F765","v":596},"やさしいてんかんの自己管理　ポケット版医療の本Fm：脳・神経系八木　和一　著医薬ジャーナル社",1,{"$f":"VLOOKUP(\"*\"&目次加工!$B$2&\"*\",J766:K766,2,0)","v":1},{"$error":"#N/A"}]
[null,null,null,{"$f":"分類順!A766","v":"やさしい頭痛の自己管理"},{"$f":"分類順!B766","v":"医療の本"},{"$f":"分類順!C766","v":"Fm：脳・神経系"},{"$f":"分類順!D766","v":"間中　信也"},{"$f":"分類順!E766","v":"医薬ジャーナル社"},{"$f":"分類順!F766","v":597},"やさしい頭痛の自己管理医療の本Fm：脳・神経系間中　信也医薬ジャーナル社",1,{"$f":"VLOOKUP(\"*\"&目次加工!$B$2&\"*\",J767:K767,2,0)","v":1},{"$error":"#N/A"}]
[null,null,null,{"$f":"分類順!A767","v":"よくわかる脳卒中後遺症におけるうつ病・う"},{"$f":"分類順!B767","v":"医療の本"},{"$f":"分類順!C767","v":"Fm：脳・神経系"},{"$f":"分類順!D767","v":"平井　俊策　編"},{"$f":"分類順!E767","v":"医薬ジャーナル社"},{"$f":"分類順!F767","v":598},"よくわかる脳卒中後遺症におけるうつ病・う医療の本Fm：脳・神経系平井　俊策　編医薬ジャーナル社",1,{"$f":"VLOOKUP(\"*\"&目次加工!$B$2&\"*\",J768:K768,2,0)","v":1},{"$error":"#N/A"}]
[null,null,null,{"$f":"分類順!A768","v":"神経救急・集中治療ガイドライン"},{"$f":"分類順!B768","v":"医療の本"},{"$f":"分類順!C768","v":"Fm：脳・神経系"},{"$f":"分類順!D768","v":"有賀　徹　他監訳"},{"$f":"分類順!E768","v":"メディカル・サイエンス・インターナショナル"},{"$f":"分類順!F768","v":601},"神経救急・集中治療ガイドライン医療の本Fm：脳・神経系有賀　徹　他監訳メディカル・サイエンス・インターナショナル",1,{"$f":"VLOOKUP(\"*\"&目次加工!$B$2&\"*\",J769:K769,2,0)","v":1},{"$error":"#N/A"}]
[null,null,null,{"$f":"分類順!A769","v":"脳血管救命センター物語"},{"$f":"分類順!B769","v":"医療の本"},{"$f":"分類順!C769","v":"Fm：脳・神経系"},{"$f":"分類順!D769","v":"岡田　靖　総監修"},{"$f":"分類順!E769","v":"メディカルレビュー社"},{"$f":"分類順!F769","v":607},"脳血管救命センター物語医療の本Fm：脳・神経系岡田　靖　総監修メディカルレビュー社",1,{"$f":"VLOOKUP(\"*\"&目次加工!$B$2&\"*\",J770:K770,2,0)","v":1},{"$error":"#N/A"}]
[null,null,null,{"$f":"分類順!A770","v":"2009　脳卒中治療ガイドライン"},{"$f":"分類順!B770","v":"医療の本"},{"$f":"分類順!C770","v":"Fm：脳・神経系"},{"$f":"分類順!D770","v":"篠原　幸人　他編集"},{"$f":"分類順!E770","v":"協和企画"},{"$f":"分類順!F770","v":1012},"2009　脳卒中治療ガイドライン医療の本Fm：脳・神経系篠原　幸人　他編集協和企画",1,{"$f":"VLOOKUP(\"*\"&目次加工!$B$2&\"*\",J771:K771,2,0)","v":1},1]
[null,null,null,{"$f":"分類順!A771","v":"クモ膜下出血のサインを読む"},{"$f":"分類順!B771","v":"医療の本"},{"$f":"分類順!C771","v":"Fm：脳・神経系"},{"$f":"分類順!D771","v":"山口三千夫　著"},{"$f":"分類順!E771","v":"講談社"},{"$f":"分類順!F771","v":5367},"クモ膜下出血のサインを読む医療の本Fm：脳・神経系山口三千夫　著講談社",1,{"$f":"VLOOKUP(\"*\"&目次加工!$B$2&\"*\",J772:K772,2,0)","v":1},{"$f":"VLOOKUP(\"*\"&$A$2&\"*\",J772:K772,2,0)","v":{"$error":"#N/A"}}]
[null,null,null,{"$f":"分類順!A772","v":"てんかん発作こうすればだいじょうぶ　―発作と介助"},{"$f":"分類順!B772","v":"医療の本"},{"$f":"分類順!C772","v":"Fm：脳・神経系"},{"$f":"分類順!D772","v":"川崎 淳　著"},{"$f":"分類順!E772","v":"クリエイツかもがわ"},{"$f":"分類順!F772","v":5368},"てんかん発作こうすればだいじょうぶ　―発作と介助医療の本Fm：脳・神経系川崎 淳　著クリエイツかもがわ",1,{"$f":"VLOOKUP(\"*\"&目次加工!$B$2&\"*\",J773:K773,2,0)","v":1},{"$error":"#N/A"}]
[null,null,null,{"$f":"分類順!A773","v":"脳にいいことだけをやりなさい！"},{"$f":"分類順!B773","v":"一般図書"},{"$f":"分類順!C773","v":"Fm：脳・神経系"},{"$f":"分類順!D773","v":"マーシー・シャイモフ"},{"$f":"分類順!E773","v":"三笠書房"},{"$f":"分類順!F773","v":5404},"脳にいいことだけをやりなさい！一般図書Fm：脳・神経系マーシー・シャイモフ三笠書房",1,{"$f":"VLOOKUP(\"*\"&目次加工!$B$2&\"*\",J774:K774,2,0)","v":1},{"$error":"#N/A"}]
[null,null,null,{"$f":"分類順!A774","v":"内臓感覚　脳と腸の不思議な関係"},{"$f":"分類順!B774","v":"医療の本"},{"$f":"分類順!C774","v":"Fm：脳・神経系"},{"$f":"分類順!D774","v":"福土審"},{"$f":"分類順!E774","v":"日本放送出版協会"},{"$f":"分類順!F774","v":5418},"内臓感覚　脳と腸の不思議な関係医療の本Fm：脳・神経系福土審日本放送出版協会",1,{"$f":"VLOOKUP(\"*\"&目次加工!$B$2&\"*\",J775:K775,2,0)","v":1},{"$error":"#N/A"}]
[null,null,null,{"$f":"分類順!A775","v":"脳卒中リハビリガイド"},{"$f":"分類順!B775","v":"医療の本"},{"$f":"分類順!C775","v":"Fm：脳・神経系"},{"$f":"分類順!D775","v":"監修：田口芳雄"},{"$f":"分類順!E775","v":"学研"},{"$f":"分類順!F775","v":8047},"脳卒中リハビリガイド医療の本Fm：脳・神経系監修：田口芳雄学研",1,{"$f":"VLOOKUP(\"*\"&目次加工!$B$2&\"*\",J776:K776,2,0)","v":1},{"$error":"#N/A"}]
[null,null,null,{"$f":"分類順!A776","v":"頭痛外来へようこそ"},{"$f":"分類順!B776","v":"医療の本"},{"$f":"分類順!C776","v":"Fm：脳・神経系"},{"$f":"分類順!D776","v":"清水俊彦"},{"$f":"分類順!E776","v":"保健同人社"},{"$f":"分類順!F776","v":8079},"頭痛外来へようこそ医療の本Fm：脳・神経系清水俊彦保健同人社",1,{"$f":"VLOOKUP(\"*\"&目次加工!$B$2&\"*\",J777:K777,2,0)","v":1},{"$error":"#N/A"}]
[null,null,null,{"$f":"分類順!A777","v":"やさしいパーキンソン病の自己管理"},{"$f":"分類順!B777","v":"医療の本"},{"$f":"分類順!C777","v":"Fm：脳・神経系"},{"$f":"分類順!D777","v":"村田美穂編著"},{"$f":"分類順!E777","v":"医薬ジャーナル社"},{"$f":"分類順!F777","v":8100},"やさしいパーキンソン病の自己管理医療の本Fm：脳・神経系村田美穂編著医薬ジャーナル社",1,{"$f":"VLOOKUP(\"*\"&目次加工!$B$2&\"*\",J778:K778,2,0)","v":1},{"$error":"#N/A"}]
[null,null,null,{"$f":"分類順!A778","v":"脳卒中　見逃さない、あきらめない　（別冊NHKきょうの健康）"},{"$f":"分類順!B778","v":"医療の本"},{"$f":"分類順!C778","v":"Fm：脳・神経系"},{"$f":"分類順!D778","v":"内山真一郎総監修"},{"$f":"分類順!E778","v":"NHK出版"},{"$f":"分類順!F778","v":8107},"脳卒中　見逃さない、あきらめない　（別冊NHKきょうの健康）医療の本Fm：脳・神経系内山真一郎総監修NHK出版",1,{"$f":"VLOOKUP(\"*\"&目次加工!$B$2&\"*\",J779:K779,2,0)","v":1},{"$error":"#N/A"}]
[null,null,null,{"$f":"分類順!A779","v":"脳からストレスを消す技術"},{"$f":"分類順!B779","v":"医療の本"},{"$f":"分類順!C779","v":"Fm：脳・神経系"},{"$f":"分類順!D779","v":"有田秀穂"},{"$f":"分類順!E779","v":"サンマーク出版"},{"$f":"分類順!F779","v":8119},"脳からストレスを消す技術医療の本Fm：脳・神経系有田秀穂サンマーク出版",1,{"$f":"VLOOKUP(\"*\"&目次加工!$B$2&\"*\",J780:K780,2,0)","v":1},{"$error":"#N/A"}]
[null,null,null,{"$f":"分類順!A780","v":"患者と読む、患者に話す脳腫瘍　Q&A135"},{"$f":"分類順!B780","v":"医療の本"},{"$f":"分類順!C780","v":"Fm：脳・神経系"},{"$f":"分類順!D780","v":"藤巻　高光"},{"$f":"分類順!E780","v":"メディカ出版"},{"$f":"分類順!F780","v":8131},"患者と読む、患者に話す脳腫瘍　Q&A135医療の本Fm：脳・神経系藤巻　高光メディカ出版",1,{"$f":"VLOOKUP(\"*\"&目次加工!$B$2&\"*\",J781:K781,2,0)","v":1},{"$error":"#N/A"}]
[null,null,null,{"$f":"分類順!A781","v":"病気がみえる　№７　脳・神経"},{"$f":"分類順!B781","v":"医療の本"},{"$f":"分類順!C781","v":"Fm：脳・神経系"},{"$f":"分類順!D781","v":"メディックメディア"},{"$f":"分類順!E781","v":"メディックメディア"},{"$f":"分類順!F781","v":10013},"病気がみえる　№７　脳・神経医療の本Fm：脳・神経系メディックメディアメディックメディア",1,{"$f":"VLOOKUP(\"*\"&目次加工!$B$2&\"*\",J782:K782,2,0)","v":1},{"$error":"#N/A"}]
[null,null,null,{"$f":"分類順!A782","v":"ベニー　フランスへいく"},{"$f":"分類順!B782","v":"医療の本"},{"$f":"分類順!C782","v":"Fm：脳・神経系"},{"$f":"分類順!D782","v":"ﾛｰｽﾞﾏﾘｰ･ﾊﾞｯﾁｪﾗｰ"},{"$f":"分類順!E782","v":"日本二分脊椎･水頭症研究振興団体"},{"$f":"分類順!F782","v":10090},"ベニー　フランスへいく医療の本Fm：脳・神経系ﾛｰｽﾞﾏﾘｰ･ﾊﾞｯﾁｪﾗｰ日本二分脊椎･水頭症研究振興団体",1,{"$f":"VLOOKUP(\"*\"&目次加工!$B$2&\"*\",J783:K783,2,0)","v":1},{"$error":"#N/A"}]
[null,null,null,{"$f":"分類順!A783","v":"スヴェン"},{"$f":"分類順!B783","v":"医療の本"},{"$f":"分類順!C783","v":"Fm：脳・神経系"},{"$f":"分類順!D783","v":"ナディア・カーン"},{"$f":"分類順!E783","v":"メディカルレビュー社"},{"$f":"分類順!F783","v":10091},"スヴェン医療の本Fm：脳・神経系ナディア・カーンメディカルレビュー社",1,{"$f":"VLOOKUP(\"*\"&目次加工!$B$2&\"*\",J784:K784,2,0)","v":1},{"$error":"#N/A"}]
[null,null,null,{"$f":"分類順!A784","v":"赤ちゃんは水頭症"},{"$f":"分類順!B784","v":"医療の本"},{"$f":"分類順!C784","v":"Fm：脳・神経系"},{"$f":"分類順!D784","v":"柴田靖子"},{"$f":"分類順!E784","v":"日本水頭症協会"},{"$f":"分類順!F784","v":10092},"赤ちゃんは水頭症医療の本Fm：脳・神経系柴田靖子日本水頭症協会",1,{"$f":"VLOOKUP(\"*\"&目次加工!$B$2&\"*\",J785:K785,2,0)","v":1},{"$error":"#N/A"}]
[null,null,null,{"$f":"分類順!A785","v":"全部見える脳・神経疾患　スーパービジュアル"},{"$f":"分類順!B785","v":"医療の本"},{"$f":"分類順!C785","v":"Fm：脳・神経系"},{"$f":"分類順!D785","v":"服部光男"},{"$f":"分類順!E785","v":"成美堂出版"},{"$f":"分類順!F785","v":10283},"全部見える脳・神経疾患　スーパービジュアル医療の本Fm：脳・神経系服部光男成美堂出版",1,{"$f":"VLOOKUP(\"*\"&目次加工!$B$2&\"*\",J786:K786,2,0)","v":1},{"$error":"#N/A"}]
[null,null,null,{"$f":"分類順!A786","v":"慢性頭痛の診療ガイドライン 市民版"},{"$f":"分類順!B786","v":"医療の本"},{"$f":"分類順!C786","v":"Fm：脳・神経系"},{"$f":"分類順!D786","v":"日本頭痛学会"},{"$f":"分類順!E786","v":"医学書院"},{"$f":"分類順!F786","v":10284},{"$f":"D787&E787&F787&G787&H787","v":"慢性頭痛の診療ガイドライン 市民版医療の本Fm：脳・神経系日本頭痛学会医学書院"},1,{"$f":"VLOOKUP(\"*\"&目次加工!$B$2&\"*\",J787:K787,2,0)","v":1},{"$error":"#N/A"}]
[null,null,null,{"$f":"分類順!A787","v":"てんかん発作こうすればだいじょうぶ　発作と介助（改訂版）"},{"$f":"分類順!B787","v":"医療の本"},{"$f":"分類順!C787","v":"Fm：脳・神経系"},{"$f":"分類順!D787","v":"日本てんかん協会"},{"$f":"分類順!E787","v":"クリエイツかもがわ"},{"$f":"分類順!F787","v":10457},"てんかん発作こうすればだいじょうぶ　発作と介助（改訂版）医療の本Fm：脳・神経系日本てんかん協会クリエイツかもがわ",1,{"$f":"VLOOKUP(\"*\"&目次加工!$B$2&\"*\",J788:K788,2,0)","v":1},{"$error":"#N/A"}]
[null,null,null,{"$f":"分類順!A788","v":"病気がみえるvol.7　脳・神経　第2版"},{"$f":"分類順!B788","v":"医療の本"},{"$f":"分類順!C788","v":"Fm：脳・神経系"},{"$f":"分類順!D788","v":"医療情報科学研究所"},{"$f":"分類順!E788","v":"メディックメディア"},{"$f":"分類順!F788","v":10538},"病気がみえるvol.7　脳・神経　第2版医療の本Fm：脳・神経系医療情報科学研究所メディックメディア",1,{"$f":"VLOOKUP(\"*\"&目次加工!$B$2&\"*\",J789:K789,2,0)","v":1},{"$error":"#N/A"}]
[null,null,null,{"$f":"分類順!A789","v":"てんかん診療ガイドライン2018"},{"$f":"分類順!B789","v":"医療の本"},{"$f":"分類順!C789","v":"Fm：脳・神経系"},{"$f":"分類順!D789","v":"日本神経学会"},{"$f":"分類順!E789","v":"医学書院"},{"$f":"分類順!F789","v":10547},"てんかん診療ガイドライン2018医療の本Fm：脳・神経系日本神経学会医学書院",1,{"$f":"VLOOKUP(\"*\"&目次加工!$B$2&\"*\",J790:K790,2,0)","v":1},1]
[null,null,null,{"$f":"分類順!A790","v":"脳梗塞　脳出血　くも膜下出血　（よくわかる最新医学シリーズ）"},{"$f":"分類順!B790","v":"医療の本"},{"$f":"分類順!C790","v":"Fm：脳・神経系"},{"$f":"分類順!D790","v":"高木誠　監修"},{"$f":"分類順!E790","v":"主婦の友社"},{"$f":"分類順!F790","v":10561},"脳梗塞　脳出血　くも膜下出血　（よくわかる最新医学シリーズ）医療の本Fm：脳・神経系高木誠　監修主婦の友社",1,{"$f":"VLOOKUP(\"*\"&目次加工!$B$2&\"*\",J791:K791,2,0)","v":1},{"$error":"#N/A"}]
[null,null,null,{"$f":"分類順!A791","v":"パーキンソン病　（よくわかる最新医学シリーズ）"},{"$f":"分類順!B791","v":"医療の本"},{"$f":"分類順!C791","v":"Fm：脳・神経系"},{"$f":"分類順!D791","v":"山之内博　監修"},{"$f":"分類順!E791","v":"主婦の友社"},{"$f":"分類順!F791","v":10567},"パーキンソン病　（よくわかる最新医学シリーズ）医療の本Fm：脳・神経系山之内博　監修主婦の友社",1,{"$f":"VLOOKUP(\"*\"&目次加工!$B$2&\"*\",J792:K792,2,0)","v":1},{"$error":"#N/A"}]
[null,null,null,{"$f":"分類順!A792","v":"高次脳機能障害のリハビリがわかる本"},{"$f":"分類順!B792","v":"医療の本"},{"$f":"分類順!C792","v":"Fm：脳・神経系"},{"$f":"分類順!D792","v":"橋本圭司　監修"},{"$f":"分類順!E792","v":"講談社"},{"$f":"分類順!F792","v":10586},"高次脳機能障害のリハビリがわかる本医療の本Fm：脳・神経系橋本圭司　監修講談社",1,{"$f":"VLOOKUP(\"*\"&目次加工!$B$2&\"*\",J793:K793,2,0)","v":1},{"$error":"#N/A"}]
[null,null,null,{"$f":"分類順!A793","v":"脳神経外科学　1　改訂12版"},{"$f":"分類順!B793","v":"医療の本"},{"$f":"分類順!C793","v":"Fm：脳・神経系"},{"$f":"分類順!D793","v":"太田富雄　総編集"},{"$f":"分類順!E793","v":"金芳堂"},{"$f":"分類順!F793","v":10615},"脳神経外科学　1　改訂12版医療の本Fm：脳・神経系太田富雄　総編集金芳堂",1,{"$f":"VLOOKUP(\"*\"&目次加工!$B$2&\"*\",J794:K794,2,0)","v":1},{"$error":"#N/A"}]
[null,null,null,{"$f":"分類順!A794","v":"脳神経外科学　2　改訂12版"},{"$f":"分類順!B794","v":"医療の本"},{"$f":"分類順!C794","v":"Fm：脳・神経系"},{"$f":"分類順!D794","v":"太田富雄　総編集"},{"$f":"分類順!E794","v":"金芳堂"},{"$f":"分類順!F794","v":10616},"脳神経外科学　2　改訂12版医療の本Fm：脳・神経系太田富雄　総編集金芳堂",1,{"$f":"VLOOKUP(\"*\"&目次加工!$B$2&\"*\",J795:K795,2,0)","v":1},{"$error":"#N/A"}]
[null,null,null,{"$f":"分類順!A795","v":"脳神経外科学　3　改訂12版"},{"$f":"分類順!B795","v":"医療の本"},{"$f":"分類順!C795","v":"Fm：脳・神経系"},{"$f":"分類順!D795","v":"太田富雄　総編集"},{"$f":"分類順!E795","v":"金芳堂"},{"$f":"分類順!F795","v":10617},"脳神経外科学　3　改訂12版医療の本Fm：脳・神経系太田富雄　総編集金芳堂",1,{"$f":"VLOOKUP(\"*\"&目次加工!$B$2&\"*\",J796:K796,2,0)","v":1},{"$error":"#N/A"}]
[null,null,null,{"$f":"分類順!A796","v":"睡眠障害"},{"$f":"分類順!B796","v":"目次へ"},{"$f":"分類順!C796","v":"※PDF版ではリンクしておりません。"},{"$f":"分類順!D796","v":0},{"$f":"分類順!E796","v":0},{"$f":"分類順!F796","v":0},"睡眠障害目次へ※PDF版ではリンクしておりません。00",1,{"$f":"VLOOKUP(\"*\"&目次加工!$B$2&\"*\",J797:K797,2,0)","v":1},1]
[null,null,null,{"$f":"分類順!A797","v":"睡眠の教科書"},{"$f":"分類順!B797","v":"医療の本"},{"$f":"分類順!C797","v":"Fm5：睡眠障害"},{"$f":"分類順!D797","v":"ロバート・ローゼンバーグ"},{"$f":"分類順!E797","v":"シャスタインターナショナル"},{"$f":"分類順!F797","v":10493},"睡眠の教科書医療の本Fm5：睡眠障害ロバート・ローゼンバーグシャスタインターナショナル",1,{"$f":"VLOOKUP(\"*\"&目次加工!$B$2&\"*\",J798:K798,2,0)","v":1},{"$error":"#N/A"}]
[null,null,null,{"$f":"分類順!A798","v":"呼吸器"},{"$f":"分類順!B798","v":"目次へ"},{"$f":"分類順!C798","v":"※PDF版ではリンクしておりません。"},{"$f":"分類順!D798","v":0},{"$f":"分類順!E798","v":0},{"$f":"分類順!F798","v":0},"呼吸器目次へ※PDF版ではリンクしておりません。00",1,{"$f":"VLOOKUP(\"*\"&目次加工!$B$2&\"*\",J799:K799,2,0)","v":1},1]
[null,null,null,{"$f":"分類順!A799","v":"肺気腫"},{"$f":"分類順!B799","v":"医療の本"},{"$f":"分類順!C799","v":"Fn：呼吸器"},{"$f":"分類順!D799","v":"千治松　洋一　著"},{"$f":"分類順!E799","v":"日本医学館"},{"$f":"分類順!F799","v":622},"肺気腫医療の本Fn：呼吸器千治松　洋一　著日本医学館",1,{"$f":"VLOOKUP(\"*\"&目次加工!$B$2&\"*\",J800:K800,2,0)","v":1},{"$error":"#N/A"}]
[null,null,null,{"$f":"分類順!A800","v":"間質性肺炎・肺線維症　本棚のホームド　４"},{"$f":"分類順!B800","v":"医療の本"},{"$f":"分類順!C800","v":"Fn：呼吸器"},{"$f":"分類順!D800","v":"長井　苑子　著"},{"$f":"分類順!E800","v":"最新医学社"},{"$f":"分類順!F800","v":624},"間質性肺炎・肺線維症　本棚のホームド　４医療の本Fn：呼吸器長井　苑子　著最新医学社",1,{"$f":"VLOOKUP(\"*\"&目次加工!$B$2&\"*\",J801:K801,2,0)","v":1},{"$error":"#N/A"}]
[null,null,null,{"$f":"分類順!A801","v":"酸素療法ガイドライン"},{"$f":"分類順!B801","v":"医療の本"},{"$f":"分類順!C801","v":"Fn：呼吸器"},{"$f":"分類順!D801","v":"日本呼吸器学会肺生理"},{"$f":"分類順!E801","v":"メディカルレビュー社"},{"$f":"分類順!F801","v":625},"酸素療法ガイドライン医療の本Fn：呼吸器日本呼吸器学会肺生理メディカルレビュー社",1,{"$f":"VLOOKUP(\"*\"&目次加工!$B$2&\"*\",J802:K802,2,0)","v":1},{"$error":"#N/A"}]
[null,null,null,{"$f":"分類順!A802","v":"図解内科学セミナー　呼吸器"},{"$f":"分類順!B802","v":"医療の本"},{"$f":"分類順!C802","v":"Fn：呼吸器"},{"$f":"分類順!D802","v":"永井　厚志　監修"},{"$f":"分類順!E802","v":"中外医学社"},{"$f":"分類順!F802","v":626},"図解内科学セミナー　呼吸器医療の本Fn：呼吸器永井　厚志　監修中外医学社",1,{"$f":"VLOOKUP(\"*\"&目次加工!$B$2&\"*\",J803:K803,2,0)","v":1},{"$error":"#N/A"}]
[null,null,null,{"$f":"分類順!A803","v":"正しいステロイド剤の使い方　３　吸入薬編"},{"$f":"分類順!B803","v":"医療の本"},{"$f":"分類順!C803","v":"Fn：呼吸器"},{"$f":"分類順!D803","v":"足立　満　編"},{"$f":"分類順!E803","v":"医薬ジャーナル社"},{"$f":"分類順!F803","v":627},"正しいステロイド剤の使い方　３　吸入薬編医療の本Fn：呼吸器足立　満　編医薬ジャーナル社",1,{"$f":"VLOOKUP(\"*\"&目次加工!$B$2&\"*\",J804:K804,2,0)","v":1},{"$error":"#N/A"}]
[null,null,null,{"$f":"分類順!A804","v":"結核?!でも心配しないで"},{"$f":"分類順!B804","v":"医療の本"},{"$f":"分類順!C804","v":"Fn：呼吸器"},{"$f":"分類順!D804","v":"公益財団法人結核予防会"},{"$f":"分類順!E804","v":"公益財団法人結核予防会"},{"$f":"分類順!F804","v":5482},"結核?!でも心配しないで医療の本Fn：呼吸器公益財団法人結核予防会公益財団法人結核予防会",1,{"$f":"VLOOKUP(\"*\"&目次加工!$B$2&\"*\",J805:K805,2,0)","v":1},{"$error":"#N/A"}]
[null,null,null,{"$f":"分類順!A805","v":"沖田くんのタイムスリップ"},{"$f":"分類順!B805","v":"医療の本"},{"$f":"分類順!C805","v":"Fn：呼吸器"},{"$f":"分類順!D805","v":"公益財団法人結核予防会"},{"$f":"分類順!E805","v":"公益財団法人結核予防会"},{"$f":"分類順!F805","v":5483},"沖田くんのタイムスリップ医療の本Fn：呼吸器公益財団法人結核予防会公益財団法人結核予防会",1,{"$f":"VLOOKUP(\"*\"&目次加工!$B$2&\"*\",J806:K806,2,0)","v":1},{"$error":"#N/A"}]
[null,null,null,{"$f":"分類順!A806","v":"病気がみえる　④：呼吸器"},{"$f":"分類順!B806","v":"医療の本"},{"$f":"分類順!C806","v":"Fn：呼吸器"},{"$f":"分類順!D806","v":0},{"$f":"分類順!E806","v":"メディックメディア"},{"$f":"分類順!F806","v":8004},"病気がみえる　④：呼吸器医療の本Fn：呼吸器0メディックメディア",1,{"$f":"VLOOKUP(\"*\"&目次加工!$B$2&\"*\",J807:K807,2,0)","v":1},1]
[null,null,null,{"$f":"分類順!A807","v":"胸部の地図帳"},{"$f":"分類順!B807","v":"医療の本"},{"$f":"分類順!C807","v":"Fn：呼吸器"},{"$f":"分類順!D807","v":"佐藤達夫"},{"$f":"分類順!E807","v":"講談社"},{"$f":"分類順!F807","v":8035},"胸部の地図帳医療の本Fn：呼吸器佐藤達夫講談社",1,{"$f":"VLOOKUP(\"*\"&目次加工!$B$2&\"*\",J808:K808,2,0)","v":1},{"$error":"#N/A"}]
[null,null,null,{"$f":"分類順!A808","v":"病気がみえる vol.4 呼吸器 第2版"},{"$f":"分類順!B808","v":"医療の本"},{"$f":"分類順!C808","v":"Fn：呼吸器"},{"$f":"分類順!D808","v":"医療情報科学研究所"},{"$f":"分類順!E808","v":"メディックメディア"},{"$f":"分類順!F808","v":10162},"病気がみえる vol.4 呼吸器 第2版医療の本Fn：呼吸器医療情報科学研究所メディックメディア",1,{"$f":"VLOOKUP(\"*\"&目次加工!$B$2&\"*\",J809:K809,2,0)","v":1},{"$error":"#N/A"}]
[null,null,null,{"$f":"分類順!A809","v":"病気がみえるvol.4　呼吸器　第3版"},{"$f":"分類順!B809","v":"医療の本"},{"$f":"分類順!C809","v":"Fn：呼吸器"},{"$f":"分類順!D809","v":"医療情報科学研究所"},{"$f":"分類順!E809","v":"メディックメディア"},{"$f":"分類順!F809","v":10535},"病気がみえるvol.4　呼吸器　第3版医療の本Fn：呼吸器医療情報科学研究所メディックメディア",1,{"$f":"VLOOKUP(\"*\"&目次加工!$B$2&\"*\",J810:K810,2,0)","v":1},{"$error":"#N/A"}]
[null,null,null,{"$f":"分類順!A810","v":"人工呼吸"},{"$f":"分類順!B810","v":"目次へ"},{"$f":"分類順!C810","v":"※PDF版ではリンクしておりません。"},{"$f":"分類順!D810","v":0},{"$f":"分類順!E810","v":0},{"$f":"分類順!F810","v":0},"人工呼吸目次へ※PDF版ではリンクしておりません。00",1,{"$f":"VLOOKUP(\"*\"&目次加工!$B$2&\"*\",J811:K811,2,0)","v":1},1]
[null,null,null,{"$f":"分類順!A811","v":"人工呼吸ケア「なぜ・何」大百科"},{"$f":"分類順!B811","v":"医療の本"},{"$f":"分類順!C811","v":"Fn5：人工呼吸"},{"$f":"分類順!D811","v":"道又　元裕　編著"},{"$f":"分類順!E811","v":"照林社"},{"$f":"分類順!F811","v":629},"人工呼吸ケア「なぜ・何」大百科医療の本Fn5：人工呼吸道又　元裕　編著照林社",1,{"$f":"VLOOKUP(\"*\"&目次加工!$B$2&\"*\",J812:K812,2,0)","v":1},{"$error":"#N/A"}]
[null,null,null,{"$f":"分類順!A812","v":"創立20周年+2記念誌"},{"$f":"分類順!B812","v":"医療の本"},{"$f":"分類順!C812","v":"Fn5：人工呼吸"},{"$f":"分類順!D812","v":"人口呼吸器をつけた子の親の会"},{"$f":"分類順!E812","v":"人口呼吸器をつけた子の親の会"},{"$f":"分類順!F812","v":10054},"創立20周年+2記念誌医療の本Fn5：人工呼吸人口呼吸器をつけた子の親の会人口呼吸器をつけた子の親の会",1,{"$f":"VLOOKUP(\"*\"&目次加工!$B$2&\"*\",J813:K813,2,0)","v":1},1]
[null,null,null,{"$f":"分類順!A813","v":"まいど！医療的ケア報告書"},{"$f":"分類順!B813","v":"医療の本"},{"$f":"分類順!C813","v":"Fn5：人工呼吸"},{"$f":"分類順!D813","v":"人口呼吸器をつけた子の親の会"},{"$f":"分類順!E813","v":"人口呼吸器をつけた子の親の会"},{"$f":"分類順!F813","v":10100},"まいど！医療的ケア報告書医療の本Fn5：人工呼吸人口呼吸器をつけた子の親の会人口呼吸器をつけた子の親の会",1,{"$f":"VLOOKUP(\"*\"&目次加工!$B$2&\"*\",J814:K814,2,0)","v":1},{"$error":"#N/A"}]
[null,null,null,{"$f":"分類順!A814","v":"COPD"},{"$f":"分類順!B814","v":"目次へ"},{"$f":"分類順!C814","v":"※PDF版ではリンクしておりません。"},{"$f":"分類順!D814","v":0},{"$f":"分類順!E814","v":0},{"$f":"分類順!F814","v":0},"COPD目次へ※PDF版ではリンクしておりません。00",1,{"$f":"VLOOKUP(\"*\"&目次加工!$B$2&\"*\",J815:K815,2,0)","v":1},1]
[null,null,null,{"$f":"分類順!A815","v":"やさしいＣＯＰＤの自己管理　慢性閉塞性肺"},{"$f":"分類順!B815","v":"医療の本"},{"$f":"分類順!C815","v":"Fn6：COPD"},{"$f":"分類順!D815","v":"北村　諭"},{"$f":"分類順!E815","v":"医薬ジャーナル社"},{"$f":"分類順!F815","v":630},"やさしいＣＯＰＤの自己管理　慢性閉塞性肺医療の本Fn6：COPD北村　諭医薬ジャーナル社",1,{"$f":"VLOOKUP(\"*\"&目次加工!$B$2&\"*\",J816:K816,2,0)","v":1},{"$error":"#N/A"}]
[null,null,null,{"$f":"分類順!A816","v":"やさしいＣＯＰＤリハビリテーションの自己"},{"$f":"分類順!B816","v":"医療の本"},{"$f":"分類順!C816","v":"Fn6：COPD"},{"$f":"分類順!D816","v":"本間　生夫　監修"},{"$f":"分類順!E816","v":"医薬ジャーナル社"},{"$f":"分類順!F816","v":631},"やさしいＣＯＰＤリハビリテーションの自己医療の本Fn6：COPD本間　生夫　監修医薬ジャーナル社",1,{"$f":"VLOOKUP(\"*\"&目次加工!$B$2&\"*\",J817:K817,2,0)","v":1},{"$error":"#N/A"}]
[null,null,null,{"$f":"分類順!A817","v":"呼吸不全とつきあうコツ"},{"$f":"分類順!B817","v":"医療の本"},{"$f":"分類順!C817","v":"Fn6：COPD"},{"$f":"分類順!D817","v":"栗原　直嗣　他編著"},{"$f":"分類順!E817","v":"フジメディカル"},{"$f":"分類順!F817","v":638},"呼吸不全とつきあうコツ医療の本Fn6：COPD栗原　直嗣　他編著フジメディカル",1,{"$f":"VLOOKUP(\"*\"&目次加工!$B$2&\"*\",J818:K818,2,0)","v":1},{"$error":"#N/A"}]
[null,null,null,{"$f":"分類順!A818","v":"COPD　慢性閉塞性肺疾患"},{"$f":"分類順!B818","v":"医療の本"},{"$f":"分類順!C818","v":"Fn6：COPD"},{"$f":"分類順!D818","v":"木田厚瑞"},{"$f":"分類順!E818","v":"主婦の友社"},{"$f":"分類順!F818","v":8016},"COPD　慢性閉塞性肺疾患医療の本Fn6：COPD木田厚瑞主婦の友社",1,{"$f":"VLOOKUP(\"*\"&目次加工!$B$2&\"*\",J819:K819,2,0)","v":1},{"$error":"#N/A"}]
[null,null,null,{"$f":"分類順!A819","v":"COPDの最新治療 慢性閉塞性肺疾患 タバコの生活習慣病（よくわかる最新医学シリーズ）"},{"$f":"分類順!B819","v":"医療の本"},{"$f":"分類順!C819","v":"Fn6：COPD"},{"$f":"分類順!D819","v":"木田 厚瑞"},{"$f":"分類順!E819","v":"主婦の友社"},{"$f":"分類順!F819","v":10163},"COPDの最新治療 慢性閉塞性肺疾患 タバコの生活習慣病（よくわかる最新医学シリーズ）医療の本Fn6：COPD木田 厚瑞主婦の友社",1,{"$f":"VLOOKUP(\"*\"&目次加工!$B$2&\"*\",J820:K820,2,0)","v":1},{"$error":"#N/A"}]
[null,null,null,{"$f":"分類順!A820","v":"肺ガン"},{"$f":"分類順!B820","v":"目次へ"},{"$f":"分類順!C820","v":"※PDF版ではリンクしておりません。"},{"$f":"分類順!D820","v":0},{"$f":"分類順!E820","v":0},{"$f":"分類順!F820","v":0},"肺ガン目次へ※PDF版ではリンクしておりません。00",1,{"$f":"VLOOKUP(\"*\"&目次加工!$B$2&\"*\",J821:K821,2,0)","v":1},1]
[null,null,null,{"$f":"分類順!A821","v":"肺ガン 日本人のがん死亡１位肺がんのすべてがわかる"},{"$f":"分類順!B821","v":"医療の本"},{"$f":"分類順!C821","v":"Fn7：肺ガン"},{"$f":"分類順!D821","v":"坪井　正博"},{"$f":"分類順!E821","v":"主婦の友社"},{"$f":"分類順!F821","v":356},"肺ガン 日本人のがん死亡１位肺がんのすべてがわかる医療の本Fn7：肺ガン坪井　正博主婦の友社",1,{"$f":"VLOOKUP(\"*\"&目次加工!$B$2&\"*\",J822:K822,2,0)","v":1},{"$error":"#N/A"}]
[null,null,null,{"$f":"分類順!A822","v":"肺がんと闘う方法　告知の仕方，告知後の生"},{"$f":"分類順!B822","v":"医療の本"},{"$f":"分類順!C822","v":"Fn7：肺ガン"},{"$f":"分類順!D822","v":"野守　裕明"},{"$f":"分類順!E822","v":"メヂカルフレンド"},{"$f":"分類順!F822","v":406},"肺がんと闘う方法　告知の仕方，告知後の生医療の本Fn7：肺ガン野守　裕明メヂカルフレンド",1,{"$f":"VLOOKUP(\"*\"&目次加工!$B$2&\"*\",J823:K823,2,0)","v":1},{"$error":"#N/A"}]
[null,null,null,{"$f":"分類順!A823","v":"肺ガンハンドブック"},{"$f":"分類順!B823","v":"医療の本"},{"$f":"分類順!C823","v":"Fn7：肺ガン"},{"$f":"分類順!D823","v":"土屋　繁裕　著"},{"$f":"分類順!E823","v":"学習研究社"},{"$f":"分類順!F823","v":407},"肺ガンハンドブック医療の本Fn7：肺ガン土屋　繁裕　著学習研究社",1,{"$f":"VLOOKUP(\"*\"&目次加工!$B$2&\"*\",J824:K824,2,0)","v":1},{"$error":"#N/A"}]
[null,null,null,{"$f":"分類順!A824","v":"肺がんがわかる本"},{"$f":"分類順!B824","v":"医療の本"},{"$f":"分類順!C824","v":"Fn7：肺ガン"},{"$f":"分類順!D824","v":"浅村尚生"},{"$f":"分類順!E824","v":"法研"},{"$f":"分類順!F824","v":5484},"肺がんがわかる本医療の本Fn7：肺ガン浅村尚生法研",1,{"$f":"VLOOKUP(\"*\"&目次加工!$B$2&\"*\",J825:K825,2,0)","v":1},{"$error":"#N/A"}]
[null,null,null,{"$f":"分類順!A825","v":"国立がん研究センターのがんの本　肺がん"},{"$f":"分類順!B825","v":"医療の本"},{"$f":"分類順!C825","v":"Fn7：肺ガン"},{"$f":"分類順!D825","v":"がん予防・検診研究ｾﾝﾀｰ"},{"$f":"分類順!E825","v":"小学館クリエイティブ"},{"$f":"分類順!F825","v":5522},"国立がん研究センターのがんの本　肺がん医療の本Fn7：肺ガンがん予防・検診研究ｾﾝﾀｰ小学館クリエイティブ",1,{"$f":"VLOOKUP(\"*\"&目次加工!$B$2&\"*\",J826:K826,2,0)","v":1},{"$error":"#N/A"}]
[null,null,null,{"$f":"分類順!A826","v":"よくわかる肺がん"},{"$f":"分類順!B826","v":"医療の本"},{"$f":"分類順!C826","v":"Fn7：肺ガン"},{"$f":"分類順!D826","v":"中西洋一"},{"$f":"分類順!E826","v":"NPO法人西日本がん研究機構"},{"$f":"分類順!F826","v":5547},"よくわかる肺がん医療の本Fn7：肺ガン中西洋一NPO法人西日本がん研究機構",1,{"$f":"VLOOKUP(\"*\"&目次加工!$B$2&\"*\",J827:K827,2,0)","v":1},{"$error":"#N/A"}]
[null,null,null,{"$f":"分類順!A827","v":"よくわかる肺がん"},{"$f":"分類順!B827","v":"医療の本"},{"$f":"分類順!C827","v":"Fn7：肺ガン"},{"$f":"分類順!D827","v":"中西洋一"},{"$f":"分類順!E827","v":"NPO法人西日本がん研究機構"},{"$f":"分類順!F827","v":5548},"よくわかる肺がん医療の本Fn7：肺ガン中西洋一NPO法人西日本がん研究機構",1,{"$f":"VLOOKUP(\"*\"&目次加工!$B$2&\"*\",J828:K828,2,0)","v":1},{"$error":"#N/A"}]
[null,null,null,{"$f":"分類順!A828","v":"抗悪性腫瘍薬　肺がん"},{"$f":"分類順!B828","v":"医療の本"},{"$f":"分類順!C828","v":"Fn7：肺ガン"},{"$f":"分類順!D828","v":"西條長宏"},{"$f":"分類順!E828","v":"医療ジャーナル社"},{"$f":"分類順!F828","v":5628},"抗悪性腫瘍薬　肺がん医療の本Fn7：肺ガン西條長宏医療ジャーナル社",1,{"$f":"VLOOKUP(\"*\"&目次加工!$B$2&\"*\",J829:K829,2,0)","v":1},{"$error":"#N/A"}]
[null,null,null,{"$f":"分類順!A829","v":"肺がん　改訂版"},{"$f":"分類順!B829","v":"医療の本"},{"$f":"分類順!C829","v":"Fn7：肺ガン"},{"$f":"分類順!D829","v":"西條長宏"},{"$f":"分類順!E829","v":"医療ジャーナル社"},{"$f":"分類順!F829","v":5629},"肺がん　改訂版医療の本Fn7：肺ガン西條長宏医療ジャーナル社",1,{"$f":"VLOOKUP(\"*\"&目次加工!$B$2&\"*\",J830:K830,2,0)","v":1},{"$error":"#N/A"}]
[null,null,null,{"$f":"分類順!A830","v":"肺がん外来化学療法へのアプローチ"},{"$f":"分類順!B830","v":"医療の本"},{"$f":"分類順!C830","v":"Fn7：肺ガン"},{"$f":"分類順!D830","v":"山本信之"},{"$f":"分類順!E830","v":"医療ジャーナル社"},{"$f":"分類順!F830","v":5630},"肺がん外来化学療法へのアプローチ医療の本Fn7：肺ガン山本信之医療ジャーナル社",1,{"$f":"VLOOKUP(\"*\"&目次加工!$B$2&\"*\",J831:K831,2,0)","v":1},{"$error":"#N/A"}]
[null,null,null,{"$f":"分類順!A831","v":"よくわかる　肺がん"},{"$f":"分類順!B831","v":"医療の本"},{"$f":"分類順!C831","v":"Fn7：肺ガン"},{"$f":"分類順!D831","v":"中西洋一"},{"$f":"分類順!E831","v":"NPO法人西日本がん研究機構"},{"$f":"分類順!F831","v":5669},"よくわかる　肺がん医療の本Fn7：肺ガン中西洋一NPO法人西日本がん研究機構",1,{"$f":"VLOOKUP(\"*\"&目次加工!$B$2&\"*\",J832:K832,2,0)","v":1},{"$error":"#N/A"}]
[null,null,null,{"$f":"分類順!A832","v":"肺がんの最新治療（よくわかる最新医学シリーズ）"},{"$f":"分類順!B832","v":"医療の本"},{"$f":"分類順!C832","v":"Fn7：肺ガン"},{"$f":"分類順!D832","v":"坪井 正博"},{"$f":"分類順!E832","v":"主婦の友社"},{"$f":"分類順!F832","v":10164},"肺がんの最新治療（よくわかる最新医学シリーズ）医療の本Fn7：肺ガン坪井 正博主婦の友社",1,{"$f":"VLOOKUP(\"*\"&目次加工!$B$2&\"*\",J833:K833,2,0)","v":1},{"$error":"#N/A"}]
[null,null,null,{"$f":"分類順!A833","v":"患者さんのためのガイドブック　よくわかる肺がん　第４版"},{"$f":"分類順!B833","v":"医療の本"},{"$f":"分類順!C833","v":"Fn7：肺ガン"},{"$f":"分類順!D833","v":"西日本がん研究機構"},{"$f":"分類順!E833","v":"金原出版"},{"$f":"分類順!F833","v":10213},"患者さんのためのガイドブック　よくわかる肺がん　第４版医療の本Fn7：肺ガン西日本がん研究機構金原出版",1,{"$f":"VLOOKUP(\"*\"&目次加工!$B$2&\"*\",J834:K834,2,0)","v":1},{"$error":"#N/A"}]
[null,null,null,{"$f":"分類順!A834","v":"患者さんのためのガイドブック　よくわかる肺がん　第4版"},{"$f":"分類順!B834","v":"医療の本"},{"$f":"分類順!C834","v":"Fn7：肺ガン"},{"$f":"分類順!D834","v":"西日本がん研究機構"},{"$f":"分類順!E834","v":"金原出版"},{"$f":"分類順!F834","v":10214},"患者さんのためのガイドブック　よくわかる肺がん　第4版医療の本Fn7：肺ガン西日本がん研究機構金原出版",1,{"$f":"VLOOKUP(\"*\"&目次加工!$B$2&\"*\",J835:K835,2,0)","v":1},{"$error":"#N/A"}]
[null,null,null,{"$f":"分類順!A835","v":"図解肺がんの最新治療と予防&生活対策"},{"$f":"分類順!B835","v":"医療の本"},{"$f":"分類順!C835","v":"Fn7：肺ガン"},{"$f":"分類順!D835","v":"坪井正博"},{"$f":"分類順!E835","v":"日東書院"},{"$f":"分類順!F835","v":10498},"図解肺がんの最新治療と予防&生活対策医療の本Fn7：肺ガン坪井正博日東書院",1,{"$f":"VLOOKUP(\"*\"&目次加工!$B$2&\"*\",J836:K836,2,0)","v":1},{"$f":"VLOOKUP(\"*\"&$A$2&\"*\",J836:K836,2,0)","v":{"$error":"#N/A"}}]
[null,null,null,{"$f":"分類順!A836","v":"肺がん　（よくわかる最新医学シリーズ）"},{"$f":"分類順!B836","v":"医療の本"},{"$f":"分類順!C836","v":"Fn7：肺ガン"},{"$f":"分類順!D836","v":"坪井正博　著"},{"$f":"分類順!E836","v":"主婦の友社"},{"$f":"分類順!F836","v":10568},"肺がん　（よくわかる最新医学シリーズ）医療の本Fn7：肺ガン坪井正博　著主婦の友社",1,{"$f":"VLOOKUP(\"*\"&目次加工!$B$2&\"*\",J837:K837,2,0)","v":1},{"$error":"#N/A"}]
[null,null,null,{"$f":"分類順!A837","v":"ぜんそく"},{"$f":"分類順!B837","v":"目次へ"},{"$f":"分類順!C837","v":"※PDF版ではリンクしておりません。"},{"$f":"分類順!D837","v":0},{"$f":"分類順!E837","v":0},{"$f":"分類順!F837","v":0},"ぜんそく目次へ※PDF版ではリンクしておりません。00",1,{"$f":"VLOOKUP(\"*\"&目次加工!$B$2&\"*\",J838:K838,2,0)","v":1},1]
[null,null,null,{"$f":"分類順!A838","v":"徹底図解　ぜんそく　健やかな毎日を約束す"},{"$f":"分類順!B838","v":"医療の本"},{"$f":"分類順!C838","v":"Fn8：ぜんそく"},{"$f":"分類順!D838","v":"多田　寛　監"},{"$f":"分類順!E838","v":"法研"},{"$f":"分類順!F838","v":634},"徹底図解　ぜんそく　健やかな毎日を約束す医療の本Fn8：ぜんそく多田　寛　監法研",1,{"$f":"VLOOKUP(\"*\"&目次加工!$B$2&\"*\",J839:K839,2,0)","v":1},{"$error":"#N/A"}]
[null,null,null,{"$f":"分類順!A839","v":"’０４　ＥＢＭに基づいた喘息治療ガイドラ"},{"$f":"分類順!B839","v":"医療の本"},{"$f":"分類順!C839","v":"Fn8：ぜんそく"},{"$f":"分類順!D839","v":"宮本　昭正　監修"},{"$f":"分類順!E839","v":"協和企画"},{"$f":"分類順!F839","v":635},"’０４　ＥＢＭに基づいた喘息治療ガイドラ医療の本Fn8：ぜんそく宮本　昭正　監修協和企画",1,{"$f":"VLOOKUP(\"*\"&目次加工!$B$2&\"*\",J840:K840,2,0)","v":1},{"$error":"#N/A"}]
[null,null,null,{"$f":"分類順!A840","v":"新装版　やさしい喘息の自己管理"},{"$f":"分類順!B840","v":"医療の本"},{"$f":"分類順!C840","v":"Fn8：ぜんそく"},{"$f":"分類順!D840","v":"久保　裕"},{"$f":"分類順!E840","v":"医薬ジャーナル社"},{"$f":"分類順!F840","v":639},"新装版　やさしい喘息の自己管理医療の本Fn8：ぜんそく久保　裕医薬ジャーナル社",1,{"$f":"VLOOKUP(\"*\"&目次加工!$B$2&\"*\",J841:K841,2,0)","v":1},{"$error":"#N/A"}]
[null,null,null,{"$f":"分類順!A841","v":"2009　喘息予防・管理ガイドライン"},{"$f":"分類順!B841","v":"医療の本"},{"$f":"分類順!C841","v":"Fn8：ぜんそく"},{"$f":"分類順!D841","v":0},{"$f":"分類順!E841","v":"協和企画"},{"$f":"分類順!F841","v":1014},"2009　喘息予防・管理ガイドライン医療の本Fn8：ぜんそく0協和企画",1,{"$f":"VLOOKUP(\"*\"&目次加工!$B$2&\"*\",J842:K842,2,0)","v":1},1]
[null,null,null,{"$f":"分類順!A842","v":"喘息予防・管理ガイドライン 2012"},{"$f":"分類順!B842","v":"医療の本"},{"$f":"分類順!C842","v":"Fn8：ぜんそく"},{"$f":"分類順!D842","v":"日本アレルギー学会"},{"$f":"分類順!E842","v":"協和企画"},{"$f":"分類順!F842","v":10165},"喘息予防・管理ガイドライン 2012医療の本Fn8：ぜんそく日本アレルギー学会協和企画",1,{"$f":"VLOOKUP(\"*\"&目次加工!$B$2&\"*\",J843:K843,2,0)","v":1},1]
[null,null,null,{"$f":"分類順!A843","v":"喘息予防・管理ガイドライン2015"},{"$f":"分類順!B843","v":"医療の本"},{"$f":"分類順!C843","v":"Fn8：ぜんそく"},{"$f":"分類順!D843","v":"日本アレルギー学会"},{"$f":"分類順!E843","v":"協和企画"},{"$f":"分類順!F843","v":10350},"喘息予防・管理ガイドライン2015医療の本Fn8：ぜんそく日本アレルギー学会協和企画",1,{"$f":"VLOOKUP(\"*\"&目次加工!$B$2&\"*\",J844:K844,2,0)","v":1},1]
[null,null,null,{"$f":"分類順!A844","v":"皮膚/髪/爪"},{"$f":"分類順!B844","v":"目次へ"},{"$f":"分類順!C844","v":"※PDF版ではリンクしておりません。"},{"$f":"分類順!D844","v":0},{"$f":"分類順!E844","v":0},{"$f":"分類順!F844","v":0},"皮膚/髪/爪目次へ※PDF版ではリンクしておりません。00",1,{"$f":"VLOOKUP(\"*\"&目次加工!$B$2&\"*\",J845:K845,2,0)","v":1},1]
[null,null,null,{"$f":"分類順!A845","v":"アトピー性皮膚炎"},{"$f":"分類順!B845","v":"医療の本"},{"$f":"分類順!C845","v":"Fo：皮膚/髪/爪"},{"$f":"分類順!D845","v":"五十嵐　敦之"},{"$f":"分類順!E845","v":"保健同人社"},{"$f":"分類順!F845","v":426},"アトピー性皮膚炎医療の本Fo：皮膚/髪/爪五十嵐　敦之保健同人社",1,{"$f":"VLOOKUP(\"*\"&目次加工!$B$2&\"*\",J846:K846,2,0)","v":1},{"$error":"#N/A"}]
[null,null,null,{"$f":"分類順!A846","v":"じんましん最前線"},{"$f":"分類順!B846","v":"医療の本"},{"$f":"分類順!C846","v":"Fo：皮膚/髪/爪"},{"$f":"分類順!D846","v":"秀　道広　編集"},{"$f":"分類順!E846","v":"メディカルレビュー社"},{"$f":"分類順!F846","v":435},"じんましん最前線医療の本Fo：皮膚/髪/爪秀　道広　編集メディカルレビュー社",1,{"$f":"VLOOKUP(\"*\"&目次加工!$B$2&\"*\",J847:K847,2,0)","v":1},{"$error":"#N/A"}]
[null,null,null,{"$f":"分類順!A847","v":"スポーツと皮膚　アスリートの皮膚トラブル"},{"$f":"分類順!B847","v":"医療の本"},{"$f":"分類順!C847","v":"Fo：皮膚/髪/爪"},{"$f":"分類順!D847","v":"上田　由紀子　著"},{"$f":"分類順!E847","v":"文光堂"},{"$f":"分類順!F847","v":436},"スポーツと皮膚　アスリートの皮膚トラブル医療の本Fo：皮膚/髪/爪上田　由紀子　著文光堂",1,{"$f":"VLOOKUP(\"*\"&目次加工!$B$2&\"*\",J848:K848,2,0)","v":1},{"$error":"#N/A"}]
[null,null,null,{"$f":"分類順!A848","v":"帯状疱疹・単純ヘルペスがわかる本"},{"$f":"分類順!B848","v":"医療の本"},{"$f":"分類順!C848","v":"Fo：皮膚/髪/爪"},{"$f":"分類順!D848","v":"本田　まりこ　著"},{"$f":"分類順!E848","v":"法研"},{"$f":"分類順!F848","v":643},"帯状疱疹・単純ヘルペスがわかる本医療の本Fo：皮膚/髪/爪本田　まりこ　著法研",1,{"$f":"VLOOKUP(\"*\"&目次加工!$B$2&\"*\",J849:K849,2,0)","v":1},{"$error":"#N/A"}]
[null,null,null,{"$f":"分類順!A849","v":"皮膚のトラブルが治らないときの本 (みんなの女性外来)"},{"$f":"分類順!B849","v":"医療の本"},{"$f":"分類順!C849","v":"Fo：皮膚/髪/爪"},{"$f":"分類順!D849","v":"対馬ルリ子"},{"$f":"分類順!E849","v":"小学館"},{"$f":"分類順!F849","v":8126},"皮膚のトラブルが治らないときの本 (みんなの女性外来)医療の本Fo：皮膚/髪/爪対馬ルリ子小学館",1,{"$f":"VLOOKUP(\"*\"&目次加工!$B$2&\"*\",J850:K850,2,0)","v":1},{"$error":"#N/A"}]
[null,null,null,{"$f":"分類順!A850","v":"皮膚科疾患ビジュアルブック新版"},{"$f":"分類順!B850","v":"医療の本"},{"$f":"分類順!C850","v":"Fo：皮膚/髪/爪"},{"$f":"分類順!D850","v":"五十嵐敦之, 落合慈之"},{"$f":"分類順!E850","v":"学研メディカル秀潤社"},{"$f":"分類順!F850","v":10285},{"$f":"D851&E851&F851&G851&H851","v":"皮膚科疾患ビジュアルブック新版医療の本Fo：皮膚/髪/爪五十嵐敦之, 落合慈之学研メディカル秀潤社"},1,{"$f":"VLOOKUP(\"*\"&目次加工!$B$2&\"*\",J851:K851,2,0)","v":1},{"$error":"#N/A"}]
[null,null,null,{"$f":"分類順!A851","v":"傷はぜったい消毒するな　生態系としての皮膚の科学"},{"$f":"分類順!B851","v":"医療の本"},{"$f":"分類順!C851","v":"Fo：皮膚/髪/爪"},{"$f":"分類順!D851","v":"夏井睦"},{"$f":"分類順!E851","v":"光文社"},{"$f":"分類順!F851","v":10351},"傷はぜったい消毒するな　生態系としての皮膚の科学医療の本Fo：皮膚/髪/爪夏井睦光文社",1,{"$f":"VLOOKUP(\"*\"&目次加工!$B$2&\"*\",J852:K852,2,0)","v":1},{"$error":"#N/A"}]
[null,null,null,{"$f":"分類順!A852","v":"熱傷はこうやって治す　安全に行う湿潤療法"},{"$f":"分類順!B852","v":"医療の本"},{"$f":"分類順!C852","v":"Fo：皮膚/髪/爪"},{"$f":"分類順!D852","v":"水原章浩"},{"$f":"分類順!E852","v":"医学と看護社"},{"$f":"分類順!F852","v":10352},"熱傷はこうやって治す　安全に行う湿潤療法医療の本Fo：皮膚/髪/爪水原章浩医学と看護社",1,{"$f":"VLOOKUP(\"*\"&目次加工!$B$2&\"*\",J853:K853,2,0)","v":1},{"$error":"#N/A"}]
[null,null,null,{"$f":"分類順!A853","v":"皮膚の病気　（よくわかる最新医学シリーズ）"},{"$f":"分類順!B853","v":"医療の本"},{"$f":"分類順!C853","v":"Fo：皮膚/髪/爪"},{"$f":"分類順!D853","v":"清佳浩　監修"},{"$f":"分類順!E853","v":"主婦の友社"},{"$f":"分類順!F853","v":10559},"皮膚の病気　（よくわかる最新医学シリーズ）医療の本Fo：皮膚/髪/爪清佳浩　監修主婦の友社",1,{"$f":"VLOOKUP(\"*\"&目次加工!$B$2&\"*\",J854:K854,2,0)","v":1},{"$error":"#N/A"}]
[null,null,null,{"$f":"分類順!A854","v":"泌尿器"},{"$f":"分類順!B854","v":"目次へ"},{"$f":"分類順!C854","v":"※PDF版ではリンクしておりません。"},{"$f":"分類順!D854","v":0},{"$f":"分類順!E854","v":0},{"$f":"分類順!F854","v":0},"泌尿器目次へ※PDF版ではリンクしておりません。00",1,{"$f":"VLOOKUP(\"*\"&目次加工!$B$2&\"*\",J855:K855,2,0)","v":1},1]
[null,null,null,{"$f":"分類順!A855","v":"前立腺癌診療ガイドライン ２００６年版"},{"$f":"分類順!B855","v":"医療の本"},{"$f":"分類順!C855","v":"Fp：泌尿器"},{"$f":"分類順!D855","v":"日本泌尿器科学会"},{"$f":"分類順!E855","v":"金原出版"},{"$f":"分類順!F855","v":397},"前立腺癌診療ガイドライン ２００６年版医療の本Fp：泌尿器日本泌尿器科学会金原出版",1,{"$f":"VLOOKUP(\"*\"&目次加工!$B$2&\"*\",J856:K856,2,0)","v":1},{"$error":"#N/A"}]
[null,null,null,{"$f":"分類順!A856","v":"前立腺の病気 改訂新版"},{"$f":"分類順!B856","v":"医療の本"},{"$f":"分類順!C856","v":"Fp：泌尿器"},{"$f":"分類順!D856","v":"杉村　芳樹"},{"$f":"分類順!E856","v":"保健同人社"},{"$f":"分類順!F856","v":652},"前立腺の病気 改訂新版医療の本Fp：泌尿器杉村　芳樹保健同人社",1,{"$f":"VLOOKUP(\"*\"&目次加工!$B$2&\"*\",J857:K857,2,0)","v":1},{"$error":"#N/A"}]
[null,null,null,{"$f":"分類順!A857","v":"前立腺の病気がわかる本　前立腺肥大症・前"},{"$f":"分類順!B857","v":"医療の本"},{"$f":"分類順!C857","v":"Fp：泌尿器"},{"$f":"分類順!D857","v":"窪田　吉信　編著"},{"$f":"分類順!E857","v":"法研"},{"$f":"分類順!F857","v":653},"前立腺の病気がわかる本　前立腺肥大症・前医療の本Fp：泌尿器窪田　吉信　編著法研",1,{"$f":"VLOOKUP(\"*\"&目次加工!$B$2&\"*\",J858:K858,2,0)","v":1},{"$error":"#N/A"}]
[null,null,null,{"$f":"分類順!A858","v":"前立腺肥大症・前立腺がん 新版"},{"$f":"分類順!B858","v":"医療の本"},{"$f":"分類順!C858","v":"Fp：泌尿器"},{"$f":"分類順!D858","v":"沢村　良勝;主婦の友社"},{"$f":"分類順!E858","v":"主婦の友社"},{"$f":"分類順!F858","v":654},"前立腺肥大症・前立腺がん 新版医療の本Fp：泌尿器沢村　良勝;主婦の友社主婦の友社",1,{"$f":"VLOOKUP(\"*\"&目次加工!$B$2&\"*\",J859:K859,2,0)","v":1},{"$error":"#N/A"}]
[null,null,null,{"$f":"分類順!A859","v":"すべてわかる！！前立腺がん・肥大症"},{"$f":"分類順!B859","v":"医療の本"},{"$f":"分類順!C859","v":"Fp：泌尿器"},{"$f":"分類順!D859","v":"本間　之夫　著"},{"$f":"分類順!E859","v":"毎日新聞社"},{"$f":"分類順!F859","v":659},"すべてわかる！！前立腺がん・肥大症医療の本Fp：泌尿器本間　之夫　著毎日新聞社",1,{"$f":"VLOOKUP(\"*\"&目次加工!$B$2&\"*\",J860:K860,2,0)","v":1},{"$error":"#N/A"}]
[null,null,null,{"$f":"分類順!A860","v":"トイレが近い人の読む本－頻尿の原因と治療　改訂版"},{"$f":"分類順!B860","v":"医療の本"},{"$f":"分類順!C860","v":"Fp：泌尿器"},{"$f":"分類順!D860","v":"本間　之夫　著"},{"$f":"分類順!E860","v":"メディカルレビュー社"},{"$f":"分類順!F860","v":660},"トイレが近い人の読む本－頻尿の原因と治療　改訂版医療の本Fp：泌尿器本間　之夫　著メディカルレビュー社",1,{"$f":"VLOOKUP(\"*\"&目次加工!$B$2&\"*\",J861:K861,2,0)","v":1},{"$error":"#N/A"}]
[null,null,null,{"$f":"分類順!A861","v":"やさしい前立腺疾患のマネジメント"},{"$f":"分類順!B861","v":"医療の本"},{"$f":"分類順!C861","v":"Fp：泌尿器"},{"$f":"分類順!D861","v":"武田　正之　編"},{"$f":"分類順!E861","v":"医薬ジャーナル社"},{"$f":"分類順!F861","v":661},"やさしい前立腺疾患のマネジメント医療の本Fp：泌尿器武田　正之　編医薬ジャーナル社",1,{"$f":"VLOOKUP(\"*\"&目次加工!$B$2&\"*\",J862:K862,2,0)","v":1},{"$error":"#N/A"}]
[null,null,null,{"$f":"分類順!A862","v":"泌尿器科の病気 排尿と性機能の障害"},{"$f":"分類順!B862","v":"医療の本"},{"$f":"分類順!C862","v":"Fp：泌尿器"},{"$f":"分類順!D862","v":"矢島　通孝"},{"$f":"分類順!E862","v":"日本医学館"},{"$f":"分類順!F862","v":1015},"泌尿器科の病気 排尿と性機能の障害医療の本Fp：泌尿器矢島　通孝日本医学館",1,{"$f":"VLOOKUP(\"*\"&目次加工!$B$2&\"*\",J863:K863,2,0)","v":1},{"$error":"#N/A"}]
[null,null,null,{"$f":"分類順!A863","v":"前立腺がん検診ガイドライン 2010年増補版"},{"$f":"分類順!B863","v":"医療の本"},{"$f":"分類順!C863","v":"Fp：泌尿器"},{"$f":"分類順!D863","v":"日本泌尿器科学会 編集"},{"$f":"分類順!E863","v":"ワニブックス"},{"$f":"分類順!F863","v":5337},"前立腺がん検診ガイドライン 2010年増補版医療の本Fp：泌尿器日本泌尿器科学会 編集ワニブックス",1,{"$f":"VLOOKUP(\"*\"&目次加工!$B$2&\"*\",J864:K864,2,0)","v":1},1]
[null,null,null,{"$f":"分類順!A864","v":"やさしい過活動膀胱の自己管理"},{"$f":"分類順!B864","v":"医療の本"},{"$f":"分類順!C864","v":"Fp：泌尿器"},{"$f":"分類順!D864","v":"武田正之　編"},{"$f":"分類順!E864","v":"医薬ジャーナル社"},{"$f":"分類順!F864","v":8022},"やさしい過活動膀胱の自己管理医療の本Fp：泌尿器武田正之　編医薬ジャーナル社",1,{"$f":"VLOOKUP(\"*\"&目次加工!$B$2&\"*\",J865:K865,2,0)","v":1},{"$error":"#N/A"}]
[null,null,null,{"$f":"分類順!A865","v":"尿路結石症の治療と食事療法"},{"$f":"分類順!B865","v":"医療の本"},{"$f":"分類順!C865","v":"Fp：泌尿器"},{"$f":"分類順!D865","v":"伊藤晴夫"},{"$f":"分類順!E865","v":"日東書院"},{"$f":"分類順!F865","v":8038},"尿路結石症の治療と食事療法医療の本Fp：泌尿器伊藤晴夫日東書院",1,{"$f":"VLOOKUP(\"*\"&目次加工!$B$2&\"*\",J866:K866,2,0)","v":1},{"$error":"#N/A"}]
[null,null,null,{"$f":"分類順!A866","v":"心配しないでいいですよ　再発・転移　前立腺がん"},{"$f":"分類順!B866","v":"医療の本"},{"$f":"分類順!C866","v":"Fp：泌尿器"},{"$f":"分類順!D866","v":"監修/福井　巌、編著/米瀬淳ニ"},{"$f":"分類順!E866","v":"真興交易医書出版"},{"$f":"分類順!F866","v":8069},"心配しないでいいですよ　再発・転移　前立腺がん医療の本Fp：泌尿器監修/福井　巌、編著/米瀬淳ニ真興交易医書出版",1,{"$f":"VLOOKUP(\"*\"&目次加工!$B$2&\"*\",J867:K867,2,0)","v":1},{"$error":"#N/A"}]
[null,null,null,{"$f":"分類順!A867","v":"前立腺癌　診療ガイドライン"},{"$f":"分類順!B867","v":"医療の本"},{"$f":"分類順!C867","v":"Fp：泌尿器"},{"$f":"分類順!D867","v":"日本泌尿器学会"},{"$f":"分類順!E867","v":"金原出版"},{"$f":"分類順!F867","v":10014},"前立腺癌　診療ガイドライン医療の本Fp：泌尿器日本泌尿器学会金原出版",1,{"$f":"VLOOKUP(\"*\"&目次加工!$B$2&\"*\",J868:K868,2,0)","v":1},{"$error":"#N/A"}]
[null,null,null,{"$f":"分類順!A868","v":"前立腺がんの最新治療（よくわかる最新医学シリーズ）"},{"$f":"分類順!B868","v":"医療の本"},{"$f":"分類順!C868","v":"Fp：泌尿器"},{"$f":"分類順!D868","v":"澤村 良勝"},{"$f":"分類順!E868","v":"主婦の友社"},{"$f":"分類順!F868","v":10166},"前立腺がんの最新治療（よくわかる最新医学シリーズ）医療の本Fp：泌尿器澤村 良勝主婦の友社",1,{"$f":"VLOOKUP(\"*\"&目次加工!$B$2&\"*\",J869:K869,2,0)","v":1},{"$error":"#N/A"}]
[null,null,null,{"$f":"分類順!A869","v":"前立腺がんを生きる"},{"$f":"分類順!B869","v":"医療の本"},{"$f":"分類順!C869","v":"Fp：泌尿器"},{"$f":"分類順!D869","v":0},{"$f":"分類順!E869","v":"海鳴社"},{"$f":"分類順!F869","v":10497},"前立腺がんを生きる医療の本Fp：泌尿器0海鳴社",1,{"$f":"VLOOKUP(\"*\"&目次加工!$B$2&\"*\",J870:K870,2,0)","v":1},1]
[null,null,null,{"$f":"分類順!A870","v":"前立腺がん　（よくわかる最新医学シリーズ）"},{"$f":"分類順!B870","v":"医療の本"},{"$f":"分類順!C870","v":"Fp：泌尿器"},{"$f":"分類順!D870","v":"赤倉功一郎　著"},{"$f":"分類順!E870","v":"主婦の友社"},{"$f":"分類順!F870","v":10580},"前立腺がん　（よくわかる最新医学シリーズ）医療の本Fp：泌尿器赤倉功一郎　著主婦の友社",1,{"$f":"VLOOKUP(\"*\"&目次加工!$B$2&\"*\",J871:K871,2,0)","v":1},{"$error":"#N/A"}]
[null,null,null,{"$f":"分類順!A871","v":"腎臓"},{"$f":"分類順!B871","v":"目次へ"},{"$f":"分類順!C871","v":"※PDF版ではリンクしておりません。"},{"$f":"分類順!D871","v":0},{"$f":"分類順!E871","v":0},{"$f":"分類順!F871","v":0},"腎臓目次へ※PDF版ではリンクしておりません。00",1,{"$f":"VLOOKUP(\"*\"&目次加工!$B$2&\"*\",J872:K872,2,0)","v":1},1]
[null,null,null,{"$f":"分類順!A872","v":"腎臓病の食事療法　第３版"},{"$f":"分類順!B872","v":"医療の本"},{"$f":"分類順!C872","v":"Fr：腎臓"},{"$f":"分類順!D872","v":"医歯薬出版　編"},{"$f":"分類順!E872","v":"医歯薬出版"},{"$f":"分類順!F872","v":242},"腎臓病の食事療法　第３版医療の本Fr：腎臓医歯薬出版　編医歯薬出版",1,{"$f":"VLOOKUP(\"*\"&目次加工!$B$2&\"*\",J873:K873,2,0)","v":1},{"$error":"#N/A"}]
[null,null,null,{"$f":"分類順!A873","v":"腎臓病の人の食事"},{"$f":"分類順!B873","v":"医療の本"},{"$f":"分類順!C873","v":"Fr：腎臓"},{"$f":"分類順!D873","v":"北本　清"},{"$f":"分類順!E873","v":"女子栄養大学出版部"},{"$f":"分類順!F873","v":647},"腎臓病の人の食事医療の本Fr：腎臓北本　清女子栄養大学出版部",1,{"$f":"VLOOKUP(\"*\"&目次加工!$B$2&\"*\",J874:K874,2,0)","v":1},{"$error":"#N/A"}]
[null,null,null,{"$f":"分類順!A874","v":"腎臓の病気を防ぐ、治す イラスト版"},{"$f":"分類順!B874","v":"医療の本"},{"$f":"分類順!C874","v":"Fr：腎臓"},{"$f":"分類順!D874","v":"酒井　紀"},{"$f":"分類順!E874","v":"講談社"},{"$f":"分類順!F874","v":671},"腎臓の病気を防ぐ、治す イラスト版医療の本Fr：腎臓酒井　紀講談社",1,{"$f":"VLOOKUP(\"*\"&目次加工!$B$2&\"*\",J875:K875,2,0)","v":1},{"$error":"#N/A"}]
[null,null,null,{"$f":"分類順!A875","v":"腎臓病 診察・検査と最新治療法　食事療法と日常生活のポイント"},{"$f":"分類順!B875","v":"医療の本"},{"$f":"分類順!C875","v":"Fr：腎臓"},{"$f":"分類順!D875","v":"高市　憲明;主婦の友社"},{"$f":"分類順!E875","v":"主婦の友社"},{"$f":"分類順!F875","v":672},"腎臓病 診察・検査と最新治療法　食事療法と日常生活のポイント医療の本Fr：腎臓高市　憲明;主婦の友社主婦の友社",1,{"$f":"VLOOKUP(\"*\"&目次加工!$B$2&\"*\",J876:K876,2,0)","v":1},{"$error":"#N/A"}]
[null,null,null,{"$f":"分類順!A876","v":"腎癌診療ガイドライン ２００７年版"},{"$f":"分類順!B876","v":"医療の本"},{"$f":"分類順!C876","v":"Fr：腎臓"},{"$f":"分類順!D876","v":"日本泌尿器科学会"},{"$f":"分類順!E876","v":"金原出版"},{"$f":"分類順!F876","v":679},"腎癌診療ガイドライン ２００７年版医療の本Fr：腎臓日本泌尿器科学会金原出版",1,{"$f":"VLOOKUP(\"*\"&目次加工!$B$2&\"*\",J877:K877,2,0)","v":1},{"$error":"#N/A"}]
[null,null,null,{"$f":"分類順!A877","v":"腎臓病たんぱく質３０ｇの献立集"},{"$f":"分類順!B877","v":"医療の本"},{"$f":"分類順!C877","v":"Fr：腎臓"},{"$f":"分類順!D877","v":"宮本　佳代子;佐藤　敏子;高橋　まり;田部井　薫;今井　久美子"},{"$f":"分類順!E877","v":"女子栄養大学出版部"},{"$f":"分類順!F877","v":680},"腎臓病たんぱく質３０ｇの献立集医療の本Fr：腎臓宮本　佳代子;佐藤　敏子;高橋　まり;田部井　薫;今井　久美子女子栄養大学出版部",1,{"$f":"VLOOKUP(\"*\"&目次加工!$B$2&\"*\",J878:K878,2,0)","v":1},{"$error":"#N/A"}]
[null,null,null,{"$f":"分類順!A878","v":"慢性腎不全保存期のケア　第３版　寛解を目"},{"$f":"分類順!B878","v":"医療の本"},{"$f":"分類順!C878","v":"Fr：腎臓"},{"$f":"分類順!D878","v":"佐中　孜　著"},{"$f":"分類順!E878","v":"医学書院"},{"$f":"分類順!F878","v":687},"慢性腎不全保存期のケア　第３版　寛解を目医療の本Fr：腎臓佐中　孜　著医学書院",1,{"$f":"VLOOKUP(\"*\"&目次加工!$B$2&\"*\",J879:K879,2,0)","v":1},{"$error":"#N/A"}]
[null,null,null,{"$f":"分類順!A879","v":"腎臓の病気 改訂新版"},{"$f":"分類順!B879","v":"医療の本"},{"$f":"分類順!C879","v":"Fr：腎臓"},{"$f":"分類順!D879","v":"富野　康日己"},{"$f":"分類順!E879","v":"保健同人社"},{"$f":"分類順!F879","v":1016},"腎臓の病気 改訂新版医療の本Fr：腎臓富野　康日己保健同人社",1,{"$f":"VLOOKUP(\"*\"&目次加工!$B$2&\"*\",J880:K880,2,0)","v":1},{"$error":"#N/A"}]
[null,null,null,{"$f":"分類順!A880","v":"新版腎不全がわかる本"},{"$f":"分類順!B880","v":"医療の本"},{"$f":"分類順!C880","v":"Fr：腎臓"},{"$f":"分類順!D880","v":"井浦照國"},{"$f":"分類順!E880","v":"日本評論社"},{"$f":"分類順!F880","v":5317},"新版腎不全がわかる本医療の本Fr：腎臓井浦照國日本評論社",1,{"$f":"VLOOKUP(\"*\"&目次加工!$B$2&\"*\",J881:K881,2,0)","v":1},{"$error":"#N/A"}]
[null,null,null,{"$f":"分類順!A881","v":"よくわかる最新医学腎臓病"},{"$f":"分類順!B881","v":"医療の本"},{"$f":"分類順!C881","v":"Fr：腎臓"},{"$f":"分類順!D881","v":"高市憲明"},{"$f":"分類順!E881","v":"主婦の友社"},{"$f":"分類順!F881","v":5318},"よくわかる最新医学腎臓病医療の本Fr：腎臓高市憲明主婦の友社",1,{"$f":"VLOOKUP(\"*\"&目次加工!$B$2&\"*\",J882:K882,2,0)","v":1},{"$error":"#N/A"}]
[null,null,null,{"$f":"分類順!A882","v":"腎臓病の人の低たんぱく献立カレンダー"},{"$f":"分類順!B882","v":"医療の本"},{"$f":"分類順!C882","v":"Fr：腎臓"},{"$f":"分類順!D882","v":"香川芳子"},{"$f":"分類順!E882","v":"女子栄養大学出版部"},{"$f":"分類順!F882","v":5319},"腎臓病の人の低たんぱく献立カレンダー医療の本Fr：腎臓香川芳子女子栄養大学出版部",1,{"$f":"VLOOKUP(\"*\"&目次加工!$B$2&\"*\",J883:K883,2,0)","v":1},{"$error":"#N/A"}]
[null,null,null,{"$f":"分類順!A883","v":"腎臓病食品交換表"},{"$f":"分類順!B883","v":"医療の本"},{"$f":"分類順!C883","v":"Fr：腎臓"},{"$f":"分類順!D883","v":"黒川清"},{"$f":"分類順!E883","v":"医歯薬出版"},{"$f":"分類順!F883","v":5320},"腎臓病食品交換表医療の本Fr：腎臓黒川清医歯薬出版",1,{"$f":"VLOOKUP(\"*\"&目次加工!$B$2&\"*\",J884:K884,2,0)","v":1},{"$error":"#N/A"}]
[null,null,null,{"$f":"分類順!A884","v":"腎癌診療ガイドライン　2011年版"},{"$f":"分類順!B884","v":"医療の本"},{"$f":"分類順!C884","v":"Fr：腎臓"},{"$f":"分類順!D884","v":"日本泌尿器科学会 編集"},{"$f":"分類順!E884","v":"金原出版"},{"$f":"分類順!F884","v":5338},"腎癌診療ガイドライン　2011年版医療の本Fr：腎臓日本泌尿器科学会 編集金原出版",1,{"$f":"VLOOKUP(\"*\"&目次加工!$B$2&\"*\",J885:K885,2,0)","v":1},1]
[null,null,null,{"$f":"分類順!A885","v":"やさしい慢性腎臓病の自己管理　改訂版"},{"$f":"分類順!B885","v":"医療の本"},{"$f":"分類順!C885","v":"Fr：腎臓"},{"$f":"分類順!D885","v":"今井圓裕　編"},{"$f":"分類順!E885","v":"医薬ジャーナル社"},{"$f":"分類順!F885","v":8019},"やさしい慢性腎臓病の自己管理　改訂版医療の本Fr：腎臓今井圓裕　編医薬ジャーナル社",1,{"$f":"VLOOKUP(\"*\"&目次加工!$B$2&\"*\",J886:K886,2,0)","v":1},{"$error":"#N/A"}]
[null,null,null,{"$f":"分類順!A886","v":"やさしいネフローゼ症候群の自己管理"},{"$f":"分類順!B886","v":"医療の本"},{"$f":"分類順!C886","v":"Fr：腎臓"},{"$f":"分類順!D886","v":"斉藤喬雄　編"},{"$f":"分類順!E886","v":"医薬ジャーナル社"},{"$f":"分類順!F886","v":8024},"やさしいネフローゼ症候群の自己管理医療の本Fr：腎臓斉藤喬雄　編医薬ジャーナル社",1,{"$f":"VLOOKUP(\"*\"&目次加工!$B$2&\"*\",J887:K887,2,0)","v":1},{"$error":"#N/A"}]
[null,null,null,{"$f":"分類順!A887","v":"CKDってなに？：その理解と早期発見・治療のために"},{"$f":"分類順!B887","v":"医療の本"},{"$f":"分類順!C887","v":"Fr：腎臓"},{"$f":"分類順!D887","v":"北岡建樹"},{"$f":"分類順!E887","v":"永井書店"},{"$f":"分類順!F887","v":8065},"CKDってなに？：その理解と早期発見・治療のために医療の本Fr：腎臓北岡建樹永井書店",1,{"$f":"VLOOKUP(\"*\"&目次加工!$B$2&\"*\",J888:K888,2,0)","v":1},{"$error":"#N/A"}]
[null,null,null,{"$f":"分類順!A888","v":"腎臓病のための低たんぱくレシピ"},{"$f":"分類順!B888","v":"医療の本"},{"$f":"分類順!C888","v":"Fr：腎臓"},{"$f":"分類順!D888","v":"出浦照國、樋口久美子著"},{"$f":"分類順!E888","v":"日本放送出版協会"},{"$f":"分類順!F888","v":8078},"腎臓病のための低たんぱくレシピ医療の本Fr：腎臓出浦照國、樋口久美子著日本放送出版協会",1,{"$f":"VLOOKUP(\"*\"&目次加工!$B$2&\"*\",J889:K889,2,0)","v":1},{"$error":"#N/A"}]
[null,null,null,{"$f":"分類順!A889","v":"病気がみえる　№８　腎・泌尿器"},{"$f":"分類順!B889","v":"医療の本"},{"$f":"分類順!C889","v":"Fr：腎臓"},{"$f":"分類順!D889","v":"メディックメディア"},{"$f":"分類順!E889","v":"メディックメディア"},{"$f":"分類順!F889","v":10015},"病気がみえる　№８　腎・泌尿器医療の本Fr：腎臓メディックメディアメディックメディア",1,{"$f":"VLOOKUP(\"*\"&目次加工!$B$2&\"*\",J890:K890,2,0)","v":1},{"$error":"#N/A"}]
[null,null,null,{"$f":"分類順!A890","v":"慢性腎臓病の自己管理"},{"$f":"分類順!B890","v":"医療の本"},{"$f":"分類順!C890","v":"Fr：腎臓"},{"$f":"分類順!D890","v":"今井圓裕"},{"$f":"分類順!E890","v":"医療ジャーナル社"},{"$f":"分類順!F890","v":10073},"慢性腎臓病の自己管理医療の本Fr：腎臓今井圓裕医療ジャーナル社",1,{"$f":"VLOOKUP(\"*\"&目次加工!$B$2&\"*\",J891:K891,2,0)","v":1},{"$error":"#N/A"}]
[null,null,null,{"$f":"分類順!A891","v":"腎臓病の最新治療（よくわかる最新医学シリーズ）"},{"$f":"分類順!B891","v":"医療の本"},{"$f":"分類順!C891","v":"Fr：腎臓"},{"$f":"分類順!D891","v":"高市 憲明"},{"$f":"分類順!E891","v":"主婦の友社"},{"$f":"分類順!F891","v":10167},"腎臓病の最新治療（よくわかる最新医学シリーズ）医療の本Fr：腎臓高市 憲明主婦の友社",1,{"$f":"VLOOKUP(\"*\"&目次加工!$B$2&\"*\",J892:K892,2,0)","v":1},{"$error":"#N/A"}]
[null,null,null,{"$f":"分類順!A892","v":"腎臓病の食品早わかり　FOOD＆COOKING　DATA"},{"$f":"分類順!B892","v":"医療の本"},{"$f":"分類順!C892","v":"Fr：腎臓"},{"$f":"分類順!D892","v":"牧野直子, 女子栄養大学出版部"},{"$f":"分類順!E892","v":"女子栄養大学出版部"},{"$f":"分類順!F892","v":10290},"腎臓病の食品早わかり　FOOD＆COOKING　DATA医療の本Fr：腎臓牧野直子, 女子栄養大学出版部女子栄養大学出版部",1,{"$f":"VLOOKUP(\"*\"&目次加工!$B$2&\"*\",J893:K893,2,0)","v":1},{"$error":"#N/A"}]
[null,null,null,{"$f":"分類順!A893","v":"病気がみえるvol.8　腎・泌尿器　第2版"},{"$f":"分類順!B893","v":"医療の本"},{"$f":"分類順!C893","v":"Fr：腎臓"},{"$f":"分類順!D893","v":"医療情報科学研究所"},{"$f":"分類順!E893","v":"メディックメディア"},{"$f":"分類順!F893","v":10539},"病気がみえるvol.8　腎・泌尿器　第2版医療の本Fr：腎臓医療情報科学研究所メディックメディア",1,{"$f":"VLOOKUP(\"*\"&目次加工!$B$2&\"*\",J894:K894,2,0)","v":1},{"$error":"#N/A"}]
[null,null,null,{"$f":"分類順!A894","v":"透析"},{"$f":"分類順!B894","v":"目次へ"},{"$f":"分類順!C894","v":"※PDF版ではリンクしておりません。"},{"$f":"分類順!D894","v":0},{"$f":"分類順!E894","v":0},{"$f":"分類順!F894","v":0},"透析目次へ※PDF版ではリンクしておりません。00",1,{"$f":"VLOOKUP(\"*\"&目次加工!$B$2&\"*\",J895:K895,2,0)","v":1},1]
[null,null,null,{"$f":"分類順!A895","v":"家庭でつくれる透析食　Ｐａｒｔ１　改訂版"},{"$f":"分類順!B895","v":"医療の本"},{"$f":"分類順!C895","v":"Fr5：透析"},{"$f":"分類順!D895","v":"杉野　信博　監"},{"$f":"分類順!E895","v":"ライフサイエンス出版"},{"$f":"分類順!F895","v":250},"家庭でつくれる透析食　Ｐａｒｔ１　改訂版医療の本Fr5：透析杉野　信博　監ライフサイエンス出版",1,{"$f":"VLOOKUP(\"*\"&目次加工!$B$2&\"*\",J896:K896,2,0)","v":1},{"$error":"#N/A"}]
[null,null,null,{"$f":"分類順!A896","v":"家庭でつくれる透析食　Ｐａｒｔ２"},{"$f":"分類順!B896","v":"医療の本"},{"$f":"分類順!C896","v":"Fr5：透析"},{"$f":"分類順!D896","v":"杉野　信博　監"},{"$f":"分類順!E896","v":"ライフサイエンス出版"},{"$f":"分類順!F896","v":251},"家庭でつくれる透析食　Ｐａｒｔ２医療の本Fr5：透析杉野　信博　監ライフサイエンス出版",1,{"$f":"VLOOKUP(\"*\"&目次加工!$B$2&\"*\",J897:K897,2,0)","v":1},{"$error":"#N/A"}]
[null,null,null,{"$f":"分類順!A897","v":"透析看護ＱＵＥＳＴＩＯＮ　ＢＯＸ 1"},{"$f":"分類順!B897","v":"医療の本"},{"$f":"分類順!C897","v":"Fr5：透析"},{"$f":"分類順!D897","v":"水附　裕子;大坪　みはる"},{"$f":"分類順!E897","v":"中山書店"},{"$f":"分類順!F897","v":683},"透析看護ＱＵＥＳＴＩＯＮ　ＢＯＸ 1医療の本Fr5：透析水附　裕子;大坪　みはる中山書店",1,{"$f":"VLOOKUP(\"*\"&目次加工!$B$2&\"*\",J898:K898,2,0)","v":1},{"$error":"#N/A"}]
[null,null,null,{"$f":"分類順!A898","v":"透析看護ＱＵＥＳＴＩＯＮ　ＢＯＸ 2"},{"$f":"分類順!B898","v":"医療の本"},{"$f":"分類順!C898","v":"Fr5：透析"},{"$f":"分類順!D898","v":"水附　裕子;大坪　みはる"},{"$f":"分類順!E898","v":"中山書店"},{"$f":"分類順!F898","v":684},"透析看護ＱＵＥＳＴＩＯＮ　ＢＯＸ 2医療の本Fr5：透析水附　裕子;大坪　みはる中山書店",1,{"$f":"VLOOKUP(\"*\"&目次加工!$B$2&\"*\",J899:K899,2,0)","v":1},{"$error":"#N/A"}]
[null,null,null,{"$f":"分類順!A899","v":"透析室の感情トラブル"},{"$f":"分類順!B899","v":"医療の本"},{"$f":"分類順!C899","v":"Fr5：透析"},{"$f":"分類順!D899","v":"春木　繁一　監"},{"$f":"分類順!E899","v":"メディカ出版"},{"$f":"分類順!F899","v":685},"透析室の感情トラブル医療の本Fr5：透析春木　繁一　監メディカ出版",1,{"$f":"VLOOKUP(\"*\"&目次加工!$B$2&\"*\",J900:K900,2,0)","v":1},{"$f":"VLOOKUP(\"*\"&$A$2&\"*\",J900:K900,2,0)","v":{"$error":"#N/A"}}]
[null,null,null,{"$f":"分類順!A900","v":"よくわかる腹膜透析の基礎"},{"$f":"分類順!B900","v":"医療の本"},{"$f":"分類順!C900","v":"Fr5：透析"},{"$f":"分類順!D900","v":"山下明泰"},{"$f":"分類順!E900","v":"東京医学社"},{"$f":"分類順!F900","v":5426},"よくわかる腹膜透析の基礎医療の本Fr5：透析山下明泰東京医学社",1,{"$f":"VLOOKUP(\"*\"&目次加工!$B$2&\"*\",J901:K901,2,0)","v":1},{"$error":"#N/A"}]
[null,null,null,{"$f":"分類順!A901","v":"やさしい透析患者の自己管理　改訂３版"},{"$f":"分類順!B901","v":"医療の本"},{"$f":"分類順!C901","v":"Fr5：透析"},{"$f":"分類順!D901","v":"秋澤忠男　編"},{"$f":"分類順!E901","v":"医薬ジャーナル社"},{"$f":"分類順!F901","v":8023},"やさしい透析患者の自己管理　改訂３版医療の本Fr5：透析秋澤忠男　編医薬ジャーナル社",1,{"$f":"VLOOKUP(\"*\"&目次加工!$B$2&\"*\",J902:K902,2,0)","v":1},{"$error":"#N/A"}]
[null,null,null,{"$f":"分類順!A902","v":"やさしい透析患者のためのリン・カルシウム代謝の自己管理"},{"$f":"分類順!B902","v":"医療の本"},{"$f":"分類順!C902","v":"Fr5：透析"},{"$f":"分類順!D902","v":"深川雅史　編著"},{"$f":"分類順!E902","v":"医薬ジャーナル社"},{"$f":"分類順!F902","v":8032},"やさしい透析患者のためのリン・カルシウム代謝の自己管理医療の本Fr5：透析深川雅史　編著医薬ジャーナル社",1,{"$f":"VLOOKUP(\"*\"&目次加工!$B$2&\"*\",J903:K903,2,0)","v":1},{"$error":"#N/A"}]
[null,null,null,{"$f":"分類順!A903","v":"透析患者の食事指導　栄養の知識をしっかり！　食事管理のコツをたっぷり"},{"$f":"分類順!B903","v":"医療の本"},{"$f":"分類順!C903","v":"Fr5：透析"},{"$f":"分類順!D903","v":"田村智子編著"},{"$f":"分類順!E903","v":"メディカ出版"},{"$f":"分類順!F903","v":8066},"透析患者の食事指導　栄養の知識をしっかり！　食事管理のコツをたっぷり医療の本Fr5：透析田村智子編著メディカ出版",1,{"$f":"VLOOKUP(\"*\"&目次加工!$B$2&\"*\",J904:K904,2,0)","v":1},{"$error":"#N/A"}]
[null,null,null,{"$f":"分類順!A904","v":"透析ハンドブック　第4版 増補版"},{"$f":"分類順!B904","v":"医療の本"},{"$f":"分類順!C904","v":"Fr5：透析"},{"$f":"分類順!D904","v":"小川洋史・岡山ミサ子　監修"},{"$f":"分類順!E904","v":"医学書院"},{"$f":"分類順!F904","v":8130},"透析ハンドブック　第4版 増補版医療の本Fr5：透析小川洋史・岡山ミサ子　監修医学書院",1,{"$f":"VLOOKUP(\"*\"&目次加工!$B$2&\"*\",J905:K905,2,0)","v":1},{"$error":"#N/A"}]
[null,null,null,{"$f":"分類順!A905","v":"透析患者のための血圧と心臓・血管の自己管理"},{"$f":"分類順!B905","v":"医療の本"},{"$f":"分類順!C905","v":"Fr5：透析"},{"$f":"分類順!D905","v":"深川雅史"},{"$f":"分類順!E905","v":"医療ジャーナル社"},{"$f":"分類順!F905","v":10074},"透析患者のための血圧と心臓・血管の自己管理医療の本Fr5：透析深川雅史医療ジャーナル社",1,{"$f":"VLOOKUP(\"*\"&目次加工!$B$2&\"*\",J906:K906,2,0)","v":1},{"$error":"#N/A"}]
[null,null,null,{"$f":"分類順!A906","v":"やさしい透析患者の自己管理　改訂4版"},{"$f":"分類順!B906","v":"医療の本"},{"$f":"分類順!C906","v":"Fr5：透析"},{"$f":"分類順!D906","v":"秋澤忠男"},{"$f":"分類順!E906","v":"医療ジャーナル社"},{"$f":"分類順!F906","v":10353},"やさしい透析患者の自己管理　改訂4版医療の本Fr5：透析秋澤忠男医療ジャーナル社",1,{"$f":"VLOOKUP(\"*\"&目次加工!$B$2&\"*\",J907:K907,2,0)","v":1},{"$error":"#N/A"}]
[null,null,null,{"$f":"分類順!A907","v":"胃腸"},{"$f":"分類順!B907","v":"目次へ"},{"$f":"分類順!C907","v":"※PDF版ではリンクしておりません。"},{"$f":"分類順!D907","v":0},{"$f":"分類順!E907","v":0},{"$f":"分類順!F907","v":0},"胃腸目次へ※PDF版ではリンクしておりません。00",1,{"$f":"VLOOKUP(\"*\"&目次加工!$B$2&\"*\",J908:K908,2,0)","v":1},1]
[null,null,null,{"$f":"分類順!A908","v":"ポケット版　消化器外科ケアマニュアル"},{"$f":"分類順!B908","v":"医療の本"},{"$f":"分類順!C908","v":"Fs：胃腸"},{"$f":"分類順!D908","v":"宇佐美　眞　他編著"},{"$f":"分類順!E908","v":"照林社"},{"$f":"分類順!F908","v":224},"ポケット版　消化器外科ケアマニュアル医療の本Fs：胃腸宇佐美　眞　他編著照林社",1,{"$f":"VLOOKUP(\"*\"&目次加工!$B$2&\"*\",J909:K909,2,0)","v":1},{"$error":"#N/A"}]
[null,null,null,{"$f":"分類順!A909","v":"やさしい胃の手術後の自己管理"},{"$f":"分類順!B909","v":"医療の本"},{"$f":"分類順!C909","v":"Fs：胃腸"},{"$f":"分類順!D909","v":"中村　肇　他編"},{"$f":"分類順!E909","v":"医薬ジャーナル社"},{"$f":"分類順!F909","v":226},"やさしい胃の手術後の自己管理医療の本Fs：胃腸中村　肇　他編医薬ジャーナル社",1,{"$f":"VLOOKUP(\"*\"&目次加工!$B$2&\"*\",J910:K910,2,0)","v":1},{"$error":"#N/A"}]
[null,null,null,{"$f":"分類順!A910","v":"胃腸手術後の人の食事"},{"$f":"分類順!B910","v":"医療の本"},{"$f":"分類順!C910","v":"Fs：胃腸"},{"$f":"分類順!D910","v":"河村　一太;吉田　千恵子;小川　久惠"},{"$f":"分類順!E910","v":"女子栄養大学出版部"},{"$f":"分類順!F910","v":236},"胃腸手術後の人の食事医療の本Fs：胃腸河村　一太;吉田　千恵子;小川　久惠女子栄養大学出版部",1,{"$f":"VLOOKUP(\"*\"&目次加工!$B$2&\"*\",J911:K911,2,0)","v":1},{"$error":"#N/A"}]
[null,null,null,{"$f":"分類順!A911","v":"胃・十二指腸の病気　新版"},{"$f":"分類順!B911","v":"医療の本"},{"$f":"分類順!C911","v":"Fs：胃腸"},{"$f":"分類順!D911","v":"平塚　秀雄　監修"},{"$f":"分類順!E911","v":"主婦の友社"},{"$f":"分類順!F911","v":515},"胃・十二指腸の病気　新版医療の本Fs：胃腸平塚　秀雄　監修主婦の友社",1,{"$f":"VLOOKUP(\"*\"&目次加工!$B$2&\"*\",J912:K912,2,0)","v":1},{"$error":"#N/A"}]
[null,null,null,{"$f":"分類順!A912","v":"胃・十二指腸潰瘍の人の食事"},{"$f":"分類順!B912","v":"医療の本"},{"$f":"分類順!C912","v":"Fs：胃腸"},{"$f":"分類順!D912","v":"林田　康男　病態"},{"$f":"分類順!E912","v":"女子栄養大学出版部"},{"$f":"分類順!F912","v":516},"胃・十二指腸潰瘍の人の食事医療の本Fs：胃腸林田　康男　病態女子栄養大学出版部",1,{"$f":"VLOOKUP(\"*\"&目次加工!$B$2&\"*\",J913:K913,2,0)","v":1},{"$error":"#N/A"}]
[null,null,null,{"$f":"分類順!A913","v":"胃腸病"},{"$f":"分類順!B913","v":"医療の本"},{"$f":"分類順!C913","v":"Fs：胃腸"},{"$f":"分類順!D913","v":"渡辺　知明　著"},{"$f":"分類順!E913","v":"日本医学館"},{"$f":"分類順!F913","v":518},"胃腸病医療の本Fs：胃腸渡辺　知明　著日本医学館",1,{"$f":"VLOOKUP(\"*\"&目次加工!$B$2&\"*\",J914:K914,2,0)","v":1},{"$error":"#N/A"}]
[null,null,null,{"$f":"分類順!A914","v":"胃腸病の食事療法　第２版"},{"$f":"分類順!B914","v":"医療の本"},{"$f":"分類順!C914","v":"Fs：胃腸"},{"$f":"分類順!D914","v":"医歯薬出版　編"},{"$f":"分類順!E914","v":"医歯薬出版"},{"$f":"分類順!F914","v":519},{"$f":"D915&E915&F915&G915&H915","v":"胃腸病の食事療法　第２版医療の本Fs：胃腸医歯薬出版　編医歯薬出版"},1,{"$f":"VLOOKUP(\"*\"&目次加工!$B$2&\"*\",J915:K915,2,0)","v":1},{"$error":"#N/A"}]
[null,null,null,{"$f":"分類順!A915","v":"痔　新版"},{"$f":"分類順!B915","v":"医療の本"},{"$f":"分類順!C915","v":"Fs：胃腸"},{"$f":"分類順!D915","v":"平田　雅彦　著"},{"$f":"分類順!E915","v":"主婦の友社"},{"$f":"分類順!F915","v":520},"痔　新版医療の本Fs：胃腸平田　雅彦　著主婦の友社",1,{"$f":"VLOOKUP(\"*\"&目次加工!$B$2&\"*\",J916:K916,2,0)","v":1},{"$error":"#N/A"}]
[null,null,null,{"$f":"分類順!A916","v":"取りこむ　消化器・呼吸器系"},{"$f":"分類順!B916","v":"医療の本"},{"$f":"分類順!C916","v":"Fs：胃腸"},{"$f":"分類順!D916","v":0},{"$f":"分類順!E916","v":"メディ・イシュ"},{"$f":"分類順!F916","v":521},"取りこむ　消化器・呼吸器系医療の本Fs：胃腸0メディ・イシュ",1,{"$f":"VLOOKUP(\"*\"&目次加工!$B$2&\"*\",J917:K917,2,0)","v":1},1]
[null,null,null,{"$f":"分類順!A917","v":"大腸の病気"},{"$f":"分類順!B917","v":"医療の本"},{"$f":"分類順!C917","v":"Fs：胃腸"},{"$f":"分類順!D917","v":"高野　正博"},{"$f":"分類順!E917","v":"保健同人社"},{"$f":"分類順!F917","v":523},"大腸の病気医療の本Fs：胃腸高野　正博保健同人社",1,{"$f":"VLOOKUP(\"*\"&目次加工!$B$2&\"*\",J918:K918,2,0)","v":1},{"$error":"#N/A"}]
[null,null,null,{"$f":"分類順!A918","v":"ウンココロ　しあわせウンコ生活のススメ"},{"$f":"分類順!B918","v":"医療の本"},{"$f":"分類順!C918","v":"Fs：胃腸"},{"$f":"分類順!D918","v":"寄藤　文平　著"},{"$f":"分類順!E918","v":"実業之日本社"},{"$f":"分類順!F918","v":530},"ウンココロ　しあわせウンコ生活のススメ医療の本Fs：胃腸寄藤　文平　著実業之日本社",1,{"$f":"VLOOKUP(\"*\"&目次加工!$B$2&\"*\",J919:K919,2,0)","v":1},{"$error":"#N/A"}]
[null,null,null,{"$f":"分類順!A919","v":"カラー写真で見てわかるストーマケア"},{"$f":"分類順!B919","v":"医療の本"},{"$f":"分類順!C919","v":"Fs：胃腸"},{"$f":"分類順!D919","v":"大村　裕子　編"},{"$f":"分類順!E919","v":"メディカ出版"},{"$f":"分類順!F919","v":531},"カラー写真で見てわかるストーマケア医療の本Fs：胃腸大村　裕子　編メディカ出版",1,{"$f":"VLOOKUP(\"*\"&目次加工!$B$2&\"*\",J920:K920,2,0)","v":1},{"$error":"#N/A"}]
[null,null,null,{"$f":"分類順!A920","v":"やさしい逆流性食道炎の自己管理"},{"$f":"分類順!B920","v":"医療の本"},{"$f":"分類順!C920","v":"Fs：胃腸"},{"$f":"分類順!D920","v":"中村　孝司　編"},{"$f":"分類順!E920","v":"医薬ジャーナル社"},{"$f":"分類順!F920","v":532},"やさしい逆流性食道炎の自己管理医療の本Fs：胃腸中村　孝司　編医薬ジャーナル社",1,{"$f":"VLOOKUP(\"*\"&目次加工!$B$2&\"*\",J921:K921,2,0)","v":1},{"$error":"#N/A"}]
[null,null,null,{"$f":"分類順!A921","v":"やさしい小腸・大腸疾患の自己管理"},{"$f":"分類順!B921","v":"医療の本"},{"$f":"分類順!C921","v":"Fs：胃腸"},{"$f":"分類順!D921","v":"寺野　彰　編"},{"$f":"分類順!E921","v":"医薬ジャーナル社"},{"$f":"分類順!F921","v":533},"やさしい小腸・大腸疾患の自己管理医療の本Fs：胃腸寺野　彰　編医薬ジャーナル社",1,{"$f":"VLOOKUP(\"*\"&目次加工!$B$2&\"*\",J922:K922,2,0)","v":1},{"$error":"#N/A"}]
[null,null,null,{"$f":"分類順!A922","v":"安心レシピでいただきます！　潰瘍性大腸炎"},{"$f":"分類順!B922","v":"医療の本"},{"$f":"分類順!C922","v":"Fs：胃腸"},{"$f":"分類順!D922","v":"斎藤　恵子"},{"$f":"分類順!E922","v":"弘文堂"},{"$f":"分類順!F922","v":535},"安心レシピでいただきます！　潰瘍性大腸炎医療の本Fs：胃腸斎藤　恵子弘文堂",1,{"$f":"VLOOKUP(\"*\"&目次加工!$B$2&\"*\",J923:K923,2,0)","v":1},{"$error":"#N/A"}]
[null,null,null,{"$f":"分類順!A923","v":"食道癌診断・治療ガイドライン ２００７年４月版"},{"$f":"分類順!B923","v":"医療の本"},{"$f":"分類順!C923","v":"Fs：胃腸"},{"$f":"分類順!D923","v":"日本食道学会"},{"$f":"分類順!E923","v":"金原出版"},{"$f":"分類順!F923","v":1009},"食道癌診断・治療ガイドライン ２００７年４月版医療の本Fs：胃腸日本食道学会金原出版",1,{"$f":"VLOOKUP(\"*\"&目次加工!$B$2&\"*\",J924:K924,2,0)","v":1},{"$error":"#N/A"}]
[null,null,null,{"$f":"分類順!A924","v":"女医が教えるおしりの本―痔が心配?でも、もう大丈夫!"},{"$f":"分類順!B924","v":"医療の本"},{"$f":"分類順!C924","v":"Fs：胃腸"},{"$f":"分類順!D924","v":"山口トキコ　著"},{"$f":"分類順!E924","v":"TBSサービス"},{"$f":"分類順!F924","v":5369},"女医が教えるおしりの本―痔が心配?でも、もう大丈夫!医療の本Fs：胃腸山口トキコ　著TBSサービス",1,{"$f":"VLOOKUP(\"*\"&目次加工!$B$2&\"*\",J925:K925,2,0)","v":1},{"$error":"#N/A"}]
[null,null,null,{"$f":"分類順!A925","v":"食道がん 術前・術後の100日レシピ　―回復までの食事プラン"},{"$f":"分類順!B925","v":"医療の本"},{"$f":"分類順!C925","v":"Fs：胃腸"},{"$f":"分類順!D925","v":"外村 修一/小菅 陽子/松原 弘樹著"},{"$f":"分類順!E925","v":"女子栄養大学出版部"},{"$f":"分類順!F925","v":5370},"食道がん 術前・術後の100日レシピ　―回復までの食事プラン医療の本Fs：胃腸外村 修一/小菅 陽子/松原 弘樹著女子栄養大学出版部",1,{"$f":"VLOOKUP(\"*\"&目次加工!$B$2&\"*\",J926:K926,2,0)","v":1},1]
[null,null,null,{"$f":"分類順!A926","v":"いろうのい・ろ・は"},{"$f":"分類順!B926","v":"医療の本"},{"$f":"分類順!C926","v":"Fs：胃腸"},{"$f":"分類順!D926","v":"西口幸雄"},{"$f":"分類順!E926","v":"PEGドクターズネットワーク"},{"$f":"分類順!F926","v":5419},"いろうのい・ろ・は医療の本Fs：胃腸西口幸雄PEGドクターズネットワーク",1,{"$f":"VLOOKUP(\"*\"&目次加工!$B$2&\"*\",J927:K927,2,0)","v":1},{"$error":"#N/A"}]
[null,null,null,{"$f":"分類順!A927","v":"食道癌診断・治療ガイドライン　２０１２年４月版"},{"$f":"分類順!B927","v":"医療の本"},{"$f":"分類順!C927","v":"Fs：胃腸"},{"$f":"分類順!D927","v":"日本食道学会"},{"$f":"分類順!E927","v":"金原出版"},{"$f":"分類順!F927","v":5485},"食道癌診断・治療ガイドライン　２０１２年４月版医療の本Fs：胃腸日本食道学会金原出版",1,{"$f":"VLOOKUP(\"*\"&目次加工!$B$2&\"*\",J928:K928,2,0)","v":1},{"$error":"#N/A"}]
[null,null,null,{"$f":"分類順!A928","v":"胃手術後の１００日レシピ退院後の食事プラン（１００日レシピシリーズ）"},{"$f":"分類順!B928","v":"医療の本"},{"$f":"分類順!C928","v":"Fs：胃腸"},{"$f":"分類順!D928","v":"青木照明他"},{"$f":"分類順!E928","v":"女子栄養大学出版部"},{"$f":"分類順!F928","v":5486},"胃手術後の１００日レシピ退院後の食事プラン（１００日レシピシリーズ）医療の本Fs：胃腸青木照明他女子栄養大学出版部",1,{"$f":"VLOOKUP(\"*\"&目次加工!$B$2&\"*\",J929:K929,2,0)","v":1},{"$error":"#N/A"}]
[null,null,null,{"$f":"分類順!A929","v":"快適！ストーマ生活"},{"$f":"分類順!B929","v":"医療の本"},{"$f":"分類順!C929","v":"Fs：胃腸"},{"$f":"分類順!D929","v":"松浦信子/山田陽子"},{"$f":"分類順!E929","v":"医学書院"},{"$f":"分類順!F929","v":5487},"快適！ストーマ生活医療の本Fs：胃腸松浦信子/山田陽子医学書院",1,{"$f":"VLOOKUP(\"*\"&目次加工!$B$2&\"*\",J930:K930,2,0)","v":1},{"$error":"#N/A"}]
[null,null,null,{"$f":"分類順!A930","v":"やさしいストーマケア"},{"$f":"分類順!B930","v":"医療の本"},{"$f":"分類順!C930","v":"Fs：胃腸"},{"$f":"分類順!D930","v":"青木和恵　その他"},{"$f":"分類順!E930","v":"桐書房"},{"$f":"分類順!F930","v":5488},"やさしいストーマケア医療の本Fs：胃腸青木和恵　その他桐書房",1,{"$f":"VLOOKUP(\"*\"&目次加工!$B$2&\"*\",J931:K931,2,0)","v":1},{"$error":"#N/A"}]
[null,null,null,{"$f":"分類順!A931","v":"ストーマとともに"},{"$f":"分類順!B931","v":"医療の本"},{"$f":"分類順!C931","v":"Fs：胃腸"},{"$f":"分類順!D931","v":"中里博昭　その他"},{"$f":"分類順!E931","v":"金原出版"},{"$f":"分類順!F931","v":5489},"ストーマとともに医療の本Fs：胃腸中里博昭　その他金原出版",1,{"$f":"VLOOKUP(\"*\"&目次加工!$B$2&\"*\",J932:K932,2,0)","v":1},{"$error":"#N/A"}]
[null,null,null,{"$f":"分類順!A932","v":"元気の花束"},{"$f":"分類順!B932","v":"医療の本"},{"$f":"分類順!C932","v":"Fs：胃腸"},{"$f":"分類順!D932","v":0},{"$f":"分類順!E932","v":"ブーケ若い女性オストメイトの会"},{"$f":"分類順!F932","v":5523},"元気の花束医療の本Fs：胃腸0ブーケ若い女性オストメイトの会",1,{"$f":"VLOOKUP(\"*\"&目次加工!$B$2&\"*\",J933:K933,2,0)","v":1},1]
[null,null,null,{"$f":"分類順!A933","v":"人工肛門・人口膀胱の知識"},{"$f":"分類順!B933","v":"医療の本"},{"$f":"分類順!C933","v":"Fs：胃腸"},{"$f":"分類順!D933","v":"高屋通子・高橋のり子"},{"$f":"分類順!E933","v":"学研"},{"$f":"分類順!F933","v":5524},"人工肛門・人口膀胱の知識医療の本Fs：胃腸高屋通子・高橋のり子学研",1,{"$f":"VLOOKUP(\"*\"&目次加工!$B$2&\"*\",J934:K934,2,0)","v":1},{"$error":"#N/A"}]
[null,null,null,{"$f":"分類順!A934","v":"病気がみえる　①：消化器　第3版"},{"$f":"分類順!B934","v":"医療の本"},{"$f":"分類順!C934","v":"Fs：胃腸"},{"$f":"分類順!D934","v":0},{"$f":"分類順!E934","v":"メディックメディア"},{"$f":"分類順!F934","v":8001},"病気がみえる　①：消化器　第3版医療の本Fs：胃腸0メディックメディア",1,{"$f":"VLOOKUP(\"*\"&目次加工!$B$2&\"*\",J935:K935,2,0)","v":1},1]
[null,null,null,{"$f":"分類順!A935","v":"潰瘍性大腸炎・クローン病の人の食事"},{"$f":"分類順!B935","v":"医療の本"},{"$f":"分類順!C935","v":"Fs：胃腸"},{"$f":"分類順!D935","v":0},{"$f":"分類順!E935","v":"女子栄養大学出版部"},{"$f":"分類順!F935","v":8018},"潰瘍性大腸炎・クローン病の人の食事医療の本Fs：胃腸0女子栄養大学出版部",1,{"$f":"VLOOKUP(\"*\"&目次加工!$B$2&\"*\",J936:K936,2,0)","v":1},1]
[null,null,null,{"$f":"分類順!A936","v":"よくわかる高齢者の排便障害"},{"$f":"分類順!B936","v":"医療の本"},{"$f":"分類順!C936","v":"Fs：胃腸"},{"$f":"分類順!D936","v":"高野正博"},{"$f":"分類順!E936","v":"弘文堂"},{"$f":"分類順!F936","v":8061},"よくわかる高齢者の排便障害医療の本Fs：胃腸高野正博弘文堂",1,{"$f":"VLOOKUP(\"*\"&目次加工!$B$2&\"*\",J937:K937,2,0)","v":1},{"$error":"#N/A"}]
[null,null,null,{"$f":"分類順!A937","v":"腸の病気は連鎖する"},{"$f":"分類順!B937","v":"医療の本"},{"$f":"分類順!C937","v":"Fs：胃腸"},{"$f":"分類順!D937","v":"寺野　彰"},{"$f":"分類順!E937","v":"講談社"},{"$f":"分類順!F937","v":8082},"腸の病気は連鎖する医療の本Fs：胃腸寺野　彰講談社",1,{"$f":"VLOOKUP(\"*\"&目次加工!$B$2&\"*\",J938:K938,2,0)","v":1},{"$error":"#N/A"}]
[null,null,null,{"$f":"分類順!A938","v":"病気がみえる　№１　消化器"},{"$f":"分類順!B938","v":"医療の本"},{"$f":"分類順!C938","v":"Fs：胃腸"},{"$f":"分類順!D938","v":"メディックメディア"},{"$f":"分類順!E938","v":"メディックメディア"},{"$f":"分類順!F938","v":10016},"病気がみえる　№１　消化器医療の本Fs：胃腸メディックメディアメディックメディア",1,{"$f":"VLOOKUP(\"*\"&目次加工!$B$2&\"*\",J939:K939,2,0)","v":1},{"$error":"#N/A"}]
[null,null,null,{"$f":"分類順!A939","v":"食道がん"},{"$f":"分類順!B939","v":"医療の本"},{"$f":"分類順!C939","v":"Fs：胃腸"},{"$f":"分類順!D939","v":"細川正夫"},{"$f":"分類順!E939","v":"講談社"},{"$f":"分類順!F939","v":10075},"食道がん医療の本Fs：胃腸細川正夫講談社",1,{"$f":"VLOOKUP(\"*\"&目次加工!$B$2&\"*\",J940:K940,2,0)","v":1},{"$error":"#N/A"}]
[null,null,null,{"$f":"分類順!A940","v":"痔の最新治療―可能な限り切らずに治す（よくわかる最新医学シリーズ）"},{"$f":"分類順!B940","v":"医療の本"},{"$f":"分類順!C940","v":"Fs：胃腸"},{"$f":"分類順!D940","v":"平田 雅彦"},{"$f":"分類順!E940","v":"主婦の友社"},{"$f":"分類順!F940","v":10168},"痔の最新治療―可能な限り切らずに治す（よくわかる最新医学シリーズ）医療の本Fs：胃腸平田 雅彦主婦の友社",1,{"$f":"VLOOKUP(\"*\"&目次加工!$B$2&\"*\",J941:K941,2,0)","v":1},{"$error":"#N/A"}]
[null,null,null,{"$f":"分類順!A941","v":"腸を鍛えれば頭がよくなる"},{"$f":"分類順!B941","v":"医療の本"},{"$f":"分類順!C941","v":"Fs：胃腸"},{"$f":"分類順!D941","v":"辨野 義己"},{"$f":"分類順!E941","v":"マキノ出版"},{"$f":"分類順!F941","v":10169},"腸を鍛えれば頭がよくなる医療の本Fs：胃腸辨野 義己マキノ出版",1,{"$f":"VLOOKUP(\"*\"&目次加工!$B$2&\"*\",J942:K942,2,0)","v":1},{"$error":"#N/A"}]
[null,null,null,{"$f":"分類順!A942","v":"食道がんのすべてがわかる本　（健康ライブラリーイラスト版）"},{"$f":"分類順!B942","v":"医療の本"},{"$f":"分類順!C942","v":"Fs：胃腸"},{"$f":"分類順!D942","v":"細川正夫"},{"$f":"分類順!E942","v":"講談社"},{"$f":"分類順!F942","v":10254},"食道がんのすべてがわかる本　（健康ライブラリーイラスト版）医療の本Fs：胃腸細川正夫講談社",1,{"$f":"VLOOKUP(\"*\"&目次加工!$B$2&\"*\",J943:K943,2,0)","v":1},{"$error":"#N/A"}]
[null,null,null,{"$f":"分類順!A943","v":"消化器疾患ビジュアルブック"},{"$f":"分類順!B943","v":"医療の本"},{"$f":"分類順!C943","v":"Fs：胃腸"},{"$f":"分類順!D943","v":"落合 慈之／監修"},{"$f":"分類順!E943","v":"学研メディカル秀潤社"},{"$f":"分類順!F943","v":10255},"消化器疾患ビジュアルブック医療の本Fs：胃腸落合 慈之／監修学研メディカル秀潤社",1,{"$f":"VLOOKUP(\"*\"&目次加工!$B$2&\"*\",J944:K944,2,0)","v":1},{"$error":"#N/A"}]
[null,null,null,{"$f":"分類順!A944","v":"ひどい便秘の治し方"},{"$f":"分類順!B944","v":"医療の本"},{"$f":"分類順!C944","v":"Fs：胃腸"},{"$f":"分類順!D944","v":"松生恒夫"},{"$f":"分類順!E944","v":"講談社"},{"$f":"分類順!F944","v":10272},"ひどい便秘の治し方医療の本Fs：胃腸松生恒夫講談社",1,{"$f":"VLOOKUP(\"*\"&目次加工!$B$2&\"*\",J945:K945,2,0)","v":1},{"$error":"#N/A"}]
[null,null,null,{"$f":"分類順!A945","v":"病気がみえる①消化器　第5版"},{"$f":"分類順!B945","v":"医療の本"},{"$f":"分類順!C945","v":"Fs：胃腸"},{"$f":"分類順!D945","v":"メデックメディア"},{"$f":"分類順!E945","v":"メディックメディア"},{"$f":"分類順!F945","v":10356},"病気がみえる①消化器　第5版医療の本Fs：胃腸メデックメディアメディックメディア",1,{"$f":"VLOOKUP(\"*\"&目次加工!$B$2&\"*\",J946:K946,2,0)","v":1},{"$error":"#N/A"}]
[null,null,null,{"$f":"分類順!A946","v":"食道癌診療ガイドライン2017"},{"$f":"分類順!B946","v":"医療の本"},{"$f":"分類順!C946","v":"Fs：胃腸"},{"$f":"分類順!D946","v":"特定非営利活動法人　日本食堂学会"},{"$f":"分類順!E946","v":"金原出版"},{"$f":"分類順!F946","v":10475},"食道癌診療ガイドライン2017医療の本Fs：胃腸特定非営利活動法人　日本食堂学会金原出版",1,{"$f":"VLOOKUP(\"*\"&目次加工!$B$2&\"*\",J947:K947,2,0)","v":1},1]
[null,null,null,{"$f":"分類順!A947","v":"病気がみえるvol.1　消化器　第5版"},{"$f":"分類順!B947","v":"医療の本"},{"$f":"分類順!C947","v":"Fs：胃腸"},{"$f":"分類順!D947","v":"医療情報科学研究所"},{"$f":"分類順!E947","v":"メディックメディア"},{"$f":"分類順!F947","v":10532},"病気がみえるvol.1　消化器　第5版医療の本Fs：胃腸医療情報科学研究所メディックメディア",1,{"$f":"VLOOKUP(\"*\"&目次加工!$B$2&\"*\",J948:K948,2,0)","v":1},{"$error":"#N/A"}]
[null,null,null,{"$f":"分類順!A948","v":"新版　痔の最新治療　（よくわかる最新医学シリーズ）"},{"$f":"分類順!B948","v":"医療の本"},{"$f":"分類順!C948","v":"Fs：胃腸"},{"$f":"分類順!D948","v":"平田雅彦　著"},{"$f":"分類順!E948","v":"主婦の友社"},{"$f":"分類順!F948","v":10570},"新版　痔の最新治療　（よくわかる最新医学シリーズ）医療の本Fs：胃腸平田雅彦　著主婦の友社",1,{"$f":"VLOOKUP(\"*\"&目次加工!$B$2&\"*\",J949:K949,2,0)","v":1},{"$error":"#N/A"}]
[null,null,null,{"$f":"分類順!A949","v":"胃がん"},{"$f":"分類順!B949","v":"目次へ"},{"$f":"分類順!C949","v":"※PDF版ではリンクしておりません。"},{"$f":"分類順!D949","v":0},{"$f":"分類順!E949","v":0},{"$f":"分類順!F949","v":0},"胃がん目次へ※PDF版ではリンクしておりません。00",1,{"$f":"VLOOKUP(\"*\"&目次加工!$B$2&\"*\",J950:K950,2,0)","v":1},1]
[null,null,null,{"$f":"分類順!A950","v":"胃癌治療ガイドライン　医師用　第２版"},{"$f":"分類順!B950","v":"医療の本"},{"$f":"分類順!C950","v":"Fs5：胃がん"},{"$f":"分類順!D950","v":"日本胃癌学会　編"},{"$f":"分類順!E950","v":"金原出版"},{"$f":"分類順!F950","v":388},"胃癌治療ガイドライン　医師用　第２版医療の本Fs5：胃がん日本胃癌学会　編金原出版",1,{"$f":"VLOOKUP(\"*\"&目次加工!$B$2&\"*\",J951:K951,2,0)","v":1},{"$error":"#N/A"}]
[null,null,null,{"$f":"分類順!A951","v":"胃がん治療ガイドラインの解説一般用　２版"},{"$f":"分類順!B951","v":"医療の本"},{"$f":"分類順!C951","v":"Fs5：胃がん"},{"$f":"分類順!D951","v":"日本胃癌学会　編"},{"$f":"分類順!E951","v":"金原出版"},{"$f":"分類順!F951","v":551},"胃がん治療ガイドラインの解説一般用　２版医療の本Fs5：胃がん日本胃癌学会　編金原出版",1,{"$f":"VLOOKUP(\"*\"&目次加工!$B$2&\"*\",J952:K952,2,0)","v":1},{"$error":"#N/A"}]
[null,null,null,{"$f":"分類順!A952","v":"胃癌治療ガイドライン"},{"$f":"分類順!B952","v":"医療の本"},{"$f":"分類順!C952","v":"Fs5：胃がん"},{"$f":"分類順!D952","v":"日本胃癌学会"},{"$f":"分類順!E952","v":"金原出版"},{"$f":"分類順!F952","v":5490},"胃癌治療ガイドライン医療の本Fs5：胃がん日本胃癌学会金原出版",1,{"$f":"VLOOKUP(\"*\"&目次加工!$B$2&\"*\",J953:K953,2,0)","v":1},{"$error":"#N/A"}]
[null,null,null,{"$f":"分類順!A953","v":"胃がんの最新治療"},{"$f":"分類順!B953","v":"医療の本"},{"$f":"分類順!C953","v":"Fs5：胃がん"},{"$f":"分類順!D953","v":"比企直樹"},{"$f":"分類順!E953","v":"主婦の友社"},{"$f":"分類順!F953","v":5525},"胃がんの最新治療医療の本Fs5：胃がん比企直樹主婦の友社",1,{"$f":"VLOOKUP(\"*\"&目次加工!$B$2&\"*\",J954:K954,2,0)","v":1},{"$error":"#N/A"}]
[null,null,null,{"$f":"分類順!A954","v":"国立がん研究センターのがんの本　胃がん"},{"$f":"分類順!B954","v":"医療の本"},{"$f":"分類順!C954","v":"Fs5：胃がん"},{"$f":"分類順!D954","v":"がん予防・検診研究ｾﾝﾀｰ"},{"$f":"分類順!E954","v":"小学館クリエイティブ"},{"$f":"分類順!F954","v":5526},"国立がん研究センターのがんの本　胃がん医療の本Fs5：胃がんがん予防・検診研究ｾﾝﾀｰ小学館クリエイティブ",1,{"$f":"VLOOKUP(\"*\"&目次加工!$B$2&\"*\",J955:K955,2,0)","v":1},{"$error":"#N/A"}]
[null,null,null,{"$f":"分類順!A955","v":"やさしい胃がん外来化学療法の自己管理　追補改訂版"},{"$f":"分類順!B955","v":"医療の本"},{"$f":"分類順!C955","v":"Fs5：胃がん"},{"$f":"分類順!D955","v":"瀧内比呂也　編"},{"$f":"分類順!E955","v":"医薬ジャーナル社"},{"$f":"分類順!F955","v":8028},"やさしい胃がん外来化学療法の自己管理　追補改訂版医療の本Fs5：胃がん瀧内比呂也　編医薬ジャーナル社",1,{"$f":"VLOOKUP(\"*\"&目次加工!$B$2&\"*\",J956:K956,2,0)","v":1},{"$error":"#N/A"}]
[null,null,null,{"$f":"分類順!A956","v":"心配しないでいいですよ　再発・転移　胃がん"},{"$f":"分類順!B956","v":"医療の本"},{"$f":"分類順!C956","v":"Fs5：胃がん"},{"$f":"分類順!D956","v":"山口俊晴編著"},{"$f":"分類順!E956","v":"真興交易医書出版"},{"$f":"分類順!F956","v":8068},"心配しないでいいですよ　再発・転移　胃がん医療の本Fs5：胃がん山口俊晴編著真興交易医書出版",1,{"$f":"VLOOKUP(\"*\"&目次加工!$B$2&\"*\",J957:K957,2,0)","v":1},{"$error":"#N/A"}]
[null,null,null,{"$f":"分類順!A957","v":"胃癌治療ガイドライン　医師用2014年5月改訂第4版"},{"$f":"分類順!B957","v":"医療の本"},{"$f":"分類順!C957","v":"Fs5：胃がん"},{"$f":"分類順!D957","v":"日本胃癌学会"},{"$f":"分類順!E957","v":"金原出版"},{"$f":"分類順!F957","v":10355},"胃癌治療ガイドライン　医師用2014年5月改訂第4版医療の本Fs5：胃がん日本胃癌学会金原出版",1,{"$f":"VLOOKUP(\"*\"&目次加工!$B$2&\"*\",J958:K958,2,0)","v":1},1]
[null,null,null,{"$f":"分類順!A958","v":"胃がん術後の生活読本"},{"$f":"分類順!B958","v":"医療の本"},{"$f":"分類順!C958","v":"Fs5：胃がん"},{"$f":"分類順!D958","v":"佐野武"},{"$f":"分類順!E958","v":"主婦と生活社"},{"$f":"分類順!F958","v":10492},"胃がん術後の生活読本医療の本Fs5：胃がん佐野武主婦と生活社",1,{"$f":"VLOOKUP(\"*\"&目次加工!$B$2&\"*\",J959:K959,2,0)","v":1},{"$error":"#N/A"}]
[null,null,null,{"$f":"分類順!A959","v":"胃がん　（よくわかる最新医学シリーズ）"},{"$f":"分類順!B959","v":"医療の本"},{"$f":"分類順!C959","v":"Fs5：胃がん"},{"$f":"分類順!D959","v":"比企直樹　著"},{"$f":"分類順!E959","v":"主婦の友社"},{"$f":"分類順!F959","v":10575},"胃がん　（よくわかる最新医学シリーズ）医療の本Fs5：胃がん比企直樹　著主婦の友社",1,{"$f":"VLOOKUP(\"*\"&目次加工!$B$2&\"*\",J960:K960,2,0)","v":1},{"$error":"#N/A"}]
[null,null,null,{"$f":"分類順!A960","v":"大腸がん"},{"$f":"分類順!B960","v":"目次へ"},{"$f":"分類順!C960","v":"※PDF版ではリンクしておりません。"},{"$f":"分類順!D960","v":0},{"$f":"分類順!E960","v":0},{"$f":"分類順!F960","v":0},"大腸がん目次へ※PDF版ではリンクしておりません。00",1,{"$f":"VLOOKUP(\"*\"&目次加工!$B$2&\"*\",J961:K961,2,0)","v":1},1]
[null,null,null,{"$f":"分類順!A961","v":"大腸がん・潰瘍性大腸炎・過敏性腸症候群 急増する大腸の病気の原因・検査・診断"},{"$f":"分類順!B961","v":"医療の本"},{"$f":"分類順!C961","v":"Fs6：大腸がん"},{"$f":"分類順!D961","v":"佐原　力三郎;主婦の友社"},{"$f":"分類順!E961","v":"主婦の友社"},{"$f":"分類順!F961","v":354},"大腸がん・潰瘍性大腸炎・過敏性腸症候群 急増する大腸の病気の原因・検査・診断医療の本Fs6：大腸がん佐原　力三郎;主婦の友社主婦の友社",1,{"$f":"VLOOKUP(\"*\"&目次加工!$B$2&\"*\",J962:K962,2,0)","v":1},{"$error":"#N/A"}]
[null,null,null,{"$f":"分類順!A962","v":"専門医が語る　大腸がんがわかる本"},{"$f":"分類順!B962","v":"医療の本"},{"$f":"分類順!C962","v":"Fs6：大腸がん"},{"$f":"分類順!D962","v":"赤須　孝之　著"},{"$f":"分類順!E962","v":"法研"},{"$f":"分類順!F962","v":552},"専門医が語る　大腸がんがわかる本医療の本Fs6：大腸がん赤須　孝之　著法研",1,{"$f":"VLOOKUP(\"*\"&目次加工!$B$2&\"*\",J963:K963,2,0)","v":1},{"$error":"#N/A"}]
[null,null,null,{"$f":"分類順!A963","v":"やさしい大腸がん外来化学療法の自己管理"},{"$f":"分類順!B963","v":"医療の本"},{"$f":"分類順!C963","v":"Fs6：大腸がん"},{"$f":"分類順!D963","v":"朴　成和　編"},{"$f":"分類順!E963","v":"医薬ジャーナル社"},{"$f":"分類順!F963","v":554},"やさしい大腸がん外来化学療法の自己管理医療の本Fs6：大腸がん朴　成和　編医薬ジャーナル社",1,{"$f":"VLOOKUP(\"*\"&目次加工!$B$2&\"*\",J964:K964,2,0)","v":1},{"$f":"VLOOKUP(\"*\"&$A$2&\"*\",J964:K964,2,0)","v":{"$error":"#N/A"}}]
[null,null,null,{"$f":"分類順!A964","v":"大腸がん　内視鏡検査がよくわかる本"},{"$f":"分類順!B964","v":"医療の本"},{"$f":"分類順!C964","v":"Fs6：大腸がん"},{"$f":"分類順!D964","v":"松生　恒夫　著"},{"$f":"分類順!E964","v":"リヨン社"},{"$f":"分類順!F964","v":555},"大腸がん　内視鏡検査がよくわかる本医療の本Fs6：大腸がん松生　恒夫　著リヨン社",1,{"$f":"VLOOKUP(\"*\"&目次加工!$B$2&\"*\",J965:K965,2,0)","v":1},{"$error":"#N/A"}]
[null,null,null,{"$f":"分類順!A965","v":"大腸癌治療ガイドライン 医師用 ２００９年版"},{"$f":"分類順!B965","v":"医療の本"},{"$f":"分類順!C965","v":"Fs6：大腸がん"},{"$f":"分類順!D965","v":"大腸癌研究会"},{"$f":"分類順!E965","v":"金原出版"},{"$f":"分類順!F965","v":1008},"大腸癌治療ガイドライン 医師用 ２００９年版医療の本Fs6：大腸がん大腸癌研究会金原出版",1,{"$f":"VLOOKUP(\"*\"&目次加工!$B$2&\"*\",J966:K966,2,0)","v":1},{"$error":"#N/A"}]
[null,null,null,{"$f":"分類順!A966","v":"大腸癌治療ガイドライン 医師用　〈2010年版〉"},{"$f":"分類順!B966","v":"医療の本"},{"$f":"分類順!C966","v":"Fs6：大腸がん"},{"$f":"分類順!D966","v":"大腸癌研究会　編集"},{"$f":"分類順!E966","v":"ワニブックス"},{"$f":"分類順!F966","v":5339},"大腸癌治療ガイドライン 医師用　〈2010年版〉医療の本Fs6：大腸がん大腸癌研究会　編集ワニブックス",1,{"$f":"VLOOKUP(\"*\"&目次加工!$B$2&\"*\",J967:K967,2,0)","v":1},1]
[null,null,null,{"$f":"分類順!A967","v":"大腸がん手術後の１００日レシピ 退院後の食事プラン"},{"$f":"分類順!B967","v":"医療の本"},{"$f":"分類順!C967","v":"Fs6：大腸がん"},{"$f":"分類順!D967","v":"森谷宜皓他"},{"$f":"分類順!E967","v":"女子栄養大学出版部"},{"$f":"分類順!F967","v":5491},"大腸がん手術後の１００日レシピ 退院後の食事プラン医療の本Fs6：大腸がん森谷宜皓他女子栄養大学出版部",1,{"$f":"VLOOKUP(\"*\"&目次加工!$B$2&\"*\",J968:K968,2,0)","v":1},{"$error":"#N/A"}]
[null,null,null,{"$f":"分類順!A968","v":"大腸がんの最新治療"},{"$f":"分類順!B968","v":"医療の本"},{"$f":"分類順!C968","v":"Fs6：大腸がん"},{"$f":"分類順!D968","v":"福長洋介"},{"$f":"分類順!E968","v":"主婦の友社"},{"$f":"分類順!F968","v":5527},"大腸がんの最新治療医療の本Fs6：大腸がん福長洋介主婦の友社",1,{"$f":"VLOOKUP(\"*\"&目次加工!$B$2&\"*\",J969:K969,2,0)","v":1},{"$error":"#N/A"}]
[null,null,null,{"$f":"分類順!A969","v":"大腸がん手術後の生活読本"},{"$f":"分類順!B969","v":"医療の本"},{"$f":"分類順!C969","v":"Fs6：大腸がん"},{"$f":"分類順!D969","v":"高橋慶一"},{"$f":"分類順!E969","v":"主婦と生活社"},{"$f":"分類順!F969","v":5528},"大腸がん手術後の生活読本医療の本Fs6：大腸がん高橋慶一主婦と生活社",1,{"$f":"VLOOKUP(\"*\"&目次加工!$B$2&\"*\",J970:K970,2,0)","v":1},{"$error":"#N/A"}]
[null,null,null,{"$f":"分類順!A970","v":"（生活実用シリーズ　ＮＨＫここが聞きたい！名医にＱ）　大腸がん"},{"$f":"分類順!B970","v":"医療の本"},{"$f":"分類順!C970","v":"Fs6：大腸がん"},{"$f":"分類順!D970","v":0},{"$f":"分類順!E970","v":"NHK出版"},{"$f":"分類順!F970","v":5529},"（生活実用シリーズ　ＮＨＫここが聞きたい！名医にＱ）　大腸がん医療の本Fs6：大腸がん0NHK出版",1,{"$f":"VLOOKUP(\"*\"&目次加工!$B$2&\"*\",J971:K971,2,0)","v":1},1]
[null,null,null,{"$f":"分類順!A971","v":"国立がん研究センターのがんの本　大腸がん"},{"$f":"分類順!B971","v":"医療の本"},{"$f":"分類順!C971","v":"Fs6：大腸がん"},{"$f":"分類順!D971","v":"がん予防・検診研究ｾﾝﾀｰ"},{"$f":"分類順!E971","v":"小学館クリエイティブ"},{"$f":"分類順!F971","v":5530},"国立がん研究センターのがんの本　大腸がん医療の本Fs6：大腸がんがん予防・検診研究ｾﾝﾀｰ小学館クリエイティブ",1,{"$f":"VLOOKUP(\"*\"&目次加工!$B$2&\"*\",J972:K972,2,0)","v":1},{"$error":"#N/A"}]
[null,null,null,{"$f":"分類順!A972","v":"大腸がん"},{"$f":"分類順!B972","v":"医療の本"},{"$f":"分類順!C972","v":"Fs6：大腸がん"},{"$f":"分類順!D972","v":"小平進"},{"$f":"分類順!E972","v":"医療ジャーナル社"},{"$f":"分類順!F972","v":5631},"大腸がん医療の本Fs6：大腸がん小平進医療ジャーナル社",1,{"$f":"VLOOKUP(\"*\"&目次加工!$B$2&\"*\",J973:K973,2,0)","v":1},{"$error":"#N/A"}]
[null,null,null,{"$f":"分類順!A973","v":"心配しないでいいですよ　再発・転移　大腸がん"},{"$f":"分類順!B973","v":"医療の本"},{"$f":"分類順!C973","v":"Fs6：大腸がん"},{"$f":"分類順!D973","v":"編集/武藤徹一郎、畠　清彦"},{"$f":"分類順!E973","v":"真興交易医書出版"},{"$f":"分類順!F973","v":8076},"心配しないでいいですよ　再発・転移　大腸がん医療の本Fs6：大腸がん編集/武藤徹一郎、畠　清彦真興交易医書出版",1,{"$f":"VLOOKUP(\"*\"&目次加工!$B$2&\"*\",J974:K974,2,0)","v":1},{"$error":"#N/A"}]
[null,null,null,{"$f":"分類順!A974","v":"大腸癌治療ガイドライン 医師用 2014年版"},{"$f":"分類順!B974","v":"医療の本"},{"$f":"分類順!C974","v":"Fs6：大腸がん"},{"$f":"分類順!D974","v":"大腸癌研究会　編"},{"$f":"分類順!E974","v":"金原出版"},{"$f":"分類順!F974","v":10170},"大腸癌治療ガイドライン 医師用 2014年版医療の本Fs6：大腸がん大腸癌研究会　編金原出版",1,{"$f":"VLOOKUP(\"*\"&目次加工!$B$2&\"*\",J975:K975,2,0)","v":1},1]
[null,null,null,{"$f":"分類順!A975","v":"手術日までに患者が知りたい大腸癌"},{"$f":"分類順!B975","v":"医療の本"},{"$f":"分類順!C975","v":"Fs6：大腸がん"},{"$f":"分類順!D975","v":"市原隆夫"},{"$f":"分類順!E975","v":"金原出版"},{"$f":"分類順!F975","v":10256},"手術日までに患者が知りたい大腸癌医療の本Fs6：大腸がん市原隆夫金原出版",1,{"$f":"VLOOKUP(\"*\"&目次加工!$B$2&\"*\",J976:K976,2,0)","v":1},{"$error":"#N/A"}]
[null,null,null,{"$f":"分類順!A976","v":"心配しないでいいですよ　再発・転移・大腸がん（新訂版）"},{"$f":"分類順!B976","v":"医療の本"},{"$f":"分類順!C976","v":"Fs6：大腸がん"},{"$f":"分類順!D976","v":"山口俊晴・水沼信之"},{"$f":"分類順!E976","v":"真興交易医書出版"},{"$f":"分類順!F976","v":10354},"心配しないでいいですよ　再発・転移・大腸がん（新訂版）医療の本Fs6：大腸がん山口俊晴・水沼信之真興交易医書出版",1,{"$f":"VLOOKUP(\"*\"&目次加工!$B$2&\"*\",J977:K977,2,0)","v":1},{"$error":"#N/A"}]
[null,null,null,{"$f":"分類順!A977","v":"大腸癌診療ガイドライン医師用2016"},{"$f":"分類順!B977","v":"医療の本"},{"$f":"分類順!C977","v":"Fs6：大腸がん"},{"$f":"分類順!D977","v":"大腸癌研究会"},{"$f":"分類順!E977","v":"金原出版"},{"$f":"分類順!F977","v":10476},"大腸癌診療ガイドライン医師用2016医療の本Fs6：大腸がん大腸癌研究会金原出版",1,{"$f":"VLOOKUP(\"*\"&目次加工!$B$2&\"*\",J978:K978,2,0)","v":1},1]
[null,null,null,{"$f":"分類順!A978","v":"大腸がん　（よくわかる最新医学シリーズ）"},{"$f":"分類順!B978","v":"医療の本"},{"$f":"分類順!C978","v":"Fs6：大腸がん"},{"$f":"分類順!D978","v":"福長洋介　著"},{"$f":"分類順!E978","v":"主婦の友社"},{"$f":"分類順!F978","v":10576},{"$f":"D979&E979&F979&G979&H979","v":"大腸がん　（よくわかる最新医学シリーズ）医療の本Fs6：大腸がん福長洋介　著主婦の友社"},1,{"$f":"VLOOKUP(\"*\"&目次加工!$B$2&\"*\",J979:K979,2,0)","v":1},{"$error":"#N/A"}]
[null,null,null,{"$f":"分類順!A979","v":"クローン病"},{"$f":"分類順!B979","v":"目次へ"},{"$f":"分類順!C979","v":"※PDF版ではリンクしておりません。"},{"$f":"分類順!D979","v":0},{"$f":"分類順!E979","v":0},{"$f":"分類順!F979","v":0},"クローン病目次へ※PDF版ではリンクしておりません。00",1,{"$f":"VLOOKUP(\"*\"&目次加工!$B$2&\"*\",J980:K980,2,0)","v":1},1]
[null,null,null,{"$f":"分類順!A980","v":"やさしいクローン病の自己管理"},{"$f":"分類順!B980","v":"医療の本"},{"$f":"分類順!C980","v":"Fs7：クローン病"},{"$f":"分類順!D980","v":"松澤　佑次　監"},{"$f":"分類順!E980","v":"医薬ジャーナル社"},{"$f":"分類順!F980","v":557},"やさしいクローン病の自己管理医療の本Fs7：クローン病松澤　佑次　監医薬ジャーナル社",1,{"$f":"VLOOKUP(\"*\"&目次加工!$B$2&\"*\",J981:K981,2,0)","v":1},{"$error":"#N/A"}]
[null,null,null,{"$f":"分類順!A981","v":"クローン病ってこんな病気"},{"$f":"分類順!B981","v":"医療の本"},{"$f":"分類順!C981","v":"Fs7：クローン病"},{"$f":"分類順!D981","v":"福田能啓編集"},{"$f":"分類順!E981","v":"診断と治療社"},{"$f":"分類順!F981","v":8064},"クローン病ってこんな病気医療の本Fs7：クローン病福田能啓編集診断と治療社",1,{"$f":"VLOOKUP(\"*\"&目次加工!$B$2&\"*\",J982:K982,2,0)","v":1},{"$error":"#N/A"}]
[null,null,null,{"$f":"分類順!A982","v":"潰瘍性大腸炎"},{"$f":"分類順!B982","v":"目次へ"},{"$f":"分類順!C982","v":"※PDF版ではリンクしておりません。"},{"$f":"分類順!D982","v":0},{"$f":"分類順!E982","v":0},{"$f":"分類順!F982","v":0},"潰瘍性大腸炎目次へ※PDF版ではリンクしておりません。00",1,{"$f":"VLOOKUP(\"*\"&目次加工!$B$2&\"*\",J983:K983,2,0)","v":1},1]
[null,null,null,{"$f":"分類順!A983","v":"潰瘍性大腸炎 (ＥＢＭシリ－ズ) 正しい治療がわかる本"},{"$f":"分類順!B983","v":"医療の本"},{"$f":"分類順!C983","v":"Fs9：潰瘍性大腸炎"},{"$f":"分類順!D983","v":"中島淳"},{"$f":"分類順!E983","v":"法研"},{"$f":"分類順!F983","v":540},"潰瘍性大腸炎 (ＥＢＭシリ－ズ) 正しい治療がわかる本医療の本Fs9：潰瘍性大腸炎中島淳法研",1,{"$f":"VLOOKUP(\"*\"&目次加工!$B$2&\"*\",J984:K984,2,0)","v":1},{"$error":"#N/A"}]
[null,null,null,{"$f":"分類順!A984","v":"肝臓/胆のう/膵臓"},{"$f":"分類順!B984","v":"目次へ"},{"$f":"分類順!C984","v":"※PDF版ではリンクしておりません。"},{"$f":"分類順!D984","v":0},{"$f":"分類順!E984","v":0},{"$f":"分類順!F984","v":0},"肝臓/胆のう/膵臓目次へ※PDF版ではリンクしておりません。00",1,{"$f":"VLOOKUP(\"*\"&目次加工!$B$2&\"*\",J985:K985,2,0)","v":1},1]
[null,null,null,{"$f":"分類順!A985","v":"肝臓・胆のう・膵臓病の食事療法　第３版"},{"$f":"分類順!B985","v":"医療の本"},{"$f":"分類順!C985","v":"Ft：肝臓/胆のう/膵臓"},{"$f":"分類順!D985","v":"医歯薬出版　編"},{"$f":"分類順!E985","v":"医歯薬出版"},{"$f":"分類順!F985","v":240},"肝臓・胆のう・膵臓病の食事療法　第３版医療の本Ft：肝臓/胆のう/膵臓医歯薬出版　編医歯薬出版",1,{"$f":"VLOOKUP(\"*\"&目次加工!$B$2&\"*\",J986:K986,2,0)","v":1},{"$error":"#N/A"}]
[null,null,null,{"$f":"分類順!A986","v":"胆石・胆のう炎・膵炎の人の食事"},{"$f":"分類順!B986","v":"医療の本"},{"$f":"分類順!C986","v":"Ft：肝臓/胆のう/膵臓"},{"$f":"分類順!D986","v":"田中　照二　病態"},{"$f":"分類順!E986","v":"女子栄養大学出版部"},{"$f":"分類順!F986","v":524},"胆石・胆のう炎・膵炎の人の食事医療の本Ft：肝臓/胆のう/膵臓田中　照二　病態女子栄養大学出版部",1,{"$f":"VLOOKUP(\"*\"&目次加工!$B$2&\"*\",J987:K987,2,0)","v":1},{"$error":"#N/A"}]
[null,null,null,{"$f":"分類順!A987","v":"膵臓・胆のう・胆管の病気 最新の検査法と治療法　日常生活のケア"},{"$f":"分類順!B987","v":"医療の本"},{"$f":"分類順!C987","v":"Ft：肝臓/胆のう/膵臓"},{"$f":"分類順!D987","v":"白鳥　敬子;主婦の友社"},{"$f":"分類順!E987","v":"主婦の友社"},{"$f":"分類順!F987","v":526},"膵臓・胆のう・胆管の病気 最新の検査法と治療法　日常生活のケア医療の本Ft：肝臓/胆のう/膵臓白鳥　敬子;主婦の友社主婦の友社",1,{"$f":"VLOOKUP(\"*\"&目次加工!$B$2&\"*\",J988:K988,2,0)","v":1},{"$error":"#N/A"}]
[null,null,null,{"$f":"分類順!A988","v":"膵臓の病気"},{"$f":"分類順!B988","v":"医療の本"},{"$f":"分類順!C988","v":"Ft：肝臓/胆のう/膵臓"},{"$f":"分類順!D988","v":"小泉　勝"},{"$f":"分類順!E988","v":"保健同人社"},{"$f":"分類順!F988","v":527},"膵臓の病気医療の本Ft：肝臓/胆のう/膵臓小泉　勝保健同人社",1,{"$f":"VLOOKUP(\"*\"&目次加工!$B$2&\"*\",J989:K989,2,0)","v":1},{"$error":"#N/A"}]
[null,null,null,{"$f":"分類順!A989","v":"肝臓病の人の食事"},{"$f":"分類順!B989","v":"医療の本"},{"$f":"分類順!C989","v":"Ft：肝臓/胆のう/膵臓"},{"$f":"分類順!D989","v":"黒田　博之;今堀　智紀;高橋　敦子"},{"$f":"分類順!E989","v":"女子栄養大学出版部"},{"$f":"分類順!F989","v":544},"肝臓病の人の食事医療の本Ft：肝臓/胆のう/膵臓黒田　博之;今堀　智紀;高橋　敦子女子栄養大学出版部",1,{"$f":"VLOOKUP(\"*\"&目次加工!$B$2&\"*\",J990:K990,2,0)","v":1},{"$error":"#N/A"}]
[null,null,null,{"$f":"分類順!A990","v":"肝臓の病気"},{"$f":"分類順!B990","v":"医療の本"},{"$f":"分類順!C990","v":"Ft：肝臓/胆のう/膵臓"},{"$f":"分類順!D990","v":"大内　清昭"},{"$f":"分類順!E990","v":"保健同人社"},{"$f":"分類順!F990","v":664},"肝臓の病気医療の本Ft：肝臓/胆のう/膵臓大内　清昭保健同人社",1,{"$f":"VLOOKUP(\"*\"&目次加工!$B$2&\"*\",J991:K991,2,0)","v":1},{"$error":"#N/A"}]
[null,null,null,{"$f":"分類順!A991","v":"肝臓病 検査と治療の最新情報を網羅　よく効く薬との併用療法も徹底紹介 新版"},{"$f":"分類順!B991","v":"医療の本"},{"$f":"分類順!C991","v":"Ft：肝臓/胆のう/膵臓"},{"$f":"分類順!D991","v":"中嶋　俊彰"},{"$f":"分類順!E991","v":"主婦の友社"},{"$f":"分類順!F991","v":665},"肝臓病 検査と治療の最新情報を網羅　よく効く薬との併用療法も徹底紹介 新版医療の本Ft：肝臓/胆のう/膵臓中嶋　俊彰主婦の友社",1,{"$f":"VLOOKUP(\"*\"&目次加工!$B$2&\"*\",J992:K992,2,0)","v":1},{"$error":"#N/A"}]
[null,null,null,{"$f":"分類順!A992","v":"防ぐ、治す胆のう・胆管の病気"},{"$f":"分類順!B992","v":"医療の本"},{"$f":"分類順!C992","v":"Ft：肝臓/胆のう/膵臓"},{"$f":"分類順!D992","v":"税所　宏光"},{"$f":"分類順!E992","v":"講談社"},{"$f":"分類順!F992","v":682},"防ぐ、治す胆のう・胆管の病気医療の本Ft：肝臓/胆のう/膵臓税所　宏光講談社",1,{"$f":"VLOOKUP(\"*\"&目次加工!$B$2&\"*\",J993:K993,2,0)","v":1},{"$error":"#N/A"}]
[null,null,null,{"$f":"分類順!A993","v":"急性膵炎の診療ガイドライン 改訂第３版"},{"$f":"分類順!B993","v":"医療の本"},{"$f":"分類順!C993","v":"Ft：肝臓/胆のう/膵臓"},{"$f":"分類順!D993","v":"急性膵炎の診療ガイドライン第２版作成出版委員会"},{"$f":"分類順!E993","v":"金原出版"},{"$f":"分類順!F993","v":1017},"急性膵炎の診療ガイドライン 改訂第３版医療の本Ft：肝臓/胆のう/膵臓急性膵炎の診療ガイドライン第２版作成出版委員会金原出版",1,{"$f":"VLOOKUP(\"*\"&目次加工!$B$2&\"*\",J994:K994,2,0)","v":1},{"$error":"#N/A"}]
[null,null,null,{"$f":"分類順!A994","v":"やさしい高齢者肝疾患の自己管理"},{"$f":"分類順!B994","v":"医療の本"},{"$f":"分類順!C994","v":"Ft：肝臓/胆のう/膵臓"},{"$f":"分類順!D994","v":"八橋弘　編"},{"$f":"分類順!E994","v":"医薬ジャーナル社"},{"$f":"分類順!F994","v":8020},"やさしい高齢者肝疾患の自己管理医療の本Ft：肝臓/胆のう/膵臓八橋弘　編医薬ジャーナル社",1,{"$f":"VLOOKUP(\"*\"&目次加工!$B$2&\"*\",J995:K995,2,0)","v":1},{"$error":"#N/A"}]
[null,null,null,{"$f":"分類順!A995","v":"やさしい肝臓病の自己管理　改訂版"},{"$f":"分類順!B995","v":"医療の本"},{"$f":"分類順!C995","v":"Ft：肝臓/胆のう/膵臓"},{"$f":"分類順!D995","v":"林紀夫　編"},{"$f":"分類順!E995","v":"医薬ジャーナル社"},{"$f":"分類順!F995","v":8031},"やさしい肝臓病の自己管理　改訂版医療の本Ft：肝臓/胆のう/膵臓林紀夫　編医薬ジャーナル社",1,{"$f":"VLOOKUP(\"*\"&目次加工!$B$2&\"*\",J996:K996,2,0)","v":1},{"$error":"#N/A"}]
[null,null,null,{"$f":"分類順!A996","v":"肝臓病の最新治療"},{"$f":"分類順!B996","v":"医療の本"},{"$f":"分類順!C996","v":"Ft：肝臓/胆のう/膵臓"},{"$f":"分類順!D996","v":"泉並木"},{"$f":"分類順!E996","v":"主婦の友社"},{"$f":"分類順!F996","v":10076},"肝臓病の最新治療医療の本Ft：肝臓/胆のう/膵臓泉並木主婦の友社",1,{"$f":"VLOOKUP(\"*\"&目次加工!$B$2&\"*\",J997:K997,2,0)","v":1},{"$error":"#N/A"}]
[null,null,null,{"$f":"分類順!A997","v":"膵臓・胆のう・胆管の病気の最新治療"},{"$f":"分類順!B997","v":"医療の本"},{"$f":"分類順!C997","v":"Ft：肝臓/胆のう/膵臓"},{"$f":"分類順!D997","v":"白鳥敬子"},{"$f":"分類順!E997","v":"主婦の友社"},{"$f":"分類順!F997","v":10077},"膵臓・胆のう・胆管の病気の最新治療医療の本Ft：肝臓/胆のう/膵臓白鳥敬子主婦の友社",1,{"$f":"VLOOKUP(\"*\"&目次加工!$B$2&\"*\",J998:K998,2,0)","v":1},{"$error":"#N/A"}]
[null,null,null,{"$f":"分類順!A998","v":"高齢者肝臓疾患の自己管理"},{"$f":"分類順!B998","v":"医療の本"},{"$f":"分類順!C998","v":"Ft：肝臓/胆のう/膵臓"},{"$f":"分類順!D998","v":"八橋弘"},{"$f":"分類順!E998","v":"医療ジャーナル社"},{"$f":"分類順!F998","v":10078},"高齢者肝臓疾患の自己管理医療の本Ft：肝臓/胆のう/膵臓八橋弘医療ジャーナル社",1,{"$f":"VLOOKUP(\"*\"&目次加工!$B$2&\"*\",J999:K999,2,0)","v":1},{"$error":"#N/A"}]
[null,null,null,{"$f":"分類順!A999","v":"急性胆管炎・胆嚢炎の診療ガイドライン 2013 TG13新基準掲載"},{"$f":"分類順!B999","v":"医療の本"},{"$f":"分類順!C999","v":"Ft：肝臓/胆のう/膵臓"},{"$f":"分類順!D999","v":"高田忠敬"},{"$f":"分類順!E999","v":"医学図書出版"},{"$f":"分類順!F999","v":10171},"急性胆管炎・胆嚢炎の診療ガイドライン 2013 TG13新基準掲載医療の本Ft：肝臓/胆のう/膵臓高田忠敬医学図書出版",1,{"$f":"VLOOKUP(\"*\"&目次加工!$B$2&\"*\",J1000:K1000,2,0)","v":1},1]
[null,null,null,{"$f":"分類順!A1000","v":"膵癌診療ガイドライン2016年版"},{"$f":"分類順!B1000","v":"医療の本"},{"$f":"分類順!C1000","v":"Ft：肝臓/胆のう/膵臓"},{"$f":"分類順!D1000","v":"日本膵臓学会"},{"$f":"分類順!E1000","v":"金原出版"},{"$f":"分類順!F1000","v":10455},"膵癌診療ガイドライン2016年版医療の本Ft：肝臓/胆のう/膵臓日本膵臓学会金原出版",1,{"$f":"VLOOKUP(\"*\"&目次加工!$B$2&\"*\",J1001:K1001,2,0)","v":1},1]
[null,null,null,{"$f":"分類順!A1001","v":"患者さん・ご家族・一般市民のための膵がん診療ガイドライン2016の解説"},{"$f":"分類順!B1001","v":"医療の本"},{"$f":"分類順!C1001","v":"Ft：肝臓/胆のう/膵臓"},{"$f":"分類順!D1001","v":"日本膵臓学会"},{"$f":"分類順!E1001","v":"金原出版"},{"$f":"分類順!F1001","v":10456},"患者さん・ご家族・一般市民のための膵がん診療ガイドライン2016の解説医療の本Ft：肝臓/胆のう/膵臓日本膵臓学会金原出版",1,{"$f":"VLOOKUP(\"*\"&目次加工!$B$2&\"*\",J1002:K1002,2,0)","v":1},1]
[null,null,null,{"$f":"分類順!A1002","v":"すい臓がんから奇跡の生還　術後7年の記録"},{"$f":"分類順!B1002","v":"医療の本"},{"$f":"分類順!C1002","v":"Ft：肝臓/胆のう/膵臓"},{"$f":"分類順!D1002","v":0},{"$f":"分類順!E1002","v":"中央公論社"},{"$f":"分類順!F1002","v":10499},"すい臓がんから奇跡の生還　術後7年の記録医療の本Ft：肝臓/胆のう/膵臓0中央公論社",1,{"$f":"VLOOKUP(\"*\"&目次加工!$B$2&\"*\",J1003:K1003,2,0)","v":1},1]
[null,null,null,{"$f":"分類順!A1003","v":"肝臓病　（よくわかる最新医学シリーズ）"},{"$f":"分類順!B1003","v":"医療の本"},{"$f":"分類順!C1003","v":"Ft：肝臓/胆のう/膵臓"},{"$f":"分類順!D1003","v":"泉並木　著"},{"$f":"分類順!E1003","v":"主婦の友社"},{"$f":"分類順!F1003","v":10558},"肝臓病　（よくわかる最新医学シリーズ）医療の本Ft：肝臓/胆のう/膵臓泉並木　著主婦の友社",1,{"$f":"VLOOKUP(\"*\"&目次加工!$B$2&\"*\",J1004:K1004,2,0)","v":1},{"$error":"#N/A"}]
[null,null,null,{"$f":"分類順!A1004","v":"C型肝炎"},{"$f":"分類順!B1004","v":"目次へ"},{"$f":"分類順!C1004","v":"※PDF版ではリンクしておりません。"},{"$f":"分類順!D1004","v":0},{"$f":"分類順!E1004","v":0},{"$f":"分類順!F1004","v":0},"C型肝炎目次へ※PDF版ではリンクしておりません。00",1,{"$f":"VLOOKUP(\"*\"&目次加工!$B$2&\"*\",J1005:K1005,2,0)","v":1},1]
[null,null,null,{"$f":"分類順!A1005","v":"Ｃ型肝炎"},{"$f":"分類順!B1005","v":"医療の本"},{"$f":"分類順!C1005","v":"Ft5：C型肝炎"},{"$f":"分類順!D1005","v":"清沢　研道"},{"$f":"分類順!E1005","v":"保健同人社"},{"$f":"分類順!F1005","v":541},"Ｃ型肝炎医療の本Ft5：C型肝炎清沢　研道保健同人社",1,{"$f":"VLOOKUP(\"*\"&目次加工!$B$2&\"*\",J1006:K1006,2,0)","v":1},{"$error":"#N/A"}]
[null,null,null,{"$f":"分類順!A1006","v":"Ｃ型肝炎Ｂ型肝炎 新版"},{"$f":"分類順!B1006","v":"医療の本"},{"$f":"分類順!C1006","v":"Ft5：C型肝炎"},{"$f":"分類順!D1006","v":"中嶋　俊彰"},{"$f":"分類順!E1006","v":"主婦の友社"},{"$f":"分類順!F1006","v":543},"Ｃ型肝炎Ｂ型肝炎 新版医療の本Ft5：C型肝炎中嶋　俊彰主婦の友社",1,{"$f":"VLOOKUP(\"*\"&目次加工!$B$2&\"*\",J1007:K1007,2,0)","v":1},{"$error":"#N/A"}]
[null,null,null,{"$f":"分類順!A1007","v":"やさしいC型肝炎の自己管理　改訂版-その最新情報-"},{"$f":"分類順!B1007","v":"医療の本"},{"$f":"分類順!C1007","v":"Ft5：C型肝炎"},{"$f":"分類順!D1007","v":"岡上武　著"},{"$f":"分類順!E1007","v":"医薬ジャーナル社"},{"$f":"分類順!F1007","v":8034},"やさしいC型肝炎の自己管理　改訂版-その最新情報-医療の本Ft5：C型肝炎岡上武　著医薬ジャーナル社",1,{"$f":"VLOOKUP(\"*\"&目次加工!$B$2&\"*\",J1008:K1008,2,0)","v":1},{"$error":"#N/A"}]
[null,null,null,{"$f":"分類順!A1008","v":"やさしいC型肝炎の自己管理"},{"$f":"分類順!B1008","v":"医療の本"},{"$f":"分類順!C1008","v":"Ft5：C型肝炎"},{"$f":"分類順!D1008","v":"岡上武"},{"$f":"分類順!E1008","v":"医療ジャーナル社"},{"$f":"分類順!F1008","v":10357},"やさしいC型肝炎の自己管理医療の本Ft5：C型肝炎岡上武医療ジャーナル社",1,{"$f":"VLOOKUP(\"*\"&目次加工!$B$2&\"*\",J1009:K1009,2,0)","v":1},{"$error":"#N/A"}]
[null,null,null,{"$f":"分類順!A1009","v":"生活"},{"$f":"分類順!B1009","v":"目次へ"},{"$f":"分類順!C1009","v":"※PDF版ではリンクしておりません。"},{"$f":"分類順!D1009","v":0},{"$f":"分類順!E1009","v":0},{"$f":"分類順!F1009","v":0},"生活目次へ※PDF版ではリンクしておりません。00",1,{"$f":"VLOOKUP(\"*\"&目次加工!$B$2&\"*\",J1010:K1010,2,0)","v":1},1]
[null,null,null,{"$f":"分類順!A1010","v":"男の更年期障害を治す"},{"$f":"分類順!B1010","v":"医療の本"},{"$f":"分類順!C1010","v":"G：生活"},{"$f":"分類順!D1010","v":"天野　俊康　著"},{"$f":"分類順!E1010","v":"講談社"},{"$f":"分類順!F1010","v":688},"男の更年期障害を治す医療の本G：生活天野　俊康　著講談社",1,{"$f":"VLOOKUP(\"*\"&目次加工!$B$2&\"*\",J1011:K1011,2,0)","v":1},{"$error":"#N/A"}]
[null,null,null,{"$f":"分類順!A1011","v":"おはようからだくん"},{"$f":"分類順!B1011","v":"医療の本"},{"$f":"分類順!C1011","v":"G：生活"},{"$f":"分類順!D1011","v":"竹村俊子　著"},{"$f":"分類順!E1011","v":"ナート "},{"$f":"分類順!F1011","v":5372},"おはようからだくん医療の本G：生活竹村俊子　著ナート ",1,{"$f":"VLOOKUP(\"*\"&目次加工!$B$2&\"*\",J1012:K1012,2,0)","v":1},{"$error":"#N/A"}]
[null,null,null,{"$f":"分類順!A1012","v":"女性の健康"},{"$f":"分類順!B1012","v":"目次へ"},{"$f":"分類順!C1012","v":"※PDF版ではリンクしておりません。"},{"$f":"分類順!D1012","v":0},{"$f":"分類順!E1012","v":0},{"$f":"分類順!F1012","v":0},"女性の健康目次へ※PDF版ではリンクしておりません。00",1,{"$f":"VLOOKUP(\"*\"&目次加工!$B$2&\"*\",J1013:K1013,2,0)","v":1},1]
[null,null,null,{"$f":"分類順!A1013","v":"卵巣がん治療ガイドライン　２００７年版"},{"$f":"分類順!B1013","v":"医療の本"},{"$f":"分類順!C1013","v":"Gg：女性の健康"},{"$f":"分類順!D1013","v":0},{"$f":"分類順!E1013","v":"金原出版"},{"$f":"分類順!F1013","v":408},"卵巣がん治療ガイドライン　２００７年版医療の本Gg：女性の健康0金原出版",1,{"$f":"VLOOKUP(\"*\"&目次加工!$B$2&\"*\",J1014:K1014,2,0)","v":1},1]
[null,null,null,{"$f":"分類順!A1014","v":"ウィメンズヘルス事典－女性のからだとここ"},{"$f":"分類順!B1014","v":"医療の本"},{"$f":"分類順!C1014","v":"Gg：女性の健康"},{"$f":"分類順!D1014","v":"日本母性衛生学会"},{"$f":"分類順!E1014","v":"中央法規出版"},{"$f":"分類順!F1014","v":692},"ウィメンズヘルス事典－女性のからだとここ医療の本Gg：女性の健康日本母性衛生学会中央法規出版",1,{"$f":"VLOOKUP(\"*\"&目次加工!$B$2&\"*\",J1015:K1015,2,0)","v":1},{"$error":"#N/A"}]
[null,null,null,{"$f":"分類順!A1015","v":"子宮がん・卵巣がん全書"},{"$f":"分類順!B1015","v":"医療の本"},{"$f":"分類順!C1015","v":"Gg：女性の健康"},{"$f":"分類順!D1015","v":"野澤　志朗　編著"},{"$f":"分類順!E1015","v":"法研"},{"$f":"分類順!F1015","v":695},"子宮がん・卵巣がん全書医療の本Gg：女性の健康野澤　志朗　編著法研",1,{"$f":"VLOOKUP(\"*\"&目次加工!$B$2&\"*\",J1016:K1016,2,0)","v":1},{"$error":"#N/A"}]
[null,null,null,{"$f":"分類順!A1016","v":"女性泌尿器科外来へ行こう－尿もれ、性器脱"},{"$f":"分類順!B1016","v":"医療の本"},{"$f":"分類順!C1016","v":"Gg：女性の健康"},{"$f":"分類順!D1016","v":"竹山　政美　他著"},{"$f":"分類順!E1016","v":"法研"},{"$f":"分類順!F1016","v":698},"女性泌尿器科外来へ行こう－尿もれ、性器脱医療の本Gg：女性の健康竹山　政美　他著法研",1,{"$f":"VLOOKUP(\"*\"&目次加工!$B$2&\"*\",J1017:K1017,2,0)","v":1},{"$error":"#N/A"}]
[null,null,null,{"$f":"分類順!A1017","v":"閉経後"},{"$f":"分類順!B1017","v":"医療の本"},{"$f":"分類順!C1017","v":"Gg：女性の健康"},{"$f":"分類順!D1017","v":"宮崎　亮一郎　著"},{"$f":"分類順!E1017","v":"日本医学館"},{"$f":"分類順!F1017","v":699},"閉経後医療の本Gg：女性の健康宮崎　亮一郎　著日本医学館",1,{"$f":"VLOOKUP(\"*\"&目次加工!$B$2&\"*\",J1018:K1018,2,0)","v":1},{"$error":"#N/A"}]
[null,null,null,{"$f":"分類順!A1018","v":"やさしい更年期障害の自己管理"},{"$f":"分類順!B1018","v":"医療の本"},{"$f":"分類順!C1018","v":"Gg：女性の健康"},{"$f":"分類順!D1018","v":"青野　敏博　編"},{"$f":"分類順!E1018","v":"医薬ジャーナル社"},{"$f":"分類順!F1018","v":703},"やさしい更年期障害の自己管理医療の本Gg：女性の健康青野　敏博　編医薬ジャーナル社",1,{"$f":"VLOOKUP(\"*\"&目次加工!$B$2&\"*\",J1019:K1019,2,0)","v":1},{"$error":"#N/A"}]
[null,null,null,{"$f":"分類順!A1019","v":"月経らくらく講座－もっと上手に付き合い，"},{"$f":"分類順!B1019","v":"医療の本"},{"$f":"分類順!C1019","v":"Gg：女性の健康"},{"$f":"分類順!D1019","v":"松本　清一　監修"},{"$f":"分類順!E1019","v":"文光堂"},{"$f":"分類順!F1019","v":704},"月経らくらく講座－もっと上手に付き合い，医療の本Gg：女性の健康松本　清一　監修文光堂",1,{"$f":"VLOOKUP(\"*\"&目次加工!$B$2&\"*\",J1020:K1020,2,0)","v":1},{"$error":"#N/A"}]
[null,null,null,{"$f":"分類順!A1020","v":"月経困難症に悩む女性の支援ガイド"},{"$f":"分類順!B1020","v":"医療の本"},{"$f":"分類順!C1020","v":"Gg：女性の健康"},{"$f":"分類順!D1020","v":"ウイメンズヘルスを研"},{"$f":"分類順!E1020","v":"プリメド社"},{"$f":"分類順!F1020","v":705},"月経困難症に悩む女性の支援ガイド医療の本Gg：女性の健康ウイメンズヘルスを研プリメド社",1,{"$f":"VLOOKUP(\"*\"&目次加工!$B$2&\"*\",J1021:K1021,2,0)","v":1},{"$error":"#N/A"}]
[null,null,null,{"$f":"分類順!A1021","v":"更年期からの輝き　若さの秘訣：ホルモン療"},{"$f":"分類順!B1021","v":"医療の本"},{"$f":"分類順!C1021","v":"Gg：女性の健康"},{"$f":"分類順!D1021","v":"小池　浩司"},{"$f":"分類順!E1021","v":"前田書店"},{"$f":"分類順!F1021","v":706},"更年期からの輝き　若さの秘訣：ホルモン療医療の本Gg：女性の健康小池　浩司前田書店",1,{"$f":"VLOOKUP(\"*\"&目次加工!$B$2&\"*\",J1022:K1022,2,0)","v":1},{"$error":"#N/A"}]
[null,null,null,{"$f":"分類順!A1022","v":"子宮がんと卵巣がん"},{"$f":"分類順!B1022","v":"医療の本"},{"$f":"分類順!C1022","v":"Gg：女性の健康"},{"$f":"分類順!D1022","v":"岡本　愛光　著"},{"$f":"分類順!E1022","v":"主婦の友社"},{"$f":"分類順!F1022","v":709},"子宮がんと卵巣がん医療の本Gg：女性の健康岡本　愛光　著主婦の友社",1,{"$f":"VLOOKUP(\"*\"&目次加工!$B$2&\"*\",J1023:K1023,2,0)","v":1},{"$error":"#N/A"}]
[null,null,null,{"$f":"分類順!A1023","v":"卵巣がん治療ガイドライン　2010年版 (第3版)"},{"$f":"分類順!B1023","v":"医療の本"},{"$f":"分類順!C1023","v":"Gg：女性の健康"},{"$f":"分類順!D1023","v":"日本婦人科腫瘍学会　編集"},{"$f":"分類順!E1023","v":"ワニブックス"},{"$f":"分類順!F1023","v":5340},"卵巣がん治療ガイドライン　2010年版 (第3版)医療の本Gg：女性の健康日本婦人科腫瘍学会　編集ワニブックス",1,{"$f":"VLOOKUP(\"*\"&目次加工!$B$2&\"*\",J1024:K1024,2,0)","v":1},1]
[null,null,null,{"$f":"分類順!A1024","v":"新版 万病を治す冷えとり健康法"},{"$f":"分類順!B1024","v":"医療の本"},{"$f":"分類順!C1024","v":"Gg：女性の健康"},{"$f":"分類順!D1024","v":"進藤 義晴 著"},{"$f":"分類順!E1024","v":"農山漁村文化協会"},{"$f":"分類順!F1024","v":5371},"新版 万病を治す冷えとり健康法医療の本Gg：女性の健康進藤 義晴 著農山漁村文化協会",1,{"$f":"VLOOKUP(\"*\"&目次加工!$B$2&\"*\",J1025:K1025,2,0)","v":1},{"$error":"#N/A"}]
[null,null,null,{"$f":"分類順!A1025","v":"誰にも言えないアソコらへんの話。 肛門科・泌尿器科・婦人科の知りたかった正しい情報教えます。"},{"$f":"分類順!B1025","v":"医療の本"},{"$f":"分類順!C1025","v":"Gg：女性の健康"},{"$f":"分類順!D1025","v":"たかぎりょうこ　著"},{"$f":"分類順!E1025","v":"マガジンハウス"},{"$f":"分類順!F1025","v":5373},"誰にも言えないアソコらへんの話。 肛門科・泌尿器科・婦人科の知りたかった正しい情報教えます。医療の本Gg：女性の健康たかぎりょうこ　著マガジンハウス",1,{"$f":"VLOOKUP(\"*\"&目次加工!$B$2&\"*\",J1026:K1026,2,0)","v":1},{"$error":"#N/A"}]
[null,null,null,{"$f":"分類順!A1026","v":"女性泌尿器科へ行こう!―骨盤臓器脱・尿もれ・間質性膀胱炎の治療と手術を受ける人へ"},{"$f":"分類順!B1026","v":"医療の本"},{"$f":"分類順!C1026","v":"Gg：女性の健康"},{"$f":"分類順!D1026","v":"竹山 政美 著"},{"$f":"分類順!E1026","v":"メディカ出版"},{"$f":"分類順!F1026","v":5374},"女性泌尿器科へ行こう!―骨盤臓器脱・尿もれ・間質性膀胱炎の治療と手術を受ける人へ医療の本Gg：女性の健康竹山 政美 著メディカ出版",1,{"$f":"VLOOKUP(\"*\"&目次加工!$B$2&\"*\",J1027:K1027,2,0)","v":1},{"$error":"#N/A"}]
[null,null,null,{"$f":"分類順!A1027","v":"最新 子宮頸がん予防　ワクチンと検診の正しい受け方"},{"$f":"分類順!B1027","v":"医療の本"},{"$f":"分類順!C1027","v":"Gg：女性の健康"},{"$f":"分類順!D1027","v":"高橋真理子 著"},{"$f":"分類順!E1027","v":"朝日新聞出版"},{"$f":"分類順!F1027","v":5375},"最新 子宮頸がん予防　ワクチンと検診の正しい受け方医療の本Gg：女性の健康高橋真理子 著朝日新聞出版",1,{"$f":"VLOOKUP(\"*\"&目次加工!$B$2&\"*\",J1028:K1028,2,0)","v":1},{"$f":"VLOOKUP(\"*\"&$A$2&\"*\",J1028:K1028,2,0)","v":{"$error":"#N/A"}}]
[null,null,null,{"$f":"分類順!A1028","v":"子宮・卵巣がん手術後の１００日レシピ退院後の食事プラン"},{"$f":"分類順!B1028","v":"医療の本"},{"$f":"分類順!C1028","v":"Gg：女性の健康"},{"$f":"分類順!D1028","v":"岩崎啓子他"},{"$f":"分類順!E1028","v":"女子栄養大学出版部"},{"$f":"分類順!F1028","v":5492},"子宮・卵巣がん手術後の１００日レシピ退院後の食事プラン医療の本Gg：女性の健康岩崎啓子他女子栄養大学出版部",1,{"$f":"VLOOKUP(\"*\"&目次加工!$B$2&\"*\",J1029:K1029,2,0)","v":1},{"$error":"#N/A"}]
[null,null,null,{"$f":"分類順!A1029","v":"病気がみえる　⑨：婦人科・乳腺外科　第2版"},{"$f":"分類順!B1029","v":"医療の本"},{"$f":"分類順!C1029","v":"Gg：女性の健康"},{"$f":"分類順!D1029","v":0},{"$f":"分類順!E1029","v":"メディックメディア"},{"$f":"分類順!F1029","v":8006},"病気がみえる　⑨：婦人科・乳腺外科　第2版医療の本Gg：女性の健康0メディックメディア",1,{"$f":"VLOOKUP(\"*\"&目次加工!$B$2&\"*\",J1030:K1030,2,0)","v":1},1]
[null,null,null,{"$f":"分類順!A1030","v":"乳がん・子宮がん・卵巣がん術後のリンパ浮腫を自分でケアする"},{"$f":"分類順!B1030","v":"医療の本"},{"$f":"分類順!C1030","v":"Gg：女性の健康"},{"$f":"分類順!D1030","v":"監修：廣田彰男"},{"$f":"分類順!E1030","v":"主婦の友社"},{"$f":"分類順!F1030","v":8010},"乳がん・子宮がん・卵巣がん術後のリンパ浮腫を自分でケアする医療の本Gg：女性の健康監修：廣田彰男主婦の友社",1,{"$f":"VLOOKUP(\"*\"&目次加工!$B$2&\"*\",J1031:K1031,2,0)","v":1},{"$error":"#N/A"}]
[null,null,null,{"$f":"分類順!A1031","v":"心配しないでいいですよ　再発・転移　子宮がん"},{"$f":"分類順!B1031","v":"医療の本"},{"$f":"分類順!C1031","v":"Gg：女性の健康"},{"$f":"分類順!D1031","v":"著/瀧澤　憲"},{"$f":"分類順!E1031","v":"真興交易医書出版"},{"$f":"分類順!F1031","v":8073},"心配しないでいいですよ　再発・転移　子宮がん医療の本Gg：女性の健康著/瀧澤　憲真興交易医書出版",1,{"$f":"VLOOKUP(\"*\"&目次加工!$B$2&\"*\",J1032:K1032,2,0)","v":1},{"$error":"#N/A"}]
[null,null,null,{"$f":"分類順!A1032","v":"心配しないでいいですよ　再発・転移　卵巣がん"},{"$f":"分類順!B1032","v":"医療の本"},{"$f":"分類順!C1032","v":"Gg：女性の健康"},{"$f":"分類順!D1032","v":"著/瀧澤　憲"},{"$f":"分類順!E1032","v":"真興交易医書出版"},{"$f":"分類順!F1032","v":8074},"心配しないでいいですよ　再発・転移　卵巣がん医療の本Gg：女性の健康著/瀧澤　憲真興交易医書出版",1,{"$f":"VLOOKUP(\"*\"&目次加工!$B$2&\"*\",J1033:K1033,2,0)","v":1},{"$error":"#N/A"}]
[null,null,null,{"$f":"分類順!A1033","v":"女性の尿トラブル　気になる症状を改善する　（別冊NHKきょうの健康）"},{"$f":"分類順!B1033","v":"医療の本"},{"$f":"分類順!C1033","v":"Gg：女性の健康"},{"$f":"分類順!D1033","v":"加藤久美子"},{"$f":"分類順!E1033","v":"NHK出版"},{"$f":"分類順!F1033","v":8106},"女性の尿トラブル　気になる症状を改善する　（別冊NHKきょうの健康）医療の本Gg：女性の健康加藤久美子NHK出版",1,{"$f":"VLOOKUP(\"*\"&目次加工!$B$2&\"*\",J1034:K1034,2,0)","v":1},{"$error":"#N/A"}]
[null,null,null,{"$f":"分類順!A1034","v":"生理(月経)のトラブルがつらいときの本 (みんなの女性外来)"},{"$f":"分類順!B1034","v":"医療の本"},{"$f":"分類順!C1034","v":"Gg：女性の健康"},{"$f":"分類順!D1034","v":"対馬ルリ子"},{"$f":"分類順!E1034","v":"小学館"},{"$f":"分類順!F1034","v":8124},"生理(月経)のトラブルがつらいときの本 (みんなの女性外来)医療の本Gg：女性の健康対馬ルリ子小学館",1,{"$f":"VLOOKUP(\"*\"&目次加工!$B$2&\"*\",J1035:K1035,2,0)","v":1},{"$error":"#N/A"}]
[null,null,null,{"$f":"分類順!A1035","v":"イライラ・落ち込みが激しいときの本 (みんなの女性外来)"},{"$f":"分類順!B1035","v":"医療の本"},{"$f":"分類順!C1035","v":"Gg：女性の健康"},{"$f":"分類順!D1035","v":"対馬ルリ子"},{"$f":"分類順!E1035","v":"小学館"},{"$f":"分類順!F1035","v":8125},"イライラ・落ち込みが激しいときの本 (みんなの女性外来)医療の本Gg：女性の健康対馬ルリ子小学館",1,{"$f":"VLOOKUP(\"*\"&目次加工!$B$2&\"*\",J1036:K1036,2,0)","v":1},{"$error":"#N/A"}]
[null,null,null,{"$f":"分類順!A1036","v":"女性のがん　心のケア　（改訂版）"},{"$f":"分類順!B1036","v":"医療の本"},{"$f":"分類順!C1036","v":"Gg：女性の健康"},{"$f":"分類順!D1036","v":"大西　秀樹"},{"$f":"分類順!E1036","v":"土屋書店"},{"$f":"分類順!F1036","v":8127},"女性のがん　心のケア　（改訂版）医療の本Gg：女性の健康大西　秀樹土屋書店",1,{"$f":"VLOOKUP(\"*\"&目次加工!$B$2&\"*\",J1037:K1037,2,0)","v":1},{"$error":"#N/A"}]
[null,null,null,{"$f":"分類順!A1037","v":"子宮頸がん・子宮体がん・卵巣がん　治療ガイドラインの解説"},{"$f":"分類順!B1037","v":"医療の本"},{"$f":"分類順!C1037","v":"Gg：女性の健康"},{"$f":"分類順!D1037","v":"日本婦人科腫瘍学会"},{"$f":"分類順!E1037","v":"金原出版"},{"$f":"分類順!F1037","v":8129},"子宮頸がん・子宮体がん・卵巣がん　治療ガイドラインの解説医療の本Gg：女性の健康日本婦人科腫瘍学会金原出版",1,{"$f":"VLOOKUP(\"*\"&目次加工!$B$2&\"*\",J1038:K1038,2,0)","v":1},{"$error":"#N/A"}]
[null,null,null,{"$f":"分類順!A1038","v":"臨床婦人科産科"},{"$f":"分類順!B1038","v":"医療の本"},{"$f":"分類順!C1038","v":"Gg：女性の健康"},{"$f":"分類順!D1038","v":"医学書院"},{"$f":"分類順!E1038","v":"医学書院"},{"$f":"分類順!F1038","v":10079},"臨床婦人科産科医療の本Gg：女性の健康医学書院医学書院",1,{"$f":"VLOOKUP(\"*\"&目次加工!$B$2&\"*\",J1039:K1039,2,0)","v":1},{"$error":"#N/A"}]
[null,null,null,{"$f":"分類順!A1039","v":"子宮体がん治療ガイドライン 2013年版"},{"$f":"分類順!B1039","v":"医療の本"},{"$f":"分類順!C1039","v":"Gg：女性の健康"},{"$f":"分類順!D1039","v":"日本婦人科腫瘍学会"},{"$f":"分類順!E1039","v":"金原出版"},{"$f":"分類順!F1039","v":10172},"子宮体がん治療ガイドライン 2013年版医療の本Gg：女性の健康日本婦人科腫瘍学会金原出版",1,{"$f":"VLOOKUP(\"*\"&目次加工!$B$2&\"*\",J1040:K1040,2,0)","v":1},1]
[null,null,null,{"$f":"分類順!A1040","v":"子宮内膜症（よくわかる最新医学シリーズ）"},{"$f":"分類順!B1040","v":"医療の本"},{"$f":"分類順!C1040","v":"Gg：女性の健康"},{"$f":"分類順!D1040","v":"百枝 幹雄"},{"$f":"分類順!E1040","v":"主婦の友社"},{"$f":"分類順!F1040","v":10173},"子宮内膜症（よくわかる最新医学シリーズ）医療の本Gg：女性の健康百枝 幹雄主婦の友社",1,{"$f":"VLOOKUP(\"*\"&目次加工!$B$2&\"*\",J1041:K1041,2,0)","v":1},{"$error":"#N/A"}]
[null,null,null,{"$f":"分類順!A1041","v":"病気がみえる vol.9: 婦人科・乳腺外科第3版"},{"$f":"分類順!B1041","v":"医療の本"},{"$f":"分類順!C1041","v":"Gg：女性の健康"},{"$f":"分類順!D1041","v":"医療情報科学研究所"},{"$f":"分類順!E1041","v":"メディックメディア"},{"$f":"分類順!F1041","v":10177},"病気がみえる vol.9: 婦人科・乳腺外科第3版医療の本Gg：女性の健康医療情報科学研究所メディックメディア",1,{"$f":"VLOOKUP(\"*\"&目次加工!$B$2&\"*\",J1042:K1042,2,0)","v":1},{"$error":"#N/A"}]
[null,null,null,{"$f":"分類順!A1042","v":"こちら「がん研有明相談室」子宮頸がん・子宮体がん・卵巣がん患者さんへのドクターズアドバイス"},{"$f":"分類順!B1042","v":"医療の本"},{"$f":"分類順!C1042","v":"Gg：女性の健康"},{"$f":"分類順!D1042","v":"馬屋原健司"},{"$f":"分類順!E1042","v":"新興医学出版社"},{"$f":"分類順!F1042","v":10178},{"$f":"D1043&E1043&F1043&G1043&H1043","v":"こちら「がん研有明相談室」子宮頸がん・子宮体がん・卵巣がん患者さんへのドクターズアドバイス医療の本Gg：女性の健康馬屋原健司新興医学出版社"},1,{"$f":"VLOOKUP(\"*\"&目次加工!$B$2&\"*\",J1043:K1043,2,0)","v":1},{"$error":"#N/A"}]
[null,null,null,{"$f":"分類順!A1043","v":"患者さんとご家族のための子宮頸がん・子宮体がん・卵巣がん　第2版"},{"$f":"分類順!B1043","v":"医療の本"},{"$f":"分類順!C1043","v":"Gg：女性の健康"},{"$f":"分類順!D1043","v":"日本婦人科腫瘍学会"},{"$f":"分類順!E1043","v":"金原出版"},{"$f":"分類順!F1043","v":10364},"患者さんとご家族のための子宮頸がん・子宮体がん・卵巣がん　第2版医療の本Gg：女性の健康日本婦人科腫瘍学会金原出版",1,{"$f":"VLOOKUP(\"*\"&目次加工!$B$2&\"*\",J1044:K1044,2,0)","v":1},{"$error":"#N/A"}]
[null,null,null,{"$f":"分類順!A1044","v":"卵巣がん治療ガイドライン　2015年版"},{"$f":"分類順!B1044","v":"医療の本"},{"$f":"分類順!C1044","v":"Gg：女性の健康"},{"$f":"分類順!D1044","v":"日本婦人科腫瘍学会"},{"$f":"分類順!E1044","v":"金原出版"},{"$f":"分類順!F1044","v":10368},"卵巣がん治療ガイドライン　2015年版医療の本Gg：女性の健康日本婦人科腫瘍学会金原出版",1,{"$f":"VLOOKUP(\"*\"&目次加工!$B$2&\"*\",J1045:K1045,2,0)","v":1},1]
[null,null,null,{"$f":"分類順!A1045","v":"子宮内膜症"},{"$f":"分類順!B1045","v":"医療の本"},{"$f":"分類順!C1045","v":"Gg：女性の健康"},{"$f":"分類順!D1045","v":"百枝幹雄"},{"$f":"分類順!E1045","v":"主婦の友社"},{"$f":"分類順!F1045","v":10490},"子宮内膜症医療の本Gg：女性の健康百枝幹雄主婦の友社",1,{"$f":"VLOOKUP(\"*\"&目次加工!$B$2&\"*\",J1046:K1046,2,0)","v":1},{"$error":"#N/A"}]
[null,null,null,{"$f":"分類順!A1046","v":"働く女性のためのがん入院・治療生活便利帳"},{"$f":"分類順!B1046","v":"医療の本"},{"$f":"分類順!C1046","v":"Gg：女性の健康"},{"$f":"分類順!D1046","v":"岩井ますみ"},{"$f":"分類順!E1046","v":"講談社"},{"$f":"分類順!F1046","v":10495},"働く女性のためのがん入院・治療生活便利帳医療の本Gg：女性の健康岩井ますみ講談社",1,{"$f":"VLOOKUP(\"*\"&目次加工!$B$2&\"*\",J1047:K1047,2,0)","v":1},{"$error":"#N/A"}]
[null,null,null,{"$f":"分類順!A1047","v":"がん治療中の女性のためのLIFE&Beauty"},{"$f":"分類順!B1047","v":"医療の本"},{"$f":"分類順!C1047","v":"Gg：女性の健康"},{"$f":"分類順!D1047","v":"さとう桜子"},{"$f":"分類順!E1047","v":"主婦の友社"},{"$f":"分類順!F1047","v":10496},"がん治療中の女性のためのLIFE&Beauty医療の本Gg：女性の健康さとう桜子主婦の友社",1,{"$f":"VLOOKUP(\"*\"&目次加工!$B$2&\"*\",J1048:K1048,2,0)","v":1},{"$error":"#N/A"}]
[null,null,null,{"$f":"分類順!A1048","v":"病気がみえるvol.9　婦人科・乳腺外科　第4版"},{"$f":"分類順!B1048","v":"医療の本"},{"$f":"分類順!C1048","v":"Gg：女性の健康"},{"$f":"分類順!D1048","v":"医療情報科学研究所"},{"$f":"分類順!E1048","v":"メディックメディア"},{"$f":"分類順!F1048","v":10540},"病気がみえるvol.9　婦人科・乳腺外科　第4版医療の本Gg：女性の健康医療情報科学研究所メディックメディア",1,{"$f":"VLOOKUP(\"*\"&目次加工!$B$2&\"*\",J1049:K1049,2,0)","v":1},{"$error":"#N/A"}]
[null,null,null,{"$f":"分類順!A1049","v":"女性のうつ病　（よくわかる最新医学シリーズ）"},{"$f":"分類順!B1049","v":"医療の本"},{"$f":"分類順!C1049","v":"Gg：女性の健康"},{"$f":"分類順!D1049","v":"野田順子　著"},{"$f":"分類順!E1049","v":"主婦の友社"},{"$f":"分類順!F1049","v":10565},"女性のうつ病　（よくわかる最新医学シリーズ）医療の本Gg：女性の健康野田順子　著主婦の友社",1,{"$f":"VLOOKUP(\"*\"&目次加工!$B$2&\"*\",J1050:K1050,2,0)","v":1},{"$error":"#N/A"}]
[null,null,null,{"$f":"分類順!A1050","v":"子宮内膜症　（よくわかる最新医学シリーズ）"},{"$f":"分類順!B1050","v":"医療の本"},{"$f":"分類順!C1050","v":"Gg：女性の健康"},{"$f":"分類順!D1050","v":"百枝幹雄 著"},{"$f":"分類順!E1050","v":"主婦の友社"},{"$f":"分類順!F1050","v":10569},"子宮内膜症　（よくわかる最新医学シリーズ）医療の本Gg：女性の健康百枝幹雄 著主婦の友社",1,{"$f":"VLOOKUP(\"*\"&目次加工!$B$2&\"*\",J1051:K1051,2,0)","v":1},{"$error":"#N/A"}]
[null,null,null,{"$f":"分類順!A1051","v":"女性のADHD"},{"$f":"分類順!B1051","v":"医療の本"},{"$f":"分類順!C1051","v":"Gg：女性の健康"},{"$f":"分類順!D1051","v":"宮尾益知　監修"},{"$f":"分類順!E1051","v":"講談社"},{"$f":"分類順!F1051","v":10582},"女性のADHD医療の本Gg：女性の健康宮尾益知　監修講談社",1,{"$f":"VLOOKUP(\"*\"&目次加工!$B$2&\"*\",J1052:K1052,2,0)","v":1},{"$error":"#N/A"}]
[null,null,null,{"$f":"分類順!A1052","v":"女性のアスペルガー症候群"},{"$f":"分類順!B1052","v":"医療の本"},{"$f":"分類順!C1052","v":"Gg：女性の健康"},{"$f":"分類順!D1052","v":"宮尾益知　監修"},{"$f":"分類順!E1052","v":"講談社"},{"$f":"分類順!F1052","v":10583},"女性のアスペルガー症候群医療の本Gg：女性の健康宮尾益知　監修講談社",1,{"$f":"VLOOKUP(\"*\"&目次加工!$B$2&\"*\",J1053:K1053,2,0)","v":1},{"$error":"#N/A"}]
[null,null,null,{"$f":"分類順!A1053","v":"元気になるシカ！"},{"$f":"分類順!B1053","v":"一般図書"},{"$f":"分類順!C1053","v":"Gg：女性の健康"},{"$f":"分類順!D1053","v":"藤河るり　著"},{"$f":"分類順!E1053","v":"メディアファクトリー"},{"$f":"分類順!F1053","v":10604},"元気になるシカ！一般図書Gg：女性の健康藤河るり　著メディアファクトリー",1,{"$f":"VLOOKUP(\"*\"&目次加工!$B$2&\"*\",J1054:K1054,2,0)","v":1},{"$error":"#N/A"}]
[null,null,null,{"$f":"分類順!A1054","v":"元気になるシカ！２"},{"$f":"分類順!B1054","v":"一般図書"},{"$f":"分類順!C1054","v":"Gg：女性の健康"},{"$f":"分類順!D1054","v":"藤河るり　著"},{"$f":"分類順!E1054","v":"メディアファクトリー"},{"$f":"分類順!F1054","v":10605},"元気になるシカ！２一般図書Gg：女性の健康藤河るり　著メディアファクトリー",1,{"$f":"VLOOKUP(\"*\"&目次加工!$B$2&\"*\",J1055:K1055,2,0)","v":1},{"$error":"#N/A"}]
[null,null,null,{"$f":"分類順!A1055","v":"子宮筋腫"},{"$f":"分類順!B1055","v":"目次へ"},{"$f":"分類順!C1055","v":"※PDF版ではリンクしておりません。"},{"$f":"分類順!D1055","v":0},{"$f":"分類順!E1055","v":0},{"$f":"分類順!F1055","v":0},"子宮筋腫目次へ※PDF版ではリンクしておりません。00",1,{"$f":"VLOOKUP(\"*\"&目次加工!$B$2&\"*\",J1056:K1056,2,0)","v":1},1]
[null,null,null,{"$f":"分類順!A1056","v":"子宮筋腫　改訂新版"},{"$f":"分類順!B1056","v":"医療の本"},{"$f":"分類順!C1056","v":"Gg5：子宮筋腫"},{"$f":"分類順!D1056","v":"藤井　信吾　著"},{"$f":"分類順!E1056","v":"保健同人社"},{"$f":"分類順!F1056","v":696},"子宮筋腫　改訂新版医療の本Gg5：子宮筋腫藤井　信吾　著保健同人社",1,{"$f":"VLOOKUP(\"*\"&目次加工!$B$2&\"*\",J1057:K1057,2,0)","v":1},{"$error":"#N/A"}]
[null,null,null,{"$f":"分類順!A1057","v":"子宮筋腫はこわくない"},{"$f":"分類順!B1057","v":"医療の本"},{"$f":"分類順!C1057","v":"Gg5：子宮筋腫"},{"$f":"分類順!D1057","v":"中村　幸雄　著"},{"$f":"分類順!E1057","v":"悠飛社"},{"$f":"分類順!F1057","v":729},"子宮筋腫はこわくない医療の本Gg5：子宮筋腫中村　幸雄　著悠飛社",1,{"$f":"VLOOKUP(\"*\"&目次加工!$B$2&\"*\",J1058:K1058,2,0)","v":1},{"$error":"#N/A"}]
[null,null,null,{"$f":"分類順!A1058","v":"よくわかる最新医学　子宮筋腫"},{"$f":"分類順!B1058","v":"医療の本"},{"$f":"分類順!C1058","v":"Gg5：子宮筋腫"},{"$f":"分類順!D1058","v":"佐藤孝道・石田友彦"},{"$f":"分類順!E1058","v":"主婦の友社"},{"$f":"分類順!F1058","v":10358},"よくわかる最新医学　子宮筋腫医療の本Gg5：子宮筋腫佐藤孝道・石田友彦主婦の友社",1,{"$f":"VLOOKUP(\"*\"&目次加工!$B$2&\"*\",J1059:K1059,2,0)","v":1},{"$error":"#N/A"}]
[null,null,null,{"$f":"分類順!A1059","v":"子宮筋腫　（よくわかる最新医学シリーズ）"},{"$f":"分類順!B1059","v":"医療の本"},{"$f":"分類順!C1059","v":"Gg5：子宮筋腫"},{"$f":"分類順!D1059","v":"佐藤孝道 著"},{"$f":"分類順!E1059","v":"主婦の友社"},{"$f":"分類順!F1059","v":10578},"子宮筋腫　（よくわかる最新医学シリーズ）医療の本Gg5：子宮筋腫佐藤孝道 著主婦の友社",1,{"$f":"VLOOKUP(\"*\"&目次加工!$B$2&\"*\",J1060:K1060,2,0)","v":1},{"$error":"#N/A"}]
[null,null,null,{"$f":"分類順!A1060","v":"乳がん"},{"$f":"分類順!B1060","v":"目次へ"},{"$f":"分類順!C1060","v":"※PDF版ではリンクしておりません。"},{"$f":"分類順!D1060","v":0},{"$f":"分類順!E1060","v":0},{"$f":"分類順!F1060","v":0},"乳がん目次へ※PDF版ではリンクしておりません。00",1,{"$f":"VLOOKUP(\"*\"&目次加工!$B$2&\"*\",J1061:K1061,2,0)","v":1},1]
[null,null,null,{"$f":"分類順!A1061","v":"乳がん全書"},{"$f":"分類順!B1061","v":"医療の本"},{"$f":"分類順!C1061","v":"Gg6：乳がん"},{"$f":"分類順!D1061","v":"福田　護　編著"},{"$f":"分類順!E1061","v":"法研"},{"$f":"分類順!F1061","v":717},"乳がん全書医療の本Gg6：乳がん福田　護　編著法研",1,{"$f":"VLOOKUP(\"*\"&目次加工!$B$2&\"*\",J1062:K1062,2,0)","v":1},{"$error":"#N/A"}]
[null,null,null,{"$f":"分類順!A1062","v":"マンモグラフィガイドライン　第２版増補版"},{"$f":"分類順!B1062","v":"医療の本"},{"$f":"分類順!C1062","v":"Gg6：乳がん"},{"$f":"分類順!D1062","v":"日本医学放射線学会"},{"$f":"分類順!E1062","v":"医学書院"},{"$f":"分類順!F1062","v":723},"マンモグラフィガイドライン　第２版増補版医療の本Gg6：乳がん日本医学放射線学会医学書院",1,{"$f":"VLOOKUP(\"*\"&目次加工!$B$2&\"*\",J1063:K1063,2,0)","v":1},{"$error":"#N/A"}]
[null,null,null,{"$f":"分類順!A1063","v":"患者さんのための乳房温存療法ガイドライン"},{"$f":"分類順!B1063","v":"医療の本"},{"$f":"分類順!C1063","v":"Gg6：乳がん"},{"$f":"分類順!D1063","v":"厚生労働科学研究費補"},{"$f":"分類順!E1063","v":"金原出版"},{"$f":"分類順!F1063","v":727},"患者さんのための乳房温存療法ガイドライン医療の本Gg6：乳がん厚生労働科学研究費補金原出版",1,{"$f":"VLOOKUP(\"*\"&目次加工!$B$2&\"*\",J1064:K1064,2,0)","v":1},{"$error":"#N/A"}]
[null,null,null,{"$f":"分類順!A1064","v":"胸のしこりが気になる人が読む本　改訂版"},{"$f":"分類順!B1064","v":"医療の本"},{"$f":"分類順!C1064","v":"Gg6：乳がん"},{"$f":"分類順!D1064","v":"日馬　幹弘　著"},{"$f":"分類順!E1064","v":"扶桑社"},{"$f":"分類順!F1064","v":728},"胸のしこりが気になる人が読む本　改訂版医療の本Gg6：乳がん日馬　幹弘　著扶桑社",1,{"$f":"VLOOKUP(\"*\"&目次加工!$B$2&\"*\",J1065:K1065,2,0)","v":1},{"$error":"#N/A"}]
[null,null,null,{"$f":"分類順!A1065","v":"乳がん　あなたにとって一番の治療を"},{"$f":"分類順!B1065","v":"医療の本"},{"$f":"分類順!C1065","v":"Gg6：乳がん"},{"$f":"分類順!D1065","v":"中村　清吾　監修"},{"$f":"分類順!E1065","v":"双葉社"},{"$f":"分類順!F1065","v":730},"乳がん　あなたにとって一番の治療を医療の本Gg6：乳がん中村　清吾　監修双葉社",1,{"$f":"VLOOKUP(\"*\"&目次加工!$B$2&\"*\",J1066:K1066,2,0)","v":1},{"$error":"#N/A"}]
[null,null,null,{"$f":"分類順!A1066","v":"乳がん　からだとこころを守る"},{"$f":"分類順!B1066","v":"医療の本"},{"$f":"分類順!C1066","v":"Gg6：乳がん"},{"$f":"分類順!D1066","v":"岩田　広治　総監修"},{"$f":"分類順!E1066","v":"日本放送出版協会"},{"$f":"分類順!F1066","v":731},"乳がん　からだとこころを守る医療の本Gg6：乳がん岩田　広治　総監修日本放送出版協会",1,{"$f":"VLOOKUP(\"*\"&目次加工!$B$2&\"*\",J1067:K1067,2,0)","v":1},{"$error":"#N/A"}]
[null,null,null,{"$f":"分類順!A1067","v":"乳がん　私らしく生きる"},{"$f":"分類順!B1067","v":"医療の本"},{"$f":"分類順!C1067","v":"Gg6：乳がん"},{"$f":"分類順!D1067","v":0},{"$f":"分類順!E1067","v":"ライフサイエンス出版"},{"$f":"分類順!F1067","v":732},"乳がん　私らしく生きる医療の本Gg6：乳がん0ライフサイエンス出版",1,{"$f":"VLOOKUP(\"*\"&目次加工!$B$2&\"*\",J1068:K1068,2,0)","v":1},1]
[null,null,null,{"$f":"分類順!A1068","v":"乳腺画像診断法－Ｘ線・超音波と病理－"},{"$f":"分類順!B1068","v":"医療の本"},{"$f":"分類順!C1068","v":"Gg6：乳がん"},{"$f":"分類順!D1068","v":"松江　寛人　編著"},{"$f":"分類順!E1068","v":"金原出版"},{"$f":"分類順!F1068","v":735},"乳腺画像診断法－Ｘ線・超音波と病理－医療の本Gg6：乳がん松江　寛人　編著金原出版",1,{"$f":"VLOOKUP(\"*\"&目次加工!$B$2&\"*\",J1069:K1069,2,0)","v":1},{"$error":"#N/A"}]
[null,null,null,{"$f":"分類順!A1069","v":"乳房温存療法ガイドライン 医療者向け"},{"$f":"分類順!B1069","v":"医療の本"},{"$f":"分類順!C1069","v":"Gg6：乳がん"},{"$f":"分類順!D1069","v":0},{"$f":"分類順!E1069","v":"金原出版"},{"$f":"分類順!F1069","v":736},"乳房温存療法ガイドライン 医療者向け医療の本Gg6：乳がん0金原出版",1,{"$f":"VLOOKUP(\"*\"&目次加工!$B$2&\"*\",J1070:K1070,2,0)","v":1},1]
[null,null,null,{"$f":"分類順!A1070","v":"マンモグラフィ診断の進め方とポイン　第３版"},{"$f":"分類順!B1070","v":"医療の本"},{"$f":"分類順!C1070","v":"Gg6：乳がん"},{"$f":"分類順!D1070","v":"東野　英利子　他著"},{"$f":"分類順!E1070","v":"金原出版"},{"$f":"分類順!F1070","v":1018},"マンモグラフィ診断の進め方とポイン　第３版医療の本Gg6：乳がん東野　英利子　他著金原出版",1,{"$f":"VLOOKUP(\"*\"&目次加工!$B$2&\"*\",J1071:K1071,2,0)","v":1},{"$error":"#N/A"}]
[null,null,null,{"$f":"分類順!A1071","v":"乳がんテキスト　正しい知識と理解のために"},{"$f":"分類順!B1071","v":"医療の本"},{"$f":"分類順!C1071","v":"Gg6：乳がん"},{"$f":"分類順!D1071","v":"野口昌邦"},{"$f":"分類順!E1071","v":"南江堂"},{"$f":"分類順!F1071","v":5493},"乳がんテキスト　正しい知識と理解のために医療の本Gg6：乳がん野口昌邦南江堂",1,{"$f":"VLOOKUP(\"*\"&目次加工!$B$2&\"*\",J1072:K1072,2,0)","v":1},{"$error":"#N/A"}]
[null,null,null,{"$f":"分類順!A1072","v":"乳がん看護 サポートブック"},{"$f":"分類順!B1072","v":"医療の本"},{"$f":"分類順!C1072","v":"Gg6：乳がん"},{"$f":"分類順!D1072","v":"阿部恭子編"},{"$f":"分類順!E1072","v":"メディカ出版"},{"$f":"分類順!F1072","v":5494},"乳がん看護 サポートブック医療の本Gg6：乳がん阿部恭子編メディカ出版",1,{"$f":"VLOOKUP(\"*\"&目次加工!$B$2&\"*\",J1073:K1073,2,0)","v":1},{"$error":"#N/A"}]
[null,null,null,{"$f":"分類順!A1073","v":"乳がん（最新医学がとことんわかる）"},{"$f":"分類順!B1073","v":"医療の本"},{"$f":"分類順!C1073","v":"Gg6：乳がん"},{"$f":"分類順!D1073","v":"川端英孝"},{"$f":"分類順!E1073","v":"PHP研究所"},{"$f":"分類順!F1073","v":5531},"乳がん（最新医学がとことんわかる）医療の本Gg6：乳がん川端英孝PHP研究所",1,{"$f":"VLOOKUP(\"*\"&目次加工!$B$2&\"*\",J1074:K1074,2,0)","v":1},{"$error":"#N/A"}]
[null,null,null,{"$f":"分類順!A1074","v":"毎日ムック　乳がんから身を守る本　告知から手術、心のケアまで"},{"$f":"分類順!B1074","v":"医療の本"},{"$f":"分類順!C1074","v":"Gg6：乳がん"},{"$f":"分類順!D1074","v":0},{"$f":"分類順!E1074","v":"毎日新聞社"},{"$f":"分類順!F1074","v":5532},"毎日ムック　乳がんから身を守る本　告知から手術、心のケアまで医療の本Gg6：乳がん0毎日新聞社",1,{"$f":"VLOOKUP(\"*\"&目次加工!$B$2&\"*\",J1075:K1075,2,0)","v":1},1]
[null,null,null,{"$f":"分類順!A1075","v":"心配しないでいいですよ　再発・転移　乳がん　改訂第2版"},{"$f":"分類順!B1075","v":"医療の本"},{"$f":"分類順!C1075","v":"Gg6：乳がん"},{"$f":"分類順!D1075","v":"編集/畠　清彦、著/伊藤良則"},{"$f":"分類順!E1075","v":"真興交易医書出版"},{"$f":"分類順!F1075","v":8072},"心配しないでいいですよ　再発・転移　乳がん　改訂第2版医療の本Gg6：乳がん編集/畠　清彦、著/伊藤良則真興交易医書出版",1,{"$f":"VLOOKUP(\"*\"&目次加工!$B$2&\"*\",J1076:K1076,2,0)","v":1},{"$error":"#N/A"}]
[null,null,null,{"$f":"分類順!A1076","v":"乳がんかもといわれたら　乳がんの最適治療2011～2012"},{"$f":"分類順!B1076","v":"医療の本"},{"$f":"分類順!C1076","v":"Gg6：乳がん"},{"$f":"分類順!D1076","v":"日経ヘルス・プルミェ編集部"},{"$f":"分類順!E1076","v":"日経BP社"},{"$f":"分類順!F1076","v":8128},"乳がんかもといわれたら　乳がんの最適治療2011～2012医療の本Gg6：乳がん日経ヘルス・プルミェ編集部日経BP社",1,{"$f":"VLOOKUP(\"*\"&目次加工!$B$2&\"*\",J1077:K1077,2,0)","v":1},1]
[null,null,null,{"$f":"分類順!A1077","v":"乳がん診療ガイドライン　①治療編　２０１１年版"},{"$f":"分類順!B1077","v":"医療の本"},{"$f":"分類順!C1077","v":"Gg6：乳がん"},{"$f":"分類順!D1077","v":"日本乳癌学会"},{"$f":"分類順!E1077","v":"金原出版"},{"$f":"分類順!F1077","v":10017},"乳がん診療ガイドライン　①治療編　２０１１年版医療の本Gg6：乳がん日本乳癌学会金原出版",1,{"$f":"VLOOKUP(\"*\"&目次加工!$B$2&\"*\",J1078:K1078,2,0)","v":1},{"$error":"#N/A"}]
[null,null,null,{"$f":"分類順!A1078","v":"乳がん診療ガイドライン　②疫学・診断編　２０１１年版"},{"$f":"分類順!B1078","v":"医療の本"},{"$f":"分類順!C1078","v":"Gg6：乳がん"},{"$f":"分類順!D1078","v":"日本乳癌学会"},{"$f":"分類順!E1078","v":"金原出版"},{"$f":"分類順!F1078","v":10018},"乳がん診療ガイドライン　②疫学・診断編　２０１１年版医療の本Gg6：乳がん日本乳癌学会金原出版",1,{"$f":"VLOOKUP(\"*\"&目次加工!$B$2&\"*\",J1079:K1079,2,0)","v":1},{"$error":"#N/A"}]
[null,null,null,{"$f":"分類順!A1079","v":"患者さんのための乳がん診療ガイドライン　２０１２年版"},{"$f":"分類順!B1079","v":"医療の本"},{"$f":"分類順!C1079","v":"Gg6：乳がん"},{"$f":"分類順!D1079","v":"日本乳癌学会"},{"$f":"分類順!E1079","v":"金原出版"},{"$f":"分類順!F1079","v":10019},"患者さんのための乳がん診療ガイドライン　２０１２年版医療の本Gg6：乳がん日本乳癌学会金原出版",1,{"$f":"VLOOKUP(\"*\"&目次加工!$B$2&\"*\",J1080:K1080,2,0)","v":1},{"$error":"#N/A"}]
[null,null,null,{"$f":"分類順!A1080","v":"たとへば君"},{"$f":"分類順!B1080","v":"一般図書"},{"$f":"分類順!C1080","v":"Gg6：乳がん"},{"$f":"分類順!D1080","v":"河野裕子・永田和宏"},{"$f":"分類順!E1080","v":"文藝春秋"},{"$f":"分類順!F1080","v":10127},"たとへば君一般図書Gg6：乳がん河野裕子・永田和宏文藝春秋",1,{"$f":"VLOOKUP(\"*\"&目次加工!$B$2&\"*\",J1081:K1081,2,0)","v":1},{"$error":"#N/A"}]
[null,null,null,{"$f":"分類順!A1081","v":"明日への伝言"},{"$f":"分類順!B1081","v":"一般図書"},{"$f":"分類順!C1081","v":"Gg6：乳がん"},{"$f":"分類順!D1081","v":"大山和栄"},{"$f":"分類順!E1081","v":"秋田書店"},{"$f":"分類順!F1081","v":10133},"明日への伝言一般図書Gg6：乳がん大山和栄秋田書店",1,{"$f":"VLOOKUP(\"*\"&目次加工!$B$2&\"*\",J1082:K1082,2,0)","v":1},{"$error":"#N/A"}]
[null,null,null,{"$f":"分類順!A1082","v":"科学的根拠に基づく乳癌診療ガイドライン 1治療編 2013年版"},{"$f":"分類順!B1082","v":"医療の本"},{"$f":"分類順!C1082","v":"Gg6：乳がん"},{"$f":"分類順!D1082","v":"日本乳癌学会"},{"$f":"分類順!E1082","v":"金原出版"},{"$f":"分類順!F1082","v":10174},"科学的根拠に基づく乳癌診療ガイドライン 1治療編 2013年版医療の本Gg6：乳がん日本乳癌学会金原出版",1,{"$f":"VLOOKUP(\"*\"&目次加工!$B$2&\"*\",J1083:K1083,2,0)","v":1},1]
[null,null,null,{"$f":"分類順!A1083","v":"科学的根拠に基づく乳癌診療ガイドライン 2疫学・診断編 2013年版"},{"$f":"分類順!B1083","v":"医療の本"},{"$f":"分類順!C1083","v":"Gg6：乳がん"},{"$f":"分類順!D1083","v":"日本乳癌学会"},{"$f":"分類順!E1083","v":"金原出版"},{"$f":"分類順!F1083","v":10175},"科学的根拠に基づく乳癌診療ガイドライン 2疫学・診断編 2013年版医療の本Gg6：乳がん日本乳癌学会金原出版",1,{"$f":"VLOOKUP(\"*\"&目次加工!$B$2&\"*\",J1084:K1084,2,0)","v":1},1]
[null,null,null,{"$f":"分類順!A1084","v":"乳がん（よくわかる最新医学シリーズ）"},{"$f":"分類順!B1084","v":"医療の本"},{"$f":"分類順!C1084","v":"Gg6：乳がん"},{"$f":"分類順!D1084","v":"山内 英子"},{"$f":"分類順!E1084","v":"主婦の友社"},{"$f":"分類順!F1084","v":10176},"乳がん（よくわかる最新医学シリーズ）医療の本Gg6：乳がん山内 英子主婦の友社",1,{"$f":"VLOOKUP(\"*\"&目次加工!$B$2&\"*\",J1085:K1085,2,0)","v":1},{"$error":"#N/A"}]
[null,null,null,{"$f":"分類順!A1085","v":"科学的根拠に基づく　乳癌診療ガイドライン①治療編2015年版"},{"$f":"分類順!B1085","v":"医療の本"},{"$f":"分類順!C1085","v":"Gg6：乳がん"},{"$f":"分類順!D1085","v":"日本乳癌学会"},{"$f":"分類順!E1085","v":"金原出版"},{"$f":"分類順!F1085","v":10365},"科学的根拠に基づく　乳癌診療ガイドライン①治療編2015年版医療の本Gg6：乳がん日本乳癌学会金原出版",1,{"$f":"VLOOKUP(\"*\"&目次加工!$B$2&\"*\",J1086:K1086,2,0)","v":1},1]
[null,null,null,{"$f":"分類順!A1086","v":"患者さんのための乳がん診療ガイドライン　2016年版"},{"$f":"分類順!B1086","v":"医療の本"},{"$f":"分類順!C1086","v":"Gg6：乳がん"},{"$f":"分類順!D1086","v":"日本乳癌学会"},{"$f":"分類順!E1086","v":"金原出版"},{"$f":"分類順!F1086","v":10366},"患者さんのための乳がん診療ガイドライン　2016年版医療の本Gg6：乳がん日本乳癌学会金原出版",1,{"$f":"VLOOKUP(\"*\"&目次加工!$B$2&\"*\",J1087:K1087,2,0)","v":1},1]
[null,null,null,{"$f":"分類順!A1087","v":"科学的根拠に基づく乳癌診療ガイドライン②免疫・診断編　2015年版"},{"$f":"分類順!B1087","v":"医療の本"},{"$f":"分類順!C1087","v":"Gg6：乳がん"},{"$f":"分類順!D1087","v":"日本乳癌学会"},{"$f":"分類順!E1087","v":"金原出版"},{"$f":"分類順!F1087","v":10367},"科学的根拠に基づく乳癌診療ガイドライン②免疫・診断編　2015年版医療の本Gg6：乳がん日本乳癌学会金原出版",1,{"$f":"VLOOKUP(\"*\"&目次加工!$B$2&\"*\",J1088:K1088,2,0)","v":1},1]
[null,null,null,{"$f":"分類順!A1088","v":"乳がん"},{"$f":"分類順!B1088","v":"医療の本"},{"$f":"分類順!C1088","v":"Gg6：乳がん"},{"$f":"分類順!D1088","v":"山内英子"},{"$f":"分類順!E1088","v":"主婦の友社"},{"$f":"分類順!F1088","v":10491},"乳がん医療の本Gg6：乳がん山内英子主婦の友社",1,{"$f":"VLOOKUP(\"*\"&目次加工!$B$2&\"*\",J1089:K1089,2,0)","v":1},{"$error":"#N/A"}]
[null,null,null,{"$f":"分類順!A1089","v":"乳がん　（よくわかる最新医学シリーズ）"},{"$f":"分類順!B1089","v":"医療の本"},{"$f":"分類順!C1089","v":"Gg6：乳がん"},{"$f":"分類順!D1089","v":"山内英子 著"},{"$f":"分類順!E1089","v":"主婦の友社"},{"$f":"分類順!F1089","v":10574},"乳がん　（よくわかる最新医学シリーズ）医療の本Gg6：乳がん山内英子 著主婦の友社",1,{"$f":"VLOOKUP(\"*\"&目次加工!$B$2&\"*\",J1090:K1090,2,0)","v":1},{"$error":"#N/A"}]
[null,null,null,{"$f":"分類順!A1090","v":"妊娠/出産"},{"$f":"分類順!B1090","v":"目次へ"},{"$f":"分類順!C1090","v":"※PDF版ではリンクしておりません。"},{"$f":"分類順!D1090","v":0},{"$f":"分類順!E1090","v":0},{"$f":"分類順!F1090","v":0},"妊娠/出産目次へ※PDF版ではリンクしておりません。00",1,{"$f":"VLOOKUP(\"*\"&目次加工!$B$2&\"*\",J1091:K1091,2,0)","v":1},1]
[null,null,null,{"$f":"分類順!A1091","v":"妊婦と薬物治療の考え方　全面改訂第２版"},{"$f":"分類順!B1091","v":"医療の本"},{"$f":"分類順!C1091","v":"Gh：妊娠/出産"},{"$f":"分類順!D1091","v":"松田　静治　編"},{"$f":"分類順!E1091","v":"ヴァンメディカル"},{"$f":"分類順!F1091","v":712},"妊婦と薬物治療の考え方　全面改訂第２版医療の本Gh：妊娠/出産松田　静治　編ヴァンメディカル",1,{"$f":"VLOOKUP(\"*\"&目次加工!$B$2&\"*\",J1092:K1092,2,0)","v":1},{"$f":"VLOOKUP(\"*\"&$A$2&\"*\",J1092:K1092,2,0)","v":{"$error":"#N/A"}}]
[null,null,null,{"$f":"分類順!A1092","v":"妊婦への服薬指導"},{"$f":"分類順!B1092","v":"医療の本"},{"$f":"分類順!C1092","v":"Gh：妊娠/出産"},{"$f":"分類順!D1092","v":"田中　憲一　他編"},{"$f":"分類順!E1092","v":"南山堂"},{"$f":"分類順!F1092","v":713},"妊婦への服薬指導医療の本Gh：妊娠/出産田中　憲一　他編南山堂",1,{"$f":"VLOOKUP(\"*\"&目次加工!$B$2&\"*\",J1093:K1093,2,0)","v":1},{"$error":"#N/A"}]
[null,null,null,{"$f":"分類順!A1093","v":"マタニティアセスメントガイド　新訂"},{"$f":"分類順!B1093","v":"医療の本"},{"$f":"分類順!C1093","v":"Gh：妊娠/出産"},{"$f":"分類順!D1093","v":"吉沢　豊予子　他編著"},{"$f":"分類順!E1093","v":"真興交易医書出版"},{"$f":"分類順!F1093","v":722},"マタニティアセスメントガイド　新訂医療の本Gh：妊娠/出産吉沢　豊予子　他編著真興交易医書出版",1,{"$f":"VLOOKUP(\"*\"&目次加工!$B$2&\"*\",J1094:K1094,2,0)","v":1},{"$error":"#N/A"}]
[null,null,null,{"$f":"分類順!A1094","v":"不妊治療ワークブック 年齢・原因別の「戦略」がわかる"},{"$f":"分類順!B1094","v":"医療の本"},{"$f":"分類順!C1094","v":"Gh：妊娠/出産"},{"$f":"分類順!D1094","v":"日経メディカル"},{"$f":"分類順!E1094","v":"日経BP社"},{"$f":"分類順!F1094","v":737},"不妊治療ワークブック 年齢・原因別の「戦略」がわかる医療の本Gh：妊娠/出産日経メディカル日経BP社",1,{"$f":"VLOOKUP(\"*\"&目次加工!$B$2&\"*\",J1095:K1095,2,0)","v":1},{"$error":"#N/A"}]
[null,null,null,{"$f":"分類順!A1095","v":"妊娠・授乳期の食事　第２版"},{"$f":"分類順!B1095","v":"医療の本"},{"$f":"分類順!C1095","v":"Gh：妊娠/出産"},{"$f":"分類順!D1095","v":"医歯薬出版　編"},{"$f":"分類順!E1095","v":"医歯薬出版"},{"$f":"分類順!F1095","v":738},"妊娠・授乳期の食事　第２版医療の本Gh：妊娠/出産医歯薬出版　編医歯薬出版",1,{"$f":"VLOOKUP(\"*\"&目次加工!$B$2&\"*\",J1096:K1096,2,0)","v":1},{"$error":"#N/A"}]
[null,null,null,{"$f":"分類順!A1096","v":"はじめての妊娠・出産・安心マタニティブッ"},{"$f":"分類順!B1096","v":"医療の本"},{"$f":"分類順!C1096","v":"Gh：妊娠/出産"},{"$f":"分類順!D1096","v":"Ｃ．ハリス　著"},{"$f":"分類順!E1096","v":"永岡書店"},{"$f":"分類順!F1096","v":745},"はじめての妊娠・出産・安心マタニティブッ医療の本Gh：妊娠/出産Ｃ．ハリス　著永岡書店",1,{"$f":"VLOOKUP(\"*\"&目次加工!$B$2&\"*\",J1097:K1097,2,0)","v":1},{"$error":"#N/A"}]
[null,null,null,{"$f":"分類順!A1097","v":"マタニティ　ホワイトブック"},{"$f":"分類順!B1097","v":"医療の本"},{"$f":"分類順!C1097","v":"Gh：妊娠/出産"},{"$f":"分類順!D1097","v":"松峯　寿美"},{"$f":"分類順!E1097","v":"朝日出版社"},{"$f":"分類順!F1097","v":746},"マタニティ　ホワイトブック医療の本Gh：妊娠/出産松峯　寿美朝日出版社",1,{"$f":"VLOOKUP(\"*\"&目次加工!$B$2&\"*\",J1098:K1098,2,0)","v":1},{"$error":"#N/A"}]
[null,null,null,{"$f":"分類順!A1098","v":"子どもを選ばないことを選ぶ　いのちの現場"},{"$f":"分類順!B1098","v":"医療の本"},{"$f":"分類順!C1098","v":"Gh：妊娠/出産"},{"$f":"分類順!D1098","v":"大野　明子　編著"},{"$f":"分類順!E1098","v":"メディカ出版"},{"$f":"分類順!F1098","v":749},"子どもを選ばないことを選ぶ　いのちの現場医療の本Gh：妊娠/出産大野　明子　編著メディカ出版",1,{"$f":"VLOOKUP(\"*\"&目次加工!$B$2&\"*\",J1099:K1099,2,0)","v":1},{"$error":"#N/A"}]
[null,null,null,{"$f":"分類順!A1099","v":"誕生死"},{"$f":"分類順!B1099","v":"医療の本"},{"$f":"分類順!C1099","v":"Gh：妊娠/出産"},{"$f":"分類順!D1099","v":"流産・死産・新生児死"},{"$f":"分類順!E1099","v":"三省堂"},{"$f":"分類順!F1099","v":752},"誕生死医療の本Gh：妊娠/出産流産・死産・新生児死三省堂",1,{"$f":"VLOOKUP(\"*\"&目次加工!$B$2&\"*\",J1100:K1100,2,0)","v":1},{"$error":"#N/A"}]
[null,null,null,{"$f":"分類順!A1100","v":"妊娠と出産　ママと赤ちゃんのなぜ？に答え"},{"$f":"分類順!B1100","v":"医療の本"},{"$f":"分類順!C1100","v":"Gh：妊娠/出産"},{"$f":"分類順!D1100","v":"国府田　きよ子"},{"$f":"分類順!E1100","v":"新星出版社"},{"$f":"分類順!F1100","v":753},"妊娠と出産　ママと赤ちゃんのなぜ？に答え医療の本Gh：妊娠/出産国府田　きよ子新星出版社",1,{"$f":"VLOOKUP(\"*\"&目次加工!$B$2&\"*\",J1101:K1101,2,0)","v":1},{"$error":"#N/A"}]
[null,null,null,{"$f":"分類順!A1101","v":"病気がみえる　１０　産科　第２版"},{"$f":"分類順!B1101","v":"医療の本"},{"$f":"分類順!C1101","v":"Gh：妊娠/出産"},{"$f":"分類順!D1101","v":0},{"$f":"分類順!E1101","v":"メディックメディア"},{"$f":"分類順!F1101","v":1019},"病気がみえる　１０　産科　第２版医療の本Gh：妊娠/出産0メディックメディア",1,{"$f":"VLOOKUP(\"*\"&目次加工!$B$2&\"*\",J1102:K1102,2,0)","v":1},1]
[null,null,null,{"$f":"分類順!A1102","v":"最新赤ちゃんの病気大百科"},{"$f":"分類順!B1102","v":"医療の本"},{"$f":"分類順!C1102","v":"Gh：妊娠/出産"},{"$f":"分類順!D1102","v":"田村正徳監修"},{"$f":"分類順!E1102","v":"ベネッセコーポレーション"},{"$f":"分類順!F1102","v":5376},"最新赤ちゃんの病気大百科医療の本Gh：妊娠/出産田村正徳監修ベネッセコーポレーション",1,{"$f":"VLOOKUP(\"*\"&目次加工!$B$2&\"*\",J1103:K1103,2,0)","v":1},{"$error":"#N/A"}]
[null,null,null,{"$f":"分類順!A1103","v":"最新赤ちゃん・子どものアトピー&アレルギー大百科 "},{"$f":"分類順!B1103","v":"医療の本"},{"$f":"分類順!C1103","v":"Gh：妊娠/出産"},{"$f":"分類順!D1103","v":"ひよこくらぶ特別編集"},{"$f":"分類順!E1103","v":"ベネッセコーポレーション"},{"$f":"分類順!F1103","v":5377},"最新赤ちゃん・子どものアトピー&アレルギー大百科 医療の本Gh：妊娠/出産ひよこくらぶ特別編集ベネッセコーポレーション",1,{"$f":"VLOOKUP(\"*\"&目次加工!$B$2&\"*\",J1104:K1104,2,0)","v":1},{"$error":"#N/A"}]
[null,null,null,{"$f":"分類順!A1104","v":"ママ、生まれる前から大好きだよ!　―胎内記憶といのちの不思議"},{"$f":"分類順!B1104","v":"医療の本"},{"$f":"分類順!C1104","v":"Gh：妊娠/出産"},{"$f":"分類順!D1104","v":"池川 明　著"},{"$f":"分類順!E1104","v":"学習研究社"},{"$f":"分類順!F1104","v":5378},"ママ、生まれる前から大好きだよ!　―胎内記憶といのちの不思議医療の本Gh：妊娠/出産池川 明　著学習研究社",1,{"$f":"VLOOKUP(\"*\"&目次加工!$B$2&\"*\",J1105:K1105,2,0)","v":1},{"$error":"#N/A"}]
[null,null,null,{"$f":"分類順!A1105","v":"もっと自然に! 不妊治療"},{"$f":"分類順!B1105","v":"医療の本"},{"$f":"分類順!C1105","v":"Gh：妊娠/出産"},{"$f":"分類順!D1105","v":"加藤 修/竹原 祐志 著"},{"$f":"分類順!E1105","v":"主婦の友社"},{"$f":"分類順!F1105","v":5379},"もっと自然に! 不妊治療医療の本Gh：妊娠/出産加藤 修/竹原 祐志 著主婦の友社",1,{"$f":"VLOOKUP(\"*\"&目次加工!$B$2&\"*\",J1106:K1106,2,0)","v":1},{"$error":"#N/A"}]
[null,null,null,{"$f":"分類順!A1106","v":"ガラスのお腹"},{"$f":"分類順!B1106","v":"医療の本"},{"$f":"分類順!C1106","v":"Gh：妊娠/出産"},{"$f":"分類順!D1106","v":"海月まき子"},{"$f":"分類順!E1106","v":"新風舎"},{"$f":"分類順!F1106","v":5559},{"$f":"D1107&E1107&F1107&G1107&H1107","v":"ガラスのお腹医療の本Gh：妊娠/出産海月まき子新風舎"},1,{"$f":"VLOOKUP(\"*\"&目次加工!$B$2&\"*\",J1107:K1107,2,0)","v":1},{"$error":"#N/A"}]
[null,null,null,{"$f":"分類順!A1107","v":"エンジョイ・ユア妊娠ライフ"},{"$f":"分類順!B1107","v":"医療の本"},{"$f":"分類順!C1107","v":"Gh：妊娠/出産"},{"$f":"分類順!D1107","v":"島田信宏"},{"$f":"分類順!E1107","v":"南山堂"},{"$f":"分類順!F1107","v":5560},"エンジョイ・ユア妊娠ライフ医療の本Gh：妊娠/出産島田信宏南山堂",1,{"$f":"VLOOKUP(\"*\"&目次加工!$B$2&\"*\",J1108:K1108,2,0)","v":1},{"$error":"#N/A"}]
[null,null,null,{"$f":"分類順!A1108","v":"障害をもつ子を産むということ"},{"$f":"分類順!B1108","v":"医療の本"},{"$f":"分類順!C1108","v":"Gh：妊娠/出産"},{"$f":"分類順!D1108","v":"野辺明子"},{"$f":"分類順!E1108","v":"中央法規出版"},{"$f":"分類順!F1108","v":5561},"障害をもつ子を産むということ医療の本Gh：妊娠/出産野辺明子中央法規出版",1,{"$f":"VLOOKUP(\"*\"&目次加工!$B$2&\"*\",J1109:K1109,2,0)","v":1},{"$error":"#N/A"}]
[null,null,null,{"$f":"分類順!A1109","v":"障害をもつ子を産むということ"},{"$f":"分類順!B1109","v":"医療の本"},{"$f":"分類順!C1109","v":"Gh：妊娠/出産"},{"$f":"分類順!D1109","v":"野辺明子"},{"$f":"分類順!E1109","v":"中央法規出版"},{"$f":"分類順!F1109","v":5562},"障害をもつ子を産むということ医療の本Gh：妊娠/出産野辺明子中央法規出版",1,{"$f":"VLOOKUP(\"*\"&目次加工!$B$2&\"*\",J1110:K1110,2,0)","v":1},{"$error":"#N/A"}]
[null,null,null,{"$f":"分類順!A1110","v":"マタニティブルー"},{"$f":"分類順!B1110","v":"医療の本"},{"$f":"分類順!C1110","v":"Gh：妊娠/出産"},{"$f":"分類順!D1110","v":"木村もちこ"},{"$f":"分類順!E1110","v":"サイマル出版会"},{"$f":"分類順!F1110","v":5563},"マタニティブルー医療の本Gh：妊娠/出産木村もちこサイマル出版会",1,{"$f":"VLOOKUP(\"*\"&目次加工!$B$2&\"*\",J1111:K1111,2,0)","v":1},{"$error":"#N/A"}]
[null,null,null,{"$f":"分類順!A1111","v":"ベビーマッサージ"},{"$f":"分類順!B1111","v":"医療の本"},{"$f":"分類順!C1111","v":"Gh：妊娠/出産"},{"$f":"分類順!D1111","v":"能登春男/あきこ"},{"$f":"分類順!E1111","v":"PHP研究所"},{"$f":"分類順!F1111","v":5564},"ベビーマッサージ医療の本Gh：妊娠/出産能登春男/あきこPHP研究所",1,{"$f":"VLOOKUP(\"*\"&目次加工!$B$2&\"*\",J1112:K1112,2,0)","v":1},{"$error":"#N/A"}]
[null,null,null,{"$f":"分類順!A1112","v":"世界一やさしいベビーサインの教え方"},{"$f":"分類順!B1112","v":"医療の本"},{"$f":"分類順!C1112","v":"Gh：妊娠/出産"},{"$f":"分類順!D1112","v":"直江千恵子"},{"$f":"分類順!E1112","v":"ブックマン社"},{"$f":"分類順!F1112","v":5565},"世界一やさしいベビーサインの教え方医療の本Gh：妊娠/出産直江千恵子ブックマン社",1,{"$f":"VLOOKUP(\"*\"&目次加工!$B$2&\"*\",J1113:K1113,2,0)","v":1},{"$error":"#N/A"}]
[null,null,null,{"$f":"分類順!A1113","v":"生まれてよかった"},{"$f":"分類順!B1113","v":"医療の本"},{"$f":"分類順!C1113","v":"Gh：妊娠/出産"},{"$f":"分類順!D1113","v":"福岡光子"},{"$f":"分類順!E1113","v":"日本図書センター"},{"$f":"分類順!F1113","v":5566},"生まれてよかった医療の本Gh：妊娠/出産福岡光子日本図書センター",1,{"$f":"VLOOKUP(\"*\"&目次加工!$B$2&\"*\",J1114:K1114,2,0)","v":1},{"$error":"#N/A"}]
[null,null,null,{"$f":"分類順!A1114","v":"赤ちゃんが来た"},{"$f":"分類順!B1114","v":"医療の本"},{"$f":"分類順!C1114","v":"Gh：妊娠/出産"},{"$f":"分類順!D1114","v":"石坂啓"},{"$f":"分類順!E1114","v":"朝日新聞出版"},{"$f":"分類順!F1114","v":5567},"赤ちゃんが来た医療の本Gh：妊娠/出産石坂啓朝日新聞出版",1,{"$f":"VLOOKUP(\"*\"&目次加工!$B$2&\"*\",J1115:K1115,2,0)","v":1},{"$error":"#N/A"}]
[null,null,null,{"$f":"分類順!A1115","v":"カンガルーケア"},{"$f":"分類順!B1115","v":"医療の本"},{"$f":"分類順!C1115","v":"Gh：妊娠/出産"},{"$f":"分類順!D1115","v":"堀内功"},{"$f":"分類順!E1115","v":"メディカ出版"},{"$f":"分類順!F1115","v":5568},"カンガルーケア医療の本Gh：妊娠/出産堀内功メディカ出版",1,{"$f":"VLOOKUP(\"*\"&目次加工!$B$2&\"*\",J1116:K1116,2,0)","v":1},{"$error":"#N/A"}]
[null,null,null,{"$f":"分類順!A1116","v":"おっぱいだより集"},{"$f":"分類順!B1116","v":"医療の本"},{"$f":"分類順!C1116","v":"Gh：妊娠/出産"},{"$f":"分類順!D1116","v":"母乳育児サークル"},{"$f":"分類順!E1116","v":"メディカ出版"},{"$f":"分類順!F1116","v":5569},"おっぱいだより集医療の本Gh：妊娠/出産母乳育児サークルメディカ出版",1,{"$f":"VLOOKUP(\"*\"&目次加工!$B$2&\"*\",J1117:K1117,2,0)","v":1},{"$error":"#N/A"}]
[null,null,null,{"$f":"分類順!A1117","v":"妊娠中の元気メニュー"},{"$f":"分類順!B1117","v":"医療の本"},{"$f":"分類順!C1117","v":"Gh：妊娠/出産"},{"$f":"分類順!D1117","v":"本多京子"},{"$f":"分類順!E1117","v":"共同印刷"},{"$f":"分類順!F1117","v":5570},"妊娠中の元気メニュー医療の本Gh：妊娠/出産本多京子共同印刷",1,{"$f":"VLOOKUP(\"*\"&目次加工!$B$2&\"*\",J1118:K1118,2,0)","v":1},{"$error":"#N/A"}]
[null,null,null,{"$f":"分類順!A1118","v":"授かる"},{"$f":"分類順!B1118","v":"医療の本"},{"$f":"分類順!C1118","v":"Gh：妊娠/出産"},{"$f":"分類順!D1118","v":"堤治"},{"$f":"分類順!E1118","v":"朝日出版社"},{"$f":"分類順!F1118","v":5571},"授かる医療の本Gh：妊娠/出産堤治朝日出版社",1,{"$f":"VLOOKUP(\"*\"&目次加工!$B$2&\"*\",J1119:K1119,2,0)","v":1},{"$error":"#N/A"}]
[null,null,null,{"$f":"分類順!A1119","v":"出生前診断"},{"$f":"分類順!B1119","v":"医療の本"},{"$f":"分類順!C1119","v":"Gh：妊娠/出産"},{"$f":"分類順!D1119","v":"坂井律子"},{"$f":"分類順!E1119","v":"NHK出版"},{"$f":"分類順!F1119","v":5572},"出生前診断医療の本Gh：妊娠/出産坂井律子NHK出版",1,{"$f":"VLOOKUP(\"*\"&目次加工!$B$2&\"*\",J1120:K1120,2,0)","v":1},{"$error":"#N/A"}]
[null,null,null,{"$f":"分類順!A1120","v":"あなたを産んでよかった"},{"$f":"分類順!B1120","v":"医療の本"},{"$f":"分類順!C1120","v":"Gh：妊娠/出産"},{"$f":"分類順!D1120","v":"マーサ・ベック"},{"$f":"分類順!E1120","v":"中央精版"},{"$f":"分類順!F1120","v":5573},"あなたを産んでよかった医療の本Gh：妊娠/出産マーサ・ベック中央精版",1,{"$f":"VLOOKUP(\"*\"&目次加工!$B$2&\"*\",J1121:K1121,2,0)","v":1},{"$error":"#N/A"}]
[null,null,null,{"$f":"分類順!A1121","v":"最新　妊娠大百科"},{"$f":"分類順!B1121","v":"医療の本"},{"$f":"分類順!C1121","v":"Gh：妊娠/出産"},{"$f":"分類順!D1121","v":"総監修：中林正雄"},{"$f":"分類順!E1121","v":"ベネッセコーポレーション"},{"$f":"分類順!F1121","v":8036},"最新　妊娠大百科医療の本Gh：妊娠/出産総監修：中林正雄ベネッセコーポレーション",1,{"$f":"VLOOKUP(\"*\"&目次加工!$B$2&\"*\",J1122:K1122,2,0)","v":1},{"$error":"#N/A"}]
[null,null,null,{"$f":"分類順!A1122","v":"最新　出産・新生児大百科"},{"$f":"分類順!B1122","v":"医療の本"},{"$f":"分類順!C1122","v":"Gh：妊娠/出産"},{"$f":"分類順!D1122","v":"総監修：杉本充弘"},{"$f":"分類順!E1122","v":"ベネッセコーポレーション"},{"$f":"分類順!F1122","v":8037},"最新　出産・新生児大百科医療の本Gh：妊娠/出産総監修：杉本充弘ベネッセコーポレーション",1,{"$f":"VLOOKUP(\"*\"&目次加工!$B$2&\"*\",J1123:K1123,2,0)","v":1},{"$error":"#N/A"}]
[null,null,null,{"$f":"分類順!A1123","v":"いつかお母さんになるあなたへ　妊娠の心得"},{"$f":"分類順!B1123","v":"医療の本"},{"$f":"分類順!C1123","v":"Gh：妊娠/出産"},{"$f":"分類順!D1123","v":"宋美玄"},{"$f":"分類順!E1123","v":"ロハスメディア"},{"$f":"分類順!F1123","v":8055},"いつかお母さんになるあなたへ　妊娠の心得医療の本Gh：妊娠/出産宋美玄ロハスメディア",1,{"$f":"VLOOKUP(\"*\"&目次加工!$B$2&\"*\",J1124:K1124,2,0)","v":1},{"$error":"#N/A"}]
[null,null,null,{"$f":"分類順!A1124","v":"大丈夫やで"},{"$f":"分類順!B1124","v":"医療の本"},{"$f":"分類順!C1124","v":"Gh：妊娠/出産"},{"$f":"分類順!D1124","v":"坂本フジヱ"},{"$f":"分類順!E1124","v":"産業編集センター"},{"$f":"分類順!F1124","v":10080},"大丈夫やで医療の本Gh：妊娠/出産坂本フジヱ産業編集センター",1,{"$f":"VLOOKUP(\"*\"&目次加工!$B$2&\"*\",J1125:K1125,2,0)","v":1},{"$error":"#N/A"}]
[null,null,null,{"$f":"分類順!A1125","v":"大丈夫やで2"},{"$f":"分類順!B1125","v":"医療の本"},{"$f":"分類順!C1125","v":"Gh：妊娠/出産"},{"$f":"分類順!D1125","v":"坂本フジヱ"},{"$f":"分類順!E1125","v":"産業編集センター"},{"$f":"分類順!F1125","v":10081},"大丈夫やで2医療の本Gh：妊娠/出産坂本フジヱ産業編集センター",1,{"$f":"VLOOKUP(\"*\"&目次加工!$B$2&\"*\",J1126:K1126,2,0)","v":1},{"$error":"#N/A"}]
[null,null,null,{"$f":"分類順!A1126","v":"私もママになる！"},{"$f":"分類順!B1126","v":"医療の本"},{"$f":"分類順!C1126","v":"Gh：妊娠/出産"},{"$f":"分類順!D1126","v":"牛山武久"},{"$f":"分類順!E1126","v":"日本せきずい基金"},{"$f":"分類順!F1126","v":10094},"私もママになる！医療の本Gh：妊娠/出産牛山武久日本せきずい基金",1,{"$f":"VLOOKUP(\"*\"&目次加工!$B$2&\"*\",J1127:K1127,2,0)","v":1},{"$error":"#N/A"}]
[null,null,null,{"$f":"分類順!A1127","v":"病気がみえる vol.10: 産科　第3版"},{"$f":"分類順!B1127","v":"医療の本"},{"$f":"分類順!C1127","v":"Gh：妊娠/出産"},{"$f":"分類順!D1127","v":"医療情報科学研究所"},{"$f":"分類順!E1127","v":"メディックメディア"},{"$f":"分類順!F1127","v":10179},"病気がみえる vol.10: 産科　第3版医療の本Gh：妊娠/出産医療情報科学研究所メディックメディア",1,{"$f":"VLOOKUP(\"*\"&目次加工!$B$2&\"*\",J1128:K1128,2,0)","v":1},1]
[null,null,null,{"$f":"分類順!A1128","v":"妊娠・出産新百科 最新版オールカラー―月数ごとに「見てわかる!」"},{"$f":"分類順!B1128","v":"医療の本"},{"$f":"分類順!C1128","v":"Gh：妊娠/出産"},{"$f":"分類順!D1128","v":0},{"$f":"分類順!E1128","v":"ベネッセコーポレーション"},{"$f":"分類順!F1128","v":10180},"妊娠・出産新百科 最新版オールカラー―月数ごとに「見てわかる!」医療の本Gh：妊娠/出産0ベネッセコーポレーション",1,{"$f":"VLOOKUP(\"*\"&目次加工!$B$2&\"*\",J1129:K1129,2,0)","v":1},1]
[null,null,null,{"$f":"分類順!A1129","v":"育児新百科 最新版オールカラー―月齢ごとに「見てわかる!」"},{"$f":"分類順!B1129","v":"医療の本"},{"$f":"分類順!C1129","v":"Gh：妊娠/出産"},{"$f":"分類順!D1129","v":0},{"$f":"分類順!E1129","v":"ベネッセコーポレーション"},{"$f":"分類順!F1129","v":10181},"育児新百科 最新版オールカラー―月齢ごとに「見てわかる!」医療の本Gh：妊娠/出産0ベネッセコーポレーション",1,{"$f":"VLOOKUP(\"*\"&目次加工!$B$2&\"*\",J1130:K1130,2,0)","v":1},1]
[null,null,null,{"$f":"分類順!A1130","v":"病気がみえるvol.10　産科　第4版"},{"$f":"分類順!B1130","v":"医療の本"},{"$f":"分類順!C1130","v":"Gh：妊娠/出産"},{"$f":"分類順!D1130","v":"医療情報科学研究所"},{"$f":"分類順!E1130","v":"メディックメディア"},{"$f":"分類順!F1130","v":10541},"病気がみえるvol.10　産科　第4版医療の本Gh：妊娠/出産医療情報科学研究所メディックメディア",1,{"$f":"VLOOKUP(\"*\"&目次加工!$B$2&\"*\",J1131:K1131,2,0)","v":1},1]
[null,null,null,{"$f":"分類順!A1131","v":"こどもの健康"},{"$f":"分類順!B1131","v":"目次へ"},{"$f":"分類順!C1131","v":"※PDF版ではリンクしておりません。"},{"$f":"分類順!D1131","v":0},{"$f":"分類順!E1131","v":0},{"$f":"分類順!F1131","v":0},"こどもの健康目次へ※PDF版ではリンクしておりません。00",1,{"$f":"VLOOKUP(\"*\"&目次加工!$B$2&\"*\",J1132:K1132,2,0)","v":1},1]
[null,null,null,{"$f":"分類順!A1132","v":"ＡＤ／ＨＤ〈注意欠陥／多動性障害〉のすべてがわかる本 イラスト版"},{"$f":"分類順!B1132","v":"医療の本"},{"$f":"分類順!C1132","v":"Gk：こどもの健康"},{"$f":"分類順!D1132","v":"市川　宏伸"},{"$f":"分類順!E1132","v":"講談社"},{"$f":"分類順!F1132","v":758},"ＡＤ／ＨＤ〈注意欠陥／多動性障害〉のすべてがわかる本 イラスト版医療の本Gk：こどもの健康市川　宏伸講談社",1,{"$f":"VLOOKUP(\"*\"&目次加工!$B$2&\"*\",J1133:K1133,2,0)","v":1},{"$error":"#N/A"}]
[null,null,null,{"$f":"分類順!A1133","v":"ＬＤ〈学習障害〉のすべてがわかる本 イラスト版"},{"$f":"分類順!B1133","v":"医療の本"},{"$f":"分類順!C1133","v":"Gk：こどもの健康"},{"$f":"分類順!D1133","v":"上野　一彦"},{"$f":"分類順!E1133","v":"講談社"},{"$f":"分類順!F1133","v":759},"ＬＤ〈学習障害〉のすべてがわかる本 イラスト版医療の本Gk：こどもの健康上野　一彦講談社",1,{"$f":"VLOOKUP(\"*\"&目次加工!$B$2&\"*\",J1134:K1134,2,0)","v":1},{"$error":"#N/A"}]
[null,null,null,{"$f":"分類順!A1134","v":"アスペルガー症候群〈高機能自閉症〉のすべてがわかる本 イラスト版"},{"$f":"分類順!B1134","v":"医療の本"},{"$f":"分類順!C1134","v":"Gk：こどもの健康"},{"$f":"分類順!D1134","v":"佐々木　正美"},{"$f":"分類順!E1134","v":"講談社"},{"$f":"分類順!F1134","v":760},"アスペルガー症候群〈高機能自閉症〉のすべてがわかる本 イラスト版医療の本Gk：こどもの健康佐々木　正美講談社",1,{"$f":"VLOOKUP(\"*\"&目次加工!$B$2&\"*\",J1135:K1135,2,0)","v":1},{"$error":"#N/A"}]
[null,null,null,{"$f":"分類順!A1135","v":"ことばの遅れのすべてがわかる本 イラスト版"},{"$f":"分類順!B1135","v":"医療の本"},{"$f":"分類順!C1135","v":"Gk：こどもの健康"},{"$f":"分類順!D1135","v":"中川　信子"},{"$f":"分類順!E1135","v":"講談社"},{"$f":"分類順!F1135","v":761},"ことばの遅れのすべてがわかる本 イラスト版医療の本Gk：こどもの健康中川　信子講談社",1,{"$f":"VLOOKUP(\"*\"&目次加工!$B$2&\"*\",J1136:K1136,2,0)","v":1},{"$error":"#N/A"}]
[null,null,null,{"$f":"分類順!A1136","v":"ダウン症のすべてがわかる本 イラスト版"},{"$f":"分類順!B1136","v":"医療の本"},{"$f":"分類順!C1136","v":"Gk：こどもの健康"},{"$f":"分類順!D1136","v":"池田　由紀江"},{"$f":"分類順!E1136","v":"講談社"},{"$f":"分類順!F1136","v":762},"ダウン症のすべてがわかる本 イラスト版医療の本Gk：こどもの健康池田　由紀江講談社",1,{"$f":"VLOOKUP(\"*\"&目次加工!$B$2&\"*\",J1137:K1137,2,0)","v":1},{"$error":"#N/A"}]
[null,null,null,{"$f":"分類順!A1137","v":"子どもの危ないひきつけ・けいれん イラスト版"},{"$f":"分類順!B1137","v":"医療の本"},{"$f":"分類順!C1137","v":"Gk：こどもの健康"},{"$f":"分類順!D1137","v":"金沢　治"},{"$f":"分類順!E1137","v":"講談社"},{"$f":"分類順!F1137","v":763},"子どもの危ないひきつけ・けいれん イラスト版医療の本Gk：こどもの健康金沢　治講談社",1,{"$f":"VLOOKUP(\"*\"&目次加工!$B$2&\"*\",J1138:K1138,2,0)","v":1},{"$error":"#N/A"}]
[null,null,null,{"$f":"分類順!A1138","v":"子どもの心の病気がわかる本 イラスト版"},{"$f":"分類順!B1138","v":"医療の本"},{"$f":"分類順!C1138","v":"Gk：こどもの健康"},{"$f":"分類順!D1138","v":"市川　宏伸"},{"$f":"分類順!E1138","v":"講談社"},{"$f":"分類順!F1138","v":764},"子どもの心の病気がわかる本 イラスト版医療の本Gk：こどもの健康市川　宏伸講談社",1,{"$f":"VLOOKUP(\"*\"&目次加工!$B$2&\"*\",J1139:K1139,2,0)","v":1},{"$error":"#N/A"}]
[null,null,null,{"$f":"分類順!A1139","v":"子どもの心身症ガイドブック"},{"$f":"分類順!B1139","v":"医療の本"},{"$f":"分類順!C1139","v":"Gk：こどもの健康"},{"$f":"分類順!D1139","v":"小林　陽之助　編"},{"$f":"分類順!E1139","v":"中央法規出版"},{"$f":"分類順!F1139","v":765},"子どもの心身症ガイドブック医療の本Gk：こどもの健康小林　陽之助　編中央法規出版",1,{"$f":"VLOOKUP(\"*\"&目次加工!$B$2&\"*\",J1140:K1140,2,0)","v":1},{"$error":"#N/A"}]
[null,null,null,{"$f":"分類順!A1140","v":"自閉症のすべてがわかる本 イラスト版"},{"$f":"分類順!B1140","v":"医療の本"},{"$f":"分類順!C1140","v":"Gk：こどもの健康"},{"$f":"分類順!D1140","v":"佐々木　正美"},{"$f":"分類順!E1140","v":"講談社"},{"$f":"分類順!F1140","v":766},"自閉症のすべてがわかる本 イラスト版医療の本Gk：こどもの健康佐々木　正美講談社",1,{"$f":"VLOOKUP(\"*\"&目次加工!$B$2&\"*\",J1141:K1141,2,0)","v":1},{"$error":"#N/A"}]
[null,null,null,{"$f":"分類順!A1141","v":"乳幼児・学童期の病気と食事　第３版"},{"$f":"分類順!B1141","v":"医療の本"},{"$f":"分類順!C1141","v":"Gk：こどもの健康"},{"$f":"分類順!D1141","v":"医歯薬出版　編"},{"$f":"分類順!E1141","v":"医歯薬出版"},{"$f":"分類順!F1141","v":769},"乳幼児・学童期の病気と食事　第３版医療の本Gk：こどもの健康医歯薬出版　編医歯薬出版",1,{"$f":"VLOOKUP(\"*\"&目次加工!$B$2&\"*\",J1142:K1142,2,0)","v":1},{"$error":"#N/A"}]
[null,null,null,{"$f":"分類順!A1142","v":"不登校・ひきこもりの心がわかる本 イラスト版"},{"$f":"分類順!B1142","v":"医療の本"},{"$f":"分類順!C1142","v":"Gk：こどもの健康"},{"$f":"分類順!D1142","v":"磯部　潮"},{"$f":"分類順!E1142","v":"講談社"},{"$f":"分類順!F1142","v":772},"不登校・ひきこもりの心がわかる本 イラスト版医療の本Gk：こどもの健康磯部　潮講談社",1,{"$f":"VLOOKUP(\"*\"&目次加工!$B$2&\"*\",J1143:K1143,2,0)","v":1},{"$error":"#N/A"}]
[null,null,null,{"$f":"分類順!A1143","v":"「その子らしさ」を生かす子育て"},{"$f":"分類順!B1143","v":"医療の本"},{"$f":"分類順!C1143","v":"Gk：こどもの健康"},{"$f":"分類順!D1143","v":"吉田　友子　著"},{"$f":"分類順!E1143","v":"中央法規出版"},{"$f":"分類順!F1143","v":773},"「その子らしさ」を生かす子育て医療の本Gk：こどもの健康吉田　友子　著中央法規出版",1,{"$f":"VLOOKUP(\"*\"&目次加工!$B$2&\"*\",J1144:K1144,2,0)","v":1},{"$error":"#N/A"}]
[null,null,null,{"$f":"分類順!A1144","v":"お母さんのためのやさしい小児糖尿病の自己"},{"$f":"分類順!B1144","v":"医療の本"},{"$f":"分類順!C1144","v":"Gk：こどもの健康"},{"$f":"分類順!D1144","v":"松浦　信夫　編著"},{"$f":"分類順!E1144","v":"医薬ジャーナル社"},{"$f":"分類順!F1144","v":774},"お母さんのためのやさしい小児糖尿病の自己医療の本Gk：こどもの健康松浦　信夫　編著医薬ジャーナル社",1,{"$f":"VLOOKUP(\"*\"&目次加工!$B$2&\"*\",J1145:K1145,2,0)","v":1},{"$error":"#N/A"}]
[null,null,null,{"$f":"分類順!A1145","v":"お母さんのためのやさしい小児喘息の自己管"},{"$f":"分類順!B1145","v":"医療の本"},{"$f":"分類順!C1145","v":"Gk：こどもの健康"},{"$f":"分類順!D1145","v":"飯倉　洋治"},{"$f":"分類順!E1145","v":"医薬ジャーナル社"},{"$f":"分類順!F1145","v":775},"お母さんのためのやさしい小児喘息の自己管医療の本Gk：こどもの健康飯倉　洋治医薬ジャーナル社",1,{"$f":"VLOOKUP(\"*\"&目次加工!$B$2&\"*\",J1146:K1146,2,0)","v":1},{"$error":"#N/A"}]
[null,null,null,{"$f":"分類順!A1146","v":"お母さんの小児科専門医"},{"$f":"分類順!B1146","v":"医療の本"},{"$f":"分類順!C1146","v":"Gk：こどもの健康"},{"$f":"分類順!D1146","v":"清水　浩信　著"},{"$f":"分類順!E1146","v":"グラフ社"},{"$f":"分類順!F1146","v":776},"お母さんの小児科専門医医療の本Gk：こどもの健康清水　浩信　著グラフ社",1,{"$f":"VLOOKUP(\"*\"&目次加工!$B$2&\"*\",J1147:K1147,2,0)","v":1},{"$error":"#N/A"}]
[null,null,null,{"$f":"分類順!A1147","v":"こどもの感染症ハンドブック　第２版"},{"$f":"分類順!B1147","v":"医療の本"},{"$f":"分類順!C1147","v":"Gk：こどもの健康"},{"$f":"分類順!D1147","v":"脇口　宏　編集"},{"$f":"分類順!E1147","v":"医学書院"},{"$f":"分類順!F1147","v":777},"こどもの感染症ハンドブック　第２版医療の本Gk：こどもの健康脇口　宏　編集医学書院",1,{"$f":"VLOOKUP(\"*\"&目次加工!$B$2&\"*\",J1148:K1148,2,0)","v":1},{"$error":"#N/A"}]
[null,null,null,{"$f":"分類順!A1148","v":"こどもの病気の地図帳"},{"$f":"分類順!B1148","v":"医療の本"},{"$f":"分類順!C1148","v":"Gk：こどもの健康"},{"$f":"分類順!D1148","v":"鴨下　重彦;柳沢　正義"},{"$f":"分類順!E1148","v":"講談社"},{"$f":"分類順!F1148","v":778},"こどもの病気の地図帳医療の本Gk：こどもの健康鴨下　重彦;柳沢　正義講談社",1,{"$f":"VLOOKUP(\"*\"&目次加工!$B$2&\"*\",J1149:K1149,2,0)","v":1},{"$error":"#N/A"}]
[null,null,null,{"$f":"分類順!A1149","v":"こんな問題に出会ったら－生活者とともに考"},{"$f":"分類順!B1149","v":"医療の本"},{"$f":"分類順!C1149","v":"Gk：こどもの健康"},{"$f":"分類順!D1149","v":"佐々木　洋　他編著"},{"$f":"分類順!E1149","v":"医歯薬出版"},{"$f":"分類順!F1149","v":779},"こんな問題に出会ったら－生活者とともに考医療の本Gk：こどもの健康佐々木　洋　他編著医歯薬出版",1,{"$f":"VLOOKUP(\"*\"&目次加工!$B$2&\"*\",J1150:K1150,2,0)","v":1},{"$error":"#N/A"}]
[null,null,null,{"$f":"分類順!A1150","v":"よくわかる子どもの心身症－診療のすすめ方"},{"$f":"分類順!B1150","v":"医療の本"},{"$f":"分類順!C1150","v":"Gk：こどもの健康"},{"$f":"分類順!D1150","v":"星加　明徳　編集"},{"$f":"分類順!E1150","v":"永井書店"},{"$f":"分類順!F1150","v":780},"よくわかる子どもの心身症－診療のすすめ方医療の本Gk：こどもの健康星加　明徳　編集永井書店",1,{"$f":"VLOOKUP(\"*\"&目次加工!$B$2&\"*\",J1151:K1151,2,0)","v":1},{"$error":"#N/A"}]
[null,null,null,{"$f":"分類順!A1151","v":"眼で見る小児のリハビリテーション　改２"},{"$f":"分類順!B1151","v":"医療の本"},{"$f":"分類順!C1151","v":"Gk：こどもの健康"},{"$f":"分類順!D1151","v":"栗原　まな　著"},{"$f":"分類順!E1151","v":"診断と治療社"},{"$f":"分類順!F1151","v":782},"眼で見る小児のリハビリテーション　改２医療の本Gk：こどもの健康栗原　まな　著診断と治療社",1,{"$f":"VLOOKUP(\"*\"&目次加工!$B$2&\"*\",J1152:K1152,2,0)","v":1},{"$error":"#N/A"}]
[null,null,null,{"$f":"分類順!A1152","v":"気づいて！こどもの心のＳＯＳ　こどもの心"},{"$f":"分類順!B1152","v":"医療の本"},{"$f":"分類順!C1152","v":"Gk：こどもの健康"},{"$f":"分類順!D1152","v":"星野　仁彦　著"},{"$f":"分類順!E1152","v":"ヴォイス"},{"$f":"分類順!F1152","v":783},"気づいて！こどもの心のＳＯＳ　こどもの心医療の本Gk：こどもの健康星野　仁彦　著ヴォイス",1,{"$f":"VLOOKUP(\"*\"&目次加工!$B$2&\"*\",J1153:K1153,2,0)","v":1},{"$error":"#N/A"}]
[null,null,null,{"$f":"分類順!A1153","v":"子どもにうつる動物の病気　ペットから学校"},{"$f":"分類順!B1153","v":"医療の本"},{"$f":"分類順!C1153","v":"Gk：こどもの健康"},{"$f":"分類順!D1153","v":"神山　恒夫　編著"},{"$f":"分類順!E1153","v":"真興交易医書出版"},{"$f":"分類順!F1153","v":785},"子どもにうつる動物の病気　ペットから学校医療の本Gk：こどもの健康神山　恒夫　編著真興交易医書出版",1,{"$f":"VLOOKUP(\"*\"&目次加工!$B$2&\"*\",J1154:K1154,2,0)","v":1},{"$error":"#N/A"}]
[null,null,null,{"$f":"分類順!A1154","v":"子どものくすり安心ガイド　第２版"},{"$f":"分類順!B1154","v":"医療の本"},{"$f":"分類順!C1154","v":"Gk：こどもの健康"},{"$f":"分類順!D1154","v":"日本外来小児科学会"},{"$f":"分類順!E1154","v":"医歯薬出版"},{"$f":"分類順!F1154","v":786},"子どものくすり安心ガイド　第２版医療の本Gk：こどもの健康日本外来小児科学会医歯薬出版",1,{"$f":"VLOOKUP(\"*\"&目次加工!$B$2&\"*\",J1155:K1155,2,0)","v":1},{"$error":"#N/A"}]
[null,null,null,{"$f":"分類順!A1155","v":"小児・ヤング糖尿病－のびのびしっかりサポ"},{"$f":"分類順!B1155","v":"医療の本"},{"$f":"分類順!C1155","v":"Gk：こどもの健康"},{"$f":"分類順!D1155","v":"内潟　安子　著"},{"$f":"分類順!E1155","v":"シービーアール"},{"$f":"分類順!F1155","v":789},"小児・ヤング糖尿病－のびのびしっかりサポ医療の本Gk：こどもの健康内潟　安子　著シービーアール",1,{"$f":"VLOOKUP(\"*\"&目次加工!$B$2&\"*\",J1156:K1156,2,0)","v":1},{"$f":"VLOOKUP(\"*\"&$A$2&\"*\",J1156:K1156,2,0)","v":{"$error":"#N/A"}}]
[null,null,null,{"$f":"分類順!A1156","v":"小児急性中耳炎診療ガイドライン ２００９年版"},{"$f":"分類順!B1156","v":"医療の本"},{"$f":"分類順!C1156","v":"Gk：こどもの健康"},{"$f":"分類順!D1156","v":0},{"$f":"分類順!E1156","v":"金原出版"},{"$f":"分類順!F1156","v":794},"小児急性中耳炎診療ガイドライン ２００９年版医療の本Gk：こどもの健康0金原出版",1,{"$f":"VLOOKUP(\"*\"&目次加工!$B$2&\"*\",J1157:K1157,2,0)","v":1},1]
[null,null,null,{"$f":"分類順!A1157","v":"小児救急のおとし穴"},{"$f":"分類順!B1157","v":"医療の本"},{"$f":"分類順!C1157","v":"Gk：こどもの健康"},{"$f":"分類順!D1157","v":"市川　光太郎　著"},{"$f":"分類順!E1157","v":"シービーアール"},{"$f":"分類順!F1157","v":796},"小児救急のおとし穴医療の本Gk：こどもの健康市川　光太郎　著シービーアール",1,{"$f":"VLOOKUP(\"*\"&目次加工!$B$2&\"*\",J1158:K1158,2,0)","v":1},{"$error":"#N/A"}]
[null,null,null,{"$f":"分類順!A1158","v":"小児初期救急診療ガイドブック"},{"$f":"分類順!B1158","v":"医療の本"},{"$f":"分類順!C1158","v":"Gk：こどもの健康"},{"$f":"分類順!D1158","v":"柳澤　正義"},{"$f":"分類順!E1158","v":"へるす出版"},{"$f":"分類順!F1158","v":798},"小児初期救急診療ガイドブック医療の本Gk：こどもの健康柳澤　正義へるす出版",1,{"$f":"VLOOKUP(\"*\"&目次加工!$B$2&\"*\",J1159:K1159,2,0)","v":1},{"$error":"#N/A"}]
[null,null,null,{"$f":"分類順!A1159","v":"小児白血病・リンパ腫の診療ガイドライン　２００７年版"},{"$f":"分類順!B1159","v":"医療の本"},{"$f":"分類順!C1159","v":"Gk：こどもの健康"},{"$f":"分類順!D1159","v":0},{"$f":"分類順!E1159","v":"金原出版"},{"$f":"分類順!F1159","v":799},"小児白血病・リンパ腫の診療ガイドライン　２００７年版医療の本Gk：こどもの健康0金原出版",1,{"$f":"VLOOKUP(\"*\"&目次加工!$B$2&\"*\",J1160:K1160,2,0)","v":1},1]
[null,null,null,{"$f":"分類順!A1160","v":"成長障害のマネジメント　改訂版"},{"$f":"分類順!B1160","v":"医療の本"},{"$f":"分類順!C1160","v":"Gk：こどもの健康"},{"$f":"分類順!D1160","v":"藤枝　憲二　編"},{"$f":"分類順!E1160","v":"医薬ジャーナル社"},{"$f":"分類順!F1160","v":801},"成長障害のマネジメント　改訂版医療の本Gk：こどもの健康藤枝　憲二　編医薬ジャーナル社",1,{"$f":"VLOOKUP(\"*\"&目次加工!$B$2&\"*\",J1161:K1161,2,0)","v":1},{"$error":"#N/A"}]
[null,null,null,{"$f":"分類順!A1161","v":"先生と保護者のための子どもアレルギー百科"},{"$f":"分類順!B1161","v":"医療の本"},{"$f":"分類順!C1161","v":"Gk：こどもの健康"},{"$f":"分類順!D1161","v":"向山　徳子　著"},{"$f":"分類順!E1161","v":"少年写真新聞社"},{"$f":"分類順!F1161","v":803},"先生と保護者のための子どもアレルギー百科医療の本Gk：こどもの健康向山　徳子　著少年写真新聞社",1,{"$f":"VLOOKUP(\"*\"&目次加工!$B$2&\"*\",J1162:K1162,2,0)","v":1},{"$error":"#N/A"}]
[null,null,null,{"$f":"分類順!A1162","v":"特別支援教育のための精神・神経医学"},{"$f":"分類順!B1162","v":"医療の本"},{"$f":"分類順!C1162","v":"Gk：こどもの健康"},{"$f":"分類順!D1162","v":"杉山　登志郎　他"},{"$f":"分類順!E1162","v":"学習研究社"},{"$f":"分類順!F1162","v":804},"特別支援教育のための精神・神経医学医療の本Gk：こどもの健康杉山　登志郎　他学習研究社",1,{"$f":"VLOOKUP(\"*\"&目次加工!$B$2&\"*\",J1163:K1163,2,0)","v":1},{"$error":"#N/A"}]
[null,null,null,{"$f":"分類順!A1163","v":"乳幼児の摂食指導　お母さんの疑問にこたえ"},{"$f":"分類順!B1163","v":"医療の本"},{"$f":"分類順!C1163","v":"Gk：こどもの健康"},{"$f":"分類順!D1163","v":"向井　美惠　編著"},{"$f":"分類順!E1163","v":"医歯薬出版"},{"$f":"分類順!F1163","v":805},"乳幼児の摂食指導　お母さんの疑問にこたえ医療の本Gk：こどもの健康向井　美惠　編著医歯薬出版",1,{"$f":"VLOOKUP(\"*\"&目次加工!$B$2&\"*\",J1164:K1164,2,0)","v":1},{"$error":"#N/A"}]
[null,null,null,{"$f":"分類順!A1164","v":"予防接種へ行く前に　改訂版　受けるこども"},{"$f":"分類順!B1164","v":"医療の本"},{"$f":"分類順!C1164","v":"Gk：こどもの健康"},{"$f":"分類順!D1164","v":"毛利　子来　編集代表"},{"$f":"分類順!E1164","v":"ジャパンマシニスト社"},{"$f":"分類順!F1164","v":806},"予防接種へ行く前に　改訂版　受けるこども医療の本Gk：こどもの健康毛利　子来　編集代表ジャパンマシニスト社",1,{"$f":"VLOOKUP(\"*\"&目次加工!$B$2&\"*\",J1165:K1165,2,0)","v":1},{"$error":"#N/A"}]
[null,null,null,{"$f":"分類順!A1165","v":"０５　食物アレルギー診療ガイドライン"},{"$f":"分類順!B1165","v":"医療の本"},{"$f":"分類順!C1165","v":"Gk：こどもの健康"},{"$f":"分類順!D1165","v":"向山　徳子　監修"},{"$f":"分類順!E1165","v":"協和企画"},{"$f":"分類順!F1165","v":807},"０５　食物アレルギー診療ガイドライン医療の本Gk：こどもの健康向山　徳子　監修協和企画",1,{"$f":"VLOOKUP(\"*\"&目次加工!$B$2&\"*\",J1166:K1166,2,0)","v":1},{"$error":"#N/A"}]
[null,null,null,{"$f":"分類順!A1166","v":"アレルギーっ子の生活百科　第３版"},{"$f":"分類順!B1166","v":"医療の本"},{"$f":"分類順!C1166","v":"Gk：こどもの健康"},{"$f":"分類順!D1166","v":"角田　和彦　著"},{"$f":"分類順!E1166","v":"近代出版"},{"$f":"分類順!F1166","v":810},"アレルギーっ子の生活百科　第３版医療の本Gk：こどもの健康角田　和彦　著近代出版",1,{"$f":"VLOOKUP(\"*\"&目次加工!$B$2&\"*\",J1167:K1167,2,0)","v":1},{"$error":"#N/A"}]
[null,null,null,{"$f":"分類順!A1167","v":"やさしいアトピー予防の自己管理"},{"$f":"分類順!B1167","v":"医療の本"},{"$f":"分類順!C1167","v":"Gk：こどもの健康"},{"$f":"分類順!D1167","v":"岸田　勝　著"},{"$f":"分類順!E1167","v":"医薬ジャーナル社"},{"$f":"分類順!F1167","v":811},"やさしいアトピー予防の自己管理医療の本Gk：こどもの健康岸田　勝　著医薬ジャーナル社",1,{"$f":"VLOOKUP(\"*\"&目次加工!$B$2&\"*\",J1168:K1168,2,0)","v":1},{"$error":"#N/A"}]
[null,null,null,{"$f":"分類順!A1168","v":"食物アレルギーハンドブック"},{"$f":"分類順!B1168","v":"医療の本"},{"$f":"分類順!C1168","v":"Gk：こどもの健康"},{"$f":"分類順!D1168","v":"向山　徳子　他監修"},{"$f":"分類順!E1168","v":"協和企画"},{"$f":"分類順!F1168","v":814},"食物アレルギーハンドブック医療の本Gk：こどもの健康向山　徳子　他監修協和企画",1,{"$f":"VLOOKUP(\"*\"&目次加工!$B$2&\"*\",J1169:K1169,2,0)","v":1},{"$error":"#N/A"}]
[null,null,null,{"$f":"分類順!A1169","v":"小児がん病棟の子どもたち"},{"$f":"分類順!B1169","v":"医療の本"},{"$f":"分類順!C1169","v":"Gk：こどもの健康"},{"$f":"分類順!D1169","v":"田代順"},{"$f":"分類順!E1169","v":"青弓社"},{"$f":"分類順!F1169","v":5323},"小児がん病棟の子どもたち医療の本Gk：こどもの健康田代順青弓社",1,{"$f":"VLOOKUP(\"*\"&目次加工!$B$2&\"*\",J1170:K1170,2,0)","v":1},{"$error":"#N/A"}]
[null,null,null,{"$f":"分類順!A1170","v":"臨床家が知っておきたい「子どもの精神科」"},{"$f":"分類順!B1170","v":"医療の本"},{"$f":"分類順!C1170","v":"Gk：こどもの健康"},{"$f":"分類順!D1170","v":"佐藤泰三/市川宏伸編集"},{"$f":"分類順!E1170","v":"医学書院"},{"$f":"分類順!F1170","v":5327},{"$f":"D1171&E1171&F1171&G1171&H1171","v":"臨床家が知っておきたい「子どもの精神科」医療の本Gk：こどもの健康佐藤泰三/市川宏伸編集医学書院"},1,{"$f":"VLOOKUP(\"*\"&目次加工!$B$2&\"*\",J1171:K1171,2,0)","v":1},{"$error":"#N/A"}]
[null,null,null,{"$f":"分類順!A1171","v":"光とともに・・・　－自閉症児を抱えて-①"},{"$f":"分類順!B1171","v":"一般図書"},{"$f":"分類順!C1171","v":"Gk：こどもの健康"},{"$f":"分類順!D1171","v":"戸部けいこ"},{"$f":"分類順!E1171","v":"秋田書店"},{"$f":"分類順!F1171","v":5329},"光とともに・・・　－自閉症児を抱えて-①一般図書Gk：こどもの健康戸部けいこ秋田書店",1,{"$f":"VLOOKUP(\"*\"&目次加工!$B$2&\"*\",J1172:K1172,2,0)","v":1},{"$error":"#N/A"}]
[null,null,null,{"$f":"分類順!A1172","v":"光とともに・・・　－自閉症児を抱えて-②"},{"$f":"分類順!B1172","v":"一般図書"},{"$f":"分類順!C1172","v":"Gk：こどもの健康"},{"$f":"分類順!D1172","v":"戸部けいこ"},{"$f":"分類順!E1172","v":"秋田書店"},{"$f":"分類順!F1172","v":5330},"光とともに・・・　－自閉症児を抱えて-②一般図書Gk：こどもの健康戸部けいこ秋田書店",1,{"$f":"VLOOKUP(\"*\"&目次加工!$B$2&\"*\",J1173:K1173,2,0)","v":1},{"$error":"#N/A"}]
[null,null,null,{"$f":"分類順!A1173","v":"光とともに・・・　－自閉症児を抱えて-③"},{"$f":"分類順!B1173","v":"一般図書"},{"$f":"分類順!C1173","v":"Gk：こどもの健康"},{"$f":"分類順!D1173","v":"戸部けいこ"},{"$f":"分類順!E1173","v":"秋田書店"},{"$f":"分類順!F1173","v":5331},"光とともに・・・　－自閉症児を抱えて-③一般図書Gk：こどもの健康戸部けいこ秋田書店",1,{"$f":"VLOOKUP(\"*\"&目次加工!$B$2&\"*\",J1174:K1174,2,0)","v":1},{"$error":"#N/A"}]
[null,null,null,{"$f":"分類順!A1174","v":"光とともに・・・　－自閉症児を抱えて-④"},{"$f":"分類順!B1174","v":"一般図書"},{"$f":"分類順!C1174","v":"Gk：こどもの健康"},{"$f":"分類順!D1174","v":"戸部けいこ"},{"$f":"分類順!E1174","v":"秋田書店"},{"$f":"分類順!F1174","v":5332},"光とともに・・・　－自閉症児を抱えて-④一般図書Gk：こどもの健康戸部けいこ秋田書店",1,{"$f":"VLOOKUP(\"*\"&目次加工!$B$2&\"*\",J1175:K1175,2,0)","v":1},{"$error":"#N/A"}]
[null,null,null,{"$f":"分類順!A1175","v":"小児白血病・リンパ腫の診療ガイドライン 2011年版"},{"$f":"分類順!B1175","v":"医療の本"},{"$f":"分類順!C1175","v":"Gk：こどもの健康"},{"$f":"分類順!D1175","v":"日本小児血液学会　編集"},{"$f":"分類順!E1175","v":"ワニブックス"},{"$f":"分類順!F1175","v":5342},"小児白血病・リンパ腫の診療ガイドライン 2011年版医療の本Gk：こどもの健康日本小児血液学会　編集ワニブックス",1,{"$f":"VLOOKUP(\"*\"&目次加工!$B$2&\"*\",J1176:K1176,2,0)","v":1},1]
[null,null,null,{"$f":"分類順!A1176","v":"新・予防接種へ行く前に "},{"$f":"分類順!B1176","v":"医療の本"},{"$f":"分類順!C1176","v":"Gk：こどもの健康"},{"$f":"分類順!D1176","v":"ﾜｸﾁﾝﾄｰｸ全国「新予防接種へ行く前に」編集委員会 編集"},{"$f":"分類順!E1176","v":"ジャパンマシニスト社"},{"$f":"分類順!F1176","v":5343},"新・予防接種へ行く前に 医療の本Gk：こどもの健康ﾜｸﾁﾝﾄｰｸ全国「新予防接種へ行く前に」編集委員会 編集ジャパンマシニスト社",1,{"$f":"VLOOKUP(\"*\"&目次加工!$B$2&\"*\",J1177:K1177,2,0)","v":1},{"$error":"#N/A"}]
[null,null,null,{"$f":"分類順!A1177","v":"新版　ひきつけ・けいれんは小児てんかんを疑え"},{"$f":"分類順!B1177","v":"医療の本"},{"$f":"分類順!C1177","v":"Gk：こどもの健康"},{"$f":"分類順!D1177","v":"金澤　治　著"},{"$f":"分類順!E1177","v":"講談社"},{"$f":"分類順!F1177","v":5380},"新版　ひきつけ・けいれんは小児てんかんを疑え医療の本Gk：こどもの健康金澤　治　著講談社",1,{"$f":"VLOOKUP(\"*\"&目次加工!$B$2&\"*\",J1178:K1178,2,0)","v":1},{"$error":"#N/A"}]
[null,null,null,{"$f":"分類順!A1178","v":"子どもの救急相談対応ガイド―子どもの急な病気と事故 こんなときどうするの?"},{"$f":"分類順!B1178","v":"医療の本"},{"$f":"分類順!C1178","v":"Gk：こどもの健康"},{"$f":"分類順!D1178","v":"平林優子　監修"},{"$f":"分類順!E1178","v":"へるす出版 "},{"$f":"分類順!F1178","v":5381},"子どもの救急相談対応ガイド―子どもの急な病気と事故 こんなときどうするの?医療の本Gk：こどもの健康平林優子　監修へるす出版 ",1,{"$f":"VLOOKUP(\"*\"&目次加工!$B$2&\"*\",J1179:K1179,2,0)","v":1},{"$error":"#N/A"}]
[null,null,null,{"$f":"分類順!A1179","v":"発達って、障害ってなんだろう?"},{"$f":"分類順!B1179","v":"医療の本"},{"$f":"分類順!C1179","v":"Gk：こどもの健康"},{"$f":"分類順!D1179","v":"日原 信彦　著"},{"$f":"分類順!E1179","v":"ミネルヴァ書房"},{"$f":"分類順!F1179","v":5382},"発達って、障害ってなんだろう?医療の本Gk：こどもの健康日原 信彦　著ミネルヴァ書房",1,{"$f":"VLOOKUP(\"*\"&目次加工!$B$2&\"*\",J1180:K1180,2,0)","v":1},{"$error":"#N/A"}]
[null,null,null,{"$f":"分類順!A1180","v":"十歳のきみへ―九十五歳のわたしから"},{"$f":"分類順!B1180","v":"医療の本"},{"$f":"分類順!C1180","v":"Gk：こどもの健康"},{"$f":"分類順!D1180","v":"日野原重明　著"},{"$f":"分類順!E1180","v":"冨山房インターナショナル"},{"$f":"分類順!F1180","v":5383},"十歳のきみへ―九十五歳のわたしから医療の本Gk：こどもの健康日野原重明　著冨山房インターナショナル",1,{"$f":"VLOOKUP(\"*\"&目次加工!$B$2&\"*\",J1181:K1181,2,0)","v":1},{"$error":"#N/A"}]
[null,null,null,{"$f":"分類順!A1181","v":"自分と子どもを放射能から守るには（日本語版特別編集）"},{"$f":"分類順!B1181","v":"医療の本"},{"$f":"分類順!C1181","v":"Gk：こどもの健康"},{"$f":"分類順!D1181","v":"ウラジーミル・バベンコ 著"},{"$f":"分類順!E1181","v":"世界文化社"},{"$f":"分類順!F1181","v":5384},"自分と子どもを放射能から守るには（日本語版特別編集）医療の本Gk：こどもの健康ウラジーミル・バベンコ 著世界文化社",1,{"$f":"VLOOKUP(\"*\"&目次加工!$B$2&\"*\",J1182:K1182,2,0)","v":1},{"$error":"#N/A"}]
[null,null,null,{"$f":"分類順!A1182","v":"世界一わかりやすい放射能の本当の話　子どもを守る編 "},{"$f":"分類順!B1182","v":"医療の本"},{"$f":"分類順!C1182","v":"Gk：こどもの健康"},{"$f":"分類順!D1182","v":"伊藤 隼也　監修"},{"$f":"分類順!E1182","v":"宝島社"},{"$f":"分類順!F1182","v":5385},"世界一わかりやすい放射能の本当の話　子どもを守る編 医療の本Gk：こどもの健康伊藤 隼也　監修宝島社",1,{"$f":"VLOOKUP(\"*\"&目次加工!$B$2&\"*\",J1183:K1183,2,0)","v":1},{"$error":"#N/A"}]
[null,null,null,{"$f":"分類順!A1183","v":"光とともに・・・　－自閉症児を抱えて-⑤"},{"$f":"分類順!B1183","v":"一般図書"},{"$f":"分類順!C1183","v":"Gk：こどもの健康"},{"$f":"分類順!D1183","v":"戸部けいこ"},{"$f":"分類順!E1183","v":"秋田書店"},{"$f":"分類順!F1183","v":5420},"光とともに・・・　－自閉症児を抱えて-⑤一般図書Gk：こどもの健康戸部けいこ秋田書店",1,{"$f":"VLOOKUP(\"*\"&目次加工!$B$2&\"*\",J1184:K1184,2,0)","v":1},{"$error":"#N/A"}]
[null,null,null,{"$f":"分類順!A1184","v":"光とともに・・・　－自閉症児を抱えて-⑥"},{"$f":"分類順!B1184","v":"一般図書"},{"$f":"分類順!C1184","v":"Gk：こどもの健康"},{"$f":"分類順!D1184","v":"戸部けいこ"},{"$f":"分類順!E1184","v":"秋田書店"},{"$f":"分類順!F1184","v":5429},"光とともに・・・　－自閉症児を抱えて-⑥一般図書Gk：こどもの健康戸部けいこ秋田書店",1,{"$f":"VLOOKUP(\"*\"&目次加工!$B$2&\"*\",J1185:K1185,2,0)","v":1},{"$error":"#N/A"}]
[null,null,null,{"$f":"分類順!A1185","v":"光とともに・・・　－自閉症児を抱えて-⑦"},{"$f":"分類順!B1185","v":"一般図書"},{"$f":"分類順!C1185","v":"Gk：こどもの健康"},{"$f":"分類順!D1185","v":"戸部けいこ"},{"$f":"分類順!E1185","v":"秋田書店"},{"$f":"分類順!F1185","v":5430},"光とともに・・・　－自閉症児を抱えて-⑦一般図書Gk：こどもの健康戸部けいこ秋田書店",1,{"$f":"VLOOKUP(\"*\"&目次加工!$B$2&\"*\",J1186:K1186,2,0)","v":1},{"$error":"#N/A"}]
[null,null,null,{"$f":"分類順!A1186","v":"光とともに・・・　－自閉症児を抱えて-⑧"},{"$f":"分類順!B1186","v":"一般図書"},{"$f":"分類順!C1186","v":"Gk：こどもの健康"},{"$f":"分類順!D1186","v":"戸部けいこ"},{"$f":"分類順!E1186","v":"秋田書店"},{"$f":"分類順!F1186","v":5431},"光とともに・・・　－自閉症児を抱えて-⑧一般図書Gk：こどもの健康戸部けいこ秋田書店",1,{"$f":"VLOOKUP(\"*\"&目次加工!$B$2&\"*\",J1187:K1187,2,0)","v":1},{"$error":"#N/A"}]
[null,null,null,{"$f":"分類順!A1187","v":"光とともに・・・　－自閉症児を抱えて-⑨"},{"$f":"分類順!B1187","v":"一般図書"},{"$f":"分類順!C1187","v":"Gk：こどもの健康"},{"$f":"分類順!D1187","v":"戸部けいこ"},{"$f":"分類順!E1187","v":"秋田書店"},{"$f":"分類順!F1187","v":5432},"光とともに・・・　－自閉症児を抱えて-⑨一般図書Gk：こどもの健康戸部けいこ秋田書店",1,{"$f":"VLOOKUP(\"*\"&目次加工!$B$2&\"*\",J1188:K1188,2,0)","v":1},{"$error":"#N/A"}]
[null,null,null,{"$f":"分類順!A1188","v":"光とともに・・・　－自閉症児を抱えて-⑩"},{"$f":"分類順!B1188","v":"一般図書"},{"$f":"分類順!C1188","v":"Gk：こどもの健康"},{"$f":"分類順!D1188","v":"戸部けいこ"},{"$f":"分類順!E1188","v":"秋田書店"},{"$f":"分類順!F1188","v":5433},"光とともに・・・　－自閉症児を抱えて-⑩一般図書Gk：こどもの健康戸部けいこ秋田書店",1,{"$f":"VLOOKUP(\"*\"&目次加工!$B$2&\"*\",J1189:K1189,2,0)","v":1},{"$error":"#N/A"}]
[null,null,null,{"$f":"分類順!A1189","v":"光とともに・・・　－自閉症児を抱えて-⑪"},{"$f":"分類順!B1189","v":"一般図書"},{"$f":"分類順!C1189","v":"Gk：こどもの健康"},{"$f":"分類順!D1189","v":"戸部けいこ"},{"$f":"分類順!E1189","v":"秋田書店"},{"$f":"分類順!F1189","v":5434},"光とともに・・・　－自閉症児を抱えて-⑪一般図書Gk：こどもの健康戸部けいこ秋田書店",1,{"$f":"VLOOKUP(\"*\"&目次加工!$B$2&\"*\",J1190:K1190,2,0)","v":1},{"$error":"#N/A"}]
[null,null,null,{"$f":"分類順!A1190","v":"光とともに・・・　－自閉症児を抱えて-⑫"},{"$f":"分類順!B1190","v":"一般図書"},{"$f":"分類順!C1190","v":"Gk：こどもの健康"},{"$f":"分類順!D1190","v":"戸部けいこ"},{"$f":"分類順!E1190","v":"秋田書店"},{"$f":"分類順!F1190","v":5435},"光とともに・・・　－自閉症児を抱えて-⑫一般図書Gk：こどもの健康戸部けいこ秋田書店",1,{"$f":"VLOOKUP(\"*\"&目次加工!$B$2&\"*\",J1191:K1191,2,0)","v":1},{"$error":"#N/A"}]
[null,null,null,{"$f":"分類順!A1191","v":"光とともに・・・　－自閉症児を抱えて-⑬"},{"$f":"分類順!B1191","v":"一般図書"},{"$f":"分類順!C1191","v":"Gk：こどもの健康"},{"$f":"分類順!D1191","v":"戸部けいこ"},{"$f":"分類順!E1191","v":"秋田書店"},{"$f":"分類順!F1191","v":5436},"光とともに・・・　－自閉症児を抱えて-⑬一般図書Gk：こどもの健康戸部けいこ秋田書店",1,{"$f":"VLOOKUP(\"*\"&目次加工!$B$2&\"*\",J1192:K1192,2,0)","v":1},{"$error":"#N/A"}]
[null,null,null,{"$f":"分類順!A1192","v":"光とともに・・・　－自閉症児を抱えて-⑭"},{"$f":"分類順!B1192","v":"一般図書"},{"$f":"分類順!C1192","v":"Gk：こどもの健康"},{"$f":"分類順!D1192","v":"戸部けいこ"},{"$f":"分類順!E1192","v":"秋田書店"},{"$f":"分類順!F1192","v":5437},"光とともに・・・　－自閉症児を抱えて-⑭一般図書Gk：こどもの健康戸部けいこ秋田書店",1,{"$f":"VLOOKUP(\"*\"&目次加工!$B$2&\"*\",J1193:K1193,2,0)","v":1},{"$error":"#N/A"}]
[null,null,null,{"$f":"分類順!A1193","v":"光とともに・・・　－自閉症児を抱えて-⑮"},{"$f":"分類順!B1193","v":"一般図書"},{"$f":"分類順!C1193","v":"Gk：こどもの健康"},{"$f":"分類順!D1193","v":"戸部けいこ"},{"$f":"分類順!E1193","v":"秋田書店"},{"$f":"分類順!F1193","v":5438},"光とともに・・・　－自閉症児を抱えて-⑮一般図書Gk：こどもの健康戸部けいこ秋田書店",1,{"$f":"VLOOKUP(\"*\"&目次加工!$B$2&\"*\",J1194:K1194,2,0)","v":1},{"$error":"#N/A"}]
[null,null,null,{"$f":"分類順!A1194","v":"2011年生まれ赤ちゃんの幸せ吉名事典"},{"$f":"分類順!B1194","v":"一般図書"},{"$f":"分類順!C1194","v":"Gk：こどもの健康"},{"$f":"分類順!D1194","v":"成田圭似"},{"$f":"分類順!E1194","v":"大泉書店"},{"$f":"分類順!F1194","v":5465},"2011年生まれ赤ちゃんの幸せ吉名事典一般図書Gk：こどもの健康成田圭似大泉書店",1,{"$f":"VLOOKUP(\"*\"&目次加工!$B$2&\"*\",J1195:K1195,2,0)","v":1},1]
[null,null,null,{"$f":"分類順!A1195","v":"よくわかる　小児の造血細胞移植"},{"$f":"分類順!B1195","v":"医療の本"},{"$f":"分類順!C1195","v":"Gk：こどもの健康"},{"$f":"分類順!D1195","v":"加藤俊一監修"},{"$f":"分類順!E1195","v":"医薬ジャーナル社"},{"$f":"分類順!F1195","v":5495},"よくわかる　小児の造血細胞移植医療の本Gk：こどもの健康加藤俊一監修医薬ジャーナル社",1,{"$f":"VLOOKUP(\"*\"&目次加工!$B$2&\"*\",J1196:K1196,2,0)","v":1},{"$error":"#N/A"}]
[null,null,null,{"$f":"分類順!A1196","v":"よくわかる小児がん経験者のためにより良い生活の質（ＱＯＬ）を求めて"},{"$f":"分類順!B1196","v":"医療の本"},{"$f":"分類順!C1196","v":"Gk：こどもの健康"},{"$f":"分類順!D1196","v":"加藤俊一監修"},{"$f":"分類順!E1196","v":"医薬ジャーナル社"},{"$f":"分類順!F1196","v":5496},"よくわかる小児がん経験者のためにより良い生活の質（ＱＯＬ）を求めて医療の本Gk：こどもの健康加藤俊一監修医薬ジャーナル社",1,{"$f":"VLOOKUP(\"*\"&目次加工!$B$2&\"*\",J1197:K1197,2,0)","v":1},{"$error":"#N/A"}]
[null,null,null,{"$f":"分類順!A1197","v":"子どもと家族のための小児がんガイドブック"},{"$f":"分類順!B1197","v":"医療の本"},{"$f":"分類順!C1197","v":"Gk：こどもの健康"},{"$f":"分類順!D1197","v":"加藤俊一監修"},{"$f":"分類順!E1197","v":"医薬ジャーナル社"},{"$f":"分類順!F1197","v":5497},"子どもと家族のための小児がんガイドブック医療の本Gk：こどもの健康加藤俊一監修医薬ジャーナル社",1,{"$f":"VLOOKUP(\"*\"&目次加工!$B$2&\"*\",J1198:K1198,2,0)","v":1},{"$error":"#N/A"}]
[null,null,null,{"$f":"分類順!A1198","v":"あなたの病気-小児脳腫瘍の治療-"},{"$f":"分類順!B1198","v":"医療の本"},{"$f":"分類順!C1198","v":"Gk：こどもの健康"},{"$f":"分類順!D1198","v":"小児脳腫瘍の会"},{"$f":"分類順!E1198","v":"小児脳腫瘍の会"},{"$f":"分類順!F1198","v":5533},"あなたの病気-小児脳腫瘍の治療-医療の本Gk：こどもの健康小児脳腫瘍の会小児脳腫瘍の会",1,{"$f":"VLOOKUP(\"*\"&目次加工!$B$2&\"*\",J1199:K1199,2,0)","v":1},{"$error":"#N/A"}]
[null,null,null,{"$f":"分類順!A1199","v":"種まく子供たち"},{"$f":"分類順!B1199","v":"医療の本"},{"$f":"分類順!C1199","v":"Gk：こどもの健康"},{"$f":"分類順!D1199","v":"佐藤律子"},{"$f":"分類順!E1199","v":"ポプラ社"},{"$f":"分類順!F1199","v":5541},"種まく子供たち医療の本Gk：こどもの健康佐藤律子ポプラ社",1,{"$f":"VLOOKUP(\"*\"&目次加工!$B$2&\"*\",J1200:K1200,2,0)","v":1},{"$error":"#N/A"}]
[null,null,null,{"$f":"分類順!A1200","v":"がんをもつ子どもの痛みからの解放とパリアティブ・ケア"},{"$f":"分類順!B1200","v":"医療の本"},{"$f":"分類順!C1200","v":"Gk：こどもの健康"},{"$f":"分類順!D1200","v":"世界保健機構"},{"$f":"分類順!E1200","v":"日本看護協会出版会"},{"$f":"分類順!F1200","v":5542},"がんをもつ子どもの痛みからの解放とパリアティブ・ケア医療の本Gk：こどもの健康世界保健機構日本看護協会出版会",1,{"$f":"VLOOKUP(\"*\"&目次加工!$B$2&\"*\",J1201:K1201,2,0)","v":1},{"$error":"#N/A"}]
[null,null,null,{"$f":"分類順!A1201","v":"こどもの腎炎・ネフローゼ"},{"$f":"分類順!B1201","v":"医療の本"},{"$f":"分類順!C1201","v":"Gk：こどもの健康"},{"$f":"分類順!D1201","v":"五十嵐隆"},{"$f":"分類順!E1201","v":"メディカルトリビューン"},{"$f":"分類順!F1201","v":5544},"こどもの腎炎・ネフローゼ医療の本Gk：こどもの健康五十嵐隆メディカルトリビューン",1,{"$f":"VLOOKUP(\"*\"&目次加工!$B$2&\"*\",J1202:K1202,2,0)","v":1},{"$error":"#N/A"}]
[null,null,null,{"$f":"分類順!A1202","v":"さよならプータ"},{"$f":"分類順!B1202","v":"医療の本"},{"$f":"分類順!C1202","v":"Gk：こどもの健康"},{"$f":"分類順!D1202","v":"福山隆"},{"$f":"分類順!E1202","v":"テイクツー"},{"$f":"分類順!F1202","v":5579},"さよならプータ医療の本Gk：こどもの健康福山隆テイクツー",1,{"$f":"VLOOKUP(\"*\"&目次加工!$B$2&\"*\",J1203:K1203,2,0)","v":1},{"$error":"#N/A"}]
[null,null,null,{"$f":"分類順!A1203","v":"障害と私たちの社会"},{"$f":"分類順!B1203","v":"医療の本"},{"$f":"分類順!C1203","v":"Gk：こどもの健康"},{"$f":"分類順!D1203","v":"茂木俊彦"},{"$f":"分類順!E1203","v":"大月書店"},{"$f":"分類順!F1203","v":5580},"障害と私たちの社会医療の本Gk：こどもの健康茂木俊彦大月書店",1,{"$f":"VLOOKUP(\"*\"&目次加工!$B$2&\"*\",J1204:K1204,2,0)","v":1},{"$error":"#N/A"}]
[null,null,null,{"$f":"分類順!A1204","v":"子どもへのまなざし"},{"$f":"分類順!B1204","v":"医療の本"},{"$f":"分類順!C1204","v":"Gk：こどもの健康"},{"$f":"分類順!D1204","v":"佐々木正美"},{"$f":"分類順!E1204","v":"福音館書店"},{"$f":"分類順!F1204","v":5581},"子どもへのまなざし医療の本Gk：こどもの健康佐々木正美福音館書店",1,{"$f":"VLOOKUP(\"*\"&目次加工!$B$2&\"*\",J1205:K1205,2,0)","v":1},{"$error":"#N/A"}]
[null,null,null,{"$f":"分類順!A1205","v":"こどもは未来である"},{"$f":"分類順!B1205","v":"医療の本"},{"$f":"分類順!C1205","v":"Gk：こどもの健康"},{"$f":"分類順!D1205","v":"小林登"},{"$f":"分類順!E1205","v":"メディサイエンス"},{"$f":"分類順!F1205","v":5582},"こどもは未来である医療の本Gk：こどもの健康小林登メディサイエンス",1,{"$f":"VLOOKUP(\"*\"&目次加工!$B$2&\"*\",J1206:K1206,2,0)","v":1},{"$error":"#N/A"}]
[null,null,null,{"$f":"分類順!A1206","v":"続こどもは未来である"},{"$f":"分類順!B1206","v":"医療の本"},{"$f":"分類順!C1206","v":"Gk：こどもの健康"},{"$f":"分類順!D1206","v":"小林登"},{"$f":"分類順!E1206","v":"メディサイエンス"},{"$f":"分類順!F1206","v":5583},"続こどもは未来である医療の本Gk：こどもの健康小林登メディサイエンス",1,{"$f":"VLOOKUP(\"*\"&目次加工!$B$2&\"*\",J1207:K1207,2,0)","v":1},{"$error":"#N/A"}]
[null,null,null,{"$f":"分類順!A1207","v":"遊び上手はしつけ上手【２歳児篇】"},{"$f":"分類順!B1207","v":"医療の本"},{"$f":"分類順!C1207","v":"Gk：こどもの健康"},{"$f":"分類順!D1207","v":"辻井正"},{"$f":"分類順!E1207","v":"同朋舎"},{"$f":"分類順!F1207","v":5584},"遊び上手はしつけ上手【２歳児篇】医療の本Gk：こどもの健康辻井正同朋舎",1,{"$f":"VLOOKUP(\"*\"&目次加工!$B$2&\"*\",J1208:K1208,2,0)","v":1},{"$error":"#N/A"}]
[null,null,null,{"$f":"分類順!A1208","v":"子どもの育ちと遊び"},{"$f":"分類順!B1208","v":"医療の本"},{"$f":"分類順!C1208","v":"Gk：こどもの健康"},{"$f":"分類順!D1208","v":"川村晴子"},{"$f":"分類順!E1208","v":"朱鷺書房"},{"$f":"分類順!F1208","v":5585},"子どもの育ちと遊び医療の本Gk：こどもの健康川村晴子朱鷺書房",1,{"$f":"VLOOKUP(\"*\"&目次加工!$B$2&\"*\",J1209:K1209,2,0)","v":1},{"$error":"#N/A"}]
[null,null,null,{"$f":"分類順!A1209","v":"小児がん病棟の子どもたち"},{"$f":"分類順!B1209","v":"医療の本"},{"$f":"分類順!C1209","v":"Gk：こどもの健康"},{"$f":"分類順!D1209","v":"田代順"},{"$f":"分類順!E1209","v":"青弓社"},{"$f":"分類順!F1209","v":5586},"小児がん病棟の子どもたち医療の本Gk：こどもの健康田代順青弓社",1,{"$f":"VLOOKUP(\"*\"&目次加工!$B$2&\"*\",J1210:K1210,2,0)","v":1},{"$error":"#N/A"}]
[null,null,null,{"$f":"分類順!A1210","v":"陽だまりの病室で"},{"$f":"分類順!B1210","v":"医療の本"},{"$f":"分類順!C1210","v":"Gk：こどもの健康"},{"$f":"分類順!D1210","v":"亀井智泉"},{"$f":"分類順!E1210","v":"メディカ出版"},{"$f":"分類順!F1210","v":5587},"陽だまりの病室で医療の本Gk：こどもの健康亀井智泉メディカ出版",1,{"$f":"VLOOKUP(\"*\"&目次加工!$B$2&\"*\",J1211:K1211,2,0)","v":1},{"$error":"#N/A"}]
[null,null,null,{"$f":"分類順!A1211","v":"種まく子供たち"},{"$f":"分類順!B1211","v":"医療の本"},{"$f":"分類順!C1211","v":"Gk：こどもの健康"},{"$f":"分類順!D1211","v":"佐藤律子"},{"$f":"分類順!E1211","v":"ポプラ社"},{"$f":"分類順!F1211","v":5588},"種まく子供たち医療の本Gk：こどもの健康佐藤律子ポプラ社",1,{"$f":"VLOOKUP(\"*\"&目次加工!$B$2&\"*\",J1212:K1212,2,0)","v":1},{"$error":"#N/A"}]
[null,null,null,{"$f":"分類順!A1212","v":"種まく子供たち"},{"$f":"分類順!B1212","v":"医療の本"},{"$f":"分類順!C1212","v":"Gk：こどもの健康"},{"$f":"分類順!D1212","v":"佐藤律子"},{"$f":"分類順!E1212","v":"ポプラ社"},{"$f":"分類順!F1212","v":5589},"種まく子供たち医療の本Gk：こどもの健康佐藤律子ポプラ社",1,{"$f":"VLOOKUP(\"*\"&目次加工!$B$2&\"*\",J1213:K1213,2,0)","v":1},{"$error":"#N/A"}]
[null,null,null,{"$f":"分類順!A1213","v":"小児病棟の四季"},{"$f":"分類順!B1213","v":"医療の本"},{"$f":"分類順!C1213","v":"Gk：こどもの健康"},{"$f":"分類順!D1213","v":"細谷亮太"},{"$f":"分類順!E1213","v":"岩波書店"},{"$f":"分類順!F1213","v":5590},"小児病棟の四季医療の本Gk：こどもの健康細谷亮太岩波書店",1,{"$f":"VLOOKUP(\"*\"&目次加工!$B$2&\"*\",J1214:K1214,2,0)","v":1},{"$error":"#N/A"}]
[null,null,null,{"$f":"分類順!A1214","v":"がんばれば、幸せになれるよ"},{"$f":"分類順!B1214","v":"医療の本"},{"$f":"分類順!C1214","v":"Gk：こどもの健康"},{"$f":"分類順!D1214","v":"山﨑敏子"},{"$f":"分類順!E1214","v":"小学館"},{"$f":"分類順!F1214","v":5591},"がんばれば、幸せになれるよ医療の本Gk：こどもの健康山﨑敏子小学館",1,{"$f":"VLOOKUP(\"*\"&目次加工!$B$2&\"*\",J1215:K1215,2,0)","v":1},{"$error":"#N/A"}]
[null,null,null,{"$f":"分類順!A1215","v":"子どもの性"},{"$f":"分類順!B1215","v":"医療の本"},{"$f":"分類順!C1215","v":"Gk：こどもの健康"},{"$f":"分類順!D1215","v":"山本直英"},{"$f":"分類順!E1215","v":"大月書店"},{"$f":"分類順!F1215","v":5593},"子どもの性医療の本Gk：こどもの健康山本直英大月書店",1,{"$f":"VLOOKUP(\"*\"&目次加工!$B$2&\"*\",J1216:K1216,2,0)","v":1},{"$error":"#N/A"}]
[null,null,null,{"$f":"分類順!A1216","v":"うれしかった言葉悲しかったことば"},{"$f":"分類順!B1216","v":"医療の本"},{"$f":"分類順!C1216","v":"Gk：こどもの健康"},{"$f":"分類順!D1216","v":"麦の会こえだより編集委員会"},{"$f":"分類順!E1216","v":"海鳥社"},{"$f":"分類順!F1216","v":5594},"うれしかった言葉悲しかったことば医療の本Gk：こどもの健康麦の会こえだより編集委員会海鳥社",1,{"$f":"VLOOKUP(\"*\"&目次加工!$B$2&\"*\",J1217:K1217,2,0)","v":1},{"$error":"#N/A"}]
[null,null,null,{"$f":"分類順!A1217","v":"こどものうつ心の叫び"},{"$f":"分類順!B1217","v":"医療の本"},{"$f":"分類順!C1217","v":"Gk：こどもの健康"},{"$f":"分類順!D1217","v":"傳田健三"},{"$f":"分類順!E1217","v":"講談社"},{"$f":"分類順!F1217","v":5595},"こどものうつ心の叫び医療の本Gk：こどもの健康傳田健三講談社",1,{"$f":"VLOOKUP(\"*\"&目次加工!$B$2&\"*\",J1218:K1218,2,0)","v":1},{"$error":"#N/A"}]
[null,null,null,{"$f":"分類順!A1218","v":"「死んだらどうなるの？ミスター・シリー」"},{"$f":"分類順!B1218","v":"医療の本"},{"$f":"分類順!C1218","v":"Gk：こどもの健康"},{"$f":"分類順!D1218","v":"テッド・メンテン"},{"$f":"分類順!E1218","v":"人間と歴史社"},{"$f":"分類順!F1218","v":5596},"「死んだらどうなるの？ミスター・シリー」医療の本Gk：こどもの健康テッド・メンテン人間と歴史社",1,{"$f":"VLOOKUP(\"*\"&目次加工!$B$2&\"*\",J1219:K1219,2,0)","v":1},{"$error":"#N/A"}]
[null,null,null,{"$f":"分類順!A1219","v":"「死んだらどうなるの？ミスター・シリー」"},{"$f":"分類順!B1219","v":"医療の本"},{"$f":"分類順!C1219","v":"Gk：こどもの健康"},{"$f":"分類順!D1219","v":"テッド・メンテン"},{"$f":"分類順!E1219","v":"人間と歴史社"},{"$f":"分類順!F1219","v":5597},"「死んだらどうなるの？ミスター・シリー」医療の本Gk：こどもの健康テッド・メンテン人間と歴史社",1,{"$f":"VLOOKUP(\"*\"&目次加工!$B$2&\"*\",J1220:K1220,2,0)","v":1},{"$f":"VLOOKUP(\"*\"&$A$2&\"*\",J1220:K1220,2,0)","v":{"$error":"#N/A"}}]
[null,null,null,{"$f":"分類順!A1220","v":"あのね"},{"$f":"分類順!B1220","v":"医療の本"},{"$f":"分類順!C1220","v":"Gk：こどもの健康"},{"$f":"分類順!D1220","v":"朝日新聞学芸部"},{"$f":"分類順!E1220","v":"朝日新聞出版"},{"$f":"分類順!F1220","v":5598},"あのね医療の本Gk：こどもの健康朝日新聞学芸部朝日新聞出版",1,{"$f":"VLOOKUP(\"*\"&目次加工!$B$2&\"*\",J1221:K1221,2,0)","v":1},{"$error":"#N/A"}]
[null,null,null,{"$f":"分類順!A1221","v":"小児病棟の子どもたち"},{"$f":"分類順!B1221","v":"医療の本"},{"$f":"分類順!C1221","v":"Gk：こどもの健康"},{"$f":"分類順!D1221","v":"向井承子"},{"$f":"分類順!E1221","v":"晶文社"},{"$f":"分類順!F1221","v":5600},"小児病棟の子どもたち医療の本Gk：こどもの健康向井承子晶文社",1,{"$f":"VLOOKUP(\"*\"&目次加工!$B$2&\"*\",J1222:K1222,2,0)","v":1},{"$error":"#N/A"}]
[null,null,null,{"$f":"分類順!A1222","v":"こどもの感染症　予防のしかた・治しかた"},{"$f":"分類順!B1222","v":"医療の本"},{"$f":"分類順!C1222","v":"Gk：こどもの健康"},{"$f":"分類順!D1222","v":"金子光延"},{"$f":"分類順!E1222","v":"講談社"},{"$f":"分類順!F1222","v":5644},"こどもの感染症　予防のしかた・治しかた医療の本Gk：こどもの健康金子光延講談社",1,{"$f":"VLOOKUP(\"*\"&目次加工!$B$2&\"*\",J1223:K1223,2,0)","v":1},{"$error":"#N/A"}]
[null,null,null,{"$f":"分類順!A1223","v":"お母さんに伝えたい子どもの病気 ホームケアガイド　第３版"},{"$f":"分類順!B1223","v":"医療の本"},{"$f":"分類順!C1223","v":"Gk：こどもの健康"},{"$f":"分類順!D1223","v":"日本外来小児科学会"},{"$f":"分類順!E1223","v":"医歯薬出版"},{"$f":"分類順!F1223","v":5645},"お母さんに伝えたい子どもの病気 ホームケアガイド　第３版医療の本Gk：こどもの健康日本外来小児科学会医歯薬出版",1,{"$f":"VLOOKUP(\"*\"&目次加工!$B$2&\"*\",J1224:K1224,2,0)","v":1},{"$error":"#N/A"}]
[null,null,null,{"$f":"分類順!A1224","v":"こどもの心臓病と手術"},{"$f":"分類順!B1224","v":"医療の本"},{"$f":"分類順!C1224","v":"Gk：こどもの健康"},{"$f":"分類順!D1224","v":"立石実"},{"$f":"分類順!E1224","v":"メディカ出版"},{"$f":"分類順!F1224","v":5647},"こどもの心臓病と手術医療の本Gk：こどもの健康立石実メディカ出版",1,{"$f":"VLOOKUP(\"*\"&目次加工!$B$2&\"*\",J1225:K1225,2,0)","v":1},{"$error":"#N/A"}]
[null,null,null,{"$f":"分類順!A1225","v":"お母さんのためのワクチン接種ガイド改訂版"},{"$f":"分類順!B1225","v":"医療の本"},{"$f":"分類順!C1225","v":"Gk：こどもの健康"},{"$f":"分類順!D1225","v":"薗部友良"},{"$f":"分類順!E1225","v":"日経メディカル開発"},{"$f":"分類順!F1225","v":5648},"お母さんのためのワクチン接種ガイド改訂版医療の本Gk：こどもの健康薗部友良日経メディカル開発",1,{"$f":"VLOOKUP(\"*\"&目次加工!$B$2&\"*\",J1226:K1226,2,0)","v":1},{"$error":"#N/A"}]
[null,null,null,{"$f":"分類順!A1226","v":"小児糖尿病・ヤング糖尿病"},{"$f":"分類順!B1226","v":"医療の本"},{"$f":"分類順!C1226","v":"Gk：こどもの健康"},{"$f":"分類順!D1226","v":"田嶼尚子"},{"$f":"分類順!E1226","v":"主婦の友社"},{"$f":"分類順!F1226","v":8015},"小児糖尿病・ヤング糖尿病医療の本Gk：こどもの健康田嶼尚子主婦の友社",1,{"$f":"VLOOKUP(\"*\"&目次加工!$B$2&\"*\",J1227:K1227,2,0)","v":1},{"$error":"#N/A"}]
[null,null,null,{"$f":"分類順!A1227","v":"お母さんのためのやさしい小児喘息のおは★医療の本★"},{"$f":"分類順!B1227","v":"医療の本"},{"$f":"分類順!C1227","v":"Gk：こどもの健康"},{"$f":"分類順!D1227","v":"森川昭廣・望月博之　著"},{"$f":"分類順!E1227","v":"医薬ジャーナル社"},{"$f":"分類順!F1227","v":8026},"お母さんのためのやさしい小児喘息のおは★医療の本★医療の本Gk：こどもの健康森川昭廣・望月博之　著医薬ジャーナル社",1,{"$f":"VLOOKUP(\"*\"&目次加工!$B$2&\"*\",J1228:K1228,2,0)","v":1},{"$error":"#N/A"}]
[null,null,null,{"$f":"分類順!A1228","v":"患者と家族のための川崎病Q&A"},{"$f":"分類順!B1228","v":"医療の本"},{"$f":"分類順!C1228","v":"Gk：こどもの健康"},{"$f":"分類順!D1228","v":"原田研介"},{"$f":"分類順!E1228","v":"ライフサイエンス出版"},{"$f":"分類順!F1228","v":8040},"患者と家族のための川崎病Q&A医療の本Gk：こどもの健康原田研介ライフサイエンス出版",1,{"$f":"VLOOKUP(\"*\"&目次加工!$B$2&\"*\",J1229:K1229,2,0)","v":1},{"$error":"#N/A"}]
[null,null,null,{"$f":"分類順!A1229","v":"ホップステップ　食物アレルギー教室"},{"$f":"分類順!B1229","v":"医療の本"},{"$f":"分類順!C1229","v":"Gk：こどもの健康"},{"$f":"分類順!D1229","v":"柴田瑠美子、伊藤和枝"},{"$f":"分類順!E1229","v":"南江堂"},{"$f":"分類順!F1229","v":8062},"ホップステップ　食物アレルギー教室医療の本Gk：こどもの健康柴田瑠美子、伊藤和枝南江堂",1,{"$f":"VLOOKUP(\"*\"&目次加工!$B$2&\"*\",J1230:K1230,2,0)","v":1},{"$error":"#N/A"}]
[null,null,null,{"$f":"分類順!A1230","v":"ふしぎだね！？アスペルガー症候群のおともだち"},{"$f":"分類順!B1230","v":"医療の本"},{"$f":"分類順!C1230","v":"Gk：こどもの健康"},{"$f":"分類順!D1230","v":"内山登紀夫"},{"$f":"分類順!E1230","v":"ミネルヴァ書房"},{"$f":"分類順!F1230","v":8103},"ふしぎだね！？アスペルガー症候群のおともだち医療の本Gk：こどもの健康内山登紀夫ミネルヴァ書房",1,{"$f":"VLOOKUP(\"*\"&目次加工!$B$2&\"*\",J1231:K1231,2,0)","v":1},{"$error":"#N/A"}]
[null,null,null,{"$f":"分類順!A1231","v":"ＡＤ／ＨＤ、ＬＤがある子どもを育てる本"},{"$f":"分類順!B1231","v":"医療の本"},{"$f":"分類順!C1231","v":"Gk：こどもの健康"},{"$f":"分類順!D1231","v":"月森久江"},{"$f":"分類順!E1231","v":"講談社"},{"$f":"分類順!F1231","v":8117},"ＡＤ／ＨＤ、ＬＤがある子どもを育てる本医療の本Gk：こどもの健康月森久江講談社",1,{"$f":"VLOOKUP(\"*\"&目次加工!$B$2&\"*\",J1232:K1232,2,0)","v":1},{"$error":"#N/A"}]
[null,null,null,{"$f":"分類順!A1232","v":"電池が切れるまで"},{"$f":"分類順!B1232","v":"一般図書"},{"$f":"分類順!C1232","v":"Gk：こどもの健康"},{"$f":"分類順!D1232","v":"すずらんの会"},{"$f":"分類順!E1232","v":"角川文庫"},{"$f":"分類順!F1232","v":10003},"電池が切れるまで一般図書Gk：こどもの健康すずらんの会角川文庫",1,{"$f":"VLOOKUP(\"*\"&目次加工!$B$2&\"*\",J1233:K1233,2,0)","v":1},{"$error":"#N/A"}]
[null,null,null,{"$f":"分類順!A1233","v":"食物アレルギー診療ガイドライン　２０１２"},{"$f":"分類順!B1233","v":"医療の本"},{"$f":"分類順!C1233","v":"Gk：こどもの健康"},{"$f":"分類順!D1233","v":"日本小児ｱﾚﾙｷﾞｰ学会"},{"$f":"分類順!E1233","v":"協和企画"},{"$f":"分類順!F1233","v":10020},"食物アレルギー診療ガイドライン　２０１２医療の本Gk：こどもの健康日本小児ｱﾚﾙｷﾞｰ学会協和企画",1,{"$f":"VLOOKUP(\"*\"&目次加工!$B$2&\"*\",J1234:K1234,2,0)","v":1},{"$error":"#N/A"}]
[null,null,null,{"$f":"分類順!A1234","v":"離乳食大百科"},{"$f":"分類順!B1234","v":"医療の本"},{"$f":"分類順!C1234","v":"Gk：こどもの健康"},{"$f":"分類順!D1234","v":"小池澄子"},{"$f":"分類順!E1234","v":"学研"},{"$f":"分類順!F1234","v":10021},{"$f":"D1235&E1235&F1235&G1235&H1235","v":"離乳食大百科医療の本Gk：こどもの健康小池澄子学研"},1,{"$f":"VLOOKUP(\"*\"&目次加工!$B$2&\"*\",J1235:K1235,2,0)","v":1},{"$error":"#N/A"}]
[null,null,null,{"$f":"分類順!A1235","v":"はじめての離乳食"},{"$f":"分類順!B1235","v":"医療の本"},{"$f":"分類順!C1235","v":"Gk：こどもの健康"},{"$f":"分類順!D1235","v":"小池澄子"},{"$f":"分類順!E1235","v":"学研"},{"$f":"分類順!F1235","v":10022},"はじめての離乳食医療の本Gk：こどもの健康小池澄子学研",1,{"$f":"VLOOKUP(\"*\"&目次加工!$B$2&\"*\",J1236:K1236,2,0)","v":1},{"$error":"#N/A"}]
[null,null,null,{"$f":"分類順!A1236","v":"ステップアップ離乳食"},{"$f":"分類順!B1236","v":"医療の本"},{"$f":"分類順!C1236","v":"Gk：こどもの健康"},{"$f":"分類順!D1236","v":"小池澄子"},{"$f":"分類順!E1236","v":"学研"},{"$f":"分類順!F1236","v":10023},"ステップアップ離乳食医療の本Gk：こどもの健康小池澄子学研",1,{"$f":"VLOOKUP(\"*\"&目次加工!$B$2&\"*\",J1237:K1237,2,0)","v":1},{"$error":"#N/A"}]
[null,null,null,{"$f":"分類順!A1237","v":"子育て通信"},{"$f":"分類順!B1237","v":"医療の本"},{"$f":"分類順!C1237","v":"Gk：こどもの健康"},{"$f":"分類順!D1237","v":"子育て通信委員会"},{"$f":"分類順!E1237","v":"大阪小児科医会"},{"$f":"分類順!F1237","v":10032},"子育て通信医療の本Gk：こどもの健康子育て通信委員会大阪小児科医会",1,{"$f":"VLOOKUP(\"*\"&目次加工!$B$2&\"*\",J1238:K1238,2,0)","v":1},{"$error":"#N/A"}]
[null,null,null,{"$f":"分類順!A1238","v":"いのちの「語り部」"},{"$f":"分類順!B1238","v":"医療の本"},{"$f":"分類順!C1238","v":"Gk：こどもの健康"},{"$f":"分類順!D1238","v":"迫正廣"},{"$f":"分類順!E1238","v":"悠飛社"},{"$f":"分類順!F1238","v":10047},"いのちの「語り部」医療の本Gk：こどもの健康迫正廣悠飛社",1,{"$f":"VLOOKUP(\"*\"&目次加工!$B$2&\"*\",J1239:K1239,2,0)","v":1},{"$error":"#N/A"}]
[null,null,null,{"$f":"分類順!A1239","v":"小児がんとたたかうこと"},{"$f":"分類順!B1239","v":"医療の本"},{"$f":"分類順!C1239","v":"Gk：こどもの健康"},{"$f":"分類順!D1239","v":"石本浩市"},{"$f":"分類順!E1239","v":"医学書院"},{"$f":"分類順!F1239","v":10048},"小児がんとたたかうこと医療の本Gk：こどもの健康石本浩市医学書院",1,{"$f":"VLOOKUP(\"*\"&目次加工!$B$2&\"*\",J1240:K1240,2,0)","v":1},{"$error":"#N/A"}]
[null,null,null,{"$f":"分類順!A1240","v":"カウンセリング・ブック　vol.1"},{"$f":"分類順!B1240","v":"医療の本"},{"$f":"分類順!C1240","v":"Gk：こどもの健康"},{"$f":"分類順!D1240","v":"国立総合医療研究ｾﾝﾀｰ"},{"$f":"分類順!E1240","v":"国立総合医療研究センター"},{"$f":"分類順!F1240","v":10051},"カウンセリング・ブック　vol.1医療の本Gk：こどもの健康国立総合医療研究ｾﾝﾀｰ国立総合医療研究センター",1,{"$f":"VLOOKUP(\"*\"&目次加工!$B$2&\"*\",J1241:K1241,2,0)","v":1},{"$error":"#N/A"}]
[null,null,null,{"$f":"分類順!A1241","v":"カウンセリング・ブック　vol.2"},{"$f":"分類順!B1241","v":"医療の本"},{"$f":"分類順!C1241","v":"Gk：こどもの健康"},{"$f":"分類順!D1241","v":"国立総合医療研究ｾﾝﾀｰ"},{"$f":"分類順!E1241","v":"国立総合医療研究センター"},{"$f":"分類順!F1241","v":10052},"カウンセリング・ブック　vol.2医療の本Gk：こどもの健康国立総合医療研究ｾﾝﾀｰ国立総合医療研究センター",1,{"$f":"VLOOKUP(\"*\"&目次加工!$B$2&\"*\",J1242:K1242,2,0)","v":1},{"$error":"#N/A"}]
[null,null,null,{"$f":"分類順!A1242","v":"子どもの病気・けが　救急＆ケアBOOK"},{"$f":"分類順!B1242","v":"医療の本"},{"$f":"分類順!C1242","v":"Gk：こどもの健康"},{"$f":"分類順!D1242","v":"秋山千枝子"},{"$f":"分類順!E1242","v":"世界文化社"},{"$f":"分類順!F1242","v":10082},"子どもの病気・けが　救急＆ケアBOOK医療の本Gk：こどもの健康秋山千枝子世界文化社",1,{"$f":"VLOOKUP(\"*\"&目次加工!$B$2&\"*\",J1243:K1243,2,0)","v":1},{"$error":"#N/A"}]
[null,null,null,{"$f":"分類順!A1243","v":"水頭症・二分脊椎ハンドブック"},{"$f":"分類順!B1243","v":"医療の本"},{"$f":"分類順!C1243","v":"Gk：こどもの健康"},{"$f":"分類順!D1243","v":"松本悟"},{"$f":"分類順!E1243","v":"日本二分脊椎･水頭症研究振興団体"},{"$f":"分類順!F1243","v":10088},"水頭症・二分脊椎ハンドブック医療の本Gk：こどもの健康松本悟日本二分脊椎･水頭症研究振興団体",1,{"$f":"VLOOKUP(\"*\"&目次加工!$B$2&\"*\",J1244:K1244,2,0)","v":1},{"$error":"#N/A"}]
[null,null,null,{"$f":"分類順!A1244","v":"日本子ども資料年間　2011"},{"$f":"分類順!B1244","v":"医療の本"},{"$f":"分類順!C1244","v":"Gk：こどもの健康"},{"$f":"分類順!D1244","v":"日本子ども家庭総合研究所"},{"$f":"分類順!E1244","v":"KTC中央出版"},{"$f":"分類順!F1244","v":10098},"日本子ども資料年間　2011医療の本Gk：こどもの健康日本子ども家庭総合研究所KTC中央出版",1,{"$f":"VLOOKUP(\"*\"&目次加工!$B$2&\"*\",J1245:K1245,2,0)","v":1},1]
[null,null,null,{"$f":"分類順!A1245","v":"小児の在宅生活支援のための医療的ケア・マニュアル"},{"$f":"分類順!B1245","v":"医療の本"},{"$f":"分類順!C1245","v":"Gk：こどもの健康"},{"$f":"分類順!D1245","v":"永井利三郎"},{"$f":"分類順!E1245","v":"大阪府医師会"},{"$f":"分類順!F1245","v":10099},"小児の在宅生活支援のための医療的ケア・マニュアル医療の本Gk：こどもの健康永井利三郎大阪府医師会",1,{"$f":"VLOOKUP(\"*\"&目次加工!$B$2&\"*\",J1246:K1246,2,0)","v":1},{"$error":"#N/A"}]
[null,null,null,{"$f":"分類順!A1246","v":"胎児期水頭症"},{"$f":"分類順!B1246","v":"医療の本"},{"$f":"分類順!C1246","v":"Gk：こどもの健康"},{"$f":"分類順!D1246","v":"山崎麻美"},{"$f":"分類順!E1246","v":"金芳堂"},{"$f":"分類順!F1246","v":10145},"胎児期水頭症医療の本Gk：こどもの健康山崎麻美金芳堂",1,{"$f":"VLOOKUP(\"*\"&目次加工!$B$2&\"*\",J1247:K1247,2,0)","v":1},{"$error":"#N/A"}]
[null,null,null,{"$f":"分類順!A1247","v":"小児急性中耳炎診療ガイドライン 2013年版"},{"$f":"分類順!B1247","v":"医療の本"},{"$f":"分類順!C1247","v":"Gk：こどもの健康"},{"$f":"分類順!D1247","v":"日本耳科学会"},{"$f":"分類順!E1247","v":"金原出版"},{"$f":"分類順!F1247","v":10182},"小児急性中耳炎診療ガイドライン 2013年版医療の本Gk：こどもの健康日本耳科学会金原出版",1,{"$f":"VLOOKUP(\"*\"&目次加工!$B$2&\"*\",J1248:K1248,2,0)","v":1},1]
[null,null,null,{"$f":"分類順!A1248","v":"たまひよ赤ちゃんのしあわせ名前事典〈2014‐2015年版〉"},{"$f":"分類順!B1248","v":"一般図書"},{"$f":"分類順!C1248","v":"Gk：こどもの健康"},{"$f":"分類順!D1248","v":"栗原 里央子"},{"$f":"分類順!E1248","v":"ベネッセコーポレーション"},{"$f":"分類順!F1248","v":10183},"たまひよ赤ちゃんのしあわせ名前事典〈2014‐2015年版〉一般図書Gk：こどもの健康栗原 里央子ベネッセコーポレーション",1,{"$f":"VLOOKUP(\"*\"&目次加工!$B$2&\"*\",J1249:K1249,2,0)","v":1},1]
[null,null,null,{"$f":"分類順!A1249","v":"こどものがん　病気の知識と療養の手引"},{"$f":"分類順!B1249","v":"医療の本"},{"$f":"分類順!C1249","v":"Gk：こどもの健康"},{"$f":"分類順!D1249","v":"がんの子どもを守る会"},{"$f":"分類順!E1249","v":"がんの子どもを守る会"},{"$f":"分類順!F1249","v":10241},"こどものがん　病気の知識と療養の手引医療の本Gk：こどもの健康がんの子どもを守る会がんの子どもを守る会",1,{"$f":"VLOOKUP(\"*\"&目次加工!$B$2&\"*\",J1250:K1250,2,0)","v":1},{"$error":"#N/A"}]
[null,null,null,{"$f":"分類順!A1250","v":"がんとたたかう子とともに　発病後日の浅い患者のご家族へ"},{"$f":"分類順!B1250","v":"医療の本"},{"$f":"分類順!C1250","v":"Gk：こどもの健康"},{"$f":"分類順!D1250","v":"がんの子どもを守る会"},{"$f":"分類順!E1250","v":"がんの子どもを守る会"},{"$f":"分類順!F1250","v":10242},"がんとたたかう子とともに　発病後日の浅い患者のご家族へ医療の本Gk：こどもの健康がんの子どもを守る会がんの子どもを守る会",1,{"$f":"VLOOKUP(\"*\"&目次加工!$B$2&\"*\",J1251:K1251,2,0)","v":1},{"$error":"#N/A"}]
[null,null,null,{"$f":"分類順!A1251","v":"小児がん経験者のための　ハンドブック"},{"$f":"分類順!B1251","v":"医療の本"},{"$f":"分類順!C1251","v":"Gk：こどもの健康"},{"$f":"分類順!D1251","v":"がんの子どもを守る会"},{"$f":"分類順!E1251","v":"がんの子どもを守る会"},{"$f":"分類順!F1251","v":10243},"小児がん経験者のための　ハンドブック医療の本Gk：こどもの健康がんの子どもを守る会がんの子どもを守る会",1,{"$f":"VLOOKUP(\"*\"&目次加工!$B$2&\"*\",J1252:K1252,2,0)","v":1},{"$error":"#N/A"}]
[null,null,null,{"$f":"分類順!A1252","v":"二分脊椎症の手引き"},{"$f":"分類順!B1252","v":"医療の本"},{"$f":"分類順!C1252","v":"Gk：こどもの健康"},{"$f":"分類順!D1252","v":"日本二分脊椎症協会"},{"$f":"分類順!E1252","v":"日本二分脊椎症協会"},{"$f":"分類順!F1252","v":10249},"二分脊椎症の手引き医療の本Gk：こどもの健康日本二分脊椎症協会日本二分脊椎症協会",1,{"$f":"VLOOKUP(\"*\"&目次加工!$B$2&\"*\",J1253:K1253,2,0)","v":1},{"$error":"#N/A"}]
[null,null,null,{"$f":"分類順!A1253","v":"二分脊椎症の手引き"},{"$f":"分類順!B1253","v":"医療の本"},{"$f":"分類順!C1253","v":"Gk：こどもの健康"},{"$f":"分類順!D1253","v":"日本二分脊椎症協会"},{"$f":"分類順!E1253","v":"日本二分脊椎症協会"},{"$f":"分類順!F1253","v":10250},"二分脊椎症の手引き医療の本Gk：こどもの健康日本二分脊椎症協会日本二分脊椎症協会",1,{"$f":"VLOOKUP(\"*\"&目次加工!$B$2&\"*\",J1254:K1254,2,0)","v":1},{"$error":"#N/A"}]
[null,null,null,{"$f":"分類順!A1254","v":"こども漢方"},{"$f":"分類順!B1254","v":"医療の本"},{"$f":"分類順!C1254","v":"Gk：こどもの健康"},{"$f":"分類順!D1254","v":"草鹿砥宗隆, 佐藤大輔"},{"$f":"分類順!E1254","v":"源草社"},{"$f":"分類順!F1254","v":10257},"こども漢方医療の本Gk：こどもの健康草鹿砥宗隆, 佐藤大輔源草社",1,{"$f":"VLOOKUP(\"*\"&目次加工!$B$2&\"*\",J1255:K1255,2,0)","v":1},{"$error":"#N/A"}]
[null,null,null,{"$f":"分類順!A1255","v":"新版 心臓病児者の幸せのために"},{"$f":"分類順!B1255","v":"医療の本"},{"$f":"分類順!C1255","v":"Gk：こどもの健康"},{"$f":"分類順!D1255","v":"全国心臓病の子どもを守る会"},{"$f":"分類順!E1255","v":"全国心臓病の子どもを守る会"},{"$f":"分類順!F1255","v":10258},"新版 心臓病児者の幸せのために医療の本Gk：こどもの健康全国心臓病の子どもを守る会全国心臓病の子どもを守る会",1,{"$f":"VLOOKUP(\"*\"&目次加工!$B$2&\"*\",J1256:K1256,2,0)","v":1},{"$error":"#N/A"}]
[null,null,null,{"$f":"分類順!A1256","v":"心臓病児をささえる　社会保障制度"},{"$f":"分類順!B1256","v":"医療の本"},{"$f":"分類順!C1256","v":"Gk：こどもの健康"},{"$f":"分類順!D1256","v":"全国心臓病の子どもを守る会"},{"$f":"分類順!E1256","v":"全国心臓病の子どもを守る会"},{"$f":"分類順!F1256","v":10259},"心臓病児をささえる　社会保障制度医療の本Gk：こどもの健康全国心臓病の子どもを守る会全国心臓病の子どもを守る会",1,{"$f":"VLOOKUP(\"*\"&目次加工!$B$2&\"*\",J1257:K1257,2,0)","v":1},{"$error":"#N/A"}]
[null,null,null,{"$f":"分類順!A1257","v":"発達障害の子どもを伸ばす魔法の言葉かけ "},{"$f":"分類順!B1257","v":"医療の本"},{"$f":"分類順!C1257","v":"Gk：こどもの健康"},{"$f":"分類順!D1257","v":" shizu, 平岩幹男"},{"$f":"分類順!E1257","v":"講談社"},{"$f":"分類順!F1257","v":10260},"発達障害の子どもを伸ばす魔法の言葉かけ 医療の本Gk：こどもの健康 shizu, 平岩幹男講談社",1,{"$f":"VLOOKUP(\"*\"&目次加工!$B$2&\"*\",J1258:K1258,2,0)","v":1},{"$error":"#N/A"}]
[null,null,null,{"$f":"分類順!A1258","v":"「ココからはじめる小児がん看護疾患の理解から臨床での活用まで 」"},{"$f":"分類順!B1258","v":"医療の本"},{"$f":"分類順!C1258","v":"Gk：こどもの健康"},{"$f":"分類順!D1258","v":"丸光惠, 石田也寸志"},{"$f":"分類順!E1258","v":"へるす出版"},{"$f":"分類順!F1258","v":10261},"「ココからはじめる小児がん看護疾患の理解から臨床での活用まで 」医療の本Gk：こどもの健康丸光惠, 石田也寸志へるす出版",1,{"$f":"VLOOKUP(\"*\"&目次加工!$B$2&\"*\",J1259:K1259,2,0)","v":1},{"$error":"#N/A"}]
[null,null,null,{"$f":"分類順!A1259","v":"苦手が「できる」にかわる！ 発達が気になる子への生活動作の教え方"},{"$f":"分類順!B1259","v":"医療の本"},{"$f":"分類順!C1259","v":"Gk：こどもの健康"},{"$f":"分類順!D1259","v":"鴨下賢一, 立石加奈子"},{"$f":"分類順!E1259","v":"中央法規出版"},{"$f":"分類順!F1259","v":10262},"苦手が「できる」にかわる！ 発達が気になる子への生活動作の教え方医療の本Gk：こどもの健康鴨下賢一, 立石加奈子中央法規出版",1,{"$f":"VLOOKUP(\"*\"&目次加工!$B$2&\"*\",J1260:K1260,2,0)","v":1},{"$error":"#N/A"}]
[null,null,null,{"$f":"分類順!A1260","v":"専門外の医師のための小児のてんかん入門"},{"$f":"分類順!B1260","v":"医療の本"},{"$f":"分類順!C1260","v":"Gk：こどもの健康"},{"$f":"分類順!D1260","v":"白石秀明"},{"$f":"分類順!E1260","v":"中外医学社"},{"$f":"分類順!F1260","v":10263},"専門外の医師のための小児のてんかん入門医療の本Gk：こどもの健康白石秀明中外医学社",1,{"$f":"VLOOKUP(\"*\"&目次加工!$B$2&\"*\",J1261:K1261,2,0)","v":1},{"$error":"#N/A"}]
[null,null,null,{"$f":"分類順!A1261","v":"アトピーなんか飛んで行け!―アトピー克服実践マニュアル"},{"$f":"分類順!B1261","v":"医療の本"},{"$f":"分類順!C1261","v":"Gk：こどもの健康"},{"$f":"分類順!D1261","v":"アトピーなんか飛んで行け！の会"},{"$f":"分類順!E1261","v":"ブイツーソリューション"},{"$f":"分類順!F1261","v":10286},"アトピーなんか飛んで行け!―アトピー克服実践マニュアル医療の本Gk：こどもの健康アトピーなんか飛んで行け！の会ブイツーソリューション",1,{"$f":"VLOOKUP(\"*\"&目次加工!$B$2&\"*\",J1262:K1262,2,0)","v":1},{"$error":"#N/A"}]
[null,null,null,{"$f":"分類順!A1262","v":"みんなといっしょにあそべるよ"},{"$f":"分類順!B1262","v":"医療の本"},{"$f":"分類順!C1262","v":"Gk：こどもの健康"},{"$f":"分類順!D1262","v":"九十九そのえ"},{"$f":"分類順!E1262","v":"日本二分脊椎･水頭症研究振興団体"},{"$f":"分類順!F1262","v":10319},"みんなといっしょにあそべるよ医療の本Gk：こどもの健康九十九そのえ日本二分脊椎･水頭症研究振興団体",1,{"$f":"VLOOKUP(\"*\"&目次加工!$B$2&\"*\",J1263:K1263,2,0)","v":1},{"$error":"#N/A"}]
[null,null,null,{"$f":"分類順!A1263","v":"水頭症・二分脊椎　必携"},{"$f":"分類順!B1263","v":"医療の本"},{"$f":"分類順!C1263","v":"Gk：こどもの健康"},{"$f":"分類順!D1263","v":"山内康雄・長嶋達也"},{"$f":"分類順!E1263","v":"日本二分脊椎･水頭症研究振興団体"},{"$f":"分類順!F1263","v":10328},"水頭症・二分脊椎　必携医療の本Gk：こどもの健康山内康雄・長嶋達也日本二分脊椎･水頭症研究振興団体",1,{"$f":"VLOOKUP(\"*\"&目次加工!$B$2&\"*\",J1264:K1264,2,0)","v":1},{"$error":"#N/A"}]
[null,null,null,{"$f":"分類順!A1264","v":"水頭症・二分脊椎　必携"},{"$f":"分類順!B1264","v":"医療の本"},{"$f":"分類順!C1264","v":"Gk：こどもの健康"},{"$f":"分類順!D1264","v":"山内康雄・長嶋達也"},{"$f":"分類順!E1264","v":"日本二分脊椎･水頭症研究振興団体"},{"$f":"分類順!F1264","v":10329},"水頭症・二分脊椎　必携医療の本Gk：こどもの健康山内康雄・長嶋達也日本二分脊椎･水頭症研究振興団体",1,{"$f":"VLOOKUP(\"*\"&目次加工!$B$2&\"*\",J1265:K1265,2,0)","v":1},{"$error":"#N/A"}]
[null,null,null,{"$f":"分類順!A1265","v":"小児白血病・リンパ腫　診療ガイドライン　2016年版"},{"$f":"分類順!B1265","v":"医療の本"},{"$f":"分類順!C1265","v":"Gk：こどもの健康"},{"$f":"分類順!D1265","v":"日本小児血液・がん学会"},{"$f":"分類順!E1265","v":"金原出版"},{"$f":"分類順!F1265","v":10359},"小児白血病・リンパ腫　診療ガイドライン　2016年版医療の本Gk：こどもの健康日本小児血液・がん学会金原出版",1,{"$f":"VLOOKUP(\"*\"&目次加工!$B$2&\"*\",J1266:K1266,2,0)","v":1},1]
[null,null,null,{"$f":"分類順!A1266","v":"チックとトゥレット症候群がよくわかる本"},{"$f":"分類順!B1266","v":"医療の本"},{"$f":"分類順!C1266","v":"Gk：こどもの健康"},{"$f":"分類順!D1266","v":"星加明徳"},{"$f":"分類順!E1266","v":"講談社"},{"$f":"分類順!F1266","v":10360},"チックとトゥレット症候群がよくわかる本医療の本Gk：こどもの健康星加明徳講談社",1,{"$f":"VLOOKUP(\"*\"&目次加工!$B$2&\"*\",J1267:K1267,2,0)","v":1},{"$error":"#N/A"}]
[null,null,null,{"$f":"分類順!A1267","v":"自閉症スペクトラムがよくわかる本"},{"$f":"分類順!B1267","v":"医療の本"},{"$f":"分類順!C1267","v":"Gk：こどもの健康"},{"$f":"分類順!D1267","v":"本田秀夫"},{"$f":"分類順!E1267","v":"講談社"},{"$f":"分類順!F1267","v":10361},"自閉症スペクトラムがよくわかる本医療の本Gk：こどもの健康本田秀夫講談社",1,{"$f":"VLOOKUP(\"*\"&目次加工!$B$2&\"*\",J1268:K1268,2,0)","v":1},{"$error":"#N/A"}]
[null,null,null,{"$f":"分類順!A1268","v":"吃音のことがよくわかる本"},{"$f":"分類順!B1268","v":"医療の本"},{"$f":"分類順!C1268","v":"Gk：こどもの健康"},{"$f":"分類順!D1268","v":"菊池良和"},{"$f":"分類順!E1268","v":"講談社"},{"$f":"分類順!F1268","v":10362},"吃音のことがよくわかる本医療の本Gk：こどもの健康菊池良和講談社",1,{"$f":"VLOOKUP(\"*\"&目次加工!$B$2&\"*\",J1269:K1269,2,0)","v":1},{"$error":"#N/A"}]
[null,null,null,{"$f":"分類順!A1269","v":"空にかかるはしご　天使になった子どもと生きるｸﾞﾘｰﾌｻﾎﾟｰﾄﾌﾞｯｸ"},{"$f":"分類順!B1269","v":"医療の本"},{"$f":"分類順!C1269","v":"Gk：こどもの健康"},{"$f":"分類順!D1269","v":"「空にかかるはしご」編集委員会"},{"$f":"分類順!E1269","v":"NULL"},{"$f":"分類順!F1269","v":10402},"空にかかるはしご　天使になった子どもと生きるｸﾞﾘｰﾌｻﾎﾟｰﾄﾌﾞｯｸ医療の本Gk：こどもの健康「空にかかるはしご」編集委員会NULL",1,{"$f":"VLOOKUP(\"*\"&目次加工!$B$2&\"*\",J1270:K1270,2,0)","v":1},{"$error":"#N/A"}]
[null,null,null,{"$f":"分類順!A1270","v":"病気を持つ子どもと家族のためのおうちで暮らすガイドブック"},{"$f":"分類順!B1270","v":"医療の本"},{"$f":"分類順!C1270","v":"Gk：こどもの健康"},{"$f":"分類順!D1270","v":"前田浩利"},{"$f":"分類順!E1270","v":"メディカ出版"},{"$f":"分類順!F1270","v":10454},"病気を持つ子どもと家族のためのおうちで暮らすガイドブック医療の本Gk：こどもの健康前田浩利メディカ出版",1,{"$f":"VLOOKUP(\"*\"&目次加工!$B$2&\"*\",J1271:K1271,2,0)","v":1},{"$error":"#N/A"}]
[null,null,null,{"$f":"分類順!A1271","v":"いま、子を育てること"},{"$f":"分類順!B1271","v":"一般図書"},{"$f":"分類順!C1271","v":"Gk：こどもの健康"},{"$f":"分類順!D1271","v":"毛利子来"},{"$f":"分類順!E1271","v":"筑摩書房"},{"$f":"分類順!F1271","v":10473},"いま、子を育てること一般図書Gk：こどもの健康毛利子来筑摩書房",1,{"$f":"VLOOKUP(\"*\"&目次加工!$B$2&\"*\",J1272:K1272,2,0)","v":1},{"$error":"#N/A"}]
[null,null,null,{"$f":"分類順!A1272","v":"ベイリーとさっちゃん"},{"$f":"分類順!B1272","v":"一般図書"},{"$f":"分類順!C1272","v":"Gk：こどもの健康"},{"$f":"分類順!D1272","v":"田村　朗"},{"$f":"分類順!E1272","v":"かまくら春秋社"},{"$f":"分類順!F1272","v":10505},"ベイリーとさっちゃん一般図書Gk：こどもの健康田村　朗かまくら春秋社",1,{"$f":"VLOOKUP(\"*\"&目次加工!$B$2&\"*\",J1273:K1273,2,0)","v":1},{"$error":"#N/A"}]
[null,null,null,{"$f":"分類順!A1273","v":"在宅医療が必要な子どものための図解ケアテキストQ&A"},{"$f":"分類順!B1273","v":"医療の本"},{"$f":"分類順!C1273","v":"Gk：こどもの健康"},{"$f":"分類順!D1273","v":"梶原厚子 編著"},{"$f":"分類順!E1273","v":"メディカ出版"},{"$f":"分類順!F1273","v":10548},"在宅医療が必要な子どものための図解ケアテキストQ&A医療の本Gk：こどもの健康梶原厚子 編著メディカ出版",1,{"$f":"VLOOKUP(\"*\"&目次加工!$B$2&\"*\",J1274:K1274,2,0)","v":1},{"$error":"#N/A"}]
[null,null,null,{"$f":"分類順!A1274","v":"こどものがんと治療"},{"$f":"分類順!B1274","v":"医療の本"},{"$f":"分類順!C1274","v":"Gk：こどもの健康"},{"$f":"分類順!D1274","v":"細野亜古　編著"},{"$f":"分類順!E1274","v":"メディカ出版"},{"$f":"分類順!F1274","v":10549},"こどものがんと治療医療の本Gk：こどもの健康細野亜古　編著メディカ出版",1,{"$f":"VLOOKUP(\"*\"&目次加工!$B$2&\"*\",J1275:K1275,2,0)","v":1},{"$error":"#N/A"}]
[null,null,null,{"$f":"分類順!A1275","v":"こどものがんと治療"},{"$f":"分類順!B1275","v":"医療の本"},{"$f":"分類順!C1275","v":"Gk：こどもの健康"},{"$f":"分類順!D1275","v":"細野亜古　編著"},{"$f":"分類順!E1275","v":"メディカ出版"},{"$f":"分類順!F1275","v":10550},"こどものがんと治療医療の本Gk：こどもの健康細野亜古　編著メディカ出版",1,{"$f":"VLOOKUP(\"*\"&目次加工!$B$2&\"*\",J1276:K1276,2,0)","v":1},{"$error":"#N/A"}]
[null,null,null,{"$f":"分類順!A1276","v":"こどもの心臓病と手術"},{"$f":"分類順!B1276","v":"医療の本"},{"$f":"分類順!C1276","v":"Gk：こどもの健康"},{"$f":"分類順!D1276","v":"立石実　著"},{"$f":"分類順!E1276","v":"メディカ出版"},{"$f":"分類順!F1276","v":10551},"こどもの心臓病と手術医療の本Gk：こどもの健康立石実　著メディカ出版",1,{"$f":"VLOOKUP(\"*\"&目次加工!$B$2&\"*\",J1277:K1277,2,0)","v":1},{"$error":"#N/A"}]
[null,null,null,{"$f":"分類順!A1277","v":"ケース別発達障害のある子へのサポート実例集 幼稚園・保育園編"},{"$f":"分類順!B1277","v":"医療の本"},{"$f":"分類順!C1277","v":"Gk：こどもの健康"},{"$f":"分類順!D1277","v":"上野一彦監修　酒井幸子・中野圭子著"},{"$f":"分類順!E1277","v":"ナツメ社"},{"$f":"分類順!F1277","v":10555},"ケース別発達障害のある子へのサポート実例集 幼稚園・保育園編医療の本Gk：こどもの健康上野一彦監修　酒井幸子・中野圭子著ナツメ社",1,{"$f":"VLOOKUP(\"*\"&目次加工!$B$2&\"*\",J1278:K1278,2,0)","v":1},{"$error":"#N/A"}]
[null,null,null,{"$f":"分類順!A1278","v":"ケース別 発達障害のある子へのサポート実例集 小学校編"},{"$f":"分類順!B1278","v":"医療の本"},{"$f":"分類順!C1278","v":"Gk：こどもの健康"},{"$f":"分類順!D1278","v":"上野一彦・月森久江著"},{"$f":"分類順!E1278","v":"ナツメ社"},{"$f":"分類順!F1278","v":10556},"ケース別 発達障害のある子へのサポート実例集 小学校編医療の本Gk：こどもの健康上野一彦・月森久江著ナツメ社",1,{"$f":"VLOOKUP(\"*\"&目次加工!$B$2&\"*\",J1279:K1279,2,0)","v":1},{"$error":"#N/A"}]
[null,null,null,{"$f":"分類順!A1279","v":"教室・家庭でいますぐ使えるSST"},{"$f":"分類順!B1279","v":"医療の本"},{"$f":"分類順!C1279","v":"Gk：こどもの健康"},{"$f":"分類順!D1279","v":"安住ゆう子 ・三島節子"},{"$f":"分類順!E1279","v":"かもがわ出版"},{"$f":"分類順!F1279","v":10557},"教室・家庭でいますぐ使えるSST医療の本Gk：こどもの健康安住ゆう子 ・三島節子かもがわ出版",1,{"$f":"VLOOKUP(\"*\"&目次加工!$B$2&\"*\",J1280:K1280,2,0)","v":1},{"$error":"#N/A"}]
[null,null,null,{"$f":"分類順!A1280","v":"起立性調節障害がよくわかる本"},{"$f":"分類順!B1280","v":"医療の本"},{"$f":"分類順!C1280","v":"Gk：こどもの健康"},{"$f":"分類順!D1280","v":"田中英高　監修"},{"$f":"分類順!E1280","v":"講談社"},{"$f":"分類順!F1280","v":10584},"起立性調節障害がよくわかる本医療の本Gk：こどもの健康田中英高　監修講談社",1,{"$f":"VLOOKUP(\"*\"&目次加工!$B$2&\"*\",J1281:K1281,2,0)","v":1},{"$error":"#N/A"}]
[null,null,null,{"$f":"分類順!A1281","v":"発達障害の子の脳を育てる忍者遊び"},{"$f":"分類順!B1281","v":"医療の本"},{"$f":"分類順!C1281","v":"Gk：こどもの健康"},{"$f":"分類順!D1281","v":"柳澤弘樹　監修"},{"$f":"分類順!E1281","v":"講談社"},{"$f":"分類順!F1281","v":10585},"発達障害の子の脳を育てる忍者遊び医療の本Gk：こどもの健康柳澤弘樹　監修講談社",1,{"$f":"VLOOKUP(\"*\"&目次加工!$B$2&\"*\",J1282:K1282,2,0)","v":1},{"$error":"#N/A"}]
[null,null,null,{"$f":"分類順!A1282","v":"子どもの危険な病気のサインがわかる本"},{"$f":"分類順!B1282","v":"医療の本"},{"$f":"分類順!C1282","v":"Gk：こどもの健康"},{"$f":"分類順!D1282","v":"松永正訓　監修"},{"$f":"分類順!E1282","v":"講談社"},{"$f":"分類順!F1282","v":10587},"子どもの危険な病気のサインがわかる本医療の本Gk：こどもの健康松永正訓　監修講談社",1,{"$f":"VLOOKUP(\"*\"&目次加工!$B$2&\"*\",J1283:K1283,2,0)","v":1},{"$error":"#N/A"}]
[null,null,null,{"$f":"分類順!A1283","v":"光とともに…～自閉症児を抱えて～　1巻"},{"$f":"分類順!B1283","v":"一般図書"},{"$f":"分類順!C1283","v":"Gk：こどもの健康"},{"$f":"分類順!D1283","v":"戸部 けいこ　著"},{"$f":"分類順!E1283","v":"秋田書店"},{"$f":"分類順!F1283","v":10588},"光とともに…～自閉症児を抱えて～　1巻一般図書Gk：こどもの健康戸部 けいこ　著秋田書店",1,{"$f":"VLOOKUP(\"*\"&目次加工!$B$2&\"*\",J1284:K1284,2,0)","v":1},{"$f":"VLOOKUP(\"*\"&$A$2&\"*\",J1284:K1284,2,0)","v":{"$error":"#N/A"}}]
[null,null,null,{"$f":"分類順!A1284","v":"光とともに…～自閉症児を抱えて～　2巻"},{"$f":"分類順!B1284","v":"一般図書"},{"$f":"分類順!C1284","v":"Gk：こどもの健康"},{"$f":"分類順!D1284","v":"戸部 けいこ　著"},{"$f":"分類順!E1284","v":"秋田書店"},{"$f":"分類順!F1284","v":10589},"光とともに…～自閉症児を抱えて～　2巻一般図書Gk：こどもの健康戸部 けいこ　著秋田書店",1,{"$f":"VLOOKUP(\"*\"&目次加工!$B$2&\"*\",J1285:K1285,2,0)","v":1},{"$error":"#N/A"}]
[null,null,null,{"$f":"分類順!A1285","v":"光とともに…～自閉症児を抱えて～　3巻"},{"$f":"分類順!B1285","v":"一般図書"},{"$f":"分類順!C1285","v":"Gk：こどもの健康"},{"$f":"分類順!D1285","v":"戸部 けいこ　著"},{"$f":"分類順!E1285","v":"秋田書店"},{"$f":"分類順!F1285","v":10590},"光とともに…～自閉症児を抱えて～　3巻一般図書Gk：こどもの健康戸部 けいこ　著秋田書店",1,{"$f":"VLOOKUP(\"*\"&目次加工!$B$2&\"*\",J1286:K1286,2,0)","v":1},{"$error":"#N/A"}]
[null,null,null,{"$f":"分類順!A1286","v":"光とともに…～自閉症児を抱えて～　4巻"},{"$f":"分類順!B1286","v":"一般図書"},{"$f":"分類順!C1286","v":"Gk：こどもの健康"},{"$f":"分類順!D1286","v":"戸部 けいこ　著"},{"$f":"分類順!E1286","v":"秋田書店"},{"$f":"分類順!F1286","v":10591},"光とともに…～自閉症児を抱えて～　4巻一般図書Gk：こどもの健康戸部 けいこ　著秋田書店",1,{"$f":"VLOOKUP(\"*\"&目次加工!$B$2&\"*\",J1287:K1287,2,0)","v":1},{"$error":"#N/A"}]
[null,null,null,{"$f":"分類順!A1287","v":"光とともに…～自閉症児を抱えて～　5巻"},{"$f":"分類順!B1287","v":"一般図書"},{"$f":"分類順!C1287","v":"Gk：こどもの健康"},{"$f":"分類順!D1287","v":"戸部 けいこ　著"},{"$f":"分類順!E1287","v":"秋田書店"},{"$f":"分類順!F1287","v":10592},"光とともに…～自閉症児を抱えて～　5巻一般図書Gk：こどもの健康戸部 けいこ　著秋田書店",1,{"$f":"VLOOKUP(\"*\"&目次加工!$B$2&\"*\",J1288:K1288,2,0)","v":1},{"$error":"#N/A"}]
[null,null,null,{"$f":"分類順!A1288","v":"光とともに…～自閉症児を抱えて～　6巻"},{"$f":"分類順!B1288","v":"一般図書"},{"$f":"分類順!C1288","v":"Gk：こどもの健康"},{"$f":"分類順!D1288","v":"戸部 けいこ　著"},{"$f":"分類順!E1288","v":"秋田書店"},{"$f":"分類順!F1288","v":10593},"光とともに…～自閉症児を抱えて～　6巻一般図書Gk：こどもの健康戸部 けいこ　著秋田書店",1,{"$f":"VLOOKUP(\"*\"&目次加工!$B$2&\"*\",J1289:K1289,2,0)","v":1},{"$error":"#N/A"}]
[null,null,null,{"$f":"分類順!A1289","v":"光とともに…～自閉症児を抱えて～　7巻"},{"$f":"分類順!B1289","v":"一般図書"},{"$f":"分類順!C1289","v":"Gk：こどもの健康"},{"$f":"分類順!D1289","v":"戸部 けいこ　著"},{"$f":"分類順!E1289","v":"秋田書店"},{"$f":"分類順!F1289","v":10594},"光とともに…～自閉症児を抱えて～　7巻一般図書Gk：こどもの健康戸部 けいこ　著秋田書店",1,{"$f":"VLOOKUP(\"*\"&目次加工!$B$2&\"*\",J1290:K1290,2,0)","v":1},{"$error":"#N/A"}]
[null,null,null,{"$f":"分類順!A1290","v":"光とともに…～自閉症児を抱えて～　8巻"},{"$f":"分類順!B1290","v":"一般図書"},{"$f":"分類順!C1290","v":"Gk：こどもの健康"},{"$f":"分類順!D1290","v":"戸部 けいこ　著"},{"$f":"分類順!E1290","v":"秋田書店"},{"$f":"分類順!F1290","v":10595},"光とともに…～自閉症児を抱えて～　8巻一般図書Gk：こどもの健康戸部 けいこ　著秋田書店",1,{"$f":"VLOOKUP(\"*\"&目次加工!$B$2&\"*\",J1291:K1291,2,0)","v":1},{"$error":"#N/A"}]
[null,null,null,{"$f":"分類順!A1291","v":"光とともに…～自閉症児を抱えて～　9巻"},{"$f":"分類順!B1291","v":"一般図書"},{"$f":"分類順!C1291","v":"Gk：こどもの健康"},{"$f":"分類順!D1291","v":"戸部 けいこ　著"},{"$f":"分類順!E1291","v":"秋田書店"},{"$f":"分類順!F1291","v":10596},"光とともに…～自閉症児を抱えて～　9巻一般図書Gk：こどもの健康戸部 けいこ　著秋田書店",1,{"$f":"VLOOKUP(\"*\"&目次加工!$B$2&\"*\",J1292:K1292,2,0)","v":1},{"$error":"#N/A"}]
[null,null,null,{"$f":"分類順!A1292","v":"光とともに…～自閉症児を抱えて～　10巻"},{"$f":"分類順!B1292","v":"一般図書"},{"$f":"分類順!C1292","v":"Gk：こどもの健康"},{"$f":"分類順!D1292","v":"戸部 けいこ　著"},{"$f":"分類順!E1292","v":"秋田書店"},{"$f":"分類順!F1292","v":10597},"光とともに…～自閉症児を抱えて～　10巻一般図書Gk：こどもの健康戸部 けいこ　著秋田書店",1,{"$f":"VLOOKUP(\"*\"&目次加工!$B$2&\"*\",J1293:K1293,2,0)","v":1},1]
[null,null,null,{"$f":"分類順!A1293","v":"光とともに…～自閉症児を抱えて～　11巻"},{"$f":"分類順!B1293","v":"一般図書"},{"$f":"分類順!C1293","v":"Gk：こどもの健康"},{"$f":"分類順!D1293","v":"戸部 けいこ　著"},{"$f":"分類順!E1293","v":"秋田書店"},{"$f":"分類順!F1293","v":10598},"光とともに…～自閉症児を抱えて～　11巻一般図書Gk：こどもの健康戸部 けいこ　著秋田書店",1,{"$f":"VLOOKUP(\"*\"&目次加工!$B$2&\"*\",J1294:K1294,2,0)","v":1},{"$error":"#N/A"}]
[null,null,null,{"$f":"分類順!A1294","v":"光とともに…～自閉症児を抱えて～　12巻"},{"$f":"分類順!B1294","v":"一般図書"},{"$f":"分類順!C1294","v":"Gk：こどもの健康"},{"$f":"分類順!D1294","v":"戸部 けいこ　著"},{"$f":"分類順!E1294","v":"秋田書店"},{"$f":"分類順!F1294","v":10599},"光とともに…～自閉症児を抱えて～　12巻一般図書Gk：こどもの健康戸部 けいこ　著秋田書店",1,{"$f":"VLOOKUP(\"*\"&目次加工!$B$2&\"*\",J1295:K1295,2,0)","v":1},{"$error":"#N/A"}]
[null,null,null,{"$f":"分類順!A1295","v":"光とともに…～自閉症児を抱えて～　13巻"},{"$f":"分類順!B1295","v":"一般図書"},{"$f":"分類順!C1295","v":"Gk：こどもの健康"},{"$f":"分類順!D1295","v":"戸部 けいこ　著"},{"$f":"分類順!E1295","v":"秋田書店"},{"$f":"分類順!F1295","v":10600},"光とともに…～自閉症児を抱えて～　13巻一般図書Gk：こどもの健康戸部 けいこ　著秋田書店",1,{"$f":"VLOOKUP(\"*\"&目次加工!$B$2&\"*\",J1296:K1296,2,0)","v":1},{"$error":"#N/A"}]
[null,null,null,{"$f":"分類順!A1296","v":"光とともに…～自閉症児を抱えて～　14巻"},{"$f":"分類順!B1296","v":"一般図書"},{"$f":"分類順!C1296","v":"Gk：こどもの健康"},{"$f":"分類順!D1296","v":"戸部 けいこ　著"},{"$f":"分類順!E1296","v":"秋田書店"},{"$f":"分類順!F1296","v":10601},"光とともに…～自閉症児を抱えて～　14巻一般図書Gk：こどもの健康戸部 けいこ　著秋田書店",1,{"$f":"VLOOKUP(\"*\"&目次加工!$B$2&\"*\",J1297:K1297,2,0)","v":1},{"$error":"#N/A"}]
[null,null,null,{"$f":"分類順!A1297","v":"光とともに…～自閉症児を抱えて～　15巻"},{"$f":"分類順!B1297","v":"一般図書"},{"$f":"分類順!C1297","v":"Gk：こどもの健康"},{"$f":"分類順!D1297","v":"戸部 けいこ　著"},{"$f":"分類順!E1297","v":"秋田書店"},{"$f":"分類順!F1297","v":10602},"光とともに…～自閉症児を抱えて～　15巻一般図書Gk：こどもの健康戸部 けいこ　著秋田書店",1,{"$f":"VLOOKUP(\"*\"&目次加工!$B$2&\"*\",J1298:K1298,2,0)","v":1},{"$error":"#N/A"}]
[null,null,null,{"$f":"分類順!A1298","v":"光とともに…～自閉症児を抱えて～　別巻"},{"$f":"分類順!B1298","v":"一般図書"},{"$f":"分類順!C1298","v":"Gk：こどもの健康"},{"$f":"分類順!D1298","v":"戸部 けいこ・河崎芽衣　著"},{"$f":"分類順!E1298","v":"秋田書店"},{"$f":"分類順!F1298","v":10603},{"$f":"D1299&E1299&F1299&G1299&H1299","v":"光とともに…～自閉症児を抱えて～　別巻一般図書Gk：こどもの健康戸部 けいこ・河崎芽衣　著秋田書店"},1,{"$f":"VLOOKUP(\"*\"&目次加工!$B$2&\"*\",J1299:K1299,2,0)","v":1},{"$error":"#N/A"}]
[null,null,null,{"$f":"分類順!A1299","v":"発達障がい児の子育て　ママたちが見つけた大切なこと"},{"$f":"分類順!B1299","v":"医療の本"},{"$f":"分類順!C1299","v":"Gk：こどもの健康"},{"$f":"分類順!D1299","v":"佐々木正美　監修"},{"$f":"分類順!E1299","v":"大和書房"},{"$f":"分類順!F1299","v":10609},"発達障がい児の子育て　ママたちが見つけた大切なこと医療の本Gk：こどもの健康佐々木正美　監修大和書房",1,{"$f":"VLOOKUP(\"*\"&目次加工!$B$2&\"*\",J1300:K1300,2,0)","v":1},{"$error":"#N/A"}]
[null,null,null,{"$f":"分類順!A1300","v":"だいじょうぶだよ、モリス「こわい」と「いやだ」がなくなる本"},{"$f":"分類順!B1300","v":"医療の本"},{"$f":"分類順!C1300","v":"Gk：こどもの健康"},{"$f":"分類順!D1300","v":"カール・ヨハン＝エリーン"},{"$f":"分類順!E1300","v":"飛鳥新社"},{"$f":"分類順!F1300","v":10610},"だいじょうぶだよ、モリス「こわい」と「いやだ」がなくなる本医療の本Gk：こどもの健康カール・ヨハン＝エリーン飛鳥新社",1,{"$f":"VLOOKUP(\"*\"&目次加工!$B$2&\"*\",J1301:K1301,2,0)","v":1},{"$error":"#N/A"}]
[null,null,null,{"$f":"分類順!A1301","v":"みえるとか みえないとか"},{"$f":"分類順!B1301","v":"医療の本"},{"$f":"分類順!C1301","v":"Gk：こどもの健康"},{"$f":"分類順!D1301","v":"ヨシタケシンスケ"},{"$f":"分類順!E1301","v":"アリス館"},{"$f":"分類順!F1301","v":10611},"みえるとか みえないとか医療の本Gk：こどもの健康ヨシタケシンスケアリス館",1,{"$f":"VLOOKUP(\"*\"&目次加工!$B$2&\"*\",J1302:K1302,2,0)","v":1},{"$error":"#N/A"}]
[null,null,null,{"$f":"分類順!A1302","v":"高齢者"},{"$f":"分類順!B1302","v":"目次へ"},{"$f":"分類順!C1302","v":"※PDF版ではリンクしておりません。"},{"$f":"分類順!D1302","v":0},{"$f":"分類順!E1302","v":0},{"$f":"分類順!F1302","v":0},"高齢者目次へ※PDF版ではリンクしておりません。00",1,{"$f":"VLOOKUP(\"*\"&目次加工!$B$2&\"*\",J1303:K1303,2,0)","v":1},1]
[null,null,null,{"$f":"分類順!A1303","v":"皮膚病（シルバースキンケア）"},{"$f":"分類順!B1303","v":"医療の本"},{"$f":"分類順!C1303","v":"Gt：高齢者"},{"$f":"分類順!D1303","v":"種田　明生　著"},{"$f":"分類順!E1303","v":"日本医学館"},{"$f":"分類順!F1303","v":644},"皮膚病（シルバースキンケア）医療の本Gt：高齢者種田　明生　著日本医学館",1,{"$f":"VLOOKUP(\"*\"&目次加工!$B$2&\"*\",J1304:K1304,2,0)","v":1},{"$error":"#N/A"}]
[null,null,null,{"$f":"分類順!A1304","v":"高齢期の病気と食事　第２版"},{"$f":"分類順!B1304","v":"医療の本"},{"$f":"分類順!C1304","v":"Gt：高齢者"},{"$f":"分類順!D1304","v":"医歯薬出版　編"},{"$f":"分類順!E1304","v":"医歯薬出版"},{"$f":"分類順!F1304","v":815},"高齢期の病気と食事　第２版医療の本Gt：高齢者医歯薬出版　編医歯薬出版",1,{"$f":"VLOOKUP(\"*\"&目次加工!$B$2&\"*\",J1305:K1305,2,0)","v":1},{"$error":"#N/A"}]
[null,null,null,{"$f":"分類順!A1305","v":"いまさら聞けない高齢者の医学常識"},{"$f":"分類順!B1305","v":"医療の本"},{"$f":"分類順!C1305","v":"Gt：高齢者"},{"$f":"分類順!D1305","v":"三宅　貴夫　著"},{"$f":"分類順!E1305","v":"日総研出版"},{"$f":"分類順!F1305","v":818},"いまさら聞けない高齢者の医学常識医療の本Gt：高齢者三宅　貴夫　著日総研出版",1,{"$f":"VLOOKUP(\"*\"&目次加工!$B$2&\"*\",J1306:K1306,2,0)","v":1},{"$error":"#N/A"}]
[null,null,null,{"$f":"分類順!A1306","v":"高齢者ケアの心理学入門"},{"$f":"分類順!B1306","v":"医療の本"},{"$f":"分類順!C1306","v":"Gt：高齢者"},{"$f":"分類順!D1306","v":"本莊　繁　著"},{"$f":"分類順!E1306","v":"朱鷺書房"},{"$f":"分類順!F1306","v":820},"高齢者ケアの心理学入門医療の本Gt：高齢者本莊　繁　著朱鷺書房",1,{"$f":"VLOOKUP(\"*\"&目次加工!$B$2&\"*\",J1307:K1307,2,0)","v":1},{"$error":"#N/A"}]
[null,null,null,{"$f":"分類順!A1307","v":"老年症候群の診かた"},{"$f":"分類順!B1307","v":"医療の本"},{"$f":"分類順!C1307","v":"Gt：高齢者"},{"$f":"分類順!D1307","v":"大内　尉義　監修"},{"$f":"分類順!E1307","v":"メジカルビュー社"},{"$f":"分類順!F1307","v":824},"老年症候群の診かた医療の本Gt：高齢者大内　尉義　監修メジカルビュー社",1,{"$f":"VLOOKUP(\"*\"&目次加工!$B$2&\"*\",J1308:K1308,2,0)","v":1},{"$error":"#N/A"}]
[null,null,null,{"$f":"分類順!A1308","v":"よくみえる!医療・先進医療・介護のは★医療の本★ "},{"$f":"分類順!B1308","v":"医療の本"},{"$f":"分類順!C1308","v":"Gt：高齢者"},{"$f":"分類順!D1308","v":"大野太平/大場幸子/山本ゆかり/上田香十里　著"},{"$f":"分類順!E1308","v":"セールス手帖社保険"},{"$f":"分類順!F1308","v":5386},"よくみえる!医療・先進医療・介護のは★医療の本★ 医療の本Gt：高齢者大野太平/大場幸子/山本ゆかり/上田香十里　著セールス手帖社保険",1,{"$f":"VLOOKUP(\"*\"&目次加工!$B$2&\"*\",J1309:K1309,2,0)","v":1},{"$error":"#N/A"}]
[null,null,null,{"$f":"分類順!A1309","v":"高齢者のための食事制限メニュー　―糖尿病、腎臓病、高血圧、高脂血症"},{"$f":"分類順!B1309","v":"医療の本"},{"$f":"分類順!C1309","v":"Gt：高齢者"},{"$f":"分類順!D1309","v":"杉橋啓子　監修"},{"$f":"分類順!E1309","v":"女子栄養大学出版部"},{"$f":"分類順!F1309","v":5387},"高齢者のための食事制限メニュー　―糖尿病、腎臓病、高血圧、高脂血症医療の本Gt：高齢者杉橋啓子　監修女子栄養大学出版部",1,{"$f":"VLOOKUP(\"*\"&目次加工!$B$2&\"*\",J1310:K1310,2,0)","v":1},{"$error":"#N/A"}]
[null,null,null,{"$f":"分類順!A1310","v":"マンガ「寝たきり婆あ」わがまま対策マニュアル"},{"$f":"分類順!B1310","v":"一般図書"},{"$f":"分類順!C1310","v":"Gt：高齢者"},{"$f":"分類順!D1310","v":"門野晴子"},{"$f":"分類順!E1310","v":"講談社"},{"$f":"分類順!F1310","v":5601},"マンガ「寝たきり婆あ」わがまま対策マニュアル一般図書Gt：高齢者門野晴子講談社",1,{"$f":"VLOOKUP(\"*\"&目次加工!$B$2&\"*\",J1311:K1311,2,0)","v":1},{"$error":"#N/A"}]
[null,null,null,{"$f":"分類順!A1311","v":"ひとりで暮らして気楽に老いる"},{"$f":"分類順!B1311","v":"一般図書"},{"$f":"分類順!C1311","v":"Gt：高齢者"},{"$f":"分類順!D1311","v":"吉沢久子"},{"$f":"分類順!E1311","v":"慶昌堂印刷"},{"$f":"分類順!F1311","v":5602},"ひとりで暮らして気楽に老いる一般図書Gt：高齢者吉沢久子慶昌堂印刷",1,{"$f":"VLOOKUP(\"*\"&目次加工!$B$2&\"*\",J1312:K1312,2,0)","v":1},{"$error":"#N/A"}]
[null,null,null,{"$f":"分類順!A1312","v":"死と老いと生への道"},{"$f":"分類順!B1312","v":"医療の本"},{"$f":"分類順!C1312","v":"Gt：高齢者"},{"$f":"分類順!D1312","v":"日野原重明"},{"$f":"分類順!E1312","v":"中央法規出版"},{"$f":"分類順!F1312","v":5603},"死と老いと生への道医療の本Gt：高齢者日野原重明中央法規出版",1,{"$f":"VLOOKUP(\"*\"&目次加工!$B$2&\"*\",J1313:K1313,2,0)","v":1},{"$error":"#N/A"}]
[null,null,null,{"$f":"分類順!A1313","v":"看護のアートⅠ"},{"$f":"分類順!B1313","v":"医療の本"},{"$f":"分類順!C1313","v":"Gt：高齢者"},{"$f":"分類順!D1313","v":"日野原重明"},{"$f":"分類順!E1313","v":"中央法規出版"},{"$f":"分類順!F1313","v":5604},"看護のアートⅠ医療の本Gt：高齢者日野原重明中央法規出版",1,{"$f":"VLOOKUP(\"*\"&目次加工!$B$2&\"*\",J1314:K1314,2,0)","v":1},{"$error":"#N/A"}]
[null,null,null,{"$f":"分類順!A1314","v":"生と死のケア"},{"$f":"分類順!B1314","v":"医療の本"},{"$f":"分類順!C1314","v":"Gt：高齢者"},{"$f":"分類順!D1314","v":"日野原重明"},{"$f":"分類順!E1314","v":"医学書院"},{"$f":"分類順!F1314","v":5605},"生と死のケア医療の本Gt：高齢者日野原重明医学書院",1,{"$f":"VLOOKUP(\"*\"&目次加工!$B$2&\"*\",J1315:K1315,2,0)","v":1},{"$error":"#N/A"}]
[null,null,null,{"$f":"分類順!A1315","v":"寝たきりにさせないために"},{"$f":"分類順!B1315","v":"医療の本"},{"$f":"分類順!C1315","v":"Gt：高齢者"},{"$f":"分類順!D1315","v":"榎村陽太郎"},{"$f":"分類順!E1315","v":"医歯薬出版"},{"$f":"分類順!F1315","v":5606},"寝たきりにさせないために医療の本Gt：高齢者榎村陽太郎医歯薬出版",1,{"$f":"VLOOKUP(\"*\"&目次加工!$B$2&\"*\",J1316:K1316,2,0)","v":1},{"$error":"#N/A"}]
[null,null,null,{"$f":"分類順!A1316","v":"☆一般図書☆　夫婦の親"},{"$f":"分類順!B1316","v":"医療の本"},{"$f":"分類順!C1316","v":"Gt：高齢者"},{"$f":"分類順!D1316","v":"柳博雄"},{"$f":"分類順!E1316","v":"三五館"},{"$f":"分類順!F1316","v":5607},"☆一般図書☆　夫婦の親医療の本Gt：高齢者柳博雄三五館",1,{"$f":"VLOOKUP(\"*\"&目次加工!$B$2&\"*\",J1317:K1317,2,0)","v":1},{"$error":"#N/A"}]
[null,null,null,{"$f":"分類順!A1317","v":"年齢に負けない身体の作り方"},{"$f":"分類順!B1317","v":"医療の本"},{"$f":"分類順!C1317","v":"Gt：高齢者"},{"$f":"分類順!D1317","v":"宇田川宏"},{"$f":"分類順!E1317","v":"同時代社"},{"$f":"分類順!F1317","v":5608},"年齢に負けない身体の作り方医療の本Gt：高齢者宇田川宏同時代社",1,{"$f":"VLOOKUP(\"*\"&目次加工!$B$2&\"*\",J1318:K1318,2,0)","v":1},{"$error":"#N/A"}]
[null,null,null,{"$f":"分類順!A1318","v":"インフォームドチョイス"},{"$f":"分類順!B1318","v":"医療の本"},{"$f":"分類順!C1318","v":"Gt：高齢者"},{"$f":"分類順!D1318","v":"鎌田實"},{"$f":"分類順!E1318","v":"医歯薬出版"},{"$f":"分類順!F1318","v":5609},"インフォームドチョイス医療の本Gt：高齢者鎌田實医歯薬出版",1,{"$f":"VLOOKUP(\"*\"&目次加工!$B$2&\"*\",J1319:K1319,2,0)","v":1},{"$error":"#N/A"}]
[null,null,null,{"$f":"分類順!A1319","v":"医療がやさしさをとりもどすとき"},{"$f":"分類順!B1319","v":"医療の本"},{"$f":"分類順!C1319","v":"Gt：高齢者"},{"$f":"分類順!D1319","v":"鎌田實"},{"$f":"分類順!E1319","v":"医歯薬出版"},{"$f":"分類順!F1319","v":5610},"医療がやさしさをとりもどすとき医療の本Gt：高齢者鎌田實医歯薬出版",1,{"$f":"VLOOKUP(\"*\"&目次加工!$B$2&\"*\",J1320:K1320,2,0)","v":1},{"$error":"#N/A"}]
[null,null,null,{"$f":"分類順!A1320","v":"癒しの国のアリス"},{"$f":"分類順!B1320","v":"医療の本"},{"$f":"分類順!C1320","v":"Gt：高齢者"},{"$f":"分類順!D1320","v":"高柳和江"},{"$f":"分類順!E1320","v":"医歯薬出版"},{"$f":"分類順!F1320","v":5612},"癒しの国のアリス医療の本Gt：高齢者高柳和江医歯薬出版",1,{"$f":"VLOOKUP(\"*\"&目次加工!$B$2&\"*\",J1321:K1321,2,0)","v":1},{"$error":"#N/A"}]
[null,null,null,{"$f":"分類順!A1321","v":"老いの泉 上"},{"$f":"分類順!B1321","v":"医療の本"},{"$f":"分類順!C1321","v":"Gt：高齢者"},{"$f":"分類順!D1321","v":"ベティ・フリーダン"},{"$f":"分類順!E1321","v":"西村書店"},{"$f":"分類順!F1321","v":5613},"老いの泉 上医療の本Gt：高齢者ベティ・フリーダン西村書店",1,{"$f":"VLOOKUP(\"*\"&目次加工!$B$2&\"*\",J1322:K1322,2,0)","v":1},{"$error":"#N/A"}]
[null,null,null,{"$f":"分類順!A1322","v":"老いの泉 下"},{"$f":"分類順!B1322","v":"医療の本"},{"$f":"分類順!C1322","v":"Gt：高齢者"},{"$f":"分類順!D1322","v":"ベティ・フリーダン"},{"$f":"分類順!E1322","v":"西村書店"},{"$f":"分類順!F1322","v":5614},"老いの泉 下医療の本Gt：高齢者ベティ・フリーダン西村書店",1,{"$f":"VLOOKUP(\"*\"&目次加工!$B$2&\"*\",J1323:K1323,2,0)","v":1},{"$error":"#N/A"}]
[null,null,null,{"$f":"分類順!A1323","v":"医療は「生活」に出会えるのか"},{"$f":"分類順!B1323","v":"医療の本"},{"$f":"分類順!C1323","v":"Gt：高齢者"},{"$f":"分類順!D1323","v":"竹内孝仁"},{"$f":"分類順!E1323","v":"医歯薬出版"},{"$f":"分類順!F1323","v":5615},"医療は「生活」に出会えるのか医療の本Gt：高齢者竹内孝仁医歯薬出版",1,{"$f":"VLOOKUP(\"*\"&目次加工!$B$2&\"*\",J1324:K1324,2,0)","v":1},{"$error":"#N/A"}]
[null,null,null,{"$f":"分類順!A1324","v":"図解・症状からみる老いと病気とからだ"},{"$f":"分類順!B1324","v":"医療の本"},{"$f":"分類順!C1324","v":"Gt：高齢者"},{"$f":"分類順!D1324","v":"高橋龍太郎"},{"$f":"分類順!E1324","v":"中央法規出版"},{"$f":"分類順!F1324","v":8046},"図解・症状からみる老いと病気とからだ医療の本Gt：高齢者高橋龍太郎中央法規出版",1,{"$f":"VLOOKUP(\"*\"&目次加工!$B$2&\"*\",J1325:K1325,2,0)","v":1},{"$error":"#N/A"}]
[null,null,null,{"$f":"分類順!A1325","v":"病気にならない15の食習慣　楽しく生きる長寿の秘訣"},{"$f":"分類順!B1325","v":"医療の本"},{"$f":"分類順!C1325","v":"Gt：高齢者"},{"$f":"分類順!D1325","v":"日野原重明、劉影"},{"$f":"分類順!E1325","v":"青春出版社"},{"$f":"分類順!F1325","v":8101},"病気にならない15の食習慣　楽しく生きる長寿の秘訣医療の本Gt：高齢者日野原重明、劉影青春出版社",1,{"$f":"VLOOKUP(\"*\"&目次加工!$B$2&\"*\",J1326:K1326,2,0)","v":1},{"$error":"#N/A"}]
[null,null,null,{"$f":"分類順!A1326","v":"ここまでできる高齢者の転倒予防"},{"$f":"分類順!B1326","v":"医療の本"},{"$f":"分類順!C1326","v":"Gt：高齢者"},{"$f":"分類順!D1326","v":"武藤芳照　総監修"},{"$f":"分類順!E1326","v":"日本看護協会出版会"},{"$f":"分類順!F1326","v":8116},"ここまでできる高齢者の転倒予防医療の本Gt：高齢者武藤芳照　総監修日本看護協会出版会",1,{"$f":"VLOOKUP(\"*\"&目次加工!$B$2&\"*\",J1327:K1327,2,0)","v":1},{"$error":"#N/A"}]
[null,null,null,{"$f":"分類順!A1327","v":"死にゆく者の礼儀"},{"$f":"分類順!B1327","v":"一般図書"},{"$f":"分類順!C1327","v":"Gt：高齢者"},{"$f":"分類順!D1327","v":"遥洋子"},{"$f":"分類順!E1327","v":"筑摩書房"},{"$f":"分類順!F1327","v":10038},"死にゆく者の礼儀一般図書Gt：高齢者遥洋子筑摩書房",1,{"$f":"VLOOKUP(\"*\"&目次加工!$B$2&\"*\",J1328:K1328,2,0)","v":1},{"$error":"#N/A"}]
[null,null,null,{"$f":"分類順!A1328","v":"老後はひとり暮らしが幸せ"},{"$f":"分類順!B1328","v":"一般図書"},{"$f":"分類順!C1328","v":"Gt：高齢者"},{"$f":"分類順!D1328","v":"辻川覚志"},{"$f":"分類順!E1328","v":"水曜社"},{"$f":"分類順!F1328","v":10050},"老後はひとり暮らしが幸せ一般図書Gt：高齢者辻川覚志水曜社",1,{"$f":"VLOOKUP(\"*\"&目次加工!$B$2&\"*\",J1329:K1329,2,0)","v":1},{"$error":"#N/A"}]
[null,null,null,{"$f":"分類順!A1329","v":"高齢期ケア"},{"$f":"分類順!B1329","v":"目次へ"},{"$f":"分類順!C1329","v":"※PDF版ではリンクしておりません。"},{"$f":"分類順!D1329","v":0},{"$f":"分類順!E1329","v":0},{"$f":"分類順!F1329","v":0},"高齢期ケア目次へ※PDF版ではリンクしておりません。00",1,{"$f":"VLOOKUP(\"*\"&目次加工!$B$2&\"*\",J1330:K1330,2,0)","v":1},1]
[null,null,null,{"$f":"分類順!A1330","v":"介護に縁のないくらし　３７のノウハウ"},{"$f":"分類順!B1330","v":"医療の本"},{"$f":"分類順!C1330","v":"Gt5：高齢期ケア"},{"$f":"分類順!D1330","v":"上農　哲朗　監修"},{"$f":"分類順!E1330","v":"メディカ出版"},{"$f":"分類順!F1330","v":833},"介護に縁のないくらし　３７のノウハウ医療の本Gt5：高齢期ケア上農　哲朗　監修メディカ出版",1,{"$f":"VLOOKUP(\"*\"&目次加工!$B$2&\"*\",J1331:K1331,2,0)","v":1},{"$error":"#N/A"}]
[null,null,null,{"$f":"分類順!A1331","v":"誰も語りたがらないウンチとオシッコの話"},{"$f":"分類順!B1331","v":"医療の本"},{"$f":"分類順!C1331","v":"Gt5：高齢期ケア"},{"$f":"分類順!D1331","v":"勝屋なつみ"},{"$f":"分類順!E1331","v":"シービーアール"},{"$f":"分類順!F1331","v":5649},"誰も語りたがらないウンチとオシッコの話医療の本Gt5：高齢期ケア勝屋なつみシービーアール",1,{"$f":"VLOOKUP(\"*\"&目次加工!$B$2&\"*\",J1332:K1332,2,0)","v":1},{"$error":"#N/A"}]
[null,null,null,{"$f":"分類順!A1332","v":"これで解決！ウンコパニック"},{"$f":"分類順!B1332","v":"医療の本"},{"$f":"分類順!C1332","v":"Gt5：高齢期ケア"},{"$f":"分類順!D1332","v":"宮田乃有"},{"$f":"分類順!E1332","v":"メディカ出版"},{"$f":"分類順!F1332","v":5650},"これで解決！ウンコパニック医療の本Gt5：高齢期ケア宮田乃有メディカ出版",1,{"$f":"VLOOKUP(\"*\"&目次加工!$B$2&\"*\",J1333:K1333,2,0)","v":1},{"$error":"#N/A"}]
[null,null,null,{"$f":"分類順!A1333","v":"新床ずれケアナビ"},{"$f":"分類順!B1333","v":"医療の本"},{"$f":"分類順!C1333","v":"Gt5：高齢期ケア"},{"$f":"分類順!D1333","v":"日本在宅褥瘡創傷ケア推進協会"},{"$f":"分類順!E1333","v":"中央法規出版"},{"$f":"分類順!F1333","v":5651},"新床ずれケアナビ医療の本Gt5：高齢期ケア日本在宅褥瘡創傷ケア推進協会中央法規出版",1,{"$f":"VLOOKUP(\"*\"&目次加工!$B$2&\"*\",J1334:K1334,2,0)","v":1},{"$error":"#N/A"}]
[null,null,null,{"$f":"分類順!A1334","v":"親が70歳を過ぎたら読む本"},{"$f":"分類順!B1334","v":"医療の本"},{"$f":"分類順!C1334","v":"Gt5：高齢期ケア"},{"$f":"分類順!D1334","v":"村田裕之"},{"$f":"分類順!E1334","v":"ダイヤモンド社"},{"$f":"分類順!F1334","v":10027},"親が70歳を過ぎたら読む本医療の本Gt5：高齢期ケア村田裕之ダイヤモンド社",1,{"$f":"VLOOKUP(\"*\"&目次加工!$B$2&\"*\",J1335:K1335,2,0)","v":1},1]
[null,null,null,{"$f":"分類順!A1335","v":"口腔ケア"},{"$f":"分類順!B1335","v":"目次へ"},{"$f":"分類順!C1335","v":"※PDF版ではリンクしておりません。"},{"$f":"分類順!D1335","v":0},{"$f":"分類順!E1335","v":0},{"$f":"分類順!F1335","v":0},"口腔ケア目次へ※PDF版ではリンクしておりません。00",1,{"$f":"VLOOKUP(\"*\"&目次加工!$B$2&\"*\",J1336:K1336,2,0)","v":1},1]
[null,null,null,{"$f":"分類順!A1336","v":"看護に役立つ口腔ケアテクニック"},{"$f":"分類順!B1336","v":"医療の本"},{"$f":"分類順!C1336","v":"Gt6：口腔ケア"},{"$f":"分類順!D1336","v":0},{"$f":"分類順!E1336","v":"医歯薬出版"},{"$f":"分類順!F1336","v":8043},"看護に役立つ口腔ケアテクニック医療の本Gt6：口腔ケア0医歯薬出版",1,{"$f":"VLOOKUP(\"*\"&目次加工!$B$2&\"*\",J1337:K1337,2,0)","v":1},1]
[null,null,null,{"$f":"分類順!A1337","v":"認知症"},{"$f":"分類順!B1337","v":"目次へ"},{"$f":"分類順!C1337","v":"※PDF版ではリンクしておりません。"},{"$f":"分類順!D1337","v":0},{"$f":"分類順!E1337","v":0},{"$f":"分類順!F1337","v":0},"認知症目次へ※PDF版ではリンクしておりません。00",1,{"$f":"VLOOKUP(\"*\"&目次加工!$B$2&\"*\",J1338:K1338,2,0)","v":1},1]
[null,null,null,{"$f":"分類順!A1338","v":"アルツハイマー病・認知症（痴呆症）"},{"$f":"分類順!B1338","v":"医療の本"},{"$f":"分類順!C1338","v":"Gt7：認知症"},{"$f":"分類順!D1338","v":"吉岡　充　監修"},{"$f":"分類順!E1338","v":"主婦の友社"},{"$f":"分類順!F1338","v":568},"アルツハイマー病・認知症（痴呆症）医療の本Gt7：認知症吉岡　充　監修主婦の友社",1,{"$f":"VLOOKUP(\"*\"&目次加工!$B$2&\"*\",J1339:K1339,2,0)","v":1},{"$error":"#N/A"}]
[null,null,null,{"$f":"分類順!A1339","v":"アルツハイマー病のすべてがわかる本 イラスト版"},{"$f":"分類順!B1339","v":"医療の本"},{"$f":"分類順!C1339","v":"Gt7：認知症"},{"$f":"分類順!D1339","v":"新井　平伊"},{"$f":"分類順!E1339","v":"講談社"},{"$f":"分類順!F1339","v":569},"アルツハイマー病のすべてがわかる本 イラスト版医療の本Gt7：認知症新井　平伊講談社",1,{"$f":"VLOOKUP(\"*\"&目次加工!$B$2&\"*\",J1340:K1340,2,0)","v":1},{"$error":"#N/A"}]
[null,null,null,{"$f":"分類順!A1340","v":"徹底図解　認知症・アルツハイマー病"},{"$f":"分類順!B1340","v":"医療の本"},{"$f":"分類順!C1340","v":"Gt7：認知症"},{"$f":"分類順!D1340","v":"林　泰史　監修"},{"$f":"分類順!E1340","v":"法研"},{"$f":"分類順!F1340","v":580},"徹底図解　認知症・アルツハイマー病医療の本Gt7：認知症林　泰史　監修法研",1,{"$f":"VLOOKUP(\"*\"&目次加工!$B$2&\"*\",J1341:K1341,2,0)","v":1},{"$error":"#N/A"}]
[null,null,null,{"$f":"分類順!A1341","v":"「認知症」とはどんな病気？－「認知症」の"},{"$f":"分類順!B1341","v":"医療の本"},{"$f":"分類順!C1341","v":"Gt7：認知症"},{"$f":"分類順!D1341","v":"灰田　宗孝　著"},{"$f":"分類順!E1341","v":"東海大学出版会"},{"$f":"分類順!F1341","v":591},"「認知症」とはどんな病気？－「認知症」の医療の本Gt7：認知症灰田　宗孝　著東海大学出版会",1,{"$f":"VLOOKUP(\"*\"&目次加工!$B$2&\"*\",J1342:K1342,2,0)","v":1},{"$error":"#N/A"}]
[null,null,null,{"$f":"分類順!A1342","v":"認知症（痴呆）"},{"$f":"分類順!B1342","v":"医療の本"},{"$f":"分類順!C1342","v":"Gt7：認知症"},{"$f":"分類順!D1342","v":"一宮　洋介　著"},{"$f":"分類順!E1342","v":"日本医学館"},{"$f":"分類順!F1342","v":826},"認知症（痴呆）医療の本Gt7：認知症一宮　洋介　著日本医学館",1,{"$f":"VLOOKUP(\"*\"&目次加工!$B$2&\"*\",J1343:K1343,2,0)","v":1},{"$error":"#N/A"}]
[null,null,null,{"$f":"分類順!A1343","v":"本人と家族のための痴呆症介護百科"},{"$f":"分類順!B1343","v":"医療の本"},{"$f":"分類順!C1343","v":"Gt7：認知症"},{"$f":"分類順!D1343","v":"須貝　佑一　他著"},{"$f":"分類順!E1343","v":"永井書店"},{"$f":"分類順!F1343","v":828},"本人と家族のための痴呆症介護百科医療の本Gt7：認知症須貝　佑一　他著永井書店",1,{"$f":"VLOOKUP(\"*\"&目次加工!$B$2&\"*\",J1344:K1344,2,0)","v":1},{"$error":"#N/A"}]
[null,null,null,{"$f":"分類順!A1344","v":"アルツハイマ-無の世界への航海-"},{"$f":"分類順!B1344","v":"医療の本"},{"$f":"分類順!C1344","v":"Gt7：認知症"},{"$f":"分類順!D1344","v":"武田雅俊　監修"},{"$f":"分類順!E1344","v":"アークメディア"},{"$f":"分類順!F1344","v":5324},"アルツハイマ-無の世界への航海-医療の本Gt7：認知症武田雅俊　監修アークメディア",1,{"$f":"VLOOKUP(\"*\"&目次加工!$B$2&\"*\",J1345:K1345,2,0)","v":1},{"$error":"#N/A"}]
[null,null,null,{"$f":"分類順!A1345","v":"痴呆性高齢者の残存能力を高めるケア"},{"$f":"分類順!B1345","v":"医療の本"},{"$f":"分類順!C1345","v":"Gt7：認知症"},{"$f":"分類順!D1345","v":"山下美根子"},{"$f":"分類順!E1345","v":"医学書院"},{"$f":"分類順!F1345","v":5616},"痴呆性高齢者の残存能力を高めるケア医療の本Gt7：認知症山下美根子医学書院",1,{"$f":"VLOOKUP(\"*\"&目次加工!$B$2&\"*\",J1346:K1346,2,0)","v":1},{"$error":"#N/A"}]
[null,null,null,{"$f":"分類順!A1346","v":"フレディの遺言"},{"$f":"分類順!B1346","v":"医療の本"},{"$f":"分類順!C1346","v":"Gt7：認知症"},{"$f":"分類順!D1346","v":"フレディ松川"},{"$f":"分類順!E1346","v":"朝日新聞出版"},{"$f":"分類順!F1346","v":8081},"フレディの遺言医療の本Gt7：認知症フレディ松川朝日新聞出版",1,{"$f":"VLOOKUP(\"*\"&目次加工!$B$2&\"*\",J1347:K1347,2,0)","v":1},{"$error":"#N/A"}]
[null,null,null,{"$f":"分類順!A1347","v":"認知症の知りたいことガイドブック"},{"$f":"分類順!B1347","v":"医療の本"},{"$f":"分類順!C1347","v":"Gt7：認知症"},{"$f":"分類順!D1347","v":"長谷川　和夫"},{"$f":"分類順!E1347","v":"中央法規出版"},{"$f":"分類順!F1347","v":8098},"認知症の知りたいことガイドブック医療の本Gt7：認知症長谷川　和夫中央法規出版",1,{"$f":"VLOOKUP(\"*\"&目次加工!$B$2&\"*\",J1348:K1348,2,0)","v":1},{"$f":"VLOOKUP(\"*\"&$A$2&\"*\",J1348:K1348,2,0)","v":{"$error":"#N/A"}}]
[null,null,null,{"$f":"分類順!A1348","v":"認知症　家族を救う対策集"},{"$f":"分類順!B1348","v":"医療の本"},{"$f":"分類順!C1348","v":"Gt7：認知症"},{"$f":"分類順!D1348","v":"主婦の友社"},{"$f":"分類順!E1348","v":"主婦の友社"},{"$f":"分類順!F1348","v":10024},"認知症　家族を救う対策集医療の本Gt7：認知症主婦の友社主婦の友社",1,{"$f":"VLOOKUP(\"*\"&目次加工!$B$2&\"*\",J1349:K1349,2,0)","v":1},{"$error":"#N/A"}]
[null,null,null,{"$f":"分類順!A1349","v":"レビー小体型認知症がよくわかる本"},{"$f":"分類順!B1349","v":"医療の本"},{"$f":"分類順!C1349","v":"Gt7：認知症"},{"$f":"分類順!D1349","v":"小坂 憲司"},{"$f":"分類順!E1349","v":"講談社"},{"$f":"分類順!F1349","v":10184},"レビー小体型認知症がよくわかる本医療の本Gt7：認知症小坂 憲司講談社",1,{"$f":"VLOOKUP(\"*\"&目次加工!$B$2&\"*\",J1350:K1350,2,0)","v":1},{"$error":"#N/A"}]
[null,null,null,{"$f":"分類順!A1350","v":"在宅介護"},{"$f":"分類順!B1350","v":"目次へ"},{"$f":"分類順!C1350","v":"※PDF版ではリンクしておりません。"},{"$f":"分類順!D1350","v":0},{"$f":"分類順!E1350","v":0},{"$f":"分類順!F1350","v":0},"在宅介護目次へ※PDF版ではリンクしておりません。00",1,{"$f":"VLOOKUP(\"*\"&目次加工!$B$2&\"*\",J1351:K1351,2,0)","v":1},1]
[null,null,null,{"$f":"分類順!A1351","v":"とっておき！病気・治療・薬の知識"},{"$f":"分類順!B1351","v":"医療の本"},{"$f":"分類順!C1351","v":"Gt8：在宅介護"},{"$f":"分類順!D1351","v":"川人　明　著"},{"$f":"分類順!E1351","v":"日本看護協会出版会"},{"$f":"分類順!F1351","v":830},"とっておき！病気・治療・薬の知識医療の本Gt8：在宅介護川人　明　著日本看護協会出版会",1,{"$f":"VLOOKUP(\"*\"&目次加工!$B$2&\"*\",J1352:K1352,2,0)","v":1},{"$error":"#N/A"}]
[null,null,null,{"$f":"分類順!A1352","v":"在宅での看取りのケア　家族支援を中心に"},{"$f":"分類順!B1352","v":"医療の本"},{"$f":"分類順!C1352","v":"Gt8：在宅介護"},{"$f":"分類順!D1352","v":"宮崎　和加子　監修"},{"$f":"分類順!E1352","v":"日本看護協会出版会"},{"$f":"分類順!F1352","v":835},"在宅での看取りのケア　家族支援を中心に医療の本Gt8：在宅介護宮崎　和加子　監修日本看護協会出版会",1,{"$f":"VLOOKUP(\"*\"&目次加工!$B$2&\"*\",J1353:K1353,2,0)","v":1},{"$error":"#N/A"}]
[null,null,null,{"$f":"分類順!A1353","v":"在宅医療実践マニュアル　第２版　地域ケア"},{"$f":"分類順!B1353","v":"医療の本"},{"$f":"分類順!C1353","v":"Gt8：在宅介護"},{"$f":"分類順!D1353","v":"在宅ケアを支える診療"},{"$f":"分類順!E1353","v":"医歯薬出版"},{"$f":"分類順!F1353","v":836},"在宅医療実践マニュアル　第２版　地域ケア医療の本Gt8：在宅介護在宅ケアを支える診療医歯薬出版",1,{"$f":"VLOOKUP(\"*\"&目次加工!$B$2&\"*\",J1354:K1354,2,0)","v":1},{"$error":"#N/A"}]
[null,null,null,{"$f":"分類順!A1354","v":"在宅介護　家族がつくるケアプラン"},{"$f":"分類順!B1354","v":"医療の本"},{"$f":"分類順!C1354","v":"Gt8：在宅介護"},{"$f":"分類順!D1354","v":"和田　要　著"},{"$f":"分類順!E1354","v":"日中出版"},{"$f":"分類順!F1354","v":838},"在宅介護　家族がつくるケアプラン医療の本Gt8：在宅介護和田　要　著日中出版",1,{"$f":"VLOOKUP(\"*\"&目次加工!$B$2&\"*\",J1355:K1355,2,0)","v":1},{"$error":"#N/A"}]
[null,null,null,{"$f":"分類順!A1355","v":"失禁・便秘・カテーテル・人工肛門のホーム"},{"$f":"分類順!B1355","v":"医療の本"},{"$f":"分類順!C1355","v":"Gt8：在宅介護"},{"$f":"分類順!D1355","v":"林　泰史　監修"},{"$f":"分類順!E1355","v":"中央法規出版"},{"$f":"分類順!F1355","v":839},"失禁・便秘・カテーテル・人工肛門のホーム医療の本Gt8：在宅介護林　泰史　監修中央法規出版",1,{"$f":"VLOOKUP(\"*\"&目次加工!$B$2&\"*\",J1356:K1356,2,0)","v":1},{"$error":"#N/A"}]
[null,null,null,{"$f":"分類順!A1356","v":"図解わかりやすい　新・介護保険ガイド"},{"$f":"分類順!B1356","v":"医療の本"},{"$f":"分類順!C1356","v":"Gt8：在宅介護"},{"$f":"分類順!D1356","v":"佐藤　ちよみ　校閲"},{"$f":"分類順!E1356","v":"保健同人社"},{"$f":"分類順!F1356","v":840},"図解わかりやすい　新・介護保険ガイド医療の本Gt8：在宅介護佐藤　ちよみ　校閲保健同人社",1,{"$f":"VLOOKUP(\"*\"&目次加工!$B$2&\"*\",J1357:K1357,2,0)","v":1},{"$error":"#N/A"}]
[null,null,null,{"$f":"分類順!A1357","v":"くじけないで"},{"$f":"分類順!B1357","v":"一般図書"},{"$f":"分類順!C1357","v":"Gt8：在宅介護"},{"$f":"分類順!D1357","v":"柴田トヨ"},{"$f":"分類順!E1357","v":"飛鳥新社"},{"$f":"分類順!F1357","v":5321},"くじけないで一般図書Gt8：在宅介護柴田トヨ飛鳥新社",1,{"$f":"VLOOKUP(\"*\"&目次加工!$B$2&\"*\",J1358:K1358,2,0)","v":1},{"$error":"#N/A"}]
[null,null,null,{"$f":"分類順!A1358","v":"「自分の家で死にたい」と言われたら読む本"},{"$f":"分類順!B1358","v":"医療の本"},{"$f":"分類順!C1358","v":"Gt8：在宅介護"},{"$f":"分類順!D1358","v":"関屋 利治　著"},{"$f":"分類順!E1358","v":"中経出版"},{"$f":"分類順!F1358","v":5388},"「自分の家で死にたい」と言われたら読む本医療の本Gt8：在宅介護関屋 利治　著中経出版",1,{"$f":"VLOOKUP(\"*\"&目次加工!$B$2&\"*\",J1359:K1359,2,0)","v":1},{"$error":"#N/A"}]
[null,null,null,{"$f":"分類順!A1359","v":"くじけないで"},{"$f":"分類順!B1359","v":"一般図書"},{"$f":"分類順!C1359","v":"Gt8：在宅介護"},{"$f":"分類順!D1359","v":"柴田トヨ"},{"$f":"分類順!E1359","v":"飛鳥新社"},{"$f":"分類順!F1359","v":5423},"くじけないで一般図書Gt8：在宅介護柴田トヨ飛鳥新社",1,{"$f":"VLOOKUP(\"*\"&目次加工!$B$2&\"*\",J1360:K1360,2,0)","v":1},{"$error":"#N/A"}]
[null,null,null,{"$f":"分類順!A1360","v":"リハビリテーションとしての在宅医療"},{"$f":"分類順!B1360","v":"医療の本"},{"$f":"分類順!C1360","v":"Gt8：在宅介護"},{"$f":"分類順!D1360","v":"藤井博之/山口明/田中久美子"},{"$f":"分類順!E1360","v":"南山堂"},{"$f":"分類順!F1360","v":5498},"リハビリテーションとしての在宅医療医療の本Gt8：在宅介護藤井博之/山口明/田中久美子南山堂",1,{"$f":"VLOOKUP(\"*\"&目次加工!$B$2&\"*\",J1361:K1361,2,0)","v":1},{"$error":"#N/A"}]
[null,null,null,{"$f":"分類順!A1361","v":"在宅栄養管理・経口から胃廔・経静脈栄養まで"},{"$f":"分類順!B1361","v":"医療の本"},{"$f":"分類順!C1361","v":"Gt8：在宅介護"},{"$f":"分類順!D1361","v":"小野沢滋"},{"$f":"分類順!E1361","v":"南山堂"},{"$f":"分類順!F1361","v":5499},"在宅栄養管理・経口から胃廔・経静脈栄養まで医療の本Gt8：在宅介護小野沢滋南山堂",1,{"$f":"VLOOKUP(\"*\"&目次加工!$B$2&\"*\",J1362:K1362,2,0)","v":1},{"$error":"#N/A"}]
[null,null,null,{"$f":"分類順!A1362","v":"“口から食べる”を支える在宅でみる摂食・嚥下障害、口腔ケア"},{"$f":"分類順!B1362","v":"医療の本"},{"$f":"分類順!C1362","v":"Gt8：在宅介護"},{"$f":"分類順!D1362","v":"新田國夫"},{"$f":"分類順!E1362","v":"南山堂"},{"$f":"分類順!F1362","v":5500},{"$f":"D1363&E1363&F1363&G1363&H1363","v":"“口から食べる”を支える在宅でみる摂食・嚥下障害、口腔ケア医療の本Gt8：在宅介護新田國夫南山堂"},1,{"$f":"VLOOKUP(\"*\"&目次加工!$B$2&\"*\",J1363:K1363,2,0)","v":1},{"$error":"#N/A"}]
[null,null,null,{"$f":"分類順!A1363","v":"在宅における床ずれ予防マニュアル"},{"$f":"分類順!B1363","v":"医療の本"},{"$f":"分類順!C1363","v":"Gt8：在宅介護"},{"$f":"分類順!D1363","v":"藤原泰子"},{"$f":"分類順!E1363","v":"真興交易医書出版"},{"$f":"分類順!F1363","v":5652},"在宅における床ずれ予防マニュアル医療の本Gt8：在宅介護藤原泰子真興交易医書出版",1,{"$f":"VLOOKUP(\"*\"&目次加工!$B$2&\"*\",J1364:K1364,2,0)","v":1},{"$error":"#N/A"}]
[null,null,null,{"$f":"分類順!A1364","v":"介護食ハンドブック　第２版"},{"$f":"分類順!B1364","v":"医療の本"},{"$f":"分類順!C1364","v":"Gt8：在宅介護"},{"$f":"分類順!D1364","v":"手嶋登志子"},{"$f":"分類順!E1364","v":"医歯薬出版"},{"$f":"分類順!F1364","v":10025},"介護食ハンドブック　第２版医療の本Gt8：在宅介護手嶋登志子医歯薬出版",1,{"$f":"VLOOKUP(\"*\"&目次加工!$B$2&\"*\",J1365:K1365,2,0)","v":1},{"$error":"#N/A"}]
[null,null,null,{"$f":"分類順!A1365","v":"介護のほんとうがわかる本"},{"$f":"分類順!B1365","v":"医療の本"},{"$f":"分類順!C1365","v":"Gt8：在宅介護"},{"$f":"分類順!D1365","v":"主婦と生活社"},{"$f":"分類順!E1365","v":"主婦と生活社"},{"$f":"分類順!F1365","v":10026},"介護のほんとうがわかる本医療の本Gt8：在宅介護主婦と生活社主婦と生活社",1,{"$f":"VLOOKUP(\"*\"&目次加工!$B$2&\"*\",J1366:K1366,2,0)","v":1},{"$error":"#N/A"}]
[null,null,null,{"$f":"分類順!A1366","v":"新しい介護"},{"$f":"分類順!B1366","v":"医療の本"},{"$f":"分類順!C1366","v":"Gt8：在宅介護"},{"$f":"分類順!D1366","v":"大田仁史"},{"$f":"分類順!E1366","v":"講談社"},{"$f":"分類順!F1366","v":10028},"新しい介護医療の本Gt8：在宅介護大田仁史講談社",1,{"$f":"VLOOKUP(\"*\"&目次加工!$B$2&\"*\",J1367:K1367,2,0)","v":1},{"$error":"#N/A"}]
[null,null,null,{"$f":"分類順!A1367","v":"親の入院・介護が必要になったときに読む本"},{"$f":"分類順!B1367","v":"医療の本"},{"$f":"分類順!C1367","v":"Gt8：在宅介護"},{"$f":"分類順!D1367","v":"豊田眞弓"},{"$f":"分類順!E1367","v":"日本実業出版社"},{"$f":"分類順!F1367","v":10029},"親の入院・介護が必要になったときに読む本医療の本Gt8：在宅介護豊田眞弓日本実業出版社",1,{"$f":"VLOOKUP(\"*\"&目次加工!$B$2&\"*\",J1368:K1368,2,0)","v":1},{"$error":"#N/A"}]
[null,null,null,{"$f":"分類順!A1368","v":"代替療法"},{"$f":"分類順!B1368","v":"目次へ"},{"$f":"分類順!C1368","v":"※PDF版ではリンクしておりません。"},{"$f":"分類順!D1368","v":0},{"$f":"分類順!E1368","v":0},{"$f":"分類順!F1368","v":0},"代替療法目次へ※PDF版ではリンクしておりません。00",1,{"$f":"VLOOKUP(\"*\"&目次加工!$B$2&\"*\",J1369:K1369,2,0)","v":1},1]
[null,null,null,{"$f":"分類順!A1369","v":"陰陽五行による癒しの音楽"},{"$f":"分類順!B1369","v":"医療の本"},{"$f":"分類順!C1369","v":"H：代替療法"},{"$f":"分類順!D1369","v":"米井　嘉一"},{"$f":"分類順!E1369","v":"廣済堂"},{"$f":"分類順!F1369","v":132},"陰陽五行による癒しの音楽医療の本H：代替療法米井　嘉一廣済堂",1,{"$f":"VLOOKUP(\"*\"&目次加工!$B$2&\"*\",J1370:K1370,2,0)","v":1},{"$error":"#N/A"}]
[null,null,null,{"$f":"分類順!A1370","v":"脳は甦る　音楽運動療法による甦生リハビリ"},{"$f":"分類順!B1370","v":"医療の本"},{"$f":"分類順!C1370","v":"H：代替療法"},{"$f":"分類順!D1370","v":"後藤　幸生　他"},{"$f":"分類順!E1370","v":"大修館書店"},{"$f":"分類順!F1370","v":606},"脳は甦る　音楽運動療法による甦生リハビリ医療の本H：代替療法後藤　幸生　他大修館書店",1,{"$f":"VLOOKUP(\"*\"&目次加工!$B$2&\"*\",J1371:K1371,2,0)","v":1},{"$error":"#N/A"}]
[null,null,null,{"$f":"分類順!A1371","v":"がんワクチン"},{"$f":"分類順!B1371","v":"医療の本"},{"$f":"分類順!C1371","v":"H：代替療法"},{"$f":"分類順!D1371","v":"大野　忠夫　著"},{"$f":"分類順!E1371","v":"デジタルメディスン"},{"$f":"分類順!F1371","v":842},"がんワクチン医療の本H：代替療法大野　忠夫　著デジタルメディスン",1,{"$f":"VLOOKUP(\"*\"&目次加工!$B$2&\"*\",J1372:K1372,2,0)","v":1},{"$error":"#N/A"}]
[null,null,null,{"$f":"分類順!A1372","v":"看護職のための代替療法ガイドブック"},{"$f":"分類順!B1372","v":"医療の本"},{"$f":"分類順!C1372","v":"H：代替療法"},{"$f":"分類順!D1372","v":"今西　二郎　他編"},{"$f":"分類順!E1372","v":"医学書院"},{"$f":"分類順!F1372","v":844},"看護職のための代替療法ガイドブック医療の本H：代替療法今西　二郎　他編医学書院",1,{"$f":"VLOOKUP(\"*\"&目次加工!$B$2&\"*\",J1373:K1373,2,0)","v":1},{"$error":"#N/A"}]
[null,null,null,{"$f":"分類順!A1373","v":"原本・西式健康読本　ワイド版　食と健　４"},{"$f":"分類順!B1373","v":"医療の本"},{"$f":"分類順!C1373","v":"H：代替療法"},{"$f":"分類順!D1373","v":"西　勝造　著"},{"$f":"分類順!E1373","v":"農山漁村文化協会"},{"$f":"分類順!F1373","v":845},"原本・西式健康読本　ワイド版　食と健　４医療の本H：代替療法西　勝造　著農山漁村文化協会",1,{"$f":"VLOOKUP(\"*\"&目次加工!$B$2&\"*\",J1374:K1374,2,0)","v":1},{"$error":"#N/A"}]
[null,null,null,{"$f":"分類順!A1374","v":"最先端がん治療免疫細胞療法にたどり着いて"},{"$f":"分類順!B1374","v":"医療の本"},{"$f":"分類順!C1374","v":"H：代替療法"},{"$f":"分類順!D1374","v":"藤原　義久　編著"},{"$f":"分類順!E1374","v":"河出書房新社"},{"$f":"分類順!F1374","v":846},"最先端がん治療免疫細胞療法にたどり着いて医療の本H：代替療法藤原　義久　編著河出書房新社",1,{"$f":"VLOOKUP(\"*\"&目次加工!$B$2&\"*\",J1375:K1375,2,0)","v":1},{"$error":"#N/A"}]
[null,null,null,{"$f":"分類順!A1375","v":"民間療法－誰にもできる－食と健康の古　５"},{"$f":"分類順!B1375","v":"医療の本"},{"$f":"分類順!C1375","v":"H：代替療法"},{"$f":"分類順!D1375","v":"農文協　編"},{"$f":"分類順!E1375","v":"農山漁村文化協会"},{"$f":"分類順!F1375","v":847},"民間療法－誰にもできる－食と健康の古　５医療の本H：代替療法農文協　編農山漁村文化協会",1,{"$f":"VLOOKUP(\"*\"&目次加工!$B$2&\"*\",J1376:K1376,2,0)","v":1},{"$error":"#N/A"}]
[null,null,null,{"$f":"分類順!A1376","v":"よくわかる　新しい東洋医学入門講座"},{"$f":"分類順!B1376","v":"医療の本"},{"$f":"分類順!C1376","v":"H：代替療法"},{"$f":"分類順!D1376","v":"丁　宗鐡　監"},{"$f":"分類順!E1376","v":"永井書店"},{"$f":"分類順!F1376","v":850},"よくわかる　新しい東洋医学入門講座医療の本H：代替療法丁　宗鐡　監永井書店",1,{"$f":"VLOOKUP(\"*\"&目次加工!$B$2&\"*\",J1377:K1377,2,0)","v":1},{"$error":"#N/A"}]
[null,null,null,{"$f":"分類順!A1377","v":"ＮＨＫ地球大紀行１"},{"$f":"分類順!B1377","v":"一般図書"},{"$f":"分類順!C1377","v":"H：代替療法"},{"$f":"分類順!D1377","v":0},{"$f":"分類順!E1377","v":"日本放送出版協会"},{"$f":"分類順!F1377","v":5617},"ＮＨＫ地球大紀行１一般図書H：代替療法0日本放送出版協会",1,{"$f":"VLOOKUP(\"*\"&目次加工!$B$2&\"*\",J1378:K1378,2,0)","v":1},1]
[null,null,null,{"$f":"分類順!A1378","v":"ＮＨＫ地球大紀行２"},{"$f":"分類順!B1378","v":"一般図書"},{"$f":"分類順!C1378","v":"H：代替療法"},{"$f":"分類順!D1378","v":0},{"$f":"分類順!E1378","v":"日本放送出版協会"},{"$f":"分類順!F1378","v":5618},"ＮＨＫ地球大紀行２一般図書H：代替療法0日本放送出版協会",1,{"$f":"VLOOKUP(\"*\"&目次加工!$B$2&\"*\",J1379:K1379,2,0)","v":1},1]
[null,null,null,{"$f":"分類順!A1379","v":"ＮＨＫ地球大紀行３"},{"$f":"分類順!B1379","v":"一般図書"},{"$f":"分類順!C1379","v":"H：代替療法"},{"$f":"分類順!D1379","v":0},{"$f":"分類順!E1379","v":"日本放送出版協会"},{"$f":"分類順!F1379","v":5619},"ＮＨＫ地球大紀行３一般図書H：代替療法0日本放送出版協会",1,{"$f":"VLOOKUP(\"*\"&目次加工!$B$2&\"*\",J1380:K1380,2,0)","v":1},1]
[null,null,null,{"$f":"分類順!A1380","v":"ＮＨＫ地球大紀行４"},{"$f":"分類順!B1380","v":"一般図書"},{"$f":"分類順!C1380","v":"H：代替療法"},{"$f":"分類順!D1380","v":0},{"$f":"分類順!E1380","v":"日本放送出版協会"},{"$f":"分類順!F1380","v":5620},"ＮＨＫ地球大紀行４一般図書H：代替療法0日本放送出版協会",1,{"$f":"VLOOKUP(\"*\"&目次加工!$B$2&\"*\",J1381:K1381,2,0)","v":1},1]
[null,null,null,{"$f":"分類順!A1381","v":"ＮＨＫ地球大紀行５"},{"$f":"分類順!B1381","v":"一般図書"},{"$f":"分類順!C1381","v":"H：代替療法"},{"$f":"分類順!D1381","v":0},{"$f":"分類順!E1381","v":"日本放送出版協会"},{"$f":"分類順!F1381","v":5621},"ＮＨＫ地球大紀行５一般図書H：代替療法0日本放送出版協会",1,{"$f":"VLOOKUP(\"*\"&目次加工!$B$2&\"*\",J1382:K1382,2,0)","v":1},1]
[null,null,null,{"$f":"分類順!A1382","v":"ＮＨＫ地球大紀行６"},{"$f":"分類順!B1382","v":"一般図書"},{"$f":"分類順!C1382","v":"H：代替療法"},{"$f":"分類順!D1382","v":0},{"$f":"分類順!E1382","v":"日本放送出版協会"},{"$f":"分類順!F1382","v":5622},"ＮＨＫ地球大紀行６一般図書H：代替療法0日本放送出版協会",1,{"$f":"VLOOKUP(\"*\"&目次加工!$B$2&\"*\",J1383:K1383,2,0)","v":1},1]
[null,null,null,{"$f":"分類順!A1383","v":"ＮＨＫ地球大紀行別巻１"},{"$f":"分類順!B1383","v":"一般図書"},{"$f":"分類順!C1383","v":"H：代替療法"},{"$f":"分類順!D1383","v":0},{"$f":"分類順!E1383","v":"日本放送出版協会"},{"$f":"分類順!F1383","v":5623},"ＮＨＫ地球大紀行別巻１一般図書H：代替療法0日本放送出版協会",1,{"$f":"VLOOKUP(\"*\"&目次加工!$B$2&\"*\",J1384:K1384,2,0)","v":1},1]
[null,null,null,{"$f":"分類順!A1384","v":"ＮＨＫ地球大紀行別巻２"},{"$f":"分類順!B1384","v":"一般図書"},{"$f":"分類順!C1384","v":"H：代替療法"},{"$f":"分類順!D1384","v":0},{"$f":"分類順!E1384","v":"日本放送出版協会"},{"$f":"分類順!F1384","v":5624},"ＮＨＫ地球大紀行別巻２一般図書H：代替療法0日本放送出版協会",1,{"$f":"VLOOKUP(\"*\"&目次加工!$B$2&\"*\",J1385:K1385,2,0)","v":1},1]
[null,null,null,{"$f":"分類順!A1385","v":"ＷＨＩＴＥ　ホワイト"},{"$f":"分類順!B1385","v":"一般図書"},{"$f":"分類順!C1385","v":"H：代替療法"},{"$f":"分類順!D1385","v":"南風椎"},{"$f":"分類順!E1385","v":"PARCO出版局"},{"$f":"分類順!F1385","v":5632},"ＷＨＩＴＥ　ホワイト一般図書H：代替療法南風椎PARCO出版局",1,{"$f":"VLOOKUP(\"*\"&目次加工!$B$2&\"*\",J1386:K1386,2,0)","v":1},{"$error":"#N/A"}]
[null,null,null,{"$f":"分類順!A1386","v":"西表写真館"},{"$f":"分類順!B1386","v":"一般図書"},{"$f":"分類順!C1386","v":"H：代替療法"},{"$f":"分類順!D1386","v":"笠井雅夫"},{"$f":"分類順!E1386","v":"サンエイテイ"},{"$f":"分類順!F1386","v":5633},"西表写真館一般図書H：代替療法笠井雅夫サンエイテイ",1,{"$f":"VLOOKUP(\"*\"&目次加工!$B$2&\"*\",J1387:K1387,2,0)","v":1},{"$error":"#N/A"}]
[null,null,null,{"$f":"分類順!A1387","v":"西表島の海"},{"$f":"分類順!B1387","v":"一般図書"},{"$f":"分類順!C1387","v":"H：代替療法"},{"$f":"分類順!D1387","v":"矢野維幾"},{"$f":"分類順!E1387","v":"平凡社"},{"$f":"分類順!F1387","v":5634},"西表島の海一般図書H：代替療法矢野維幾平凡社",1,{"$f":"VLOOKUP(\"*\"&目次加工!$B$2&\"*\",J1388:K1388,2,0)","v":1},{"$error":"#N/A"}]
[null,null,null,{"$f":"分類順!A1388","v":"ＣＬＯＵＤＬＡＮＤ"},{"$f":"分類順!B1388","v":"一般図書"},{"$f":"分類順!C1388","v":"H：代替療法"},{"$f":"分類順!D1388","v":"高橋健司"},{"$f":"分類順!E1388","v":"光琳社"},{"$f":"分類順!F1388","v":5635},"ＣＬＯＵＤＬＡＮＤ一般図書H：代替療法高橋健司光琳社",1,{"$f":"VLOOKUP(\"*\"&目次加工!$B$2&\"*\",J1389:K1389,2,0)","v":1},{"$error":"#N/A"}]
[null,null,null,{"$f":"分類順!A1389","v":"花屋さんの１２ヶ月"},{"$f":"分類順!B1389","v":"一般図書"},{"$f":"分類順!C1389","v":"H：代替療法"},{"$f":"分類順!D1389","v":"小林寛幸"},{"$f":"分類順!E1389","v":"淡交社"},{"$f":"分類順!F1389","v":5636},"花屋さんの１２ヶ月一般図書H：代替療法小林寛幸淡交社",1,{"$f":"VLOOKUP(\"*\"&目次加工!$B$2&\"*\",J1390:K1390,2,0)","v":1},{"$error":"#N/A"}]
[null,null,null,{"$f":"分類順!A1390","v":"free"},{"$f":"分類順!B1390","v":"一般図書"},{"$f":"分類順!C1390","v":"H：代替療法"},{"$f":"分類順!D1390","v":"高砂淳二"},{"$f":"分類順!E1390","v":"小学館"},{"$f":"分類順!F1390","v":5637},"free一般図書H：代替療法高砂淳二小学館",1,{"$f":"VLOOKUP(\"*\"&目次加工!$B$2&\"*\",J1391:K1391,2,0)","v":1},{"$error":"#N/A"}]
[null,null,null,{"$f":"分類順!A1391","v":"世界の花と木2850"},{"$f":"分類順!B1391","v":"一般図書"},{"$f":"分類順!C1391","v":"H：代替療法"},{"$f":"分類順!D1391","v":"塚本洋太郎"},{"$f":"分類順!E1391","v":"主婦の友社"},{"$f":"分類順!F1391","v":5638},"世界の花と木2850一般図書H：代替療法塚本洋太郎主婦の友社",1,{"$f":"VLOOKUP(\"*\"&目次加工!$B$2&\"*\",J1392:K1392,2,0)","v":1},1]
[null,null,null,{"$f":"分類順!A1392","v":"笹倉鉄平画集"},{"$f":"分類順!B1392","v":"一般図書"},{"$f":"分類順!C1392","v":"H：代替療法"},{"$f":"分類順!D1392","v":"笹倉鉄平"},{"$f":"分類順!E1392","v":"ガリレア・プロバ"},{"$f":"分類順!F1392","v":5640},"笹倉鉄平画集一般図書H：代替療法笹倉鉄平ガリレア・プロバ",1,{"$f":"VLOOKUP(\"*\"&目次加工!$B$2&\"*\",J1393:K1393,2,0)","v":1},{"$error":"#N/A"}]
[null,null,null,{"$f":"分類順!A1393","v":"春・花づくし"},{"$f":"分類順!B1393","v":"一般図書"},{"$f":"分類順!C1393","v":"H：代替療法"},{"$f":"分類順!D1393","v":"細川護貞"},{"$f":"分類順!E1393","v":"講談社ペック"},{"$f":"分類順!F1393","v":5641},"春・花づくし一般図書H：代替療法細川護貞講談社ペック",1,{"$f":"VLOOKUP(\"*\"&目次加工!$B$2&\"*\",J1394:K1394,2,0)","v":1},{"$error":"#N/A"}]
[null,null,null,{"$f":"分類順!A1394","v":"かけがえのない地球３６５日空の旅"},{"$f":"分類順!B1394","v":"一般図書"},{"$f":"分類順!C1394","v":"H：代替療法"},{"$f":"分類順!D1394","v":"ﾔﾝ･ｱﾙﾃｨｽ･ﾍﾞﾝﾄﾗﾝ"},{"$f":"分類順!E1394","v":"ピエ・ブックス"},{"$f":"分類順!F1394","v":5642},"かけがえのない地球３６５日空の旅一般図書H：代替療法ﾔﾝ･ｱﾙﾃｨｽ･ﾍﾞﾝﾄﾗﾝピエ・ブックス",1,{"$f":"VLOOKUP(\"*\"&目次加工!$B$2&\"*\",J1395:K1395,2,0)","v":1},{"$error":"#N/A"}]
[null,null,null,{"$f":"分類順!A1395","v":"新版伊丹の樹木"},{"$f":"分類順!B1395","v":"一般図書"},{"$f":"分類順!C1395","v":"H：代替療法"},{"$f":"分類順!D1395","v":"伊丹市立総合教育センター"},{"$f":"分類順!E1395","v":"伊丹市立総合教育センター"},{"$f":"分類順!F1395","v":5671},"新版伊丹の樹木一般図書H：代替療法伊丹市立総合教育センター伊丹市立総合教育センター",1,{"$f":"VLOOKUP(\"*\"&目次加工!$B$2&\"*\",J1396:K1396,2,0)","v":1},{"$error":"#N/A"}]
[null,null,null,{"$f":"分類順!A1396","v":"動物の赤ちゃんを育てる"},{"$f":"分類順!B1396","v":"一般図書"},{"$f":"分類順!C1396","v":"H：代替療法"},{"$f":"分類順!D1396","v":"亀井一成"},{"$f":"分類順!E1396","v":"朝日出版社"},{"$f":"分類順!F1396","v":10041},"動物の赤ちゃんを育てる一般図書H：代替療法亀井一成朝日出版社",1,{"$f":"VLOOKUP(\"*\"&目次加工!$B$2&\"*\",J1397:K1397,2,0)","v":1},{"$error":"#N/A"}]
[null,null,null,{"$f":"分類順!A1397","v":"動物の赤ちゃんを育てる"},{"$f":"分類順!B1397","v":"一般図書"},{"$f":"分類順!C1397","v":"H：代替療法"},{"$f":"分類順!D1397","v":"亀井一成"},{"$f":"分類順!E1397","v":"朝日出版社"},{"$f":"分類順!F1397","v":10042},"動物の赤ちゃんを育てる一般図書H：代替療法亀井一成朝日出版社",1,{"$f":"VLOOKUP(\"*\"&目次加工!$B$2&\"*\",J1398:K1398,2,0)","v":1},{"$error":"#N/A"}]
[null,null,null,{"$f":"分類順!A1398","v":"日本地図帳"},{"$f":"分類順!B1398","v":"一般図書"},{"$f":"分類順!C1398","v":"H：代替療法"},{"$f":"分類順!D1398","v":"青柳栄次"},{"$f":"分類順!E1398","v":"旺文社"},{"$f":"分類順!F1398","v":10043},"日本地図帳一般図書H：代替療法青柳栄次旺文社",1,{"$f":"VLOOKUP(\"*\"&目次加工!$B$2&\"*\",J1399:K1399,2,0)","v":1},{"$error":"#N/A"}]
[null,null,null,{"$f":"分類順!A1399","v":"世界地図帳"},{"$f":"分類順!B1399","v":"一般図書"},{"$f":"分類順!C1399","v":"H：代替療法"},{"$f":"分類順!D1399","v":"青柳栄次"},{"$f":"分類順!E1399","v":"旺文社"},{"$f":"分類順!F1399","v":10044},"世界地図帳一般図書H：代替療法青柳栄次旺文社",1,{"$f":"VLOOKUP(\"*\"&目次加工!$B$2&\"*\",J1400:K1400,2,0)","v":1},{"$error":"#N/A"}]
[null,null,null,{"$f":"分類順!A1400","v":"旅に出たくなる地図　世界編"},{"$f":"分類順!B1400","v":"一般図書"},{"$f":"分類順!C1400","v":"H：代替療法"},{"$f":"分類順!D1400","v":"帝国書院"},{"$f":"分類順!E1400","v":"帝国書院"},{"$f":"分類順!F1400","v":10210},"旅に出たくなる地図　世界編一般図書H：代替療法帝国書院帝国書院",1,{"$f":"VLOOKUP(\"*\"&目次加工!$B$2&\"*\",J1401:K1401,2,0)","v":1},{"$error":"#N/A"}]
[null,null,null,{"$f":"分類順!A1401","v":"旅に出たくなる地図　日本編"},{"$f":"分類順!B1401","v":"一般図書"},{"$f":"分類順!C1401","v":"H：代替療法"},{"$f":"分類順!D1401","v":"帝国書院"},{"$f":"分類順!E1401","v":"帝国書院"},{"$f":"分類順!F1401","v":10211},"旅に出たくなる地図　日本編一般図書H：代替療法帝国書院帝国書院",1,{"$f":"VLOOKUP(\"*\"&目次加工!$B$2&\"*\",J1402:K1402,2,0)","v":1},{"$error":"#N/A"}]
[null,null,null,{"$f":"分類順!A1402","v":"SILVERシルバー"},{"$f":"分類順!B1402","v":"一般図書"},{"$f":"分類順!C1402","v":"H：代替療法"},{"$f":"分類順!D1402","v":"南風椎"},{"$f":"分類順!E1402","v":"PARCO出版局"},{"$f":"分類順!F1402","v":10376},"SILVERシルバー一般図書H：代替療法南風椎PARCO出版局",1,{"$f":"VLOOKUP(\"*\"&目次加工!$B$2&\"*\",J1403:K1403,2,0)","v":1},{"$error":"#N/A"}]
[null,null,null,{"$f":"分類順!A1403","v":"GOLDゴールド"},{"$f":"分類順!B1403","v":"一般図書"},{"$f":"分類順!C1403","v":"H：代替療法"},{"$f":"分類順!D1403","v":"南風推"},{"$f":"分類順!E1403","v":"PARCO出版局"},{"$f":"分類順!F1403","v":10377},"GOLDゴールド一般図書H：代替療法南風推PARCO出版局",1,{"$f":"VLOOKUP(\"*\"&目次加工!$B$2&\"*\",J1404:K1404,2,0)","v":1},{"$error":"#N/A"}]
[null,null,null,{"$f":"分類順!A1404","v":"大塚勝久写真集　南の風　沖縄・宮古・八重山諸島"},{"$f":"分類順!B1404","v":"一般図書"},{"$f":"分類順!C1404","v":"H：代替療法"},{"$f":"分類順!D1404","v":"大塚勝久"},{"$f":"分類順!E1404","v":"琉球新報社"},{"$f":"分類順!F1404","v":10472},"大塚勝久写真集　南の風　沖縄・宮古・八重山諸島一般図書H：代替療法大塚勝久琉球新報社",1,{"$f":"VLOOKUP(\"*\"&目次加工!$B$2&\"*\",J1405:K1405,2,0)","v":1},{"$error":"#N/A"}]
[null,null,null,{"$f":"分類順!A1405","v":"おもちゃばこ"},{"$f":"分類順!B1405","v":"絵本"},{"$f":"分類順!C1405","v":"H：代替療法"},{"$f":"分類順!D1405","v":"kemeko"},{"$f":"分類順!E1405","v":"トリニニィアーツ"},{"$f":"分類順!F1405","v":10501},"おもちゃばこ絵本H：代替療法kemekoトリニニィアーツ",1,{"$f":"VLOOKUP(\"*\"&目次加工!$B$2&\"*\",J1406:K1406,2,0)","v":1},{"$error":"#N/A"}]
[null,null,null,{"$f":"分類順!A1406","v":"漢方"},{"$f":"分類順!B1406","v":"目次へ"},{"$f":"分類順!C1406","v":"※PDF版ではリンクしておりません。"},{"$f":"分類順!D1406","v":0},{"$f":"分類順!E1406","v":0},{"$f":"分類順!F1406","v":0},"漢方目次へ※PDF版ではリンクしておりません。00",1,{"$f":"VLOOKUP(\"*\"&目次加工!$B$2&\"*\",J1407:K1407,2,0)","v":1},1]
[null,null,null,{"$f":"分類順!A1407","v":"漢方外来　漢方から診るからだと病気"},{"$f":"分類順!B1407","v":"医療の本"},{"$f":"分類順!C1407","v":"He：漢方"},{"$f":"分類順!D1407","v":"日笠　久美　著"},{"$f":"分類順!E1407","v":"プリメド社"},{"$f":"分類順!F1407","v":848},"漢方外来　漢方から診るからだと病気医療の本He：漢方日笠　久美　著プリメド社",1,{"$f":"VLOOKUP(\"*\"&目次加工!$B$2&\"*\",J1408:K1408,2,0)","v":1},{"$error":"#N/A"}]
[null,null,null,{"$f":"分類順!A1408","v":"かるたｄｅ漢方"},{"$f":"分類順!B1408","v":"医療の本"},{"$f":"分類順!C1408","v":"He：漢方"},{"$f":"分類順!D1408","v":"草鹿砥千恵"},{"$f":"分類順!E1408","v":"源草社"},{"$f":"分類順!F1408","v":10083},"かるたｄｅ漢方医療の本He：漢方草鹿砥千恵源草社",1,{"$f":"VLOOKUP(\"*\"&目次加工!$B$2&\"*\",J1409:K1409,2,0)","v":1},{"$error":"#N/A"}]
[null,null,null,{"$f":"分類順!A1409","v":"基礎からわかる最新漢方薬入門　生薬治療の集大成"},{"$f":"分類順!B1409","v":"医療の本"},{"$f":"分類順!C1409","v":"He：漢方"},{"$f":"分類順!D1409","v":"関水康彰"},{"$f":"分類順!E1409","v":"技術評論社"},{"$f":"分類順!F1409","v":10369},"基礎からわかる最新漢方薬入門　生薬治療の集大成医療の本He：漢方関水康彰技術評論社",1,{"$f":"VLOOKUP(\"*\"&目次加工!$B$2&\"*\",J1410:K1410,2,0)","v":1},{"$error":"#N/A"}]
[null,null,null,{"$f":"分類順!A1410","v":"がん研有明病院で今起きている漢方によるがん治療の奇跡"},{"$f":"分類順!B1410","v":"医療の本"},{"$f":"分類順!C1410","v":"He：漢方"},{"$f":"分類順!D1410","v":"星野恵津夫"},{"$f":"分類順!E1410","v":"海竜社"},{"$f":"分類順!F1410","v":10370},"がん研有明病院で今起きている漢方によるがん治療の奇跡医療の本He：漢方星野恵津夫海竜社",1,{"$f":"VLOOKUP(\"*\"&目次加工!$B$2&\"*\",J1411:K1411,2,0)","v":1},{"$error":"#N/A"}]
[null,null,null,{"$f":"分類順!A1411","v":"今日から実践痛みの漢方治療"},{"$f":"分類順!B1411","v":"医療の本"},{"$f":"分類順!C1411","v":"He：漢方"},{"$f":"分類順!D1411","v":"土方康世"},{"$f":"分類順!E1411","v":"医歯薬出版"},{"$f":"分類順!F1411","v":10371},"今日から実践痛みの漢方治療医療の本He：漢方土方康世医歯薬出版",1,{"$f":"VLOOKUP(\"*\"&目次加工!$B$2&\"*\",J1412:K1412,2,0)","v":1},{"$f":"VLOOKUP(\"*\"&$A$2&\"*\",J1412:K1412,2,0)","v":{"$error":"#N/A"}}]
[null,null,null,{"$f":"分類順!A1412","v":"アロマテラピー"},{"$f":"分類順!B1412","v":"目次へ"},{"$f":"分類順!C1412","v":"※PDF版ではリンクしておりません。"},{"$f":"分類順!D1412","v":0},{"$f":"分類順!E1412","v":0},{"$f":"分類順!F1412","v":0},"アロマテラピー目次へ※PDF版ではリンクしておりません。00",1,{"$f":"VLOOKUP(\"*\"&目次加工!$B$2&\"*\",J1413:K1413,2,0)","v":1},1]
[null,null,null,{"$f":"分類順!A1413","v":"クリニカル・アロマテラピー　よりよい看護"},{"$f":"分類順!B1413","v":"医療の本"},{"$f":"分類順!C1413","v":"Hg：アロマテラピー"},{"$f":"分類順!D1413","v":"ジェーン・バックル"},{"$f":"分類順!E1413","v":"フレグランスジャーナル"},{"$f":"分類順!F1413","v":849},"クリニカル・アロマテラピー　よりよい看護医療の本Hg：アロマテラピージェーン・バックルフレグランスジャーナル",1,{"$f":"VLOOKUP(\"*\"&目次加工!$B$2&\"*\",J1414:K1414,2,0)","v":1},{"$error":"#N/A"}]
[null,null,null,{"$f":"分類順!A1414","v":"わかりやすい！覚えやすい！アロマテラピー基本講座　基本から応用まで、ていねいに解説"},{"$f":"分類順!B1414","v":"医療の本"},{"$f":"分類順!C1414","v":"Hg：アロマテラピー"},{"$f":"分類順!D1414","v":"重松浩子"},{"$f":"分類順!E1414","v":"成美堂出版"},{"$f":"分類順!F1414","v":5534},"わかりやすい！覚えやすい！アロマテラピー基本講座　基本から応用まで、ていねいに解説医療の本Hg：アロマテラピー重松浩子成美堂出版",1,{"$f":"VLOOKUP(\"*\"&目次加工!$B$2&\"*\",J1415:K1415,2,0)","v":1},{"$error":"#N/A"}]
[null,null,null,{"$f":"分類順!A1415","v":"患者学"},{"$f":"分類順!B1415","v":"目次へ"},{"$f":"分類順!C1415","v":"※PDF版ではリンクしておりません。"},{"$f":"分類順!D1415","v":0},{"$f":"分類順!E1415","v":0},{"$f":"分類順!F1415","v":0},"患者学目次へ※PDF版ではリンクしておりません。00",1,{"$f":"VLOOKUP(\"*\"&目次加工!$B$2&\"*\",J1416:K1416,2,0)","v":1},1]
[null,null,null,{"$f":"分類順!A1416","v":"家族看護　Ｖｏｌ．０１　Ｎｏ．０２"},{"$f":"分類順!B1416","v":"医療の本"},{"$f":"分類順!C1416","v":"I：患者学"},{"$f":"分類順!D1416","v":"野嶋　佐由美　編集"},{"$f":"分類順!E1416","v":"日本看護協会出版会"},{"$f":"分類順!F1416","v":831},"家族看護　Ｖｏｌ．０１　Ｎｏ．０２医療の本I：患者学野嶋　佐由美　編集日本看護協会出版会",1,{"$f":"VLOOKUP(\"*\"&目次加工!$B$2&\"*\",J1417:K1417,2,0)","v":1},{"$error":"#N/A"}]
[null,null,null,{"$f":"分類順!A1417","v":"家族看護　Ｖｏｌ．０１　Ｎｏ．０１"},{"$f":"分類順!B1417","v":"医療の本"},{"$f":"分類順!C1417","v":"I：患者学"},{"$f":"分類順!D1417","v":"野嶋　佐由美　他編"},{"$f":"分類順!E1417","v":"日本看護協会出版会"},{"$f":"分類順!F1417","v":832},"家族看護　Ｖｏｌ．０１　Ｎｏ．０１医療の本I：患者学野嶋　佐由美　他編日本看護協会出版会",1,{"$f":"VLOOKUP(\"*\"&目次加工!$B$2&\"*\",J1418:K1418,2,0)","v":1},{"$error":"#N/A"}]
[null,null,null,{"$f":"分類順!A1418","v":"かかりつけ医活用法　あなたの健康マネジャ"},{"$f":"分類順!B1418","v":"医療の本"},{"$f":"分類順!C1418","v":"I：患者学"},{"$f":"分類順!D1418","v":"筒井　大八　著"},{"$f":"分類順!E1418","v":"近代文藝社"},{"$f":"分類順!F1418","v":852},"かかりつけ医活用法　あなたの健康マネジャ医療の本I：患者学筒井　大八　著近代文藝社",1,{"$f":"VLOOKUP(\"*\"&目次加工!$B$2&\"*\",J1419:K1419,2,0)","v":1},{"$error":"#N/A"}]
[null,null,null,{"$f":"分類順!A1419","v":"ホームズ君の賢い病院のかかり方"},{"$f":"分類順!B1419","v":"医療の本"},{"$f":"分類順!C1419","v":"I：患者学"},{"$f":"分類順!D1419","v":"増村　道雄"},{"$f":"分類順!E1419","v":"神戸新聞総合出版"},{"$f":"分類順!F1419","v":853},"ホームズ君の賢い病院のかかり方医療の本I：患者学増村　道雄神戸新聞総合出版",1,{"$f":"VLOOKUP(\"*\"&目次加工!$B$2&\"*\",J1420:K1420,2,0)","v":1},{"$error":"#N/A"}]
[null,null,null,{"$f":"分類順!A1420","v":"患者をサポートする法律と制度の活用"},{"$f":"分類順!B1420","v":"医療の本"},{"$f":"分類順!C1420","v":"I：患者学"},{"$f":"分類順!D1420","v":0},{"$f":"分類順!E1420","v":"中山書店"},{"$f":"分類順!F1420","v":854},"患者をサポートする法律と制度の活用医療の本I：患者学0中山書店",1,{"$f":"VLOOKUP(\"*\"&目次加工!$B$2&\"*\",J1421:K1421,2,0)","v":1},1]
[null,null,null,{"$f":"分類順!A1421","v":"元気が出る患者学"},{"$f":"分類順!B1421","v":"医療の本"},{"$f":"分類順!C1421","v":"I：患者学"},{"$f":"分類順!D1421","v":"柳田　邦男"},{"$f":"分類順!E1421","v":"新潮社"},{"$f":"分類順!F1421","v":857},"元気が出る患者学医療の本I：患者学柳田　邦男新潮社",1,{"$f":"VLOOKUP(\"*\"&目次加工!$B$2&\"*\",J1422:K1422,2,0)","v":1},{"$error":"#N/A"}]
[null,null,null,{"$f":"分類順!A1422","v":"患者は何でも知っている　ＥＢＭ時代の医師"},{"$f":"分類順!B1422","v":"医療の本"},{"$f":"分類順!C1422","v":"I：患者学"},{"$f":"分類順!D1422","v":"Ｊ．Ａ．Ｍ．グレイ"},{"$f":"分類順!E1422","v":"中山書店"},{"$f":"分類順!F1422","v":861},"患者は何でも知っている　ＥＢＭ時代の医師医療の本I：患者学Ｊ．Ａ．Ｍ．グレイ中山書店",1,{"$f":"VLOOKUP(\"*\"&目次加工!$B$2&\"*\",J1423:K1423,2,0)","v":1},{"$error":"#N/A"}]
[null,null,null,{"$f":"分類順!A1423","v":"はじめての医療面接－コミュニケーション技"},{"$f":"分類順!B1423","v":"医療の本"},{"$f":"分類順!C1423","v":"I：患者学"},{"$f":"分類順!D1423","v":"斎藤　清二"},{"$f":"分類順!E1423","v":"医学書院"},{"$f":"分類順!F1423","v":863},"はじめての医療面接－コミュニケーション技医療の本I：患者学斎藤　清二医学書院",1,{"$f":"VLOOKUP(\"*\"&目次加工!$B$2&\"*\",J1424:K1424,2,0)","v":1},{"$error":"#N/A"}]
[null,null,null,{"$f":"分類順!A1424","v":"医療コミュニケーションスキル"},{"$f":"分類順!B1424","v":"医療の本"},{"$f":"分類順!C1424","v":"I：患者学"},{"$f":"分類順!D1424","v":"沢村　敏郎　著"},{"$f":"分類順!E1424","v":"メディカルレビュー社"},{"$f":"分類順!F1424","v":865},"医療コミュニケーションスキル医療の本I：患者学沢村　敏郎　著メディカルレビュー社",1,{"$f":"VLOOKUP(\"*\"&目次加工!$B$2&\"*\",J1425:K1425,2,0)","v":1},{"$error":"#N/A"}]
[null,null,null,{"$f":"分類順!A1425","v":"患者さんに学ぶ！"},{"$f":"分類順!B1425","v":"医療の本"},{"$f":"分類順!C1425","v":"I：患者学"},{"$f":"分類順!D1425","v":0},{"$f":"分類順!E1425","v":"クリニックマガジン"},{"$f":"分類順!F1425","v":866},"患者さんに学ぶ！医療の本I：患者学0クリニックマガジン",1,{"$f":"VLOOKUP(\"*\"&目次加工!$B$2&\"*\",J1426:K1426,2,0)","v":1},1]
[null,null,null,{"$f":"分類順!A1426","v":"患者の声を医療に生かす"},{"$f":"分類順!B1426","v":"医療の本"},{"$f":"分類順!C1426","v":"I：患者学"},{"$f":"分類順!D1426","v":"大熊　由紀子　他編著"},{"$f":"分類順!E1426","v":"医学書院"},{"$f":"分類順!F1426","v":867},{"$f":"D1427&E1427&F1427&G1427&H1427","v":"患者の声を医療に生かす医療の本I：患者学大熊　由紀子　他編著医学書院"},1,{"$f":"VLOOKUP(\"*\"&目次加工!$B$2&\"*\",J1427:K1427,2,0)","v":1},{"$error":"#N/A"}]
[null,null,null,{"$f":"分類順!A1427","v":"実践　インフォームド・コンセント"},{"$f":"分類順!B1427","v":"医療の本"},{"$f":"分類順!C1427","v":"I：患者学"},{"$f":"分類順!D1427","v":"宮本　恒彦　編著"},{"$f":"分類順!E1427","v":"永井書店"},{"$f":"分類順!F1427","v":871},"実践　インフォームド・コンセント医療の本I：患者学宮本　恒彦　編著永井書店",1,{"$f":"VLOOKUP(\"*\"&目次加工!$B$2&\"*\",J1428:K1428,2,0)","v":1},{"$error":"#N/A"}]
[null,null,null,{"$f":"分類順!A1428","v":"外国人患者診療・看護ガイド"},{"$f":"分類順!B1428","v":"医療の本"},{"$f":"分類順!C1428","v":"I：患者学"},{"$f":"分類順!D1428","v":"小林　米幸"},{"$f":"分類順!E1428","v":"エルゼビア・ジャパン"},{"$f":"分類順!F1428","v":902},"外国人患者診療・看護ガイド医療の本I：患者学小林　米幸エルゼビア・ジャパン",1,{"$f":"VLOOKUP(\"*\"&目次加工!$B$2&\"*\",J1429:K1429,2,0)","v":1},{"$error":"#N/A"}]
[null,null,null,{"$f":"分類順!A1429","v":"日米比較に学ぶ「国民主役」医療への道"},{"$f":"分類順!B1429","v":"医療の本"},{"$f":"分類順!C1429","v":"I：患者学"},{"$f":"分類順!D1429","v":"町　淳二　編著"},{"$f":"分類順!E1429","v":"日本医療企画"},{"$f":"分類順!F1429","v":913},"日米比較に学ぶ「国民主役」医療への道医療の本I：患者学町　淳二　編著日本医療企画",1,{"$f":"VLOOKUP(\"*\"&目次加工!$B$2&\"*\",J1430:K1430,2,0)","v":1},{"$error":"#N/A"}]
[null,null,null,{"$f":"分類順!A1430","v":"患者と作る医学の教科書"},{"$f":"分類順!B1430","v":"医療の本"},{"$f":"分類順!C1430","v":"I：患者学"},{"$f":"分類順!D1430","v":"酒巻哲夫編著"},{"$f":"分類順!E1430","v":"日総研出版"},{"$f":"分類順!F1430","v":8108},"患者と作る医学の教科書医療の本I：患者学酒巻哲夫編著日総研出版",1,{"$f":"VLOOKUP(\"*\"&目次加工!$B$2&\"*\",J1431:K1431,2,0)","v":1},{"$error":"#N/A"}]
[null,null,null,{"$f":"分類順!A1431","v":"命ある限り"},{"$f":"分類順!B1431","v":"医療の本"},{"$f":"分類順!C1431","v":"I：患者学"},{"$f":"分類順!D1431","v":"キューブラー・ロス"},{"$f":"分類順!E1431","v":"産業図書"},{"$f":"分類順!F1431","v":10035},"命ある限り医療の本I：患者学キューブラー・ロス産業図書",1,{"$f":"VLOOKUP(\"*\"&目次加工!$B$2&\"*\",J1432:K1432,2,0)","v":1},{"$error":"#N/A"}]
[null,null,null,{"$f":"分類順!A1432","v":"エイズの臨床から"},{"$f":"分類順!B1432","v":"医療の本"},{"$f":"分類順!C1432","v":"I：患者学"},{"$f":"分類順!D1432","v":"竹内照江"},{"$f":"分類順!E1432","v":"日本看護協会出版会"},{"$f":"分類順!F1432","v":10040},"エイズの臨床から医療の本I：患者学竹内照江日本看護協会出版会",1,{"$f":"VLOOKUP(\"*\"&目次加工!$B$2&\"*\",J1433:K1433,2,0)","v":1},{"$error":"#N/A"}]
[null,null,null,{"$f":"分類順!A1433","v":"出会えてよかった！Ⅱ"},{"$f":"分類順!B1433","v":"医療の本"},{"$f":"分類順!C1433","v":"I：患者学"},{"$f":"分類順!D1433","v":"菊池　眞"},{"$f":"分類順!E1433","v":"TONEGAWA"},{"$f":"分類順!F1433","v":10146},"出会えてよかった！Ⅱ医療の本I：患者学菊池　眞TONEGAWA",1,{"$f":"VLOOKUP(\"*\"&目次加工!$B$2&\"*\",J1434:K1434,2,0)","v":1},{"$error":"#N/A"}]
[null,null,null,{"$f":"分類順!A1434","v":"お灸百科"},{"$f":"分類順!B1434","v":"医療の本"},{"$f":"分類順!C1434","v":"I：患者学"},{"$f":"分類順!D1434","v":"岡田明三"},{"$f":"分類順!E1434","v":"医道の日本社"},{"$f":"分類順!F1434","v":10525},"お灸百科医療の本I：患者学岡田明三医道の日本社",1,{"$f":"VLOOKUP(\"*\"&目次加工!$B$2&\"*\",J1435:K1435,2,0)","v":1},{"$error":"#N/A"}]
[null,null,null,{"$f":"分類順!A1435","v":"出会えてよかったⅢ"},{"$f":"分類順!B1435","v":"医療の本"},{"$f":"分類順!C1435","v":"I：患者学"},{"$f":"分類順!D1435","v":"近藤　達也"},{"$f":"分類順!E1435","v":"TONEGAWA"},{"$f":"分類順!F1435","v":10650},"出会えてよかったⅢ医療の本I：患者学近藤　達也TONEGAWA",1,{"$f":"VLOOKUP(\"*\"&目次加工!$B$2&\"*\",J1436:K1436,2,0)","v":1},{"$error":"#N/A"}]
[null,null,null,{"$f":"分類順!A1436","v":"医療"},{"$f":"分類順!B1436","v":"目次へ"},{"$f":"分類順!C1436","v":"※PDF版ではリンクしておりません。"},{"$f":"分類順!D1436","v":0},{"$f":"分類順!E1436","v":0},{"$f":"分類順!F1436","v":0},"医療目次へ※PDF版ではリンクしておりません。00",1,{"$f":"VLOOKUP(\"*\"&目次加工!$B$2&\"*\",J1437:K1437,2,0)","v":1},1]
[null,null,null,{"$f":"分類順!A1437","v":"裸のお医者さまたち"},{"$f":"分類順!B1437","v":"医療の本"},{"$f":"分類順!C1437","v":"J：医療"},{"$f":"分類順!D1437","v":"桑間　雄一郎"},{"$f":"分類順!E1437","v":"ビジネス社"},{"$f":"分類順!F1437","v":917},"裸のお医者さまたち医療の本J：医療桑間　雄一郎ビジネス社",1,{"$f":"VLOOKUP(\"*\"&目次加工!$B$2&\"*\",J1438:K1438,2,0)","v":1},{"$error":"#N/A"}]
[null,null,null,{"$f":"分類順!A1438","v":"５日間で学ぶ医療安全超入門"},{"$f":"分類順!B1438","v":"医療の本"},{"$f":"分類順!C1438","v":"J：医療"},{"$f":"分類順!D1438","v":"日本医療マネジメント学会"},{"$f":"分類順!E1438","v":"学研"},{"$f":"分類順!F1438","v":8056},"５日間で学ぶ医療安全超入門医療の本J：医療日本医療マネジメント学会学研",1,{"$f":"VLOOKUP(\"*\"&目次加工!$B$2&\"*\",J1439:K1439,2,0)","v":1},{"$error":"#N/A"}]
[null,null,null,{"$f":"分類順!A1439","v":"良い医療の条件　＜医の原点　第６集＞"},{"$f":"分類順!B1439","v":"医療の本"},{"$f":"分類順!C1439","v":"J：医療"},{"$f":"分類順!D1439","v":"高本眞一"},{"$f":"分類順!E1439","v":"金原出版"},{"$f":"分類順!F1439","v":8058},"良い医療の条件　＜医の原点　第６集＞医療の本J：医療高本眞一金原出版",1,{"$f":"VLOOKUP(\"*\"&目次加工!$B$2&\"*\",J1440:K1440,2,0)","v":1},{"$error":"#N/A"}]
[null,null,null,{"$f":"分類順!A1440","v":"医療福祉総合ガイドブック　2018年度版"},{"$f":"分類順!B1440","v":"医療の本"},{"$f":"分類順!C1440","v":"J：医療"},{"$f":"分類順!D1440","v":"日本医療ソーシャルワーク研究会"},{"$f":"分類順!E1440","v":"医学書院"},{"$f":"分類順!F1440","v":10546},"医療福祉総合ガイドブック　2018年度版医療の本J：医療日本医療ソーシャルワーク研究会医学書院",1,{"$f":"VLOOKUP(\"*\"&目次加工!$B$2&\"*\",J1441:K1441,2,0)","v":1},1]
[null,null,null,{"$f":"分類順!A1441","v":"医療概論"},{"$f":"分類順!B1441","v":"目次へ"},{"$f":"分類順!C1441","v":"※PDF版ではリンクしておりません。"},{"$f":"分類順!D1441","v":0},{"$f":"分類順!E1441","v":0},{"$f":"分類順!F1441","v":0},"医療概論目次へ※PDF版ではリンクしておりません。00",1,{"$f":"VLOOKUP(\"*\"&目次加工!$B$2&\"*\",J1442:K1442,2,0)","v":1},1]
[null,null,null,{"$f":"分類順!A1442","v":"最善の医療をめざして－エビデンスに基づく"},{"$f":"分類順!B1442","v":"医療の本"},{"$f":"分類順!C1442","v":"Ja：医療概論"},{"$f":"分類順!D1442","v":"Ｓ．ヘイマー　編"},{"$f":"分類順!E1442","v":"エルゼビア・ジャパン"},{"$f":"分類順!F1442","v":3},"最善の医療をめざして－エビデンスに基づく医療の本Ja：医療概論Ｓ．ヘイマー　編エルゼビア・ジャパン",1,{"$f":"VLOOKUP(\"*\"&目次加工!$B$2&\"*\",J1443:K1443,2,0)","v":1},{"$error":"#N/A"}]
[null,null,null,{"$f":"分類順!A1443","v":"話を聴かない耳栓医者と思いを呑み込む仮面患者"},{"$f":"分類順!B1443","v":"医療の本"},{"$f":"分類順!C1443","v":"Ja：医療概論"},{"$f":"分類順!D1443","v":"嵯峨崎泰子"},{"$f":"分類順!E1443","v":"メディカルトリビューン"},{"$f":"分類順!F1443","v":10282},"話を聴かない耳栓医者と思いを呑み込む仮面患者医療の本Ja：医療概論嵯峨崎泰子メディカルトリビューン",1,{"$f":"VLOOKUP(\"*\"&目次加工!$B$2&\"*\",J1444:K1444,2,0)","v":1},{"$error":"#N/A"}]
[null,null,null,{"$f":"分類順!A1444","v":"病院/スタッフ"},{"$f":"分類順!B1444","v":"目次へ"},{"$f":"分類順!C1444","v":"※PDF版ではリンクしておりません。"},{"$f":"分類順!D1444","v":0},{"$f":"分類順!E1444","v":0},{"$f":"分類順!F1444","v":0},"病院/スタッフ目次へ※PDF版ではリンクしておりません。00",1,{"$f":"VLOOKUP(\"*\"&目次加工!$B$2&\"*\",J1445:K1445,2,0)","v":1},1]
[null,null,null,{"$f":"分類順!A1445","v":"失敗しない医者えらび　納得して医療を受け"},{"$f":"分類順!B1445","v":"医療の本"},{"$f":"分類順!C1445","v":"Jb：病院/スタッフ"},{"$f":"分類順!D1445","v":"日経メディカル　編"},{"$f":"分類順!E1445","v":"日経BP社"},{"$f":"分類順!F1445","v":851},"失敗しない医者えらび　納得して医療を受け医療の本Jb：病院/スタッフ日経メディカル　編日経BP社",1,{"$f":"VLOOKUP(\"*\"&目次加工!$B$2&\"*\",J1446:K1446,2,0)","v":1},{"$error":"#N/A"}]
[null,null,null,{"$f":"分類順!A1446","v":"2009－10　医育機関名簿"},{"$f":"分類順!B1446","v":"医療の本"},{"$f":"分類順!C1446","v":"Jb：病院/スタッフ"},{"$f":"分類順!D1446","v":0},{"$f":"分類順!E1446","v":"羊土社"},{"$f":"分類順!F1446","v":1020},"2009－10　医育機関名簿医療の本Jb：病院/スタッフ0羊土社",1,{"$f":"VLOOKUP(\"*\"&目次加工!$B$2&\"*\",J1447:K1447,2,0)","v":1},1]
[null,null,null,{"$f":"分類順!A1447","v":"健康応援病院　こんな病院があってよい"},{"$f":"分類順!B1447","v":"医療の本"},{"$f":"分類順!C1447","v":"Jb：病院/スタッフ"},{"$f":"分類順!D1447","v":"佐栁　進"},{"$f":"分類順!E1447","v":"関門医療センター広報部"},{"$f":"分類順!F1447","v":10055},"健康応援病院　こんな病院があってよい医療の本Jb：病院/スタッフ佐栁　進関門医療センター広報部",1,{"$f":"VLOOKUP(\"*\"&目次加工!$B$2&\"*\",J1448:K1448,2,0)","v":1},{"$error":"#N/A"}]
[null,null,null,{"$f":"分類順!A1448","v":"処は憂子　宮城のこども病院物語り"},{"$f":"分類順!B1448","v":"医療の本"},{"$f":"分類順!C1448","v":"Jb：病院/スタッフ"},{"$f":"分類順!D1448","v":"大井龍司"},{"$f":"分類順!E1448","v":"笹気出版印刷"},{"$f":"分類順!F1448","v":10101},"処は憂子　宮城のこども病院物語り医療の本Jb：病院/スタッフ大井龍司笹気出版印刷",1,{"$f":"VLOOKUP(\"*\"&目次加工!$B$2&\"*\",J1449:K1449,2,0)","v":1},{"$error":"#N/A"}]
[null,null,null,{"$f":"分類順!A1449","v":"Dr.コトー診療所　№1"},{"$f":"分類順!B1449","v":"一般図書"},{"$f":"分類順!C1449","v":"Jb：病院/スタッフ"},{"$f":"分類順!D1449","v":"山田貴敏"},{"$f":"分類順!E1449","v":"小学館"},{"$f":"分類順!F1449","v":10103},"Dr.コトー診療所　№1一般図書Jb：病院/スタッフ山田貴敏小学館",1,{"$f":"VLOOKUP(\"*\"&目次加工!$B$2&\"*\",J1450:K1450,2,0)","v":1},{"$error":"#N/A"}]
[null,null,null,{"$f":"分類順!A1450","v":"Dr.コトー診療所　№2"},{"$f":"分類順!B1450","v":"一般図書"},{"$f":"分類順!C1450","v":"Jb：病院/スタッフ"},{"$f":"分類順!D1450","v":"山田貴敏"},{"$f":"分類順!E1450","v":"小学館"},{"$f":"分類順!F1450","v":10104},"Dr.コトー診療所　№2一般図書Jb：病院/スタッフ山田貴敏小学館",1,{"$f":"VLOOKUP(\"*\"&目次加工!$B$2&\"*\",J1451:K1451,2,0)","v":1},{"$error":"#N/A"}]
[null,null,null,{"$f":"分類順!A1451","v":"Dr.コトー診療所　№3"},{"$f":"分類順!B1451","v":"一般図書"},{"$f":"分類順!C1451","v":"Jb：病院/スタッフ"},{"$f":"分類順!D1451","v":"山田貴敏"},{"$f":"分類順!E1451","v":"小学館"},{"$f":"分類順!F1451","v":10105},"Dr.コトー診療所　№3一般図書Jb：病院/スタッフ山田貴敏小学館",1,{"$f":"VLOOKUP(\"*\"&目次加工!$B$2&\"*\",J1452:K1452,2,0)","v":1},{"$error":"#N/A"}]
[null,null,null,{"$f":"分類順!A1452","v":"Dr.コトー診療所　№4"},{"$f":"分類順!B1452","v":"一般図書"},{"$f":"分類順!C1452","v":"Jb：病院/スタッフ"},{"$f":"分類順!D1452","v":"山田貴敏"},{"$f":"分類順!E1452","v":"小学館"},{"$f":"分類順!F1452","v":10106},"Dr.コトー診療所　№4一般図書Jb：病院/スタッフ山田貴敏小学館",1,{"$f":"VLOOKUP(\"*\"&目次加工!$B$2&\"*\",J1453:K1453,2,0)","v":1},{"$error":"#N/A"}]
[null,null,null,{"$f":"分類順!A1453","v":"Dr.コトー診療所　№5"},{"$f":"分類順!B1453","v":"一般図書"},{"$f":"分類順!C1453","v":"Jb：病院/スタッフ"},{"$f":"分類順!D1453","v":"山田貴敏"},{"$f":"分類順!E1453","v":"小学館"},{"$f":"分類順!F1453","v":10107},"Dr.コトー診療所　№5一般図書Jb：病院/スタッフ山田貴敏小学館",1,{"$f":"VLOOKUP(\"*\"&目次加工!$B$2&\"*\",J1454:K1454,2,0)","v":1},{"$error":"#N/A"}]
[null,null,null,{"$f":"分類順!A1454","v":"Dr.コトー診療所　№6"},{"$f":"分類順!B1454","v":"一般図書"},{"$f":"分類順!C1454","v":"Jb：病院/スタッフ"},{"$f":"分類順!D1454","v":"山田貴敏"},{"$f":"分類順!E1454","v":"小学館"},{"$f":"分類順!F1454","v":10108},"Dr.コトー診療所　№6一般図書Jb：病院/スタッフ山田貴敏小学館",1,{"$f":"VLOOKUP(\"*\"&目次加工!$B$2&\"*\",J1455:K1455,2,0)","v":1},{"$error":"#N/A"}]
[null,null,null,{"$f":"分類順!A1455","v":"Dr.コトー診療所　№7"},{"$f":"分類順!B1455","v":"一般図書"},{"$f":"分類順!C1455","v":"Jb：病院/スタッフ"},{"$f":"分類順!D1455","v":"山田貴敏"},{"$f":"分類順!E1455","v":"小学館"},{"$f":"分類順!F1455","v":10109},"Dr.コトー診療所　№7一般図書Jb：病院/スタッフ山田貴敏小学館",1,{"$f":"VLOOKUP(\"*\"&目次加工!$B$2&\"*\",J1456:K1456,2,0)","v":1},{"$error":"#N/A"}]
[null,null,null,{"$f":"分類順!A1456","v":"Dr.コトー診療所　№8"},{"$f":"分類順!B1456","v":"一般図書"},{"$f":"分類順!C1456","v":"Jb：病院/スタッフ"},{"$f":"分類順!D1456","v":"山田貴敏"},{"$f":"分類順!E1456","v":"小学館"},{"$f":"分類順!F1456","v":10110},"Dr.コトー診療所　№8一般図書Jb：病院/スタッフ山田貴敏小学館",1,{"$f":"VLOOKUP(\"*\"&目次加工!$B$2&\"*\",J1457:K1457,2,0)","v":1},{"$error":"#N/A"}]
[null,null,null,{"$f":"分類順!A1457","v":"Dr.コトー診療所　№9"},{"$f":"分類順!B1457","v":"一般図書"},{"$f":"分類順!C1457","v":"Jb：病院/スタッフ"},{"$f":"分類順!D1457","v":"山田貴敏"},{"$f":"分類順!E1457","v":"小学館"},{"$f":"分類順!F1457","v":10111},"Dr.コトー診療所　№9一般図書Jb：病院/スタッフ山田貴敏小学館",1,{"$f":"VLOOKUP(\"*\"&目次加工!$B$2&\"*\",J1458:K1458,2,0)","v":1},{"$error":"#N/A"}]
[null,null,null,{"$f":"分類順!A1458","v":"Dr.コトー診療所　№10"},{"$f":"分類順!B1458","v":"一般図書"},{"$f":"分類順!C1458","v":"Jb：病院/スタッフ"},{"$f":"分類順!D1458","v":"山田貴敏"},{"$f":"分類順!E1458","v":"小学館"},{"$f":"分類順!F1458","v":10112},"Dr.コトー診療所　№10一般図書Jb：病院/スタッフ山田貴敏小学館",1,{"$f":"VLOOKUP(\"*\"&目次加工!$B$2&\"*\",J1459:K1459,2,0)","v":1},1]
[null,null,null,{"$f":"分類順!A1459","v":"Dr.コトー診療所　№11"},{"$f":"分類順!B1459","v":"一般図書"},{"$f":"分類順!C1459","v":"Jb：病院/スタッフ"},{"$f":"分類順!D1459","v":"山田貴敏"},{"$f":"分類順!E1459","v":"小学館"},{"$f":"分類順!F1459","v":10113},"Dr.コトー診療所　№11一般図書Jb：病院/スタッフ山田貴敏小学館",1,{"$f":"VLOOKUP(\"*\"&目次加工!$B$2&\"*\",J1460:K1460,2,0)","v":1},{"$error":"#N/A"}]
[null,null,null,{"$f":"分類順!A1460","v":"Dr.コトー診療所　№12"},{"$f":"分類順!B1460","v":"一般図書"},{"$f":"分類順!C1460","v":"Jb：病院/スタッフ"},{"$f":"分類順!D1460","v":"山田貴敏"},{"$f":"分類順!E1460","v":"小学館"},{"$f":"分類順!F1460","v":10114},"Dr.コトー診療所　№12一般図書Jb：病院/スタッフ山田貴敏小学館",1,{"$f":"VLOOKUP(\"*\"&目次加工!$B$2&\"*\",J1461:K1461,2,0)","v":1},{"$error":"#N/A"}]
[null,null,null,{"$f":"分類順!A1461","v":"Dr.コトー診療所　№13"},{"$f":"分類順!B1461","v":"一般図書"},{"$f":"分類順!C1461","v":"Jb：病院/スタッフ"},{"$f":"分類順!D1461","v":"山田貴敏"},{"$f":"分類順!E1461","v":"小学館"},{"$f":"分類順!F1461","v":10115},"Dr.コトー診療所　№13一般図書Jb：病院/スタッフ山田貴敏小学館",1,{"$f":"VLOOKUP(\"*\"&目次加工!$B$2&\"*\",J1462:K1462,2,0)","v":1},{"$error":"#N/A"}]
[null,null,null,{"$f":"分類順!A1462","v":"Dr.コトー診療所　№14"},{"$f":"分類順!B1462","v":"一般図書"},{"$f":"分類順!C1462","v":"Jb：病院/スタッフ"},{"$f":"分類順!D1462","v":"山田貴敏"},{"$f":"分類順!E1462","v":"小学館"},{"$f":"分類順!F1462","v":10116},"Dr.コトー診療所　№14一般図書Jb：病院/スタッフ山田貴敏小学館",1,{"$f":"VLOOKUP(\"*\"&目次加工!$B$2&\"*\",J1463:K1463,2,0)","v":1},{"$error":"#N/A"}]
[null,null,null,{"$f":"分類順!A1463","v":"Dr.コトー診療所　№15"},{"$f":"分類順!B1463","v":"一般図書"},{"$f":"分類順!C1463","v":"Jb：病院/スタッフ"},{"$f":"分類順!D1463","v":"山田貴敏"},{"$f":"分類順!E1463","v":"小学館"},{"$f":"分類順!F1463","v":10117},"Dr.コトー診療所　№15一般図書Jb：病院/スタッフ山田貴敏小学館",1,{"$f":"VLOOKUP(\"*\"&目次加工!$B$2&\"*\",J1464:K1464,2,0)","v":1},{"$error":"#N/A"}]
[null,null,null,{"$f":"分類順!A1464","v":"Dr.コトー診療所　№16"},{"$f":"分類順!B1464","v":"一般図書"},{"$f":"分類順!C1464","v":"Jb：病院/スタッフ"},{"$f":"分類順!D1464","v":"山田貴敏"},{"$f":"分類順!E1464","v":"小学館"},{"$f":"分類順!F1464","v":10118},"Dr.コトー診療所　№16一般図書Jb：病院/スタッフ山田貴敏小学館",1,{"$f":"VLOOKUP(\"*\"&目次加工!$B$2&\"*\",J1465:K1465,2,0)","v":1},{"$error":"#N/A"}]
[null,null,null,{"$f":"分類順!A1465","v":"Dr.コトー診療所　№17"},{"$f":"分類順!B1465","v":"一般図書"},{"$f":"分類順!C1465","v":"Jb：病院/スタッフ"},{"$f":"分類順!D1465","v":"山田貴敏"},{"$f":"分類順!E1465","v":"小学館"},{"$f":"分類順!F1465","v":10119},"Dr.コトー診療所　№17一般図書Jb：病院/スタッフ山田貴敏小学館",1,{"$f":"VLOOKUP(\"*\"&目次加工!$B$2&\"*\",J1466:K1466,2,0)","v":1},{"$error":"#N/A"}]
[null,null,null,{"$f":"分類順!A1466","v":"Dr.コトー診療所　№18"},{"$f":"分類順!B1466","v":"一般図書"},{"$f":"分類順!C1466","v":"Jb：病院/スタッフ"},{"$f":"分類順!D1466","v":"山田貴敏"},{"$f":"分類順!E1466","v":"小学館"},{"$f":"分類順!F1466","v":10120},"Dr.コトー診療所　№18一般図書Jb：病院/スタッフ山田貴敏小学館",1,{"$f":"VLOOKUP(\"*\"&目次加工!$B$2&\"*\",J1467:K1467,2,0)","v":1},{"$error":"#N/A"}]
[null,null,null,{"$f":"分類順!A1467","v":"Dr.コトー診療所　№20"},{"$f":"分類順!B1467","v":"一般図書"},{"$f":"分類順!C1467","v":"Jb：病院/スタッフ"},{"$f":"分類順!D1467","v":"山田貴敏"},{"$f":"分類順!E1467","v":"小学館"},{"$f":"分類順!F1467","v":10121},"Dr.コトー診療所　№20一般図書Jb：病院/スタッフ山田貴敏小学館",1,{"$f":"VLOOKUP(\"*\"&目次加工!$B$2&\"*\",J1468:K1468,2,0)","v":1},1]
[null,null,null,{"$f":"分類順!A1468","v":"Dr.コトー診療所　№22"},{"$f":"分類順!B1468","v":"一般図書"},{"$f":"分類順!C1468","v":"Jb：病院/スタッフ"},{"$f":"分類順!D1468","v":"山田貴敏"},{"$f":"分類順!E1468","v":"小学館"},{"$f":"分類順!F1468","v":10122},"Dr.コトー診療所　№22一般図書Jb：病院/スタッフ山田貴敏小学館",1,{"$f":"VLOOKUP(\"*\"&目次加工!$B$2&\"*\",J1469:K1469,2,0)","v":1},{"$error":"#N/A"}]
[null,null,null,{"$f":"分類順!A1469","v":"Dr.コトー診療所　№25"},{"$f":"分類順!B1469","v":"一般図書"},{"$f":"分類順!C1469","v":"Jb：病院/スタッフ"},{"$f":"分類順!D1469","v":"山田貴敏"},{"$f":"分類順!E1469","v":"小学館"},{"$f":"分類順!F1469","v":10136},"Dr.コトー診療所　№25一般図書Jb：病院/スタッフ山田貴敏小学館",1,{"$f":"VLOOKUP(\"*\"&目次加工!$B$2&\"*\",J1470:K1470,2,0)","v":1},{"$error":"#N/A"}]
[null,null,null,{"$f":"分類順!A1470","v":"Dr.コトー診療所　№19"},{"$f":"分類順!B1470","v":"一般図書"},{"$f":"分類順!C1470","v":"Jb：病院/スタッフ"},{"$f":"分類順!D1470","v":"山田貴敏"},{"$f":"分類順!E1470","v":"小学館"},{"$f":"分類順!F1470","v":10137},"Dr.コトー診療所　№19一般図書Jb：病院/スタッフ山田貴敏小学館",1,{"$f":"VLOOKUP(\"*\"&目次加工!$B$2&\"*\",J1471:K1471,2,0)","v":1},{"$error":"#N/A"}]
[null,null,null,{"$f":"分類順!A1471","v":"Dr.コトー診療所　№21"},{"$f":"分類順!B1471","v":"一般図書"},{"$f":"分類順!C1471","v":"Jb：病院/スタッフ"},{"$f":"分類順!D1471","v":"山田貴敏"},{"$f":"分類順!E1471","v":"小学館"},{"$f":"分類順!F1471","v":10138},"Dr.コトー診療所　№21一般図書Jb：病院/スタッフ山田貴敏小学館",1,{"$f":"VLOOKUP(\"*\"&目次加工!$B$2&\"*\",J1472:K1472,2,0)","v":1},{"$error":"#N/A"}]
[null,null,null,{"$f":"分類順!A1472","v":"Dr.コトー診療所　№23"},{"$f":"分類順!B1472","v":"一般図書"},{"$f":"分類順!C1472","v":"Jb：病院/スタッフ"},{"$f":"分類順!D1472","v":"山田貴敏"},{"$f":"分類順!E1472","v":"小学館"},{"$f":"分類順!F1472","v":10139},"Dr.コトー診療所　№23一般図書Jb：病院/スタッフ山田貴敏小学館",1,{"$f":"VLOOKUP(\"*\"&目次加工!$B$2&\"*\",J1473:K1473,2,0)","v":1},{"$error":"#N/A"}]
[null,null,null,{"$f":"分類順!A1473","v":"Dr.コトー診療所　№24"},{"$f":"分類順!B1473","v":"一般図書"},{"$f":"分類順!C1473","v":"Jb：病院/スタッフ"},{"$f":"分類順!D1473","v":"山田貴敏"},{"$f":"分類順!E1473","v":"小学館"},{"$f":"分類順!F1473","v":10140},"Dr.コトー診療所　№24一般図書Jb：病院/スタッフ山田貴敏小学館",1,{"$f":"VLOOKUP(\"*\"&目次加工!$B$2&\"*\",J1474:K1474,2,0)","v":1},{"$error":"#N/A"}]
[null,null,null,{"$f":"分類順!A1474","v":"医療倫理"},{"$f":"分類順!B1474","v":"目次へ"},{"$f":"分類順!C1474","v":"※PDF版ではリンクしておりません。"},{"$f":"分類順!D1474","v":0},{"$f":"分類順!E1474","v":0},{"$f":"分類順!F1474","v":0},"医療倫理目次へ※PDF版ではリンクしておりません。00",1,{"$f":"VLOOKUP(\"*\"&目次加工!$B$2&\"*\",J1475:K1475,2,0)","v":1},1]
[null,null,null,{"$f":"分類順!A1475","v":"看護ふれあい学講座　具体例で学ぶコミュニ"},{"$f":"分類順!B1475","v":"医療の本"},{"$f":"分類順!C1475","v":"Jc：医療倫理"},{"$f":"分類順!D1475","v":"中井　喜美子"},{"$f":"分類順!E1475","v":"照林社"},{"$f":"分類順!F1475","v":869},"看護ふれあい学講座　具体例で学ぶコミュニ医療の本Jc：医療倫理中井　喜美子照林社",1,{"$f":"VLOOKUP(\"*\"&目次加工!$B$2&\"*\",J1476:K1476,2,0)","v":1},{"$f":"VLOOKUP(\"*\"&$A$2&\"*\",J1476:K1476,2,0)","v":{"$error":"#N/A"}}]
[null,null,null,{"$f":"分類順!A1476","v":"統合医療の扉　生命倫理の視角から"},{"$f":"分類順!B1476","v":"医療の本"},{"$f":"分類順!C1476","v":"Jc：医療倫理"},{"$f":"分類順!D1476","v":"小松　奈美子"},{"$f":"分類順!E1476","v":"北樹出版"},{"$f":"分類順!F1476","v":912},"統合医療の扉　生命倫理の視角から医療の本Jc：医療倫理小松　奈美子北樹出版",1,{"$f":"VLOOKUP(\"*\"&目次加工!$B$2&\"*\",J1477:K1477,2,0)","v":1},{"$error":"#N/A"}]
[null,null,null,{"$f":"分類順!A1477","v":"医療経済学"},{"$f":"分類順!B1477","v":"目次へ"},{"$f":"分類順!C1477","v":"※PDF版ではリンクしておりません。"},{"$f":"分類順!D1477","v":0},{"$f":"分類順!E1477","v":0},{"$f":"分類順!F1477","v":0},"医療経済学目次へ※PDF版ではリンクしておりません。00",1,{"$f":"VLOOKUP(\"*\"&目次加工!$B$2&\"*\",J1478:K1478,2,0)","v":1},1]
[null,null,null,{"$f":"分類順!A1478","v":"知ってほしい障害年金のはなし　もらえるはずなのに気づかずにいませんか？"},{"$f":"分類順!B1478","v":"医療の本"},{"$f":"分類順!C1478","v":"Jd：医療経済学"},{"$f":"分類順!D1478","v":"佐々木久美子"},{"$f":"分類順!E1478","v":"日本法令"},{"$f":"分類順!F1478","v":10273},"知ってほしい障害年金のはなし　もらえるはずなのに気づかずにいませんか？医療の本Jd：医療経済学佐々木久美子日本法令",1,{"$f":"VLOOKUP(\"*\"&目次加工!$B$2&\"*\",J1479:K1479,2,0)","v":1},{"$error":"#N/A"}]
[null,null,null,{"$f":"分類順!A1479","v":"こどもの本"},{"$f":"分類順!B1479","v":"目次へ"},{"$f":"分類順!C1479","v":"※PDF版ではリンクしておりません。"},{"$f":"分類順!D1479","v":0},{"$f":"分類順!E1479","v":0},{"$f":"分類順!F1479","v":0},"こどもの本目次へ※PDF版ではリンクしておりません。00",1,{"$f":"VLOOKUP(\"*\"&目次加工!$B$2&\"*\",J1480:K1480,2,0)","v":1},1]
[null,null,null,{"$f":"分類順!A1480","v":"きょうおひさまがでなかったら"},{"$f":"分類順!B1480","v":"絵本"},{"$f":"分類順!C1480","v":"K：こどもの本"},{"$f":"分類順!D1480","v":"塚本やすし"},{"$f":"分類順!E1480","v":"フレベール館"},{"$f":"分類順!F1480","v":2116},"きょうおひさまがでなかったら絵本K：こどもの本塚本やすしフレベール館",1,{"$f":"VLOOKUP(\"*\"&目次加工!$B$2&\"*\",J1481:K1481,2,0)","v":1},{"$error":"#N/A"}]
[null,null,null,{"$f":"分類順!A1481","v":"ボクは船長"},{"$f":"分類順!B1481","v":"絵本"},{"$f":"分類順!C1481","v":"K：こどもの本"},{"$f":"分類順!D1481","v":"クリスティーネ・メルツ"},{"$f":"分類順!E1481","v":"童話屋"},{"$f":"分類順!F1481","v":20782},"ボクは船長絵本K：こどもの本クリスティーネ・メルツ童話屋",1,{"$f":"VLOOKUP(\"*\"&目次加工!$B$2&\"*\",J1482:K1482,2,0)","v":1},{"$error":"#N/A"}]
[null,null,null,{"$f":"分類順!A1482","v":"ぼくが父さんなら"},{"$f":"分類順!B1482","v":"絵本"},{"$f":"分類順!C1482","v":"K：こどもの本"},{"$f":"分類順!D1482","v":"シャーロット・ゾロトウ"},{"$f":"分類順!E1482","v":"童話屋"},{"$f":"分類順!F1482","v":20783},"ぼくが父さんなら絵本K：こどもの本シャーロット・ゾロトウ童話屋",1,{"$f":"VLOOKUP(\"*\"&目次加工!$B$2&\"*\",J1483:K1483,2,0)","v":1},{"$error":"#N/A"}]
[null,null,null,{"$f":"分類順!A1483","v":"夜まわりクマのアーサー"},{"$f":"分類順!B1483","v":"絵本"},{"$f":"分類順!C1483","v":"K：こどもの本"},{"$f":"分類順!D1483","v":"ジェシカ・メザーブ"},{"$f":"分類順!E1483","v":"童話屋"},{"$f":"分類順!F1483","v":20784},"夜まわりクマのアーサー絵本K：こどもの本ジェシカ・メザーブ童話屋",1,{"$f":"VLOOKUP(\"*\"&目次加工!$B$2&\"*\",J1484:K1484,2,0)","v":1},{"$error":"#N/A"}]
[null,null,null,{"$f":"分類順!A1484","v":"シリーズ『自然と遊ぼう』動物編⑤さあへんしんだ　成長と変態"},{"$f":"分類順!B1484","v":"絵本"},{"$f":"分類順!C1484","v":"K：こどもの本"},{"$f":"分類順!D1484","v":"中嶋博和"},{"$f":"分類順!E1484","v":"農文協"},{"$f":"分類順!F1484","v":20785},"シリーズ『自然と遊ぼう』動物編⑤さあへんしんだ　成長と変態絵本K：こどもの本中嶋博和農文協",1,{"$f":"VLOOKUP(\"*\"&目次加工!$B$2&\"*\",J1485:K1485,2,0)","v":1},{"$error":"#N/A"}]
[null,null,null,{"$f":"分類順!A1485","v":"デコボコえほん　かずをかぞえよう"},{"$f":"分類順!B1485","v":"絵本"},{"$f":"分類順!C1485","v":"K：こどもの本"},{"$f":"分類順!D1485","v":"グザビエ・ドゥヌ"},{"$f":"分類順!E1485","v":"小学館"},{"$f":"分類順!F1485","v":20786},"デコボコえほん　かずをかぞえよう絵本K：こどもの本グザビエ・ドゥヌ小学館",1,{"$f":"VLOOKUP(\"*\"&目次加工!$B$2&\"*\",J1486:K1486,2,0)","v":1},{"$error":"#N/A"}]
[null,null,null,{"$f":"分類順!A1486","v":"介助犬武蔵と学校へ行こう　日本初・難病の久美子ちゃんがチャレンジ"},{"$f":"分類順!B1486","v":"絵本"},{"$f":"分類順!C1486","v":"K：こどもの本"},{"$f":"分類順!D1486","v":"綾野まさる"},{"$f":"分類順!E1486","v":"ハート出版"},{"$f":"分類順!F1486","v":20787},"介助犬武蔵と学校へ行こう　日本初・難病の久美子ちゃんがチャレンジ絵本K：こどもの本綾野まさるハート出版",1,{"$f":"VLOOKUP(\"*\"&目次加工!$B$2&\"*\",J1487:K1487,2,0)","v":1},{"$error":"#N/A"}]
[null,null,null,{"$f":"分類順!A1487","v":"不思議の国のアリス"},{"$f":"分類順!B1487","v":"絵本"},{"$f":"分類順!C1487","v":"K：こどもの本"},{"$f":"分類順!D1487","v":"ルイス・キャロル"},{"$f":"分類順!E1487","v":"岩波書店"},{"$f":"分類順!F1487","v":20788},"不思議の国のアリス絵本K：こどもの本ルイス・キャロル岩波書店",1,{"$f":"VLOOKUP(\"*\"&目次加工!$B$2&\"*\",J1488:K1488,2,0)","v":1},{"$error":"#N/A"}]
[null,null,null,{"$f":"分類順!A1488","v":"ナイトメアービフォアークリスマス"},{"$f":"分類順!B1488","v":"絵本"},{"$f":"分類順!C1488","v":"K：こどもの本"},{"$f":"分類順!D1488","v":"橘高弓枝"},{"$f":"分類順!E1488","v":"偕成社"},{"$f":"分類順!F1488","v":20789},"ナイトメアービフォアークリスマス絵本K：こどもの本橘高弓枝偕成社",1,{"$f":"VLOOKUP(\"*\"&目次加工!$B$2&\"*\",J1489:K1489,2,0)","v":1},{"$error":"#N/A"}]
[null,null,null,{"$f":"分類順!A1489","v":"オズの魔法使い"},{"$f":"分類順!B1489","v":"絵本"},{"$f":"分類順!C1489","v":"K：こどもの本"},{"$f":"分類順!D1489","v":"ハウム"},{"$f":"分類順!E1489","v":"ポプラ社"},{"$f":"分類順!F1489","v":20790},"オズの魔法使い絵本K：こどもの本ハウムポプラ社",1,{"$f":"VLOOKUP(\"*\"&目次加工!$B$2&\"*\",J1490:K1490,2,0)","v":1},{"$error":"#N/A"}]
[null,null,null,{"$f":"分類順!A1490","v":"きつねのフォスとうさぎのハーズ"},{"$f":"分類順!B1490","v":"絵本"},{"$f":"分類順!C1490","v":"K：こどもの本"},{"$f":"分類順!D1490","v":"シルヴィア・ヴァンデン・ヘーデ"},{"$f":"分類順!E1490","v":"岩波書店"},{"$f":"分類順!F1490","v":20791},{"$f":"D1491&E1491&F1491&G1491&H1491","v":"きつねのフォスとうさぎのハーズ絵本K：こどもの本シルヴィア・ヴァンデン・ヘーデ岩波書店"},1,{"$f":"VLOOKUP(\"*\"&目次加工!$B$2&\"*\",J1491:K1491,2,0)","v":1},{"$error":"#N/A"}]
[null,null,null,{"$f":"分類順!A1491","v":"斎藤孝のイッキによめる！名作品集　小学5年生"},{"$f":"分類順!B1491","v":"絵本"},{"$f":"分類順!C1491","v":"K：こどもの本"},{"$f":"分類順!D1491","v":"斎藤孝"},{"$f":"分類順!E1491","v":"講談社"},{"$f":"分類順!F1491","v":20792},"斎藤孝のイッキによめる！名作品集　小学5年生絵本K：こどもの本斎藤孝講談社",1,{"$f":"VLOOKUP(\"*\"&目次加工!$B$2&\"*\",J1492:K1492,2,0)","v":1},{"$error":"#N/A"}]
[null,null,null,{"$f":"分類順!A1492","v":"ちびまる子ちゃんの表現力をつけることば教室"},{"$f":"分類順!B1492","v":"絵本"},{"$f":"分類順!C1492","v":"K：こどもの本"},{"$f":"分類順!D1492","v":"貝田桃子"},{"$f":"分類順!E1492","v":"集英社"},{"$f":"分類順!F1492","v":20793},"ちびまる子ちゃんの表現力をつけることば教室絵本K：こどもの本貝田桃子集英社",1,{"$f":"VLOOKUP(\"*\"&目次加工!$B$2&\"*\",J1493:K1493,2,0)","v":1},{"$error":"#N/A"}]
[null,null,null,{"$f":"分類順!A1493","v":"ニルスのふしぎな旅（１）"},{"$f":"分類順!B1493","v":"絵本"},{"$f":"分類順!C1493","v":"K：こどもの本"},{"$f":"分類順!D1493","v":"ラーゲルレーヴー"},{"$f":"分類順!E1493","v":"偕成社"},{"$f":"分類順!F1493","v":20794},"ニルスのふしぎな旅（１）絵本K：こどもの本ラーゲルレーヴー偕成社",1,{"$f":"VLOOKUP(\"*\"&目次加工!$B$2&\"*\",J1494:K1494,2,0)","v":1},{"$error":"#N/A"}]
[null,null,null,{"$f":"分類順!A1494","v":"14歳の世渡り術　人生他力本願　誰かに頼りながら生きる49の方法"},{"$f":"分類順!B1494","v":"絵本"},{"$f":"分類順!C1494","v":"K：こどもの本"},{"$f":"分類順!D1494","v":"上島竜兵"},{"$f":"分類順!E1494","v":"河出書房新社"},{"$f":"分類順!F1494","v":20796},"14歳の世渡り術　人生他力本願　誰かに頼りながら生きる49の方法絵本K：こどもの本上島竜兵河出書房新社",1,{"$f":"VLOOKUP(\"*\"&目次加工!$B$2&\"*\",J1495:K1495,2,0)","v":1},{"$error":"#N/A"}]
[null,null,null,{"$f":"分類順!A1495","v":"シャーロットのおくりもの"},{"$f":"分類順!B1495","v":"絵本"},{"$f":"分類順!C1495","v":"K：こどもの本"},{"$f":"分類順!D1495","v":"E.B.ホワイト"},{"$f":"分類順!E1495","v":"あすなろ書房"},{"$f":"分類順!F1495","v":20797},"シャーロットのおくりもの絵本K：こどもの本E.B.ホワイトあすなろ書房",1,{"$f":"VLOOKUP(\"*\"&目次加工!$B$2&\"*\",J1496:K1496,2,0)","v":1},{"$error":"#N/A"}]
[null,null,null,{"$f":"分類順!A1496","v":"デブの国ノッポの国"},{"$f":"分類順!B1496","v":"絵本"},{"$f":"分類順!C1496","v":"K：こどもの本"},{"$f":"分類順!D1496","v":"アンドレ・モロア"},{"$f":"分類順!E1496","v":"集英社"},{"$f":"分類順!F1496","v":20798},"デブの国ノッポの国絵本K：こどもの本アンドレ・モロア集英社",1,{"$f":"VLOOKUP(\"*\"&目次加工!$B$2&\"*\",J1497:K1497,2,0)","v":1},{"$error":"#N/A"}]
[null,null,null,{"$f":"分類順!A1497","v":"ジュニア版日本文学選３　野菊の墓"},{"$f":"分類順!B1497","v":"絵本"},{"$f":"分類順!C1497","v":"K：こどもの本"},{"$f":"分類順!D1497","v":"伊藤左千夫"},{"$f":"分類順!E1497","v":"偕成社"},{"$f":"分類順!F1497","v":20799},"ジュニア版日本文学選３　野菊の墓絵本K：こどもの本伊藤左千夫偕成社",1,{"$f":"VLOOKUP(\"*\"&目次加工!$B$2&\"*\",J1498:K1498,2,0)","v":1},{"$error":"#N/A"}]
[null,null,null,{"$f":"分類順!A1498","v":"くらしの実用小物　折り紙"},{"$f":"分類順!B1498","v":"絵本"},{"$f":"分類順!C1498","v":"K：こどもの本"},{"$f":"分類順!D1498","v":"山口　真"},{"$f":"分類順!E1498","v":"西東社"},{"$f":"分類順!F1498","v":20800},"くらしの実用小物　折り紙絵本K：こどもの本山口　真西東社",1,{"$f":"VLOOKUP(\"*\"&目次加工!$B$2&\"*\",J1499:K1499,2,0)","v":1},{"$error":"#N/A"}]
[null,null,null,{"$f":"分類順!A1499","v":"しあわせのバトンタッチ　障がいを負った犬・未来、学校へ行く"},{"$f":"分類順!B1499","v":"絵本"},{"$f":"分類順!C1499","v":"K：こどもの本"},{"$f":"分類順!D1499","v":"今西乃子"},{"$f":"分類順!E1499","v":"岩崎書店"},{"$f":"分類順!F1499","v":20801},"しあわせのバトンタッチ　障がいを負った犬・未来、学校へ行く絵本K：こどもの本今西乃子岩崎書店",1,{"$f":"VLOOKUP(\"*\"&目次加工!$B$2&\"*\",J1500:K1500,2,0)","v":1},{"$error":"#N/A"}]
[null,null,null,{"$f":"分類順!A1500","v":"こまったさんのコロッケ"},{"$f":"分類順!B1500","v":"絵本"},{"$f":"分類順!C1500","v":"K：こどもの本"},{"$f":"分類順!D1500","v":"寺村輝夫"},{"$f":"分類順!E1500","v":"あかね書房"},{"$f":"分類順!F1500","v":20802},"こまったさんのコロッケ絵本K：こどもの本寺村輝夫あかね書房",1,{"$f":"VLOOKUP(\"*\"&目次加工!$B$2&\"*\",J1501:K1501,2,0)","v":1},{"$error":"#N/A"}]
[null,null,null,{"$f":"分類順!A1501","v":"命のバトンタッチ　障がいを負った犬・来未"},{"$f":"分類順!B1501","v":"絵本"},{"$f":"分類順!C1501","v":"K：こどもの本"},{"$f":"分類順!D1501","v":"今西乃子"},{"$f":"分類順!E1501","v":"岩崎書店"},{"$f":"分類順!F1501","v":20813},"命のバトンタッチ　障がいを負った犬・来未絵本K：こどもの本今西乃子岩崎書店",1,{"$f":"VLOOKUP(\"*\"&目次加工!$B$2&\"*\",J1502:K1502,2,0)","v":1},{"$error":"#N/A"}]
[null,null,null,{"$f":"分類順!A1502","v":"レ・ミゼラブル　ああ無情"},{"$f":"分類順!B1502","v":"絵本"},{"$f":"分類順!C1502","v":"K：こどもの本"},{"$f":"分類順!D1502","v":"ユゴー"},{"$f":"分類順!E1502","v":"ポプラ社"},{"$f":"分類順!F1502","v":20818},"レ・ミゼラブル　ああ無情絵本K：こどもの本ユゴーポプラ社",1,{"$f":"VLOOKUP(\"*\"&目次加工!$B$2&\"*\",J1503:K1503,2,0)","v":1},{"$error":"#N/A"}]
[null,null,null,{"$f":"分類順!A1503","v":"魔女の宅急便"},{"$f":"分類順!B1503","v":"絵本"},{"$f":"分類順!C1503","v":"K：こどもの本"},{"$f":"分類順!D1503","v":"宮崎駿"},{"$f":"分類順!E1503","v":"徳間書店"},{"$f":"分類順!F1503","v":20819},"魔女の宅急便絵本K：こどもの本宮崎駿徳間書店",1,{"$f":"VLOOKUP(\"*\"&目次加工!$B$2&\"*\",J1504:K1504,2,0)","v":1},{"$error":"#N/A"}]
[null,null,null,{"$f":"分類順!A1504","v":"森のネズミの冬ごもり"},{"$f":"分類順!B1504","v":"一般図書"},{"$f":"分類順!C1504","v":"K：こどもの本"},{"$f":"分類順!D1504","v":"岡野薫子"},{"$f":"分類順!E1504","v":"ポプラ社"},{"$f":"分類順!F1504","v":20823},"森のネズミの冬ごもり一般図書K：こどもの本岡野薫子ポプラ社",1,{"$f":"VLOOKUP(\"*\"&目次加工!$B$2&\"*\",J1505:K1505,2,0)","v":1},{"$error":"#N/A"}]
[null,null,null,{"$f":"分類順!A1505","v":"イルカの子ディロのぼうけん"},{"$f":"分類順!B1505","v":"一般図書"},{"$f":"分類順!C1505","v":"K：こどもの本"},{"$f":"分類順!D1505","v":"ホラス・ドブス"},{"$f":"分類順!E1505","v":"学研"},{"$f":"分類順!F1505","v":20825},"イルカの子ディロのぼうけん一般図書K：こどもの本ホラス・ドブス学研",1,{"$f":"VLOOKUP(\"*\"&目次加工!$B$2&\"*\",J1506:K1506,2,0)","v":1},{"$error":"#N/A"}]
[null,null,null,{"$f":"分類順!A1506","v":"月夜のふしぎ道"},{"$f":"分類順!B1506","v":"一般図書"},{"$f":"分類順!C1506","v":"K：こどもの本"},{"$f":"分類順!D1506","v":"上﨑美惠子"},{"$f":"分類順!E1506","v":"小峰書店"},{"$f":"分類順!F1506","v":20828},"月夜のふしぎ道一般図書K：こどもの本上﨑美惠子小峰書店",1,{"$f":"VLOOKUP(\"*\"&目次加工!$B$2&\"*\",J1507:K1507,2,0)","v":1},{"$error":"#N/A"}]
[null,null,null,{"$f":"分類順!A1507","v":"ごんぎつね"},{"$f":"分類順!B1507","v":"絵本"},{"$f":"分類順!C1507","v":"K：こどもの本"},{"$f":"分類順!D1507","v":"新美南吉"},{"$f":"分類順!E1507","v":"ポプラ社"},{"$f":"分類順!F1507","v":20829},"ごんぎつね絵本K：こどもの本新美南吉ポプラ社",1,{"$f":"VLOOKUP(\"*\"&目次加工!$B$2&\"*\",J1508:K1508,2,0)","v":1},{"$error":"#N/A"}]
[null,null,null,{"$f":"分類順!A1508","v":"くじらのなみだ"},{"$f":"分類順!B1508","v":"絵本"},{"$f":"分類順!C1508","v":"K：こどもの本"},{"$f":"分類順!D1508","v":"今井鴻象"},{"$f":"分類順!E1508","v":"岩崎書店"},{"$f":"分類順!F1508","v":20830},"くじらのなみだ絵本K：こどもの本今井鴻象岩崎書店",1,{"$f":"VLOOKUP(\"*\"&目次加工!$B$2&\"*\",J1509:K1509,2,0)","v":1},{"$error":"#N/A"}]
[null,null,null,{"$f":"分類順!A1509","v":"雪はちくたく"},{"$f":"分類順!B1509","v":"絵本"},{"$f":"分類順!C1509","v":"K：こどもの本"},{"$f":"分類順!D1509","v":"長崎源之助"},{"$f":"分類順!E1509","v":"銀河社"},{"$f":"分類順!F1509","v":20831},"雪はちくたく絵本K：こどもの本長崎源之助銀河社",1,{"$f":"VLOOKUP(\"*\"&目次加工!$B$2&\"*\",J1510:K1510,2,0)","v":1},{"$error":"#N/A"}]
[null,null,null,{"$f":"分類順!A1510","v":"しろくまくん、ふねにのる。"},{"$f":"分類順!B1510","v":"絵本"},{"$f":"分類順!C1510","v":"K：こどもの本"},{"$f":"分類順!D1510","v":"ハンス・ド・ビア"},{"$f":"分類順!E1510","v":"童話屋"},{"$f":"分類順!F1510","v":20832},"しろくまくん、ふねにのる。絵本K：こどもの本ハンス・ド・ビア童話屋",1,{"$f":"VLOOKUP(\"*\"&目次加工!$B$2&\"*\",J1511:K1511,2,0)","v":1},{"$error":"#N/A"}]
[null,null,null,{"$f":"分類順!A1511","v":"風の谷のナウシカ　上"},{"$f":"分類順!B1511","v":"絵本"},{"$f":"分類順!C1511","v":"K：こどもの本"},{"$f":"分類順!D1511","v":"宮崎駿"},{"$f":"分類順!E1511","v":"徳間書店"},{"$f":"分類順!F1511","v":20836},"風の谷のナウシカ　上絵本K：こどもの本宮崎駿徳間書店",1,{"$f":"VLOOKUP(\"*\"&目次加工!$B$2&\"*\",J1512:K1512,2,0)","v":1},{"$error":"#N/A"}]
[null,null,null,{"$f":"分類順!A1512","v":"風の谷のナウシカ　下"},{"$f":"分類順!B1512","v":"絵本"},{"$f":"分類順!C1512","v":"K：こどもの本"},{"$f":"分類順!D1512","v":"宮崎駿"},{"$f":"分類順!E1512","v":"徳間書店"},{"$f":"分類順!F1512","v":20837},"風の谷のナウシカ　下絵本K：こどもの本宮崎駿徳間書店",1,{"$f":"VLOOKUP(\"*\"&目次加工!$B$2&\"*\",J1513:K1513,2,0)","v":1},{"$error":"#N/A"}]
[null,null,null,{"$f":"分類順!A1513","v":"たいようのオルガン"},{"$f":"分類順!B1513","v":"絵本"},{"$f":"分類順!C1513","v":"K：こどもの本"},{"$f":"分類順!D1513","v":"荒井良二"},{"$f":"分類順!E1513","v":"偕成社"},{"$f":"分類順!F1513","v":20839},"たいようのオルガン絵本K：こどもの本荒井良二偕成社",1,{"$f":"VLOOKUP(\"*\"&目次加工!$B$2&\"*\",J1514:K1514,2,0)","v":1},{"$error":"#N/A"}]
[null,null,null,{"$f":"分類順!A1514","v":"牧場犬になったマヤ"},{"$f":"分類順!B1514","v":"一般図書"},{"$f":"分類順!C1514","v":"K：こどもの本"},{"$f":"分類順!D1514","v":"中島　晶子"},{"$f":"分類順!E1514","v":"ハート出版"},{"$f":"分類順!F1514","v":20841},"牧場犬になったマヤ一般図書K：こどもの本中島　晶子ハート出版",1,{"$f":"VLOOKUP(\"*\"&目次加工!$B$2&\"*\",J1515:K1515,2,0)","v":1},{"$error":"#N/A"}]
[null,null,null,{"$f":"分類順!A1515","v":"天使の犬ちろちゃん"},{"$f":"分類順!B1515","v":"絵本"},{"$f":"分類順!C1515","v":"K：こどもの本"},{"$f":"分類順!D1515","v":"杏有記"},{"$f":"分類順!E1515","v":"ハート出版"},{"$f":"分類順!F1515","v":20842},"天使の犬ちろちゃん絵本K：こどもの本杏有記ハート出版",1,{"$f":"VLOOKUP(\"*\"&目次加工!$B$2&\"*\",J1516:K1516,2,0)","v":1},{"$error":"#N/A"}]
[null,null,null,{"$f":"分類順!A1516","v":"検疫探知犬クレオとキャンディー"},{"$f":"分類順!B1516","v":"絵本"},{"$f":"分類順!C1516","v":"K：こどもの本"},{"$f":"分類順!D1516","v":"池田まき子"},{"$f":"分類順!E1516","v":"ハート出版"},{"$f":"分類順!F1516","v":20843},"検疫探知犬クレオとキャンディー絵本K：こどもの本池田まき子ハート出版",1,{"$f":"VLOOKUP(\"*\"&目次加工!$B$2&\"*\",J1517:K1517,2,0)","v":1},{"$error":"#N/A"}]
[null,null,null,{"$f":"分類順!A1517","v":"野菊の墓"},{"$f":"分類順!B1517","v":"絵本"},{"$f":"分類順!C1517","v":"K：こどもの本"},{"$f":"分類順!D1517","v":"伊藤左千夫"},{"$f":"分類順!E1517","v":"金の星社"},{"$f":"分類順!F1517","v":20844},"野菊の墓絵本K：こどもの本伊藤左千夫金の星社",1,{"$f":"VLOOKUP(\"*\"&目次加工!$B$2&\"*\",J1518:K1518,2,0)","v":1},{"$error":"#N/A"}]
[null,null,null,{"$f":"分類順!A1518","v":"世界の偉人伝　２発明・発見・開発に活躍した人たち"},{"$f":"分類順!B1518","v":"一般図書"},{"$f":"分類順!C1518","v":"K：こどもの本"},{"$f":"分類順!D1518","v":"富士山　みえる"},{"$f":"分類順!E1518","v":"汐文社"},{"$f":"分類順!F1518","v":20845},"世界の偉人伝　２発明・発見・開発に活躍した人たち一般図書K：こどもの本富士山　みえる汐文社",1,{"$f":"VLOOKUP(\"*\"&目次加工!$B$2&\"*\",J1519:K1519,2,0)","v":1},{"$error":"#N/A"}]
[null,null,null,{"$f":"分類順!A1519","v":"帰ってきたはやぶさ"},{"$f":"分類順!B1519","v":"絵本"},{"$f":"分類順!C1519","v":"K：こどもの本"},{"$f":"分類順!D1519","v":"今泉耕介"},{"$f":"分類順!E1519","v":"ハート出版"},{"$f":"分類順!F1519","v":20846},"帰ってきたはやぶさ絵本K：こどもの本今泉耕介ハート出版",1,{"$f":"VLOOKUP(\"*\"&目次加工!$B$2&\"*\",J1520:K1520,2,0)","v":1},{"$error":"#N/A"}]
[null,null,null,{"$f":"分類順!A1520","v":"とべないホタル２"},{"$f":"分類順!B1520","v":"絵本"},{"$f":"分類順!C1520","v":"K：こどもの本"},{"$f":"分類順!D1520","v":"小沢昭巳"},{"$f":"分類順!E1520","v":"ハート出版"},{"$f":"分類順!F1520","v":20847},"とべないホタル２絵本K：こどもの本小沢昭巳ハート出版",1,{"$f":"VLOOKUP(\"*\"&目次加工!$B$2&\"*\",J1521:K1521,2,0)","v":1},{"$error":"#N/A"}]
[null,null,null,{"$f":"分類順!A1521","v":"はじめてのゆきのひ"},{"$f":"分類順!B1521","v":"絵本"},{"$f":"分類順!C1521","v":"K：こどもの本"},{"$f":"分類順!D1521","v":"バーネット・フォード"},{"$f":"分類順!E1521","v":"評論社"},{"$f":"分類順!F1521","v":20848},"はじめてのゆきのひ絵本K：こどもの本バーネット・フォード評論社",1,{"$f":"VLOOKUP(\"*\"&目次加工!$B$2&\"*\",J1522:K1522,2,0)","v":1},{"$error":"#N/A"}]
[null,null,null,{"$f":"分類順!A1522","v":"ニャンマロくんとチイヒゲちゃん"},{"$f":"分類順!B1522","v":"絵本"},{"$f":"分類順!C1522","v":"K：こどもの本"},{"$f":"分類順!D1522","v":"サム・ロイド"},{"$f":"分類順!E1522","v":"評論社"},{"$f":"分類順!F1522","v":20849},"ニャンマロくんとチイヒゲちゃん絵本K：こどもの本サム・ロイド評論社",1,{"$f":"VLOOKUP(\"*\"&目次加工!$B$2&\"*\",J1523:K1523,2,0)","v":1},{"$error":"#N/A"}]
[null,null,null,{"$f":"分類順!A1523","v":"トリフのすてきなけっこんしき"},{"$f":"分類順!B1523","v":"絵本"},{"$f":"分類順!C1523","v":"K：こどもの本"},{"$f":"分類順!D1523","v":"アンナ・カリー"},{"$f":"分類順!E1523","v":"くもん出版"},{"$f":"分類順!F1523","v":20850},"トリフのすてきなけっこんしき絵本K：こどもの本アンナ・カリーくもん出版",1,{"$f":"VLOOKUP(\"*\"&目次加工!$B$2&\"*\",J1524:K1524,2,0)","v":1},{"$error":"#N/A"}]
[null,null,null,{"$f":"分類順!A1524","v":"ぼくがいちばん！"},{"$f":"分類順!B1524","v":"絵本"},{"$f":"分類順!C1524","v":"K：こどもの本"},{"$f":"分類順!D1524","v":"ルーシー・カズンズ"},{"$f":"分類順!E1524","v":"岩崎書店"},{"$f":"分類順!F1524","v":20851},"ぼくがいちばん！絵本K：こどもの本ルーシー・カズンズ岩崎書店",1,{"$f":"VLOOKUP(\"*\"&目次加工!$B$2&\"*\",J1525:K1525,2,0)","v":1},{"$error":"#N/A"}]
[null,null,null,{"$f":"分類順!A1525","v":"かもさんおとおり"},{"$f":"分類順!B1525","v":"絵本"},{"$f":"分類順!C1525","v":"K：こどもの本"},{"$f":"分類順!D1525","v":"ロバート・マックロスキー"},{"$f":"分類順!E1525","v":"福音館書店"},{"$f":"分類順!F1525","v":20852},"かもさんおとおり絵本K：こどもの本ロバート・マックロスキー福音館書店",1,{"$f":"VLOOKUP(\"*\"&目次加工!$B$2&\"*\",J1526:K1526,2,0)","v":1},{"$error":"#N/A"}]
[null,null,null,{"$f":"分類順!A1526","v":"エロイーサと虫たち"},{"$f":"分類順!B1526","v":"絵本"},{"$f":"分類順!C1526","v":"K：こどもの本"},{"$f":"分類順!D1526","v":"ハイロ・ブライトラゴ"},{"$f":"分類順!E1526","v":"さ・え・ら書房"},{"$f":"分類順!F1526","v":20853},"エロイーサと虫たち絵本K：こどもの本ハイロ・ブライトラゴさ・え・ら書房",1,{"$f":"VLOOKUP(\"*\"&目次加工!$B$2&\"*\",J1527:K1527,2,0)","v":1},{"$error":"#N/A"}]
[null,null,null,{"$f":"分類順!A1527","v":"フランシスのおともだち"},{"$f":"分類順!B1527","v":"絵本"},{"$f":"分類順!C1527","v":"K：こどもの本"},{"$f":"分類順!D1527","v":"ラッセル・ホーバン"},{"$f":"分類順!E1527","v":"好学社"},{"$f":"分類順!F1527","v":20854},"フランシスのおともだち絵本K：こどもの本ラッセル・ホーバン好学社",1,{"$f":"VLOOKUP(\"*\"&目次加工!$B$2&\"*\",J1528:K1528,2,0)","v":1},{"$error":"#N/A"}]
[null,null,null,{"$f":"分類順!A1528","v":"ぞうのババール"},{"$f":"分類順!B1528","v":"絵本"},{"$f":"分類順!C1528","v":"K：こどもの本"},{"$f":"分類順!D1528","v":"ジャン・ド・ブリュノフ"},{"$f":"分類順!E1528","v":"評論社"},{"$f":"分類順!F1528","v":20855},"ぞうのババール絵本K：こどもの本ジャン・ド・ブリュノフ評論社",1,{"$f":"VLOOKUP(\"*\"&目次加工!$B$2&\"*\",J1529:K1529,2,0)","v":1},{"$error":"#N/A"}]
[null,null,null,{"$f":"分類順!A1529","v":"しろくまパパのソフトクリーム"},{"$f":"分類順!B1529","v":"絵本"},{"$f":"分類順!C1529","v":"K：こどもの本"},{"$f":"分類順!D1529","v":"とおやましげとし"},{"$f":"分類順!E1529","v":"金の星社"},{"$f":"分類順!F1529","v":20856},"しろくまパパのソフトクリーム絵本K：こどもの本とおやましげとし金の星社",1,{"$f":"VLOOKUP(\"*\"&目次加工!$B$2&\"*\",J1530:K1530,2,0)","v":1},{"$error":"#N/A"}]
[null,null,null,{"$f":"分類順!A1530","v":"ワニのライルがやってきた"},{"$f":"分類順!B1530","v":"絵本"},{"$f":"分類順!C1530","v":"K：こどもの本"},{"$f":"分類順!D1530","v":"バーナード・ウェーバー"},{"$f":"分類順!E1530","v":"NULL"},{"$f":"分類順!F1530","v":20857},"ワニのライルがやってきた絵本K：こどもの本バーナード・ウェーバーNULL",1,{"$f":"VLOOKUP(\"*\"&目次加工!$B$2&\"*\",J1531:K1531,2,0)","v":1},{"$error":"#N/A"}]
[null,null,null,{"$f":"分類順!A1531","v":"ロバのシルベスターとまほうの小石"},{"$f":"分類順!B1531","v":"絵本"},{"$f":"分類順!C1531","v":"K：こどもの本"},{"$f":"分類順!D1531","v":"ウィリアム・スタイグ"},{"$f":"分類順!E1531","v":"評論社"},{"$f":"分類順!F1531","v":20858},"ロバのシルベスターとまほうの小石絵本K：こどもの本ウィリアム・スタイグ評論社",1,{"$f":"VLOOKUP(\"*\"&目次加工!$B$2&\"*\",J1532:K1532,2,0)","v":1},{"$error":"#N/A"}]
[null,null,null,{"$f":"分類順!A1532","v":"ぼくがきょうりゅうだったとき"},{"$f":"分類順!B1532","v":"絵本"},{"$f":"分類順!C1532","v":"K：こどもの本"},{"$f":"分類順!D1532","v":"まつおかたつひで"},{"$f":"分類順!E1532","v":"ポプラ社"},{"$f":"分類順!F1532","v":20859},"ぼくがきょうりゅうだったとき絵本K：こどもの本まつおかたつひでポプラ社",1,{"$f":"VLOOKUP(\"*\"&目次加工!$B$2&\"*\",J1533:K1533,2,0)","v":1},{"$error":"#N/A"}]
[null,null,null,{"$f":"分類順!A1533","v":"サボテンたちのゆきあそび"},{"$f":"分類順!B1533","v":"絵本"},{"$f":"分類順!C1533","v":"K：こどもの本"},{"$f":"分類順!D1533","v":"川端誠"},{"$f":"分類順!E1533","v":"BL出版"},{"$f":"分類順!F1533","v":20860},"サボテンたちのゆきあそび絵本K：こどもの本川端誠BL出版",1,{"$f":"VLOOKUP(\"*\"&目次加工!$B$2&\"*\",J1534:K1534,2,0)","v":1},{"$error":"#N/A"}]
[null,null,null,{"$f":"分類順!A1534","v":"もりのびょういん"},{"$f":"分類順!B1534","v":"絵本"},{"$f":"分類順!C1534","v":"K：こどもの本"},{"$f":"分類順!D1534","v":"渡辺鉄太"},{"$f":"分類順!E1534","v":"福音館書店"},{"$f":"分類順!F1534","v":20862},"もりのびょういん絵本K：こどもの本渡辺鉄太福音館書店",1,{"$f":"VLOOKUP(\"*\"&目次加工!$B$2&\"*\",J1535:K1535,2,0)","v":1},{"$error":"#N/A"}]
[null,null,null,{"$f":"分類順!A1535","v":"ほんやのいぬくん"},{"$f":"分類順!B1535","v":"絵本"},{"$f":"分類順!C1535","v":"K：こどもの本"},{"$f":"分類順!D1535","v":"ルイーズ・イエーツ"},{"$f":"分類順!E1535","v":"岩崎書店"},{"$f":"分類順!F1535","v":20863},"ほんやのいぬくん絵本K：こどもの本ルイーズ・イエーツ岩崎書店",1,{"$f":"VLOOKUP(\"*\"&目次加工!$B$2&\"*\",J1536:K1536,2,0)","v":1},{"$error":"#N/A"}]
[null,null,null,{"$f":"分類順!A1536","v":"フランシスのいえで"},{"$f":"分類順!B1536","v":"絵本"},{"$f":"分類順!C1536","v":"K：こどもの本"},{"$f":"分類順!D1536","v":"ラッセル・ホーバン"},{"$f":"分類順!E1536","v":"好学社"},{"$f":"分類順!F1536","v":20864},"フランシスのいえで絵本K：こどもの本ラッセル・ホーバン好学社",1,{"$f":"VLOOKUP(\"*\"&目次加工!$B$2&\"*\",J1537:K1537,2,0)","v":1},{"$error":"#N/A"}]
[null,null,null,{"$f":"分類順!A1537","v":"くもんのはじめての英会話じてん"},{"$f":"分類順!B1537","v":"絵本"},{"$f":"分類順!C1537","v":"K：こどもの本"},{"$f":"分類順!D1537","v":"公文寛"},{"$f":"分類順!E1537","v":"くもん出版"},{"$f":"分類順!F1537","v":20865},"くもんのはじめての英会話じてん絵本K：こどもの本公文寛くもん出版",1,{"$f":"VLOOKUP(\"*\"&目次加工!$B$2&\"*\",J1538:K1538,2,0)","v":1},{"$error":"#N/A"}]
[null,null,null,{"$f":"分類順!A1538","v":"ちびまる子ちゃんのことわざ教室"},{"$f":"分類順!B1538","v":"絵本"},{"$f":"分類順!C1538","v":"K：こどもの本"},{"$f":"分類順!D1538","v":"島村直己"},{"$f":"分類順!E1538","v":"集英社"},{"$f":"分類順!F1538","v":20866},"ちびまる子ちゃんのことわざ教室絵本K：こどもの本島村直己集英社",1,{"$f":"VLOOKUP(\"*\"&目次加工!$B$2&\"*\",J1539:K1539,2,0)","v":1},{"$error":"#N/A"}]
[null,null,null,{"$f":"分類順!A1539","v":"くもんのはじめての英和じてん"},{"$f":"分類順!B1539","v":"絵本"},{"$f":"分類順!C1539","v":"K：こどもの本"},{"$f":"分類順!D1539","v":"公文寛"},{"$f":"分類順!E1539","v":"くもん出版"},{"$f":"分類順!F1539","v":20867},"くもんのはじめての英和じてん絵本K：こどもの本公文寛くもん出版",1,{"$f":"VLOOKUP(\"*\"&目次加工!$B$2&\"*\",J1540:K1540,2,0)","v":1},{"$f":"VLOOKUP(\"*\"&$A$2&\"*\",J1540:K1540,2,0)","v":{"$error":"#N/A"}}]
[null,null,null,{"$f":"分類順!A1540","v":"強くてごめんね"},{"$f":"分類順!B1540","v":"絵本"},{"$f":"分類順!C1540","v":"K：こどもの本"},{"$f":"分類順!D1540","v":"令丈ヒロ子"},{"$f":"分類順!E1540","v":"あかね書房"},{"$f":"分類順!F1540","v":20868},"強くてごめんね絵本K：こどもの本令丈ヒロ子あかね書房",1,{"$f":"VLOOKUP(\"*\"&目次加工!$B$2&\"*\",J1541:K1541,2,0)","v":1},{"$error":"#N/A"}]
[null,null,null,{"$f":"分類順!A1541","v":"オレ様キングダム"},{"$f":"分類順!B1541","v":"絵本"},{"$f":"分類順!C1541","v":"K：こどもの本"},{"$f":"分類順!D1541","v":"村上アンズ"},{"$f":"分類順!E1541","v":"小学館"},{"$f":"分類順!F1541","v":20869},"オレ様キングダム絵本K：こどもの本村上アンズ小学館",1,{"$f":"VLOOKUP(\"*\"&目次加工!$B$2&\"*\",J1542:K1542,2,0)","v":1},{"$error":"#N/A"}]
[null,null,null,{"$f":"分類順!A1542","v":"名探偵コナン　異次元の狙撃手"},{"$f":"分類順!B1542","v":"絵本"},{"$f":"分類順!C1542","v":"K：こどもの本"},{"$f":"分類順!D1542","v":"水稀しま"},{"$f":"分類順!E1542","v":"小学館"},{"$f":"分類順!F1542","v":20870},"名探偵コナン　異次元の狙撃手絵本K：こどもの本水稀しま小学館",1,{"$f":"VLOOKUP(\"*\"&目次加工!$B$2&\"*\",J1543:K1543,2,0)","v":1},{"$error":"#N/A"}]
[null,null,null,{"$f":"分類順!A1543","v":"児童書版　ホームレス中学生"},{"$f":"分類順!B1543","v":"絵本"},{"$f":"分類順!C1543","v":"K：こどもの本"},{"$f":"分類順!D1543","v":"田村裕"},{"$f":"分類順!E1543","v":"ワニブックス"},{"$f":"分類順!F1543","v":20871},"児童書版　ホームレス中学生絵本K：こどもの本田村裕ワニブックス",1,{"$f":"VLOOKUP(\"*\"&目次加工!$B$2&\"*\",J1544:K1544,2,0)","v":1},{"$error":"#N/A"}]
[null,null,null,{"$f":"分類順!A1544","v":"レオナルド・ダ・テッケンの天才！あるあるスクール"},{"$f":"分類順!B1544","v":"絵本"},{"$f":"分類順!C1544","v":"K：こどもの本"},{"$f":"分類順!D1544","v":"天才画家レオナルド・ダ・テッケン"},{"$f":"分類順!E1544","v":"小学館集英社プロダクション"},{"$f":"分類順!F1544","v":20872},"レオナルド・ダ・テッケンの天才！あるあるスクール絵本K：こどもの本天才画家レオナルド・ダ・テッケン小学館集英社プロダクション",1,{"$f":"VLOOKUP(\"*\"&目次加工!$B$2&\"*\",J1545:K1545,2,0)","v":1},{"$error":"#N/A"}]
[null,null,null,{"$f":"分類順!A1545","v":"名探偵コナン　絶海の探偵"},{"$f":"分類順!B1545","v":"絵本"},{"$f":"分類順!C1545","v":"K：こどもの本"},{"$f":"分類順!D1545","v":"水稀しま"},{"$f":"分類順!E1545","v":"小学館"},{"$f":"分類順!F1545","v":20873},"名探偵コナン　絶海の探偵絵本K：こどもの本水稀しま小学館",1,{"$f":"VLOOKUP(\"*\"&目次加工!$B$2&\"*\",J1546:K1546,2,0)","v":1},{"$error":"#N/A"}]
[null,null,null,{"$f":"分類順!A1546","v":"名探偵コナン　11人目のストライカー"},{"$f":"分類順!B1546","v":"絵本"},{"$f":"分類順!C1546","v":"K：こどもの本"},{"$f":"分類順!D1546","v":"水稀しま"},{"$f":"分類順!E1546","v":"小学館"},{"$f":"分類順!F1546","v":20874},"名探偵コナン　11人目のストライカー絵本K：こどもの本水稀しま小学館",1,{"$f":"VLOOKUP(\"*\"&目次加工!$B$2&\"*\",J1547:K1547,2,0)","v":1},{"$error":"#N/A"}]
[null,null,null,{"$f":"分類順!A1547","v":"ちびまる子ちゃんの慣用句教室"},{"$f":"分類順!B1547","v":"絵本"},{"$f":"分類順!C1547","v":"K：こどもの本"},{"$f":"分類順!D1547","v":"川嶋優"},{"$f":"分類順!E1547","v":"小学館"},{"$f":"分類順!F1547","v":20875},"ちびまる子ちゃんの慣用句教室絵本K：こどもの本川嶋優小学館",1,{"$f":"VLOOKUP(\"*\"&目次加工!$B$2&\"*\",J1548:K1548,2,0)","v":1},{"$error":"#N/A"}]
[null,null,null,{"$f":"分類順!A1548","v":"ちびまる子ちゃんの似たもの漢字使い分け教室"},{"$f":"分類順!B1548","v":"絵本"},{"$f":"分類順!C1548","v":"K：こどもの本"},{"$f":"分類順!D1548","v":"関根健一"},{"$f":"分類順!E1548","v":"集英社"},{"$f":"分類順!F1548","v":20876},"ちびまる子ちゃんの似たもの漢字使い分け教室絵本K：こどもの本関根健一集英社",1,{"$f":"VLOOKUP(\"*\"&目次加工!$B$2&\"*\",J1549:K1549,2,0)","v":1},{"$error":"#N/A"}]
[null,null,null,{"$f":"分類順!A1549","v":"おねがいナンマイダー"},{"$f":"分類順!B1549","v":"絵本"},{"$f":"分類順!C1549","v":"K：こどもの本"},{"$f":"分類順!D1549","v":"ハンダ　トシヒト"},{"$f":"分類順!E1549","v":"岩崎書店"},{"$f":"分類順!F1549","v":20877},"おねがいナンマイダー絵本K：こどもの本ハンダ　トシヒト岩崎書店",1,{"$f":"VLOOKUP(\"*\"&目次加工!$B$2&\"*\",J1550:K1550,2,0)","v":1},{"$error":"#N/A"}]
[null,null,null,{"$f":"分類順!A1550","v":"おやすみなさいフランシス"},{"$f":"分類順!B1550","v":"絵本"},{"$f":"分類順!C1550","v":"K：こどもの本"},{"$f":"分類順!D1550","v":"ラッセル・ホーバン"},{"$f":"分類順!E1550","v":"福音館書店"},{"$f":"分類順!F1550","v":20878},"おやすみなさいフランシス絵本K：こどもの本ラッセル・ホーバン福音館書店",1,{"$f":"VLOOKUP(\"*\"&目次加工!$B$2&\"*\",J1551:K1551,2,0)","v":1},{"$error":"#N/A"}]
[null,null,null,{"$f":"分類順!A1551","v":"きつねのホイティ"},{"$f":"分類順!B1551","v":"絵本"},{"$f":"分類順!C1551","v":"K：こどもの本"},{"$f":"分類順!D1551","v":"シビル・ウェッタ・シンハ"},{"$f":"分類順!E1551","v":"福音館書店"},{"$f":"分類順!F1551","v":20880},"きつねのホイティ絵本K：こどもの本シビル・ウェッタ・シンハ福音館書店",1,{"$f":"VLOOKUP(\"*\"&目次加工!$B$2&\"*\",J1552:K1552,2,0)","v":1},{"$error":"#N/A"}]
[null,null,null,{"$f":"分類順!A1552","v":"化け猫レストラン"},{"$f":"分類順!B1552","v":"絵本"},{"$f":"分類順!C1552","v":"K：こどもの本"},{"$f":"分類順!D1552","v":"怪談レストラン編集委員会"},{"$f":"分類順!E1552","v":"童心社"},{"$f":"分類順!F1552","v":20881},"化け猫レストラン絵本K：こどもの本怪談レストラン編集委員会童心社",1,{"$f":"VLOOKUP(\"*\"&目次加工!$B$2&\"*\",J1553:K1553,2,0)","v":1},{"$error":"#N/A"}]
[null,null,null,{"$f":"分類順!A1553","v":"ゆかいなホーマーくん"},{"$f":"分類順!B1553","v":"絵本"},{"$f":"分類順!C1553","v":"K：こどもの本"},{"$f":"分類順!D1553","v":"ロバート・マックロスキー"},{"$f":"分類順!E1553","v":"岩波書店"},{"$f":"分類順!F1553","v":20882},"ゆかいなホーマーくん絵本K：こどもの本ロバート・マックロスキー岩波書店",1,{"$f":"VLOOKUP(\"*\"&目次加工!$B$2&\"*\",J1554:K1554,2,0)","v":1},{"$error":"#N/A"}]
[null,null,null,{"$f":"分類順!A1554","v":"恐竜の谷の大冒険"},{"$f":"分類順!B1554","v":"絵本"},{"$f":"分類順!C1554","v":"K：こどもの本"},{"$f":"分類順!D1554","v":"メアリー・ポープ・オズボーン"},{"$f":"分類順!E1554","v":"メディアファクトリー"},{"$f":"分類順!F1554","v":20883},{"$f":"D1555&E1555&F1555&G1555&H1555","v":"恐竜の谷の大冒険絵本K：こどもの本メアリー・ポープ・オズボーンメディアファクトリー"},1,{"$f":"VLOOKUP(\"*\"&目次加工!$B$2&\"*\",J1555:K1555,2,0)","v":1},{"$error":"#N/A"}]
[null,null,null,{"$f":"分類順!A1555","v":"女王フェテピのなぞ"},{"$f":"分類順!B1555","v":"絵本"},{"$f":"分類順!C1555","v":"K：こどもの本"},{"$f":"分類順!D1555","v":"メアリー・ポープ・オズボーン"},{"$f":"分類順!E1555","v":"メディアファクトリー"},{"$f":"分類順!F1555","v":20884},"女王フェテピのなぞ絵本K：こどもの本メアリー・ポープ・オズボーンメディアファクトリー",1,{"$f":"VLOOKUP(\"*\"&目次加工!$B$2&\"*\",J1556:K1556,2,0)","v":1},{"$error":"#N/A"}]
[null,null,null,{"$f":"分類順!A1556","v":"サバンナ決死の横断"},{"$f":"分類順!B1556","v":"絵本"},{"$f":"分類順!C1556","v":"K：こどもの本"},{"$f":"分類順!D1556","v":"メアリー・ポープ・オズボーン"},{"$f":"分類順!E1556","v":"メディアファクトリー"},{"$f":"分類順!F1556","v":20885},"サバンナ決死の横断絵本K：こどもの本メアリー・ポープ・オズボーンメディアファクトリー",1,{"$f":"VLOOKUP(\"*\"&目次加工!$B$2&\"*\",J1557:K1557,2,0)","v":1},{"$error":"#N/A"}]
[null,null,null,{"$f":"分類順!A1557","v":"おそうじをおぼえたがらないリスのゲルランゲ"},{"$f":"分類順!B1557","v":"絵本"},{"$f":"分類順!C1557","v":"K：こどもの本"},{"$f":"分類順!D1557","v":"J・ロッシュ。マゾン"},{"$f":"分類順!E1557","v":"福音館書店"},{"$f":"分類順!F1557","v":20887},"おそうじをおぼえたがらないリスのゲルランゲ絵本K：こどもの本J・ロッシュ。マゾン福音館書店",1,{"$f":"VLOOKUP(\"*\"&目次加工!$B$2&\"*\",J1558:K1558,2,0)","v":1},{"$error":"#N/A"}]
[null,null,null,{"$f":"分類順!A1558","v":"ふゆのおばけ"},{"$f":"分類順!B1558","v":"絵本"},{"$f":"分類順!C1558","v":"K：こどもの本"},{"$f":"分類順!D1558","v":"せなけいこ"},{"$f":"分類順!E1558","v":"金の星社"},{"$f":"分類順!F1558","v":20888},"ふゆのおばけ絵本K：こどもの本せなけいこ金の星社",1,{"$f":"VLOOKUP(\"*\"&目次加工!$B$2&\"*\",J1559:K1559,2,0)","v":1},{"$error":"#N/A"}]
[null,null,null,{"$f":"分類順!A1559","v":"おかしな10のとなえうた"},{"$f":"分類順!B1559","v":"絵本"},{"$f":"分類順!C1559","v":"K：こどもの本"},{"$f":"分類順!D1559","v":"木島始"},{"$f":"分類順!E1559","v":"ベネッセコーポレーション"},{"$f":"分類順!F1559","v":20889},"おかしな10のとなえうた絵本K：こどもの本木島始ベネッセコーポレーション",1,{"$f":"VLOOKUP(\"*\"&目次加工!$B$2&\"*\",J1560:K1560,2,0)","v":1},1]
[null,null,null,{"$f":"分類順!A1560","v":"たぬきのきょうだいオーポンとチーポン"},{"$f":"分類順!B1560","v":"絵本"},{"$f":"分類順!C1560","v":"K：こどもの本"},{"$f":"分類順!D1560","v":"にしかわおさむ"},{"$f":"分類順!E1560","v":"ベネッセコーポレーション"},{"$f":"分類順!F1560","v":20890},"たぬきのきょうだいオーポンとチーポン絵本K：こどもの本にしかわおさむベネッセコーポレーション",1,{"$f":"VLOOKUP(\"*\"&目次加工!$B$2&\"*\",J1561:K1561,2,0)","v":1},{"$error":"#N/A"}]
[null,null,null,{"$f":"分類順!A1561","v":"やさいさん"},{"$f":"分類順!B1561","v":"絵本"},{"$f":"分類順!C1561","v":"K：こどもの本"},{"$f":"分類順!D1561","v":"tupera tupera"},{"$f":"分類順!E1561","v":"学研"},{"$f":"分類順!F1561","v":20891},"やさいさん絵本K：こどもの本tupera tupera学研",1,{"$f":"VLOOKUP(\"*\"&目次加工!$B$2&\"*\",J1562:K1562,2,0)","v":1},{"$error":"#N/A"}]
[null,null,null,{"$f":"分類順!A1562","v":"もりのなか"},{"$f":"分類順!B1562","v":"絵本"},{"$f":"分類順!C1562","v":"K：こどもの本"},{"$f":"分類順!D1562","v":"マリー・ホール・エッツ"},{"$f":"分類順!E1562","v":"福音館書店"},{"$f":"分類順!F1562","v":20892},"もりのなか絵本K：こどもの本マリー・ホール・エッツ福音館書店",1,{"$f":"VLOOKUP(\"*\"&目次加工!$B$2&\"*\",J1563:K1563,2,0)","v":1},{"$error":"#N/A"}]
[null,null,null,{"$f":"分類順!A1563","v":"クリスマスのふしぎなはこ"},{"$f":"分類順!B1563","v":"絵本"},{"$f":"分類順!C1563","v":"K：こどもの本"},{"$f":"分類順!D1563","v":"長谷川摂子"},{"$f":"分類順!E1563","v":"福音館書店"},{"$f":"分類順!F1563","v":20893},"クリスマスのふしぎなはこ絵本K：こどもの本長谷川摂子福音館書店",1,{"$f":"VLOOKUP(\"*\"&目次加工!$B$2&\"*\",J1564:K1564,2,0)","v":1},{"$error":"#N/A"}]
[null,null,null,{"$f":"分類順!A1564","v":"うみべであそぼう"},{"$f":"分類順!B1564","v":"絵本"},{"$f":"分類順!C1564","v":"K：こどもの本"},{"$f":"分類順!D1564","v":"なかのひろみ"},{"$f":"分類順!E1564","v":"福音館書店"},{"$f":"分類順!F1564","v":20894},"うみべであそぼう絵本K：こどもの本なかのひろみ福音館書店",1,{"$f":"VLOOKUP(\"*\"&目次加工!$B$2&\"*\",J1565:K1565,2,0)","v":1},{"$error":"#N/A"}]
[null,null,null,{"$f":"分類順!A1565","v":"バーバパパのなつやすみ"},{"$f":"分類順!B1565","v":"絵本"},{"$f":"分類順!C1565","v":"K：こどもの本"},{"$f":"分類順!D1565","v":"アネット＝チゾン/タラス＝テイラー"},{"$f":"分類順!E1565","v":"講談社"},{"$f":"分類順!F1565","v":20895},"バーバパパのなつやすみ絵本K：こどもの本アネット＝チゾン/タラス＝テイラー講談社",1,{"$f":"VLOOKUP(\"*\"&目次加工!$B$2&\"*\",J1566:K1566,2,0)","v":1},{"$error":"#N/A"}]
[null,null,null,{"$f":"分類順!A1566","v":"いそいでいそいで"},{"$f":"分類順!B1566","v":"絵本"},{"$f":"分類順!C1566","v":"K：こどもの本"},{"$f":"分類順!D1566","v":"七尾純"},{"$f":"分類順!E1566","v":"ベネッセコーポレーション"},{"$f":"分類順!F1566","v":20896},"いそいでいそいで絵本K：こどもの本七尾純ベネッセコーポレーション",1,{"$f":"VLOOKUP(\"*\"&目次加工!$B$2&\"*\",J1567:K1567,2,0)","v":1},{"$error":"#N/A"}]
[null,null,null,{"$f":"分類順!A1567","v":"あめ"},{"$f":"分類順!B1567","v":"絵本"},{"$f":"分類順!C1567","v":"K：こどもの本"},{"$f":"分類順!D1567","v":"高畠　純"},{"$f":"分類順!E1567","v":"ベネッセコーポレーション"},{"$f":"分類順!F1567","v":20897},"あめ絵本K：こどもの本高畠　純ベネッセコーポレーション",1,{"$f":"VLOOKUP(\"*\"&目次加工!$B$2&\"*\",J1568:K1568,2,0)","v":1},{"$error":"#N/A"}]
[null,null,null,{"$f":"分類順!A1568","v":"なまえのことばえじてん"},{"$f":"分類順!B1568","v":"絵本"},{"$f":"分類順!C1568","v":"K：こどもの本"},{"$f":"分類順!D1568","v":"やまさきひであき"},{"$f":"分類順!E1568","v":"ひかりのくに"},{"$f":"分類順!F1568","v":20898},"なまえのことばえじてん絵本K：こどもの本やまさきひであきひかりのくに",1,{"$f":"VLOOKUP(\"*\"&目次加工!$B$2&\"*\",J1569:K1569,2,0)","v":1},{"$error":"#N/A"}]
[null,null,null,{"$f":"分類順!A1569","v":"うごきのことばえじてん"},{"$f":"分類順!B1569","v":"絵本"},{"$f":"分類順!C1569","v":"K：こどもの本"},{"$f":"分類順!D1569","v":"やまさきひであき"},{"$f":"分類順!E1569","v":"ひかりのくに"},{"$f":"分類順!F1569","v":20899},"うごきのことばえじてん絵本K：こどもの本やまさきひであきひかりのくに",1,{"$f":"VLOOKUP(\"*\"&目次加工!$B$2&\"*\",J1570:K1570,2,0)","v":1},{"$error":"#N/A"}]
[null,null,null,{"$f":"分類順!A1570","v":"Happy birthday Maisy"},{"$f":"分類順!B1570","v":"絵本"},{"$f":"分類順!C1570","v":"K：こどもの本"},{"$f":"分類順!D1570","v":"Lucy cousins"},{"$f":"分類順!E1570","v":"NULL"},{"$f":"分類順!F1570","v":20915},"Happy birthday Maisy絵本K：こどもの本Lucy cousinsNULL",1,{"$f":"VLOOKUP(\"*\"&目次加工!$B$2&\"*\",J1571:K1571,2,0)","v":1},{"$error":"#N/A"}]
[null,null,null,{"$f":"分類順!A1571","v":"学研の図鑑　魚"},{"$f":"分類順!B1571","v":"絵本"},{"$f":"分類順!C1571","v":"K：こどもの本"},{"$f":"分類順!D1571","v":"沖山宗雄"},{"$f":"分類順!E1571","v":"学習研究社"},{"$f":"分類順!F1571","v":20916},"学研の図鑑　魚絵本K：こどもの本沖山宗雄学習研究社",1,{"$f":"VLOOKUP(\"*\"&目次加工!$B$2&\"*\",J1572:K1572,2,0)","v":1},{"$error":"#N/A"}]
[null,null,null,{"$f":"分類順!A1572","v":"もりのおかしやさん"},{"$f":"分類順!B1572","v":"絵本"},{"$f":"分類順!C1572","v":"K：こどもの本"},{"$f":"分類順!D1572","v":"舟崎靖子"},{"$f":"分類順!E1572","v":"偕成社"},{"$f":"分類順!F1572","v":20917},"もりのおかしやさん絵本K：こどもの本舟崎靖子偕成社",1,{"$f":"VLOOKUP(\"*\"&目次加工!$B$2&\"*\",J1573:K1573,2,0)","v":1},{"$error":"#N/A"}]
[null,null,null,{"$f":"分類順!A1573","v":"もりのじてんしゃやさん"},{"$f":"分類順!B1573","v":"絵本"},{"$f":"分類順!C1573","v":"K：こどもの本"},{"$f":"分類順!D1573","v":"舟崎靖子"},{"$f":"分類順!E1573","v":"偕成社"},{"$f":"分類順!F1573","v":20918},"もりのじてんしゃやさん絵本K：こどもの本舟崎靖子偕成社",1,{"$f":"VLOOKUP(\"*\"&目次加工!$B$2&\"*\",J1574:K1574,2,0)","v":1},{"$error":"#N/A"}]
[null,null,null,{"$f":"分類順!A1574","v":"ひねもす山のなかまたち（３）まいごの’たまご’"},{"$f":"分類順!B1574","v":"絵本"},{"$f":"分類順!C1574","v":"K：こどもの本"},{"$f":"分類順!D1574","v":"むかいはつこ"},{"$f":"分類順!E1574","v":"文芸社"},{"$f":"分類順!F1574","v":20920},"ひねもす山のなかまたち（３）まいごの’たまご’絵本K：こどもの本むかいはつこ文芸社",1,{"$f":"VLOOKUP(\"*\"&目次加工!$B$2&\"*\",J1575:K1575,2,0)","v":1},{"$error":"#N/A"}]
[null,null,null,{"$f":"分類順!A1575","v":"ひねもす山のなかまたち（４）すてきなプレゼント"},{"$f":"分類順!B1575","v":"絵本"},{"$f":"分類順!C1575","v":"K：こどもの本"},{"$f":"分類順!D1575","v":"むかいはつこ"},{"$f":"分類順!E1575","v":"文芸社"},{"$f":"分類順!F1575","v":20921},"ひねもす山のなかまたち（４）すてきなプレゼント絵本K：こどもの本むかいはつこ文芸社",1,{"$f":"VLOOKUP(\"*\"&目次加工!$B$2&\"*\",J1576:K1576,2,0)","v":1},{"$error":"#N/A"}]
[null,null,null,{"$f":"分類順!A1576","v":"ひねもす山のなかまたち（１）お日さまの音"},{"$f":"分類順!B1576","v":"絵本"},{"$f":"分類順!C1576","v":"K：こどもの本"},{"$f":"分類順!D1576","v":"むかいはつこ"},{"$f":"分類順!E1576","v":"文芸社"},{"$f":"分類順!F1576","v":20922},"ひねもす山のなかまたち（１）お日さまの音絵本K：こどもの本むかいはつこ文芸社",1,{"$f":"VLOOKUP(\"*\"&目次加工!$B$2&\"*\",J1577:K1577,2,0)","v":1},{"$error":"#N/A"}]
[null,null,null,{"$f":"分類順!A1577","v":"ひねもす山のなかまたち（６）ドッカンさまがやってきた"},{"$f":"分類順!B1577","v":"絵本"},{"$f":"分類順!C1577","v":"K：こどもの本"},{"$f":"分類順!D1577","v":"むかいはつこ"},{"$f":"分類順!E1577","v":"文芸社"},{"$f":"分類順!F1577","v":20923},"ひねもす山のなかまたち（６）ドッカンさまがやってきた絵本K：こどもの本むかいはつこ文芸社",1,{"$f":"VLOOKUP(\"*\"&目次加工!$B$2&\"*\",J1578:K1578,2,0)","v":1},{"$error":"#N/A"}]
[null,null,null,{"$f":"分類順!A1578","v":"ももいろのきりん"},{"$f":"分類順!B1578","v":"絵本"},{"$f":"分類順!C1578","v":"K：こどもの本"},{"$f":"分類順!D1578","v":"中川季枝子"},{"$f":"分類順!E1578","v":"福音館書店"},{"$f":"分類順!F1578","v":20924},"ももいろのきりん絵本K：こどもの本中川季枝子福音館書店",1,{"$f":"VLOOKUP(\"*\"&目次加工!$B$2&\"*\",J1579:K1579,2,0)","v":1},{"$error":"#N/A"}]
[null,null,null,{"$f":"分類順!A1579","v":"学研の図鑑　植物"},{"$f":"分類順!B1579","v":"絵本"},{"$f":"分類順!C1579","v":"K：こどもの本"},{"$f":"分類順!D1579","v":"大場達之"},{"$f":"分類順!E1579","v":"学習研究社"},{"$f":"分類順!F1579","v":20930},"学研の図鑑　植物絵本K：こどもの本大場達之学習研究社",1,{"$f":"VLOOKUP(\"*\"&目次加工!$B$2&\"*\",J1580:K1580,2,0)","v":1},{"$error":"#N/A"}]
[null,null,null,{"$f":"分類順!A1580","v":"サンタクロースがすねちゃった"},{"$f":"分類順!B1580","v":"絵本"},{"$f":"分類順!C1580","v":"K：こどもの本"},{"$f":"分類順!D1580","v":"ウテ・クラウゼ"},{"$f":"分類順!E1580","v":"佑学社"},{"$f":"分類順!F1580","v":20932},"サンタクロースがすねちゃった絵本K：こどもの本ウテ・クラウゼ佑学社",1,{"$f":"VLOOKUP(\"*\"&目次加工!$B$2&\"*\",J1581:K1581,2,0)","v":1},{"$error":"#N/A"}]
[null,null,null,{"$f":"分類順!A1581","v":"薬が届くまで　ここが知りたい！"},{"$f":"分類順!B1581","v":"医療の本"},{"$f":"分類順!C1581","v":"K：こどもの本"},{"$f":"分類順!D1581","v":"文春まんが"},{"$f":"分類順!E1581","v":"文藝春秋"},{"$f":"分類順!F1581","v":20933},"薬が届くまで　ここが知りたい！医療の本K：こどもの本文春まんが文藝春秋",1,{"$f":"VLOOKUP(\"*\"&目次加工!$B$2&\"*\",J1582:K1582,2,0)","v":1},{"$error":"#N/A"}]
[null,null,null,{"$f":"分類順!A1582","v":"モンジュイックのふうくろう"},{"$f":"分類順!B1582","v":"絵本"},{"$f":"分類順!C1582","v":"K：こどもの本"},{"$f":"分類順!D1582","v":"さえぐさひろこ"},{"$f":"分類順!E1582","v":"ブックローン出版"},{"$f":"分類順!F1582","v":20934},"モンジュイックのふうくろう絵本K：こどもの本さえぐさひろこブックローン出版",1,{"$f":"VLOOKUP(\"*\"&目次加工!$B$2&\"*\",J1583:K1583,2,0)","v":1},{"$error":"#N/A"}]
[null,null,null,{"$f":"分類順!A1583","v":"３さいからのあそべるずかん　しんかんせん"},{"$f":"分類順!B1583","v":"絵本"},{"$f":"分類順!C1583","v":"K：こどもの本"},{"$f":"分類順!D1583","v":"小賀野　実"},{"$f":"分類順!E1583","v":"ひかりのくに"},{"$f":"分類順!F1583","v":20935},"３さいからのあそべるずかん　しんかんせん絵本K：こどもの本小賀野　実ひかりのくに",1,{"$f":"VLOOKUP(\"*\"&目次加工!$B$2&\"*\",J1584:K1584,2,0)","v":1},{"$error":"#N/A"}]
[null,null,null,{"$f":"分類順!A1584","v":"つづきの図書館"},{"$f":"分類順!B1584","v":"絵本"},{"$f":"分類順!C1584","v":"K：こどもの本"},{"$f":"分類順!D1584","v":"柏葉幸子"},{"$f":"分類順!E1584","v":"講談社"},{"$f":"分類順!F1584","v":20936},"つづきの図書館絵本K：こどもの本柏葉幸子講談社",1,{"$f":"VLOOKUP(\"*\"&目次加工!$B$2&\"*\",J1585:K1585,2,0)","v":1},{"$error":"#N/A"}]
[null,null,null,{"$f":"分類順!A1585","v":"ようこそ！ヘンテコ小学校"},{"$f":"分類順!B1585","v":"絵本"},{"$f":"分類順!C1585","v":"K：こどもの本"},{"$f":"分類順!D1585","v":"スギヤマカナヨ"},{"$f":"分類順!E1585","v":"角川書店"},{"$f":"分類順!F1585","v":20937},"ようこそ！ヘンテコ小学校絵本K：こどもの本スギヤマカナヨ角川書店",1,{"$f":"VLOOKUP(\"*\"&目次加工!$B$2&\"*\",J1586:K1586,2,0)","v":1},{"$error":"#N/A"}]
[null,null,null,{"$f":"分類順!A1586","v":"くまのがっこう"},{"$f":"分類順!B1586","v":"絵本"},{"$f":"分類順!C1586","v":"K：こどもの本"},{"$f":"分類順!D1586","v":"あいはらひろゆき"},{"$f":"分類順!E1586","v":"ブロンズ新社"},{"$f":"分類順!F1586","v":20938},"くまのがっこう絵本K：こどもの本あいはらひろゆきブロンズ新社",1,{"$f":"VLOOKUP(\"*\"&目次加工!$B$2&\"*\",J1587:K1587,2,0)","v":1},{"$error":"#N/A"}]
[null,null,null,{"$f":"分類順!A1587","v":"バルンくん"},{"$f":"分類順!B1587","v":"絵本"},{"$f":"分類順!C1587","v":"K：こどもの本"},{"$f":"分類順!D1587","v":"こもりまこと"},{"$f":"分類順!E1587","v":"福音館書店"},{"$f":"分類順!F1587","v":20939},"バルンくん絵本K：こどもの本こもりまこと福音館書店",1,{"$f":"VLOOKUP(\"*\"&目次加工!$B$2&\"*\",J1588:K1588,2,0)","v":1},{"$error":"#N/A"}]
[null,null,null,{"$f":"分類順!A1588","v":"わすれられないおくりもの"},{"$f":"分類順!B1588","v":"絵本"},{"$f":"分類順!C1588","v":"K：こどもの本"},{"$f":"分類順!D1588","v":"スーザン・バーレイ"},{"$f":"分類順!E1588","v":"評論社"},{"$f":"分類順!F1588","v":20940},"わすれられないおくりもの絵本K：こどもの本スーザン・バーレイ評論社",1,{"$f":"VLOOKUP(\"*\"&目次加工!$B$2&\"*\",J1589:K1589,2,0)","v":1},{"$error":"#N/A"}]
[null,null,null,{"$f":"分類順!A1589","v":"僕のナゼ、私のナゼ　　わたしたちはなぜうまれてきたの？"},{"$f":"分類順!B1589","v":"絵本"},{"$f":"分類順!C1589","v":"K：こどもの本"},{"$f":"分類順!D1589","v":"自遊空間ゼロ"},{"$f":"分類順!E1589","v":"編集工房ＤＥＰ"},{"$f":"分類順!F1589","v":20941},"僕のナゼ、私のナゼ　　わたしたちはなぜうまれてきたの？絵本K：こどもの本自遊空間ゼロ編集工房ＤＥＰ",1,{"$f":"VLOOKUP(\"*\"&目次加工!$B$2&\"*\",J1590:K1590,2,0)","v":1},{"$error":"#N/A"}]
[null,null,null,{"$f":"分類順!A1590","v":"マシュー先生とゆかいなヒルトップ病院01　ゾウのバーチュー、お兄ちゃんになる"},{"$f":"分類順!B1590","v":"絵本"},{"$f":"分類順!C1590","v":"K：こどもの本"},{"$f":"分類順!D1590","v":"ニコラス・アラン"},{"$f":"分類順!E1590","v":"偕成社"},{"$f":"分類順!F1590","v":20942},"マシュー先生とゆかいなヒルトップ病院01　ゾウのバーチュー、お兄ちゃんになる絵本K：こどもの本ニコラス・アラン偕成社",1,{"$f":"VLOOKUP(\"*\"&目次加工!$B$2&\"*\",J1591:K1591,2,0)","v":1},1]
[null,null,null,{"$f":"分類順!A1591","v":"マシュー先生とゆかいなヒルトップ病院02　ムカデのシリルは名かんとく"},{"$f":"分類順!B1591","v":"絵本"},{"$f":"分類順!C1591","v":"K：こどもの本"},{"$f":"分類順!D1591","v":"ニコラス・アラン"},{"$f":"分類順!E1591","v":"偕成社"},{"$f":"分類順!F1591","v":20943},"マシュー先生とゆかいなヒルトップ病院02　ムカデのシリルは名かんとく絵本K：こどもの本ニコラス・アラン偕成社",1,{"$f":"VLOOKUP(\"*\"&目次加工!$B$2&\"*\",J1592:K1592,2,0)","v":1},1]
[null,null,null,{"$f":"分類順!A1592","v":"マシュー先生とゆかいなヒルトップ病院03　コウモリのルビィに愛の手を"},{"$f":"分類順!B1592","v":"絵本"},{"$f":"分類順!C1592","v":"K：こどもの本"},{"$f":"分類順!D1592","v":"ニコラス・アラン"},{"$f":"分類順!E1592","v":"偕成社"},{"$f":"分類順!F1592","v":20944},"マシュー先生とゆかいなヒルトップ病院03　コウモリのルビィに愛の手を絵本K：こどもの本ニコラス・アラン偕成社",1,{"$f":"VLOOKUP(\"*\"&目次加工!$B$2&\"*\",J1593:K1593,2,0)","v":1},1]
[null,null,null,{"$f":"分類順!A1593","v":"マシュー先生とゆかいなヒルトップ病院04　３びきの子ブタとさびしがりやのオオカミ"},{"$f":"分類順!B1593","v":"絵本"},{"$f":"分類順!C1593","v":"K：こどもの本"},{"$f":"分類順!D1593","v":"ニコラス・アラン"},{"$f":"分類順!E1593","v":"偕成社"},{"$f":"分類順!F1593","v":20945},"マシュー先生とゆかいなヒルトップ病院04　３びきの子ブタとさびしがりやのオオカミ絵本K：こどもの本ニコラス・アラン偕成社",1,{"$f":"VLOOKUP(\"*\"&目次加工!$B$2&\"*\",J1594:K1594,2,0)","v":1},1]
[null,null,null,{"$f":"分類順!A1594","v":"マシュー先生とゆかいなヒルトップ病院05　勇気をだして！カモのデリク"},{"$f":"分類順!B1594","v":"絵本"},{"$f":"分類順!C1594","v":"K：こどもの本"},{"$f":"分類順!D1594","v":"ニコラス・アラン"},{"$f":"分類順!E1594","v":"偕成社"},{"$f":"分類順!F1594","v":20946},"マシュー先生とゆかいなヒルトップ病院05　勇気をだして！カモのデリク絵本K：こどもの本ニコラス・アラン偕成社",1,{"$f":"VLOOKUP(\"*\"&目次加工!$B$2&\"*\",J1595:K1595,2,0)","v":1},1]
[null,null,null,{"$f":"分類順!A1595","v":"マシュー先生とゆかいなヒルトップ病院06　パメラとじまんの髪"},{"$f":"分類順!B1595","v":"絵本"},{"$f":"分類順!C1595","v":"K：こどもの本"},{"$f":"分類順!D1595","v":"ニコラス・アラン"},{"$f":"分類順!E1595","v":"偕成社"},{"$f":"分類順!F1595","v":20947},"マシュー先生とゆかいなヒルトップ病院06　パメラとじまんの髪絵本K：こどもの本ニコラス・アラン偕成社",1,{"$f":"VLOOKUP(\"*\"&目次加工!$B$2&\"*\",J1596:K1596,2,0)","v":1},1]
[null,null,null,{"$f":"分類順!A1596","v":"マシュー先生とゆかいなヒルトップ病院07　子ザルのマイーティンは絵の天才！？"},{"$f":"分類順!B1596","v":"絵本"},{"$f":"分類順!C1596","v":"K：こどもの本"},{"$f":"分類順!D1596","v":"ニコラス・アラン"},{"$f":"分類順!E1596","v":"偕成社"},{"$f":"分類順!F1596","v":20948},"マシュー先生とゆかいなヒルトップ病院07　子ザルのマイーティンは絵の天才！？絵本K：こどもの本ニコラス・アラン偕成社",1,{"$f":"VLOOKUP(\"*\"&目次加工!$B$2&\"*\",J1597:K1597,2,0)","v":1},1]
[null,null,null,{"$f":"分類順!A1597","v":"マシュー先生とゆかいなヒルトップ病院08　ヒルトップのクリスマス"},{"$f":"分類順!B1597","v":"絵本"},{"$f":"分類順!C1597","v":"K：こどもの本"},{"$f":"分類順!D1597","v":"ニコラス・アラン"},{"$f":"分類順!E1597","v":"偕成社"},{"$f":"分類順!F1597","v":20949},"マシュー先生とゆかいなヒルトップ病院08　ヒルトップのクリスマス絵本K：こどもの本ニコラス・アラン偕成社",1,{"$f":"VLOOKUP(\"*\"&目次加工!$B$2&\"*\",J1598:K1598,2,0)","v":1},1]
[null,null,null,{"$f":"分類順!A1598","v":"マシュー先生とゆかいなヒルトップ病院09　マシュー先生とお兄さん"},{"$f":"分類順!B1598","v":"絵本"},{"$f":"分類順!C1598","v":"K：こどもの本"},{"$f":"分類順!D1598","v":"ニコラス・アラン"},{"$f":"分類順!E1598","v":"偕成社"},{"$f":"分類順!F1598","v":20950},"マシュー先生とゆかいなヒルトップ病院09　マシュー先生とお兄さん絵本K：こどもの本ニコラス・アラン偕成社",1,{"$f":"VLOOKUP(\"*\"&目次加工!$B$2&\"*\",J1599:K1599,2,0)","v":1},1]
[null,null,null,{"$f":"分類順!A1599","v":"マシュー先生とゆかいなヒルトップ病院10　カメのおばあちゃんのさいごのしごと"},{"$f":"分類順!B1599","v":"絵本"},{"$f":"分類順!C1599","v":"K：こどもの本"},{"$f":"分類順!D1599","v":"ニコラス・アラン"},{"$f":"分類順!E1599","v":"偕成社"},{"$f":"分類順!F1599","v":20951},"マシュー先生とゆかいなヒルトップ病院10　カメのおばあちゃんのさいごのしごと絵本K：こどもの本ニコラス・アラン偕成社",1,{"$f":"VLOOKUP(\"*\"&目次加工!$B$2&\"*\",J1600:K1600,2,0)","v":1},1]
[null,null,null,{"$f":"分類順!A1600","v":"道具と機械の本"},{"$f":"分類順!B1600","v":"絵本"},{"$f":"分類順!C1600","v":"K：こどもの本"},{"$f":"分類順!D1600","v":"デビッド・マコーレイ"},{"$f":"分類順!E1600","v":"岩波書店"},{"$f":"分類順!F1600","v":20952},"道具と機械の本絵本K：こどもの本デビッド・マコーレイ岩波書店",1,{"$f":"VLOOKUP(\"*\"&目次加工!$B$2&\"*\",J1601:K1601,2,0)","v":1},{"$error":"#N/A"}]
[null,null,null,{"$f":"分類順!A1601","v":"ネコ博士が語る　科学の不思議"},{"$f":"分類順!B1601","v":"絵本"},{"$f":"分類順!C1601","v":"K：こどもの本"},{"$f":"分類順!D1601","v":"ドミニク・ウォーリマン"},{"$f":"分類順!E1601","v":"徳間書店"},{"$f":"分類順!F1601","v":20953},"ネコ博士が語る　科学の不思議絵本K：こどもの本ドミニク・ウォーリマン徳間書店",1,{"$f":"VLOOKUP(\"*\"&目次加工!$B$2&\"*\",J1602:K1602,2,0)","v":1},{"$error":"#N/A"}]
[null,null,null,{"$f":"分類順!A1602","v":"ニューワイド学研の図鑑　鳥　増補改訂版"},{"$f":"分類順!B1602","v":"絵本"},{"$f":"分類順!C1602","v":"K：こどもの本"},{"$f":"分類順!D1602","v":"小宮輝之　監修"},{"$f":"分類順!E1602","v":"学研"},{"$f":"分類順!F1602","v":20954},"ニューワイド学研の図鑑　鳥　増補改訂版絵本K：こどもの本小宮輝之　監修学研",1,{"$f":"VLOOKUP(\"*\"&目次加工!$B$2&\"*\",J1603:K1603,2,0)","v":1},{"$error":"#N/A"}]
[null,null,null,{"$f":"分類順!A1603","v":"ニューワイド学研の図鑑　花"},{"$f":"分類順!B1603","v":"絵本"},{"$f":"分類順!C1603","v":"K：こどもの本"},{"$f":"分類順!D1603","v":"千谷順一郎　監修"},{"$f":"分類順!E1603","v":"学研"},{"$f":"分類順!F1603","v":20955},"ニューワイド学研の図鑑　花絵本K：こどもの本千谷順一郎　監修学研",1,{"$f":"VLOOKUP(\"*\"&目次加工!$B$2&\"*\",J1604:K1604,2,0)","v":1},{"$f":"VLOOKUP(\"*\"&$A$2&\"*\",J1604:K1604,2,0)","v":{"$error":"#N/A"}}]
[null,null,null,{"$f":"分類順!A1604","v":"ニューワイド学研の図鑑　魚　増補改訂版"},{"$f":"分類順!B1604","v":"絵本"},{"$f":"分類順!C1604","v":"K：こどもの本"},{"$f":"分類順!D1604","v":"沖山宗雄　監修"},{"$f":"分類順!E1604","v":"学研"},{"$f":"分類順!F1604","v":20956},"ニューワイド学研の図鑑　魚　増補改訂版絵本K：こどもの本沖山宗雄　監修学研",1,{"$f":"VLOOKUP(\"*\"&目次加工!$B$2&\"*\",J1605:K1605,2,0)","v":1},{"$error":"#N/A"}]
[null,null,null,{"$f":"分類順!A1605","v":"ニューワイド学研の図鑑　イヌ"},{"$f":"分類順!B1605","v":"絵本"},{"$f":"分類順!C1605","v":"K：こどもの本"},{"$f":"分類順!D1605","v":"社団法人ジャパンケネルクラブ　監修"},{"$f":"分類順!E1605","v":"学研"},{"$f":"分類順!F1605","v":20957},"ニューワイド学研の図鑑　イヌ絵本K：こどもの本社団法人ジャパンケネルクラブ　監修学研",1,{"$f":"VLOOKUP(\"*\"&目次加工!$B$2&\"*\",J1606:K1606,2,0)","v":1},{"$error":"#N/A"}]
[null,null,null,{"$f":"分類順!A1606","v":"ニューワイド学研の図鑑　鉄道・船　増補改訂版"},{"$f":"分類順!B1606","v":"絵本"},{"$f":"分類順!C1606","v":"K：こどもの本"},{"$f":"分類順!D1606","v":"原口隆行　山田廸生　監修"},{"$f":"分類順!E1606","v":"学研"},{"$f":"分類順!F1606","v":20958},"ニューワイド学研の図鑑　鉄道・船　増補改訂版絵本K：こどもの本原口隆行　山田廸生　監修学研",1,{"$f":"VLOOKUP(\"*\"&目次加工!$B$2&\"*\",J1607:K1607,2,0)","v":1},{"$error":"#N/A"}]
[null,null,null,{"$f":"分類順!A1607","v":"ニューワイド学研の図鑑　自動車・飛行機　増補改訂版"},{"$f":"分類順!B1607","v":"絵本"},{"$f":"分類順!C1607","v":"K：こどもの本"},{"$f":"分類順!D1607","v":"高島鎮雄　監修"},{"$f":"分類順!E1607","v":"学研"},{"$f":"分類順!F1607","v":20959},"ニューワイド学研の図鑑　自動車・飛行機　増補改訂版絵本K：こどもの本高島鎮雄　監修学研",1,{"$f":"VLOOKUP(\"*\"&目次加工!$B$2&\"*\",J1608:K1608,2,0)","v":1},{"$error":"#N/A"}]
[null,null,null,{"$f":"分類順!A1608","v":"ニューワイド学研の図鑑ｉ　なぜ？の図鑑"},{"$f":"分類順!B1608","v":"絵本"},{"$f":"分類順!C1608","v":"K：こどもの本"},{"$f":"分類順!D1608","v":"阿部和厚　他　監修"},{"$f":"分類順!E1608","v":"学研"},{"$f":"分類順!F1608","v":20960},"ニューワイド学研の図鑑ｉ　なぜ？の図鑑絵本K：こどもの本阿部和厚　他　監修学研",1,{"$f":"VLOOKUP(\"*\"&目次加工!$B$2&\"*\",J1609:K1609,2,0)","v":1},{"$error":"#N/A"}]
[null,null,null,{"$f":"分類順!A1609","v":"ニューワイド学研の図鑑ｉ　ひみつの図鑑"},{"$f":"分類順!B1609","v":"絵本"},{"$f":"分類順!C1609","v":"K：こどもの本"},{"$f":"分類順!D1609","v":"阿部和厚　他　監修"},{"$f":"分類順!E1609","v":"学研"},{"$f":"分類順!F1609","v":20961},"ニューワイド学研の図鑑ｉ　ひみつの図鑑絵本K：こどもの本阿部和厚　他　監修学研",1,{"$f":"VLOOKUP(\"*\"&目次加工!$B$2&\"*\",J1610:K1610,2,0)","v":1},{"$error":"#N/A"}]
[null,null,null,{"$f":"分類順!A1610","v":"こども図鑑プレＮＥＯ　かず・かたちの図鑑"},{"$f":"分類順!B1610","v":"絵本"},{"$f":"分類順!C1610","v":"K：こどもの本"},{"$f":"分類順!D1610","v":"黒澤俊二　監修"},{"$f":"分類順!E1610","v":"小学館"},{"$f":"分類順!F1610","v":20962},"こども図鑑プレＮＥＯ　かず・かたちの図鑑絵本K：こどもの本黒澤俊二　監修小学館",1,{"$f":"VLOOKUP(\"*\"&目次加工!$B$2&\"*\",J1611:K1611,2,0)","v":1},{"$error":"#N/A"}]
[null,null,null,{"$f":"分類順!A1611","v":"こども図鑑プレＮＥＯ　せいかつの図鑑"},{"$f":"分類順!B1611","v":"絵本"},{"$f":"分類順!C1611","v":"K：こどもの本"},{"$f":"分類順!D1611","v":"流田直　監修"},{"$f":"分類順!E1611","v":"小学館"},{"$f":"分類順!F1611","v":20963},"こども図鑑プレＮＥＯ　せいかつの図鑑絵本K：こどもの本流田直　監修小学館",1,{"$f":"VLOOKUP(\"*\"&目次加工!$B$2&\"*\",J1612:K1612,2,0)","v":1},{"$error":"#N/A"}]
[null,null,null,{"$f":"分類順!A1612","v":"こども図鑑プレＮＥＯ　よのなかの図鑑"},{"$f":"分類順!B1612","v":"絵本"},{"$f":"分類順!C1612","v":"K：こどもの本"},{"$f":"分類順!D1612","v":"寺本潔　監修"},{"$f":"分類順!E1612","v":"小学館"},{"$f":"分類順!F1612","v":20964},"こども図鑑プレＮＥＯ　よのなかの図鑑絵本K：こどもの本寺本潔　監修小学館",1,{"$f":"VLOOKUP(\"*\"&目次加工!$B$2&\"*\",J1613:K1613,2,0)","v":1},{"$error":"#N/A"}]
[null,null,null,{"$f":"分類順!A1613","v":"学研まんがＮＥＷ日本の歴史　1"},{"$f":"分類順!B1613","v":"絵本"},{"$f":"分類順!C1613","v":"K：こどもの本"},{"$f":"分類順!D1613","v":"大石学　監修"},{"$f":"分類順!E1613","v":"学研"},{"$f":"分類順!F1613","v":20965},"学研まんがＮＥＷ日本の歴史　1絵本K：こどもの本大石学　監修学研",1,{"$f":"VLOOKUP(\"*\"&目次加工!$B$2&\"*\",J1614:K1614,2,0)","v":1},{"$error":"#N/A"}]
[null,null,null,{"$f":"分類順!A1614","v":"学研まんがＮＥＷ日本の歴史　2"},{"$f":"分類順!B1614","v":"絵本"},{"$f":"分類順!C1614","v":"K：こどもの本"},{"$f":"分類順!D1614","v":"大石学　監修"},{"$f":"分類順!E1614","v":"学研"},{"$f":"分類順!F1614","v":20966},"学研まんがＮＥＷ日本の歴史　2絵本K：こどもの本大石学　監修学研",1,{"$f":"VLOOKUP(\"*\"&目次加工!$B$2&\"*\",J1615:K1615,2,0)","v":1},{"$error":"#N/A"}]
[null,null,null,{"$f":"分類順!A1615","v":"学研まんがＮＥＷ日本の歴史　3"},{"$f":"分類順!B1615","v":"絵本"},{"$f":"分類順!C1615","v":"K：こどもの本"},{"$f":"分類順!D1615","v":"大石学　監修"},{"$f":"分類順!E1615","v":"学研"},{"$f":"分類順!F1615","v":20967},"学研まんがＮＥＷ日本の歴史　3絵本K：こどもの本大石学　監修学研",1,{"$f":"VLOOKUP(\"*\"&目次加工!$B$2&\"*\",J1616:K1616,2,0)","v":1},{"$error":"#N/A"}]
[null,null,null,{"$f":"分類順!A1616","v":"学研まんがＮＥＷ日本の歴史　4"},{"$f":"分類順!B1616","v":"絵本"},{"$f":"分類順!C1616","v":"K：こどもの本"},{"$f":"分類順!D1616","v":"大石学　監修"},{"$f":"分類順!E1616","v":"学研"},{"$f":"分類順!F1616","v":20968},"学研まんがＮＥＷ日本の歴史　4絵本K：こどもの本大石学　監修学研",1,{"$f":"VLOOKUP(\"*\"&目次加工!$B$2&\"*\",J1617:K1617,2,0)","v":1},{"$error":"#N/A"}]
[null,null,null,{"$f":"分類順!A1617","v":"学研まんがＮＥＷ日本の歴史　5"},{"$f":"分類順!B1617","v":"絵本"},{"$f":"分類順!C1617","v":"K：こどもの本"},{"$f":"分類順!D1617","v":"大石学　監修"},{"$f":"分類順!E1617","v":"学研"},{"$f":"分類順!F1617","v":20969},"学研まんがＮＥＷ日本の歴史　5絵本K：こどもの本大石学　監修学研",1,{"$f":"VLOOKUP(\"*\"&目次加工!$B$2&\"*\",J1618:K1618,2,0)","v":1},{"$error":"#N/A"}]
[null,null,null,{"$f":"分類順!A1618","v":"学研まんがＮＥＷ日本の歴史　6"},{"$f":"分類順!B1618","v":"絵本"},{"$f":"分類順!C1618","v":"K：こどもの本"},{"$f":"分類順!D1618","v":"大石学　監修"},{"$f":"分類順!E1618","v":"学研"},{"$f":"分類順!F1618","v":20970},{"$f":"D1619&E1619&F1619&G1619&H1619","v":"学研まんがＮＥＷ日本の歴史　6絵本K：こどもの本大石学　監修学研"},1,{"$f":"VLOOKUP(\"*\"&目次加工!$B$2&\"*\",J1619:K1619,2,0)","v":1},{"$error":"#N/A"}]
[null,null,null,{"$f":"分類順!A1619","v":"学研まんがＮＥＷ日本の歴史　7"},{"$f":"分類順!B1619","v":"絵本"},{"$f":"分類順!C1619","v":"K：こどもの本"},{"$f":"分類順!D1619","v":"大石学　監修"},{"$f":"分類順!E1619","v":"学研"},{"$f":"分類順!F1619","v":20971},"学研まんがＮＥＷ日本の歴史　7絵本K：こどもの本大石学　監修学研",1,{"$f":"VLOOKUP(\"*\"&目次加工!$B$2&\"*\",J1620:K1620,2,0)","v":1},{"$error":"#N/A"}]
[null,null,null,{"$f":"分類順!A1620","v":"学研まんがＮＥＷ日本の歴史　8"},{"$f":"分類順!B1620","v":"絵本"},{"$f":"分類順!C1620","v":"K：こどもの本"},{"$f":"分類順!D1620","v":"大石学　監修"},{"$f":"分類順!E1620","v":"学研"},{"$f":"分類順!F1620","v":20972},"学研まんがＮＥＷ日本の歴史　8絵本K：こどもの本大石学　監修学研",1,{"$f":"VLOOKUP(\"*\"&目次加工!$B$2&\"*\",J1621:K1621,2,0)","v":1},{"$error":"#N/A"}]
[null,null,null,{"$f":"分類順!A1621","v":"学研まんがＮＥＷ日本の歴史　9"},{"$f":"分類順!B1621","v":"絵本"},{"$f":"分類順!C1621","v":"K：こどもの本"},{"$f":"分類順!D1621","v":"大石学　監修"},{"$f":"分類順!E1621","v":"学研"},{"$f":"分類順!F1621","v":20973},"学研まんがＮＥＷ日本の歴史　9絵本K：こどもの本大石学　監修学研",1,{"$f":"VLOOKUP(\"*\"&目次加工!$B$2&\"*\",J1622:K1622,2,0)","v":1},{"$error":"#N/A"}]
[null,null,null,{"$f":"分類順!A1622","v":"学研まんがＮＥＷ日本の歴史　10"},{"$f":"分類順!B1622","v":"絵本"},{"$f":"分類順!C1622","v":"K：こどもの本"},{"$f":"分類順!D1622","v":"大石学　監修"},{"$f":"分類順!E1622","v":"学研"},{"$f":"分類順!F1622","v":20974},"学研まんがＮＥＷ日本の歴史　10絵本K：こどもの本大石学　監修学研",1,{"$f":"VLOOKUP(\"*\"&目次加工!$B$2&\"*\",J1623:K1623,2,0)","v":1},1]
[null,null,null,{"$f":"分類順!A1623","v":"学研まんがＮＥＷ日本の歴史　11"},{"$f":"分類順!B1623","v":"絵本"},{"$f":"分類順!C1623","v":"K：こどもの本"},{"$f":"分類順!D1623","v":"大石学　監修"},{"$f":"分類順!E1623","v":"学研"},{"$f":"分類順!F1623","v":20975},"学研まんがＮＥＷ日本の歴史　11絵本K：こどもの本大石学　監修学研",1,{"$f":"VLOOKUP(\"*\"&目次加工!$B$2&\"*\",J1624:K1624,2,0)","v":1},{"$error":"#N/A"}]
[null,null,null,{"$f":"分類順!A1624","v":"学研まんがＮＥＷ日本の歴史　12"},{"$f":"分類順!B1624","v":"絵本"},{"$f":"分類順!C1624","v":"K：こどもの本"},{"$f":"分類順!D1624","v":"大石学　監修"},{"$f":"分類順!E1624","v":"学研"},{"$f":"分類順!F1624","v":20976},"学研まんがＮＥＷ日本の歴史　12絵本K：こどもの本大石学　監修学研",1,{"$f":"VLOOKUP(\"*\"&目次加工!$B$2&\"*\",J1625:K1625,2,0)","v":1},{"$error":"#N/A"}]
[null,null,null,{"$f":"分類順!A1625","v":"学研まんがＮＥＷ日本の歴史　別巻　人物学習事典"},{"$f":"分類順!B1625","v":"絵本"},{"$f":"分類順!C1625","v":"K：こどもの本"},{"$f":"分類順!D1625","v":"大石学　監修"},{"$f":"分類順!E1625","v":"学研"},{"$f":"分類順!F1625","v":20977},"学研まんがＮＥＷ日本の歴史　別巻　人物学習事典絵本K：こどもの本大石学　監修学研",1,{"$f":"VLOOKUP(\"*\"&目次加工!$B$2&\"*\",J1626:K1626,2,0)","v":1},{"$error":"#N/A"}]
[null,null,null,{"$f":"分類順!A1626","v":"学研まんがＮＥＷ日本の歴史　別巻　文化遺産学習事典"},{"$f":"分類順!B1626","v":"絵本"},{"$f":"分類順!C1626","v":"K：こどもの本"},{"$f":"分類順!D1626","v":"大石学　監修"},{"$f":"分類順!E1626","v":"学研"},{"$f":"分類順!F1626","v":20978},"学研まんがＮＥＷ日本の歴史　別巻　文化遺産学習事典絵本K：こどもの本大石学　監修学研",1,{"$f":"VLOOKUP(\"*\"&目次加工!$B$2&\"*\",J1627:K1627,2,0)","v":1},{"$error":"#N/A"}]
[null,null,null,{"$f":"分類順!A1627","v":"新13歳のハローワーク"},{"$f":"分類順!B1627","v":"絵本"},{"$f":"分類順!C1627","v":"K：こどもの本"},{"$f":"分類順!D1627","v":"村上龍"},{"$f":"分類順!E1627","v":"幻冬舎"},{"$f":"分類順!F1627","v":20979},"新13歳のハローワーク絵本K：こどもの本村上龍幻冬舎",1,{"$f":"VLOOKUP(\"*\"&目次加工!$B$2&\"*\",J1628:K1628,2,0)","v":1},{"$error":"#N/A"}]
[null,null,null,{"$f":"分類順!A1628","v":"１０にんのゆかいな　ひっこし"},{"$f":"分類順!B1628","v":"絵本"},{"$f":"分類順!C1628","v":"K：こどもの本"},{"$f":"分類順!D1628","v":"安野光雅"},{"$f":"分類順!E1628","v":"童話屋"},{"$f":"分類順!F1628","v":20980},"１０にんのゆかいな　ひっこし絵本K：こどもの本安野光雅童話屋",1,{"$f":"VLOOKUP(\"*\"&目次加工!$B$2&\"*\",J1629:K1629,2,0)","v":1},{"$error":"#N/A"}]
[null,null,null,{"$f":"分類順!A1629","v":"えほん　いのちのあさがお"},{"$f":"分類順!B1629","v":"絵本"},{"$f":"分類順!C1629","v":"K：こどもの本"},{"$f":"分類順!D1629","v":"あやのまさる"},{"$f":"分類順!E1629","v":"ハート出版"},{"$f":"分類順!F1629","v":20981},"えほん　いのちのあさがお絵本K：こどもの本あやのまさるハート出版",1,{"$f":"VLOOKUP(\"*\"&目次加工!$B$2&\"*\",J1630:K1630,2,0)","v":1},{"$error":"#N/A"}]
[null,null,null,{"$f":"分類順!A1630","v":"ももたろう・こぶとり"},{"$f":"分類順!B1630","v":"絵本"},{"$f":"分類順!C1630","v":"K：こどもの本"},{"$f":"分類順!D1630","v":"松谷みよ子"},{"$f":"分類順!E1630","v":"講談社"},{"$f":"分類順!F1630","v":20982},"ももたろう・こぶとり絵本K：こどもの本松谷みよ子講談社",1,{"$f":"VLOOKUP(\"*\"&目次加工!$B$2&\"*\",J1631:K1631,2,0)","v":1},{"$error":"#N/A"}]
[null,null,null,{"$f":"分類順!A1631","v":"かちかちやま・したきりすずめ"},{"$f":"分類順!B1631","v":"絵本"},{"$f":"分類順!C1631","v":"K：こどもの本"},{"$f":"分類順!D1631","v":"松谷みよ子"},{"$f":"分類順!E1631","v":"講談社"},{"$f":"分類順!F1631","v":20983},"かちかちやま・したきりすずめ絵本K：こどもの本松谷みよ子講談社",1,{"$f":"VLOOKUP(\"*\"&目次加工!$B$2&\"*\",J1632:K1632,2,0)","v":1},{"$error":"#N/A"}]
[null,null,null,{"$f":"分類順!A1632","v":"はなさかじい・たべられたやまんば"},{"$f":"分類順!B1632","v":"絵本"},{"$f":"分類順!C1632","v":"K：こどもの本"},{"$f":"分類順!D1632","v":"松谷みよ子"},{"$f":"分類順!E1632","v":"講談社"},{"$f":"分類順!F1632","v":20984},"はなさかじい・たべられたやまんば絵本K：こどもの本松谷みよ子講談社",1,{"$f":"VLOOKUP(\"*\"&目次加工!$B$2&\"*\",J1633:K1633,2,0)","v":1},{"$error":"#N/A"}]
[null,null,null,{"$f":"分類順!A1633","v":"おむすびころりん・うらしまたろう"},{"$f":"分類順!B1633","v":"絵本"},{"$f":"分類順!C1633","v":"K：こどもの本"},{"$f":"分類順!D1633","v":"松谷みよ子"},{"$f":"分類順!E1633","v":"講談社"},{"$f":"分類順!F1633","v":20985},"おむすびころりん・うらしまたろう絵本K：こどもの本松谷みよ子講談社",1,{"$f":"VLOOKUP(\"*\"&目次加工!$B$2&\"*\",J1634:K1634,2,0)","v":1},{"$error":"#N/A"}]
[null,null,null,{"$f":"分類順!A1634","v":"さるかに・天からおちたげんごろう"},{"$f":"分類順!B1634","v":"絵本"},{"$f":"分類順!C1634","v":"K：こどもの本"},{"$f":"分類順!D1634","v":"松谷みよ子"},{"$f":"分類順!E1634","v":"講談社"},{"$f":"分類順!F1634","v":20986},"さるかに・天からおちたげんごろう絵本K：こどもの本松谷みよ子講談社",1,{"$f":"VLOOKUP(\"*\"&目次加工!$B$2&\"*\",J1635:K1635,2,0)","v":1},{"$error":"#N/A"}]
[null,null,null,{"$f":"分類順!A1635","v":"つるのよめさま・かさじぞう・ごはんのむしぼし"},{"$f":"分類順!B1635","v":"絵本"},{"$f":"分類順!C1635","v":"K：こどもの本"},{"$f":"分類順!D1635","v":"松谷みよ子"},{"$f":"分類順!E1635","v":"講談社"},{"$f":"分類順!F1635","v":20987},"つるのよめさま・かさじぞう・ごはんのむしぼし絵本K：こどもの本松谷みよ子講談社",1,{"$f":"VLOOKUP(\"*\"&目次加工!$B$2&\"*\",J1636:K1636,2,0)","v":1},{"$error":"#N/A"}]
[null,null,null,{"$f":"分類順!A1636","v":"よぶこどり・てぶくろをかいに"},{"$f":"分類順!B1636","v":"絵本"},{"$f":"分類順!C1636","v":"K：こどもの本"},{"$f":"分類順!D1636","v":"浜田廣介　新美南吉"},{"$f":"分類順!E1636","v":"講談社"},{"$f":"分類順!F1636","v":20988},"よぶこどり・てぶくろをかいに絵本K：こどもの本浜田廣介　新美南吉講談社",1,{"$f":"VLOOKUP(\"*\"&目次加工!$B$2&\"*\",J1637:K1637,2,0)","v":1},{"$error":"#N/A"}]
[null,null,null,{"$f":"分類順!A1637","v":"きつねとぶどう・注文のおおい料理店"},{"$f":"分類順!B1637","v":"絵本"},{"$f":"分類順!C1637","v":"K：こどもの本"},{"$f":"分類順!D1637","v":"坪田譲二　宮沢賢治"},{"$f":"分類順!E1637","v":"講談社"},{"$f":"分類順!F1637","v":20989},"きつねとぶどう・注文のおおい料理店絵本K：こどもの本坪田譲二　宮沢賢治講談社",1,{"$f":"VLOOKUP(\"*\"&目次加工!$B$2&\"*\",J1638:K1638,2,0)","v":1},{"$error":"#N/A"}]
[null,null,null,{"$f":"分類順!A1638","v":"イソップ童話"},{"$f":"分類順!B1638","v":"絵本"},{"$f":"分類順!C1638","v":"K：こどもの本"},{"$f":"分類順!D1638","v":"角野栄子"},{"$f":"分類順!E1638","v":"講談社"},{"$f":"分類順!F1638","v":20990},"イソップ童話絵本K：こどもの本角野栄子講談社",1,{"$f":"VLOOKUP(\"*\"&目次加工!$B$2&\"*\",J1639:K1639,2,0)","v":1},{"$error":"#N/A"}]
[null,null,null,{"$f":"分類順!A1639","v":"シンデレラ・ながぐつをはいたねこ"},{"$f":"分類順!B1639","v":"絵本"},{"$f":"分類順!C1639","v":"K：こどもの本"},{"$f":"分類順!D1639","v":"山下明生"},{"$f":"分類順!E1639","v":"講談社"},{"$f":"分類順!F1639","v":20991},"シンデレラ・ながぐつをはいたねこ絵本K：こどもの本山下明生講談社",1,{"$f":"VLOOKUP(\"*\"&目次加工!$B$2&\"*\",J1640:K1640,2,0)","v":1},{"$error":"#N/A"}]
[null,null,null,{"$f":"分類順!A1640","v":"赤ずきん・ヘンゼルとグレーテル"},{"$f":"分類順!B1640","v":"絵本"},{"$f":"分類順!C1640","v":"K：こどもの本"},{"$f":"分類順!D1640","v":"ささきたづこ"},{"$f":"分類順!E1640","v":"講談社"},{"$f":"分類順!F1640","v":20992},"赤ずきん・ヘンゼルとグレーテル絵本K：こどもの本ささきたづこ講談社",1,{"$f":"VLOOKUP(\"*\"&目次加工!$B$2&\"*\",J1641:K1641,2,0)","v":1},{"$error":"#N/A"}]
[null,null,null,{"$f":"分類順!A1641","v":"みにくいあひるの子・おやゆびひめ"},{"$f":"分類順!B1641","v":"絵本"},{"$f":"分類順!C1641","v":"K：こどもの本"},{"$f":"分類順!D1641","v":"立原えりか"},{"$f":"分類順!E1641","v":"講談社"},{"$f":"分類順!F1641","v":20993},"みにくいあひるの子・おやゆびひめ絵本K：こどもの本立原えりか講談社",1,{"$f":"VLOOKUP(\"*\"&目次加工!$B$2&\"*\",J1642:K1642,2,0)","v":1},{"$error":"#N/A"}]
[null,null,null,{"$f":"分類順!A1642","v":"マッチうりの少女・はだかの王さま・イーダちゃんの花"},{"$f":"分類順!B1642","v":"絵本"},{"$f":"分類順!C1642","v":"K：こどもの本"},{"$f":"分類順!D1642","v":"立原えりか"},{"$f":"分類順!E1642","v":"講談社"},{"$f":"分類順!F1642","v":20994},"マッチうりの少女・はだかの王さま・イーダちゃんの花絵本K：こどもの本立原えりか講談社",1,{"$f":"VLOOKUP(\"*\"&目次加工!$B$2&\"*\",J1643:K1643,2,0)","v":1},{"$error":"#N/A"}]
[null,null,null,{"$f":"分類順!A1643","v":"三びきのくま・ジャックとまめの木"},{"$f":"分類順!B1643","v":"絵本"},{"$f":"分類順!C1643","v":"K：こどもの本"},{"$f":"分類順!D1643","v":"渡辺茂男"},{"$f":"分類順!E1643","v":"講談社"},{"$f":"分類順!F1643","v":20995},"三びきのくま・ジャックとまめの木絵本K：こどもの本渡辺茂男講談社",1,{"$f":"VLOOKUP(\"*\"&目次加工!$B$2&\"*\",J1644:K1644,2,0)","v":1},{"$error":"#N/A"}]
[null,null,null,{"$f":"分類順!A1644","v":"ころころまるパン・マーシャとくま・やぎのブルーセ"},{"$f":"分類順!B1644","v":"絵本"},{"$f":"分類順!C1644","v":"K：こどもの本"},{"$f":"分類順!D1644","v":"松谷さやか　山内清子"},{"$f":"分類順!E1644","v":"講談社"},{"$f":"分類順!F1644","v":20996},"ころころまるパン・マーシャとくま・やぎのブルーセ絵本K：こどもの本松谷さやか　山内清子講談社",1,{"$f":"VLOOKUP(\"*\"&目次加工!$B$2&\"*\",J1645:K1645,2,0)","v":1},{"$error":"#N/A"}]
[null,null,null,{"$f":"分類順!A1645","v":"ゆうかんな十人のきょうだい・かみさまになりそこねたサンダル"},{"$f":"分類順!B1645","v":"絵本"},{"$f":"分類順!C1645","v":"K：こどもの本"},{"$f":"分類順!D1645","v":"君島久子"},{"$f":"分類順!E1645","v":"講談社"},{"$f":"分類順!F1645","v":20997},"ゆうかんな十人のきょうだい・かみさまになりそこねたサンダル絵本K：こどもの本君島久子講談社",1,{"$f":"VLOOKUP(\"*\"&目次加工!$B$2&\"*\",J1646:K1646,2,0)","v":1},{"$error":"#N/A"}]
[null,null,null,{"$f":"分類順!A1646","v":"どうぶつなぜなぜばなし"},{"$f":"分類順!B1646","v":"絵本"},{"$f":"分類順!C1646","v":"K：こどもの本"},{"$f":"分類順!D1646","v":"河野一郎"},{"$f":"分類順!E1646","v":"講談社"},{"$f":"分類順!F1646","v":20998},"どうぶつなぜなぜばなし絵本K：こどもの本河野一郎講談社",1,{"$f":"VLOOKUP(\"*\"&目次加工!$B$2&\"*\",J1647:K1647,2,0)","v":1},{"$error":"#N/A"}]
[null,null,null,{"$f":"分類順!A1647","v":"王さまの耳はろばの耳　くいしんぼうのねずみ"},{"$f":"分類順!B1647","v":"絵本"},{"$f":"分類順!C1647","v":"K：こどもの本"},{"$f":"分類順!D1647","v":"八百坂洋子　山内清子"},{"$f":"分類順!E1647","v":"講談社"},{"$f":"分類順!F1647","v":20999},"王さまの耳はろばの耳　くいしんぼうのねずみ絵本K：こどもの本八百坂洋子　山内清子講談社",1,{"$f":"VLOOKUP(\"*\"&目次加工!$B$2&\"*\",J1648:K1648,2,0)","v":1},{"$error":"#N/A"}]
[null,null,null,{"$f":"分類順!A1648","v":"アンガスとあひる"},{"$f":"分類順!B1648","v":"絵本"},{"$f":"分類順!C1648","v":"K：こどもの本"},{"$f":"分類順!D1648","v":"マージョリー・フラック"},{"$f":"分類順!E1648","v":"福音館書店"},{"$f":"分類順!F1648","v":21000},"アンガスとあひる絵本K：こどもの本マージョリー・フラック福音館書店",1,{"$f":"VLOOKUP(\"*\"&目次加工!$B$2&\"*\",J1649:K1649,2,0)","v":1},{"$error":"#N/A"}]
[null,null,null,{"$f":"分類順!A1649","v":"しょうぼうじどうしゃ　じぷた"},{"$f":"分類順!B1649","v":"絵本"},{"$f":"分類順!C1649","v":"K：こどもの本"},{"$f":"分類順!D1649","v":"渡辺茂男"},{"$f":"分類順!E1649","v":"福音館書店"},{"$f":"分類順!F1649","v":21001},"しょうぼうじどうしゃ　じぷた絵本K：こどもの本渡辺茂男福音館書店",1,{"$f":"VLOOKUP(\"*\"&目次加工!$B$2&\"*\",J1650:K1650,2,0)","v":1},{"$error":"#N/A"}]
[null,null,null,{"$f":"分類順!A1650","v":"てるてるひめ"},{"$f":"分類順!B1650","v":"絵本"},{"$f":"分類順!C1650","v":"K：こどもの本"},{"$f":"分類順!D1650","v":"宇津木秀輔"},{"$f":"分類順!E1650","v":"新日本出版社"},{"$f":"分類順!F1650","v":21002},"てるてるひめ絵本K：こどもの本宇津木秀輔新日本出版社",1,{"$f":"VLOOKUP(\"*\"&目次加工!$B$2&\"*\",J1651:K1651,2,0)","v":1},{"$error":"#N/A"}]
[null,null,null,{"$f":"分類順!A1651","v":"やっばり　ノミタくん！"},{"$f":"分類順!B1651","v":"絵本"},{"$f":"分類順!C1651","v":"K：こどもの本"},{"$f":"分類順!D1651","v":"ヘレン・スティーヴンズ"},{"$f":"分類順!E1651","v":"評論社"},{"$f":"分類順!F1651","v":21003},"やっばり　ノミタくん！絵本K：こどもの本ヘレン・スティーヴンズ評論社",1,{"$f":"VLOOKUP(\"*\"&目次加工!$B$2&\"*\",J1652:K1652,2,0)","v":1},{"$error":"#N/A"}]
[null,null,null,{"$f":"分類順!A1652","v":"葉っぱのフレディ　いのちの旅"},{"$f":"分類順!B1652","v":"絵本"},{"$f":"分類順!C1652","v":"K：こどもの本"},{"$f":"分類順!D1652","v":"レオ・バスカーリア"},{"$f":"分類順!E1652","v":"童話屋"},{"$f":"分類順!F1652","v":21004},"葉っぱのフレディ　いのちの旅絵本K：こどもの本レオ・バスカーリア童話屋",1,{"$f":"VLOOKUP(\"*\"&目次加工!$B$2&\"*\",J1653:K1653,2,0)","v":1},{"$error":"#N/A"}]
[null,null,null,{"$f":"分類順!A1653","v":"ひまわり"},{"$f":"分類順!B1653","v":"絵本"},{"$f":"分類順!C1653","v":"K：こどもの本"},{"$f":"分類順!D1653","v":"荒井真紀"},{"$f":"分類順!E1653","v":"金の星社"},{"$f":"分類順!F1653","v":21005},"ひまわり絵本K：こどもの本荒井真紀金の星社",1,{"$f":"VLOOKUP(\"*\"&目次加工!$B$2&\"*\",J1654:K1654,2,0)","v":1},{"$error":"#N/A"}]
[null,null,null,{"$f":"分類順!A1654","v":"うでのいいくつや"},{"$f":"分類順!B1654","v":"絵本"},{"$f":"分類順!C1654","v":"K：こどもの本"},{"$f":"分類順!D1654","v":"くすのき　しげのり"},{"$f":"分類順!E1654","v":"フレーベル館"},{"$f":"分類順!F1654","v":21006},"うでのいいくつや絵本K：こどもの本くすのき　しげのりフレーベル館",1,{"$f":"VLOOKUP(\"*\"&目次加工!$B$2&\"*\",J1655:K1655,2,0)","v":1},{"$error":"#N/A"}]
[null,null,null,{"$f":"分類順!A1655","v":"はーい　ばーい"},{"$f":"分類順!B1655","v":"絵本"},{"$f":"分類順!C1655","v":"K：こどもの本"},{"$f":"分類順!D1655","v":"きしらまゆこ"},{"$f":"分類順!E1655","v":"フレーベル館"},{"$f":"分類順!F1655","v":21007},"はーい　ばーい絵本K：こどもの本きしらまゆこフレーベル館",1,{"$f":"VLOOKUP(\"*\"&目次加工!$B$2&\"*\",J1656:K1656,2,0)","v":1},{"$error":"#N/A"}]
[null,null,null,{"$f":"分類順!A1656","v":"八郎太郎"},{"$f":"分類順!B1656","v":"絵本"},{"$f":"分類順!C1656","v":"K：こどもの本"},{"$f":"分類順!D1656","v":"菊池敬一"},{"$f":"分類順!E1656","v":"小峰書店"},{"$f":"分類順!F1656","v":21008},"八郎太郎絵本K：こどもの本菊池敬一小峰書店",1,{"$f":"VLOOKUP(\"*\"&目次加工!$B$2&\"*\",J1657:K1657,2,0)","v":1},{"$error":"#N/A"}]
[null,null,null,{"$f":"分類順!A1657","v":"ねてるのだあれ"},{"$f":"分類順!B1657","v":"絵本"},{"$f":"分類順!C1657","v":"K：こどもの本"},{"$f":"分類順!D1657","v":"神沢利子"},{"$f":"分類順!E1657","v":"福音館書店"},{"$f":"分類順!F1657","v":21009},"ねてるのだあれ絵本K：こどもの本神沢利子福音館書店",1,{"$f":"VLOOKUP(\"*\"&目次加工!$B$2&\"*\",J1658:K1658,2,0)","v":1},{"$error":"#N/A"}]
[null,null,null,{"$f":"分類順!A1658","v":"とべないホタルのゆりかご"},{"$f":"分類順!B1658","v":"絵本"},{"$f":"分類順!C1658","v":"K：こどもの本"},{"$f":"分類順!D1658","v":"小沢昭巳"},{"$f":"分類順!E1658","v":"ハート出版"},{"$f":"分類順!F1658","v":21010},"とべないホタルのゆりかご絵本K：こどもの本小沢昭巳ハート出版",1,{"$f":"VLOOKUP(\"*\"&目次加工!$B$2&\"*\",J1659:K1659,2,0)","v":1},{"$error":"#N/A"}]
[null,null,null,{"$f":"分類順!A1659","v":"愛された団地犬ダン"},{"$f":"分類順!B1659","v":"絵本"},{"$f":"分類順!C1659","v":"K：こどもの本"},{"$f":"分類順!D1659","v":"関　朝之"},{"$f":"分類順!E1659","v":"ハート出版"},{"$f":"分類順!F1659","v":21011},"愛された団地犬ダン絵本K：こどもの本関　朝之ハート出版",1,{"$f":"VLOOKUP(\"*\"&目次加工!$B$2&\"*\",J1660:K1660,2,0)","v":1},{"$error":"#N/A"}]
[null,null,null,{"$f":"分類順!A1660","v":"12年目のお・か・あ・さ・ん"},{"$f":"分類順!B1660","v":"絵本"},{"$f":"分類順!C1660","v":"K：こどもの本"},{"$f":"分類順!D1660","v":"綾野まさる"},{"$f":"分類順!E1660","v":"ハート出版"},{"$f":"分類順!F1660","v":21012},"12年目のお・か・あ・さ・ん絵本K：こどもの本綾野まさるハート出版",1,{"$f":"VLOOKUP(\"*\"&目次加工!$B$2&\"*\",J1661:K1661,2,0)","v":1},{"$error":"#N/A"}]
[null,null,null,{"$f":"分類順!A1661","v":"ハキちゃんの「はっぴょうします」"},{"$f":"分類順!B1661","v":"絵本"},{"$f":"分類順!C1661","v":"K：こどもの本"},{"$f":"分類順!D1661","v":"薫くみこ"},{"$f":"分類順!E1661","v":"佼成出版"},{"$f":"分類順!F1661","v":21013},"ハキちゃんの「はっぴょうします」絵本K：こどもの本薫くみこ佼成出版",1,{"$f":"VLOOKUP(\"*\"&目次加工!$B$2&\"*\",J1662:K1662,2,0)","v":1},{"$error":"#N/A"}]
[null,null,null,{"$f":"分類順!A1662","v":"おんなじほしをみつめて"},{"$f":"分類順!B1662","v":"絵本"},{"$f":"分類順!C1662","v":"K：こどもの本"},{"$f":"分類順!D1662","v":"ペイジ・ブリット"},{"$f":"分類順!E1662","v":"フレベール館"},{"$f":"分類順!F1662","v":21014},"おんなじほしをみつめて絵本K：こどもの本ペイジ・ブリットフレベール館",1,{"$f":"VLOOKUP(\"*\"&目次加工!$B$2&\"*\",J1663:K1663,2,0)","v":1},{"$error":"#N/A"}]
[null,null,null,{"$f":"分類順!A1663","v":"ぜったいいぬをかうからね"},{"$f":"分類順!B1663","v":"絵本"},{"$f":"分類順!C1663","v":"K：こどもの本"},{"$f":"分類順!D1663","v":"ローレン・チャイルド"},{"$f":"分類順!E1663","v":"フレーベル館"},{"$f":"分類順!F1663","v":21015},"ぜったいいぬをかうからね絵本K：こどもの本ローレン・チャイルドフレーベル館",1,{"$f":"VLOOKUP(\"*\"&目次加工!$B$2&\"*\",J1664:K1664,2,0)","v":1},{"$error":"#N/A"}]
[null,null,null,{"$f":"分類順!A1664","v":"ハエのアストリッド"},{"$f":"分類順!B1664","v":"絵本"},{"$f":"分類順!C1664","v":"K：こどもの本"},{"$f":"分類順!D1664","v":"マリア・ヨンソン"},{"$f":"分類順!E1664","v":"評論社"},{"$f":"分類順!F1664","v":21016},"ハエのアストリッド絵本K：こどもの本マリア・ヨンソン評論社",1,{"$f":"VLOOKUP(\"*\"&目次加工!$B$2&\"*\",J1665:K1665,2,0)","v":1},{"$error":"#N/A"}]
[null,null,null,{"$f":"分類順!A1665","v":"おりがみ　５　いれものとぼうし"},{"$f":"分類順!B1665","v":"絵本"},{"$f":"分類順!C1665","v":"K：こどもの本"},{"$f":"分類順!D1665","v":"エキグチクニオ"},{"$f":"分類順!E1665","v":"偕成社"},{"$f":"分類順!F1665","v":21019},"おりがみ　５　いれものとぼうし絵本K：こどもの本エキグチクニオ偕成社",1,{"$f":"VLOOKUP(\"*\"&目次加工!$B$2&\"*\",J1666:K1666,2,0)","v":1},{"$error":"#N/A"}]
[null,null,null,{"$f":"分類順!A1666","v":"まんてんべんとう"},{"$f":"分類順!B1666","v":"絵本"},{"$f":"分類順!C1666","v":"K：こどもの本"},{"$f":"分類順!D1666","v":"くすのきしげのり"},{"$f":"分類順!E1666","v":"フレーベル館"},{"$f":"分類順!F1666","v":21020},"まんてんべんとう絵本K：こどもの本くすのきしげのりフレーベル館",1,{"$f":"VLOOKUP(\"*\"&目次加工!$B$2&\"*\",J1667:K1667,2,0)","v":1},{"$error":"#N/A"}]
[null,null,null,{"$f":"分類順!A1667","v":"ぼくってかわいそう！"},{"$f":"分類順!B1667","v":"絵本"},{"$f":"分類順!C1667","v":"K：こどもの本"},{"$f":"分類順!D1667","v":"パメラ・ダンカン・エドワーズ"},{"$f":"分類順!E1667","v":"フレベール館"},{"$f":"分類順!F1667","v":21021},"ぼくってかわいそう！絵本K：こどもの本パメラ・ダンカン・エドワーズフレベール館",1,{"$f":"VLOOKUP(\"*\"&目次加工!$B$2&\"*\",J1668:K1668,2,0)","v":1},{"$f":"VLOOKUP(\"*\"&$A$2&\"*\",J1668:K1668,2,0)","v":{"$error":"#N/A"}}]
[null,null,null,{"$f":"分類順!A1668","v":"ごはんですよ　おもちですよ"},{"$f":"分類順!B1668","v":"絵本"},{"$f":"分類順!C1668","v":"K：こどもの本"},{"$f":"分類順!D1668","v":"かこさとし"},{"$f":"分類順!E1668","v":"農文協"},{"$f":"分類順!F1668","v":21022},"ごはんですよ　おもちですよ絵本K：こどもの本かこさとし農文協",1,{"$f":"VLOOKUP(\"*\"&目次加工!$B$2&\"*\",J1669:K1669,2,0)","v":1},{"$error":"#N/A"}]
[null,null,null,{"$f":"分類順!A1669","v":"春夏秋冬　プーさんといっしょ"},{"$f":"分類順!B1669","v":"絵本"},{"$f":"分類順!C1669","v":"K：こどもの本"},{"$f":"分類順!D1669","v":"エミリー・ステッド"},{"$f":"分類順!E1669","v":"大日本絵画"},{"$f":"分類順!F1669","v":21023},"春夏秋冬　プーさんといっしょ絵本K：こどもの本エミリー・ステッド大日本絵画",1,{"$f":"VLOOKUP(\"*\"&目次加工!$B$2&\"*\",J1670:K1670,2,0)","v":1},{"$error":"#N/A"}]
[null,null,null,{"$f":"分類順!A1670","v":"こびとかな"},{"$f":"分類順!B1670","v":"絵本"},{"$f":"分類順!C1670","v":"K：こどもの本"},{"$f":"分類順!D1670","v":"おがわようこ"},{"$f":"分類順!E1670","v":"フレーベル館"},{"$f":"分類順!F1670","v":21024},"こびとかな絵本K：こどもの本おがわようこフレーベル館",1,{"$f":"VLOOKUP(\"*\"&目次加工!$B$2&\"*\",J1671:K1671,2,0)","v":1},{"$error":"#N/A"}]
[null,null,null,{"$f":"分類順!A1671","v":"おりがみ　4　にんぎょうや花"},{"$f":"分類順!B1671","v":"絵本"},{"$f":"分類順!C1671","v":"K：こどもの本"},{"$f":"分類順!D1671","v":"エキグチクニオ"},{"$f":"分類順!E1671","v":"偕成社"},{"$f":"分類順!F1671","v":21025},"おりがみ　4　にんぎょうや花絵本K：こどもの本エキグチクニオ偕成社",1,{"$f":"VLOOKUP(\"*\"&目次加工!$B$2&\"*\",J1672:K1672,2,0)","v":1},{"$error":"#N/A"}]
[null,null,null,{"$f":"分類順!A1672","v":"ひねもす山のなかまたち（4）すてきなプレゼント"},{"$f":"分類順!B1672","v":"絵本"},{"$f":"分類順!C1672","v":"K：こどもの本"},{"$f":"分類順!D1672","v":"むかいはつこ"},{"$f":"分類順!E1672","v":"文芸社"},{"$f":"分類順!F1672","v":21026},"ひねもす山のなかまたち（4）すてきなプレゼント絵本K：こどもの本むかいはつこ文芸社",1,{"$f":"VLOOKUP(\"*\"&目次加工!$B$2&\"*\",J1673:K1673,2,0)","v":1},{"$error":"#N/A"}]
[null,null,null,{"$f":"分類順!A1673","v":"ビロードのうさぎ"},{"$f":"分類順!B1673","v":"絵本"},{"$f":"分類順!C1673","v":"K：こどもの本"},{"$f":"分類順!D1673","v":"マージェリィ・W・ビアンコ"},{"$f":"分類順!E1673","v":"ブロンズ新社"},{"$f":"分類順!F1673","v":21027},"ビロードのうさぎ絵本K：こどもの本マージェリィ・W・ビアンコブロンズ新社",1,{"$f":"VLOOKUP(\"*\"&目次加工!$B$2&\"*\",J1674:K1674,2,0)","v":1},{"$error":"#N/A"}]
[null,null,null,{"$f":"分類順!A1674","v":"麻酔/手術/救急"},{"$f":"分類順!B1674","v":"目次へ"},{"$f":"分類順!C1674","v":"※PDF版ではリンクしておりません。"},{"$f":"分類順!D1674","v":0},{"$f":"分類順!E1674","v":0},{"$f":"分類順!F1674","v":0},"麻酔/手術/救急目次へ※PDF版ではリンクしておりません。00",1,{"$f":"VLOOKUP(\"*\"&目次加工!$B$2&\"*\",J1675:K1675,2,0)","v":1},1]
[null,null,null,{"$f":"分類順!A1675","v":"救急看護ＱＵＥＳＴＩＯＮ　ＢＯＸ 1 第２版"},{"$f":"分類順!B1675","v":"医療の本"},{"$f":"分類順!C1675","v":"L：麻酔/手術/救急"},{"$f":"分類順!D1675","v":"中村　惠子"},{"$f":"分類順!E1675","v":"中山書店"},{"$f":"分類順!F1675","v":89},"救急看護ＱＵＥＳＴＩＯＮ　ＢＯＸ 1 第２版医療の本L：麻酔/手術/救急中村　惠子中山書店",1,{"$f":"VLOOKUP(\"*\"&目次加工!$B$2&\"*\",J1676:K1676,2,0)","v":1},{"$error":"#N/A"}]
[null,null,null,{"$f":"分類順!A1676","v":"目でみる救命救急処置　新訂　第４版"},{"$f":"分類順!B1676","v":"医療の本"},{"$f":"分類順!C1676","v":"L：麻酔/手術/救急"},{"$f":"分類順!D1676","v":"杉本　侃　編著"},{"$f":"分類順!E1676","v":"日本臨牀社"},{"$f":"分類順!F1676","v":990},"目でみる救命救急処置　新訂　第４版医療の本L：麻酔/手術/救急杉本　侃　編著日本臨牀社",1,{"$f":"VLOOKUP(\"*\"&目次加工!$B$2&\"*\",J1677:K1677,2,0)","v":1},{"$error":"#N/A"}]
[null,null,null,{"$f":"分類順!A1677","v":"きゅうきゅうばこ"},{"$f":"分類順!B1677","v":"医療の本"},{"$f":"分類順!C1677","v":"L：麻酔/手術/救急"},{"$f":"分類順!D1677","v":"山田 真　著"},{"$f":"分類順!E1677","v":"福音館書店"},{"$f":"分類順!F1677","v":5389},"きゅうきゅうばこ医療の本L：麻酔/手術/救急山田 真　著福音館書店",1,{"$f":"VLOOKUP(\"*\"&目次加工!$B$2&\"*\",J1678:K1678,2,0)","v":1},{"$error":"#N/A"}]
[null,null,null,{"$f":"分類順!A1678","v":"最新の内視鏡手術がわかる本"},{"$f":"分類順!B1678","v":"医療の本"},{"$f":"分類順!C1678","v":"L：麻酔/手術/救急"},{"$f":"分類順!D1678","v":"黒川良望"},{"$f":"分類順!E1678","v":"法研"},{"$f":"分類順!F1678","v":5653},"最新の内視鏡手術がわかる本医療の本L：麻酔/手術/救急黒川良望法研",1,{"$f":"VLOOKUP(\"*\"&目次加工!$B$2&\"*\",J1679:K1679,2,0)","v":1},{"$error":"#N/A"}]
[null,null,null,{"$f":"分類順!A1679","v":"イラストで学ぶ麻酔看護"},{"$f":"分類順!B1679","v":"医療の本"},{"$f":"分類順!C1679","v":"L：麻酔/手術/救急"},{"$f":"分類順!D1679","v":"弓削孟文"},{"$f":"分類順!E1679","v":"メディカ出版"},{"$f":"分類順!F1679","v":5654},"イラストで学ぶ麻酔看護医療の本L：麻酔/手術/救急弓削孟文メディカ出版",1,{"$f":"VLOOKUP(\"*\"&目次加工!$B$2&\"*\",J1680:K1680,2,0)","v":1},{"$error":"#N/A"}]
[null,null,null,{"$f":"分類順!A1680","v":"先生！大変です！どうしたらいいですか!!　ー応急処置の実際－"},{"$f":"分類順!B1680","v":"医療の本"},{"$f":"分類順!C1680","v":"L：麻酔/手術/救急"},{"$f":"分類順!D1680","v":"玉川進"},{"$f":"分類順!E1680","v":"東山書房"},{"$f":"分類順!F1680","v":5655},"先生！大変です！どうしたらいいですか!!　ー応急処置の実際－医療の本L：麻酔/手術/救急玉川進東山書房",1,{"$f":"VLOOKUP(\"*\"&目次加工!$B$2&\"*\",J1681:K1681,2,0)","v":1},{"$error":"#N/A"}]
[null,null,null,{"$f":"分類順!A1681","v":"先生！大変です！救急車を呼びますか!!"},{"$f":"分類順!B1681","v":"医療の本"},{"$f":"分類順!C1681","v":"L：麻酔/手術/救急"},{"$f":"分類順!D1681","v":"玉川進"},{"$f":"分類順!E1681","v":"東山書房"},{"$f":"分類順!F1681","v":5656},"先生！大変です！救急車を呼びますか!!医療の本L：麻酔/手術/救急玉川進東山書房",1,{"$f":"VLOOKUP(\"*\"&目次加工!$B$2&\"*\",J1682:K1682,2,0)","v":1},{"$error":"#N/A"}]
[null,null,null,{"$f":"分類順!A1682","v":"徹底図解　手術と解剖のしくみ"},{"$f":"分類順!B1682","v":"医療の本"},{"$f":"分類順!C1682","v":"L：麻酔/手術/救急"},{"$f":"分類順!D1682","v":"坂井建雄"},{"$f":"分類順!E1682","v":"新星出版社"},{"$f":"分類順!F1682","v":5657},{"$f":"D1683&E1683&F1683&G1683&H1683","v":"徹底図解　手術と解剖のしくみ医療の本L：麻酔/手術/救急坂井建雄新星出版社"},1,{"$f":"VLOOKUP(\"*\"&目次加工!$B$2&\"*\",J1683:K1683,2,0)","v":1},{"$error":"#N/A"}]
[null,null,null,{"$f":"分類順!A1683","v":"まんがで見る手術と処置ーカラー版"},{"$f":"分類順!B1683","v":"医療の本"},{"$f":"分類順!C1683","v":"L：麻酔/手術/救急"},{"$f":"分類順!D1683","v":"高橋俊雄"},{"$f":"分類順!E1683","v":"照林社"},{"$f":"分類順!F1683","v":5658},"まんがで見る手術と処置ーカラー版医療の本L：麻酔/手術/救急高橋俊雄照林社",1,{"$f":"VLOOKUP(\"*\"&目次加工!$B$2&\"*\",J1684:K1684,2,0)","v":1},{"$error":"#N/A"}]
[null,null,null,{"$f":"分類順!A1684","v":"続・まんがで見る手術と処置ーカラー版（続）"},{"$f":"分類順!B1684","v":"医療の本"},{"$f":"分類順!C1684","v":"L：麻酔/手術/救急"},{"$f":"分類順!D1684","v":"高橋俊雄"},{"$f":"分類順!E1684","v":"照林社"},{"$f":"分類順!F1684","v":5659},"続・まんがで見る手術と処置ーカラー版（続）医療の本L：麻酔/手術/救急高橋俊雄照林社",1,{"$f":"VLOOKUP(\"*\"&目次加工!$B$2&\"*\",J1685:K1685,2,0)","v":1},{"$error":"#N/A"}]
[null,null,null,{"$f":"分類順!A1685","v":"これだけは知っておきたい手術室ナーシングＱ＆Ａ"},{"$f":"分類順!B1685","v":"医療の本"},{"$f":"分類順!C1685","v":"L：麻酔/手術/救急"},{"$f":"分類順!D1685","v":"天羽敬祐"},{"$f":"分類順!E1685","v":"総合医学社"},{"$f":"分類順!F1685","v":5660},"これだけは知っておきたい手術室ナーシングＱ＆Ａ医療の本L：麻酔/手術/救急天羽敬祐総合医学社",1,{"$f":"VLOOKUP(\"*\"&目次加工!$B$2&\"*\",J1686:K1686,2,0)","v":1},{"$error":"#N/A"}]
[null,null,null,{"$f":"分類順!A1686","v":"救急蘇生法の指針２０１０"},{"$f":"分類順!B1686","v":"医療の本"},{"$f":"分類順!C1686","v":"L：麻酔/手術/救急"},{"$f":"分類順!D1686","v":"岩井寿夫"},{"$f":"分類順!E1686","v":"へるす出版"},{"$f":"分類順!F1686","v":5661},"救急蘇生法の指針２０１０医療の本L：麻酔/手術/救急岩井寿夫へるす出版",1,{"$f":"VLOOKUP(\"*\"&目次加工!$B$2&\"*\",J1687:K1687,2,0)","v":1},{"$error":"#N/A"}]
[null,null,null,{"$f":"分類順!A1687","v":"いざとういうときに役立つ　マンガでわかる救急・救命処置：パワーアップ版"},{"$f":"分類順!B1687","v":"医療の本"},{"$f":"分類順!C1687","v":"L：麻酔/手術/救急"},{"$f":"分類順!D1687","v":"安間文彦"},{"$f":"分類順!E1687","v":"メディカ出版"},{"$f":"分類順!F1687","v":5662},"いざとういうときに役立つ　マンガでわかる救急・救命処置：パワーアップ版医療の本L：麻酔/手術/救急安間文彦メディカ出版",1,{"$f":"VLOOKUP(\"*\"&目次加工!$B$2&\"*\",J1688:K1688,2,0)","v":1},{"$error":"#N/A"}]
[null,null,null,{"$f":"分類順!A1688","v":"マンガでわかる一次救急・救命処置―医療・介護スタッフ必修"},{"$f":"分類順!B1688","v":"医療の本"},{"$f":"分類順!C1688","v":"L：麻酔/手術/救急"},{"$f":"分類順!D1688","v":"安間文彦"},{"$f":"分類順!E1688","v":"メディカ出版"},{"$f":"分類順!F1688","v":8115},"マンガでわかる一次救急・救命処置―医療・介護スタッフ必修医療の本L：麻酔/手術/救急安間文彦メディカ出版",1,{"$f":"VLOOKUP(\"*\"&目次加工!$B$2&\"*\",J1689:K1689,2,0)","v":1},{"$error":"#N/A"}]
[null,null,null,{"$f":"分類順!A1689","v":"みんなの防災ハンドブック"},{"$f":"分類順!B1689","v":"医療の本"},{"$f":"分類順!C1689","v":"L：麻酔/手術/救急"},{"$f":"分類順!D1689","v":"草野かおる"},{"$f":"分類順!E1689","v":"ディスカヴァー・トゥエンティワン"},{"$f":"分類順!F1689","v":10084},"みんなの防災ハンドブック医療の本L：麻酔/手術/救急草野かおるディスカヴァー・トゥエンティワン",1,{"$f":"VLOOKUP(\"*\"&目次加工!$B$2&\"*\",J1690:K1690,2,0)","v":1},{"$error":"#N/A"}]
[null,null,null,{"$f":"分類順!A1690","v":"緊急時の介護"},{"$f":"分類順!B1690","v":"医療の本"},{"$f":"分類順!C1690","v":"L：麻酔/手術/救急"},{"$f":"分類順!D1690","v":"橋村あゆみ"},{"$f":"分類順!E1690","v":"介護労働安定センター"},{"$f":"分類順!F1690","v":10085},"緊急時の介護医療の本L：麻酔/手術/救急橋村あゆみ介護労働安定センター",1,{"$f":"VLOOKUP(\"*\"&目次加工!$B$2&\"*\",J1691:K1691,2,0)","v":1},{"$error":"#N/A"}]
[null,null,null,{"$f":"分類順!A1691","v":"ドクターズカー奮戦記"},{"$f":"分類順!B1691","v":"医療の本"},{"$f":"分類順!C1691","v":"L：麻酔/手術/救急"},{"$f":"分類順!D1691","v":"鵜飼卓"},{"$f":"分類順!E1691","v":"メディカ出版"},{"$f":"分類順!F1691","v":10315},"ドクターズカー奮戦記医療の本L：麻酔/手術/救急鵜飼卓メディカ出版",1,{"$f":"VLOOKUP(\"*\"&目次加工!$B$2&\"*\",J1692:K1692,2,0)","v":1},{"$error":"#N/A"}]
[null,null,null,{"$f":"分類順!A1692","v":"救急蘇生法の指針2015（改訂第5版）市民用解説編"},{"$f":"分類順!B1692","v":"医療の本"},{"$f":"分類順!C1692","v":"L：麻酔/手術/救急"},{"$f":"分類順!D1692","v":"日本救急医療財団心肺蘇生法委員会"},{"$f":"分類順!E1692","v":"へるす出版 "},{"$f":"分類順!F1692","v":10477},"救急蘇生法の指針2015（改訂第5版）市民用解説編医療の本L：麻酔/手術/救急日本救急医療財団心肺蘇生法委員会へるす出版 ",1,{"$f":"VLOOKUP(\"*\"&目次加工!$B$2&\"*\",J1693:K1693,2,0)","v":1},1]
[null,null,null,{"$f":"分類順!A1693","v":"分類なし(絵本等)"},{"$f":"分類順!B1693","v":"目次へ"},{"$f":"分類順!C1693","v":"※PDF版ではリンクしておりません。"},{"$f":"分類順!D1693","v":0},{"$f":"分類順!E1693","v":0},{"$f":"分類順!F1693","v":0},"分類なし(絵本等)目次へ※PDF版ではリンクしておりません。00",1,{"$f":"VLOOKUP(\"*\"&目次加工!$B$2&\"*\",J1694:K1694,2,0)","v":1},1]
[null,null,null,{"$f":"分類順!A1694","v":"たべもの２"},{"$f":"分類順!B1694","v":"絵本"},{"$f":"分類順!C1694","v":"分類なし(絵本等)"},{"$f":"分類順!D1694","v":"たしろたく"},{"$f":"分類順!E1694","v":"偕成社"},{"$f":"分類順!F1694","v":20002},"たべもの２絵本分類なし(絵本等)たしろたく偕成社",1,{"$f":"VLOOKUP(\"*\"&目次加工!$B$2&\"*\",J1695:K1695,2,0)","v":1},{"$error":"#N/A"}]
[null,null,null,{"$f":"分類順!A1695","v":"メイシーちゃんのさがしもの"},{"$f":"分類順!B1695","v":"絵本"},{"$f":"分類順!C1695","v":"分類なし(絵本等)"},{"$f":"分類順!D1695","v":"カズンズ"},{"$f":"分類順!E1695","v":"偕成社"},{"$f":"分類順!F1695","v":20003},"メイシーちゃんのさがしもの絵本分類なし(絵本等)カズンズ偕成社",1,{"$f":"VLOOKUP(\"*\"&目次加工!$B$2&\"*\",J1696:K1696,2,0)","v":1},{"$error":"#N/A"}]
[null,null,null,{"$f":"分類順!A1696","v":"ボードブックノンタンＡ・Ｂ・Ｃ"},{"$f":"分類順!B1696","v":"絵本"},{"$f":"分類順!C1696","v":"分類なし(絵本等)"},{"$f":"分類順!D1696","v":"キヨノサチコ"},{"$f":"分類順!E1696","v":"偕成社"},{"$f":"分類順!F1696","v":20004},"ボードブックノンタンＡ・Ｂ・Ｃ絵本分類なし(絵本等)キヨノサチコ偕成社",1,{"$f":"VLOOKUP(\"*\"&目次加工!$B$2&\"*\",J1697:K1697,2,0)","v":1},{"$error":"#N/A"}]
[null,null,null,{"$f":"分類順!A1697","v":"ＢａｂｙＢｏｏｋｓ　いぬ"},{"$f":"分類順!B1697","v":"絵本"},{"$f":"分類順!C1697","v":"分類なし(絵本等)"},{"$f":"分類順!D1697","v":"たしろたく"},{"$f":"分類順!E1697","v":"偕成社"},{"$f":"分類順!F1697","v":20005},"ＢａｂｙＢｏｏｋｓ　いぬ絵本分類なし(絵本等)たしろたく偕成社",1,{"$f":"VLOOKUP(\"*\"&目次加工!$B$2&\"*\",J1698:K1698,2,0)","v":1},{"$error":"#N/A"}]
[null,null,null,{"$f":"分類順!A1698","v":"ミフィーのめくるえほん　こんにちはあそびましょ"},{"$f":"分類順!B1698","v":"絵本"},{"$f":"分類順!C1698","v":"分類なし(絵本等)"},{"$f":"分類順!D1698","v":"ブルーナ"},{"$f":"分類順!E1698","v":"講談社"},{"$f":"分類順!F1698","v":20006},"ミフィーのめくるえほん　こんにちはあそびましょ絵本分類なし(絵本等)ブルーナ講談社",1,{"$f":"VLOOKUP(\"*\"&目次加工!$B$2&\"*\",J1699:K1699,2,0)","v":1},{"$error":"#N/A"}]
[null,null,null,{"$f":"分類順!A1699","v":"ねぇ、あそぼ!３さいのキャロっとさん"},{"$f":"分類順!B1699","v":"絵本"},{"$f":"分類順!C1699","v":"分類なし(絵本等)"},{"$f":"分類順!D1699","v":"のぶみ"},{"$f":"分類順!E1699","v":"講談社"},{"$f":"分類順!F1699","v":20007},"ねぇ、あそぼ!３さいのキャロっとさん絵本分類なし(絵本等)のぶみ講談社",1,{"$f":"VLOOKUP(\"*\"&目次加工!$B$2&\"*\",J1700:K1700,2,0)","v":1},{"$error":"#N/A"}]
[null,null,null,{"$f":"分類順!A1700","v":"どうぶつのおかあさん"},{"$f":"分類順!B1700","v":"絵本"},{"$f":"分類順!C1700","v":"分類なし(絵本等)"},{"$f":"分類順!D1700","v":"小森　厚"},{"$f":"分類順!E1700","v":"福音館書店"},{"$f":"分類順!F1700","v":20008},"どうぶつのおかあさん絵本分類なし(絵本等)小森　厚福音館書店",1,{"$f":"VLOOKUP(\"*\"&目次加工!$B$2&\"*\",J1701:K1701,2,0)","v":1},{"$error":"#N/A"}]
[null,null,null,{"$f":"分類順!A1701","v":"ぶーぶーぶー"},{"$f":"分類順!B1701","v":"絵本"},{"$f":"分類順!C1701","v":"分類なし(絵本等)"},{"$f":"分類順!D1701","v":"こかぜさち"},{"$f":"分類順!E1701","v":"福音館書店"},{"$f":"分類順!F1701","v":20009},"ぶーぶーぶー絵本分類なし(絵本等)こかぜさち福音館書店",1,{"$f":"VLOOKUP(\"*\"&目次加工!$B$2&\"*\",J1702:K1702,2,0)","v":1},{"$error":"#N/A"}]
[null,null,null,{"$f":"分類順!A1702","v":"あかちゃんすくすく絵本　ぱいぱいおっぱい"},{"$f":"分類順!B1702","v":"絵本"},{"$f":"分類順!C1702","v":"分類なし(絵本等)"},{"$f":"分類順!D1702","v":"正高信男"},{"$f":"分類順!E1702","v":"すずき出版"},{"$f":"分類順!F1702","v":20010},"あかちゃんすくすく絵本　ぱいぱいおっぱい絵本分類なし(絵本等)正高信男すずき出版",1,{"$f":"VLOOKUP(\"*\"&目次加工!$B$2&\"*\",J1703:K1703,2,0)","v":1},{"$error":"#N/A"}]
[null,null,null,{"$f":"分類順!A1703","v":"みんな　とぶよ！"},{"$f":"分類順!B1703","v":"絵本"},{"$f":"分類順!C1703","v":"分類なし(絵本等)"},{"$f":"分類順!D1703","v":"いしかわこうじ"},{"$f":"分類順!E1703","v":"童心社"},{"$f":"分類順!F1703","v":20011},"みんな　とぶよ！絵本分類なし(絵本等)いしかわこうじ童心社",1,{"$f":"VLOOKUP(\"*\"&目次加工!$B$2&\"*\",J1704:K1704,2,0)","v":1},{"$error":"#N/A"}]
[null,null,null,{"$f":"分類順!A1704","v":"こちらたこたびょういん"},{"$f":"分類順!B1704","v":"絵本"},{"$f":"分類順!C1704","v":"分類なし(絵本等)"},{"$f":"分類順!D1704","v":"岩田明子"},{"$f":"分類順!E1704","v":"PHP研究所"},{"$f":"分類順!F1704","v":20012},"こちらたこたびょういん絵本分類なし(絵本等)岩田明子PHP研究所",1,{"$f":"VLOOKUP(\"*\"&目次加工!$B$2&\"*\",J1705:K1705,2,0)","v":1},{"$error":"#N/A"}]
[null,null,null,{"$f":"分類順!A1705","v":"あかちゃんのあそびえほん３　いただきます　あそび"},{"$f":"分類順!B1705","v":"絵本"},{"$f":"分類順!C1705","v":"分類なし(絵本等)"},{"$f":"分類順!D1705","v":"きむらゆういち"},{"$f":"分類順!E1705","v":"偕成社"},{"$f":"分類順!F1705","v":20013},"あかちゃんのあそびえほん３　いただきます　あそび絵本分類なし(絵本等)きむらゆういち偕成社",1,{"$f":"VLOOKUP(\"*\"&目次加工!$B$2&\"*\",J1706:K1706,2,0)","v":1},{"$error":"#N/A"}]
[null,null,null,{"$f":"分類順!A1706","v":"つみきバス"},{"$f":"分類順!B1706","v":"絵本"},{"$f":"分類順!C1706","v":"分類なし(絵本等)"},{"$f":"分類順!D1706","v":"いのうえまこと"},{"$f":"分類順!E1706","v":"あかね書房"},{"$f":"分類順!F1706","v":20014},"つみきバス絵本分類なし(絵本等)いのうえまことあかね書房",1,{"$f":"VLOOKUP(\"*\"&目次加工!$B$2&\"*\",J1707:K1707,2,0)","v":1},{"$error":"#N/A"}]
[null,null,null,{"$f":"分類順!A1707","v":"メグとモグのおはなし　メグむじんとうにいく"},{"$f":"分類順!B1707","v":"絵本"},{"$f":"分類順!C1707","v":"分類なし(絵本等)"},{"$f":"分類順!D1707","v":"ニコル"},{"$f":"分類順!E1707","v":"偕成社"},{"$f":"分類順!F1707","v":20015},"メグとモグのおはなし　メグむじんとうにいく絵本分類なし(絵本等)ニコル偕成社",1,{"$f":"VLOOKUP(\"*\"&目次加工!$B$2&\"*\",J1708:K1708,2,0)","v":1},{"$error":"#N/A"}]
[null,null,null,{"$f":"分類順!A1708","v":"おかあさん　あのね"},{"$f":"分類順!B1708","v":"絵本"},{"$f":"分類順!C1708","v":"分類なし(絵本等)"},{"$f":"分類順!D1708","v":"さかぐちえみこ"},{"$f":"分類順!E1708","v":"小峰書店"},{"$f":"分類順!F1708","v":20016},"おかあさん　あのね絵本分類なし(絵本等)さかぐちえみこ小峰書店",1,{"$f":"VLOOKUP(\"*\"&目次加工!$B$2&\"*\",J1709:K1709,2,0)","v":1},{"$error":"#N/A"}]
[null,null,null,{"$f":"分類順!A1709","v":"たっちゃん　しりませんか"},{"$f":"分類順!B1709","v":"絵本"},{"$f":"分類順!C1709","v":"分類なし(絵本等)"},{"$f":"分類順!D1709","v":"さかぐちえみこ"},{"$f":"分類順!E1709","v":"小峰書店"},{"$f":"分類順!F1709","v":20017},"たっちゃん　しりませんか絵本分類なし(絵本等)さかぐちえみこ小峰書店",1,{"$f":"VLOOKUP(\"*\"&目次加工!$B$2&\"*\",J1710:K1710,2,0)","v":1},{"$error":"#N/A"}]
[null,null,null,{"$f":"分類順!A1710","v":"ねるまで　あとなんぷん"},{"$f":"分類順!B1710","v":"絵本"},{"$f":"分類順!C1710","v":"分類なし(絵本等)"},{"$f":"分類順!D1710","v":"ヘインズ"},{"$f":"分類順!E1710","v":"大日本絵画"},{"$f":"分類順!F1710","v":20018},"ねるまで　あとなんぷん絵本分類なし(絵本等)ヘインズ大日本絵画",1,{"$f":"VLOOKUP(\"*\"&目次加工!$B$2&\"*\",J1711:K1711,2,0)","v":1},{"$error":"#N/A"}]
[null,null,null,{"$f":"分類順!A1711","v":"なんだかうれしくなってきた"},{"$f":"分類順!B1711","v":"絵本"},{"$f":"分類順!C1711","v":"分類なし(絵本等)"},{"$f":"分類順!D1711","v":"五味太郎"},{"$f":"分類順!E1711","v":"佼成出版"},{"$f":"分類順!F1711","v":20019},"なんだかうれしくなってきた絵本分類なし(絵本等)五味太郎佼成出版",1,{"$f":"VLOOKUP(\"*\"&目次加工!$B$2&\"*\",J1712:K1712,2,0)","v":1},{"$error":"#N/A"}]
[null,null,null,{"$f":"分類順!A1712","v":"ねずみくん　うみへいく"},{"$f":"分類順!B1712","v":"絵本"},{"$f":"分類順!C1712","v":"分類なし(絵本等)"},{"$f":"分類順!D1712","v":"なかえよしを"},{"$f":"分類順!E1712","v":"ポプラ社"},{"$f":"分類順!F1712","v":20021},"ねずみくん　うみへいく絵本分類なし(絵本等)なかえよしをポプラ社",1,{"$f":"VLOOKUP(\"*\"&目次加工!$B$2&\"*\",J1713:K1713,2,0)","v":1},{"$error":"#N/A"}]
[null,null,null,{"$f":"分類順!A1713","v":"オウルくんのクリスマス"},{"$f":"分類順!B1713","v":"絵本"},{"$f":"分類順!C1713","v":"分類なし(絵本等)"},{"$f":"分類順!D1713","v":"上野和子"},{"$f":"分類順!E1713","v":"大日本絵画"},{"$f":"分類順!F1713","v":20022},"オウルくんのクリスマス絵本分類なし(絵本等)上野和子大日本絵画",1,{"$f":"VLOOKUP(\"*\"&目次加工!$B$2&\"*\",J1714:K1714,2,0)","v":1},{"$error":"#N/A"}]
[null,null,null,{"$f":"分類順!A1714","v":"ブル、わらってよ！"},{"$f":"分類順!B1714","v":"絵本"},{"$f":"分類順!C1714","v":"分類なし(絵本等)"},{"$f":"分類順!D1714","v":"ローレンス"},{"$f":"分類順!E1714","v":"大日本絵画"},{"$f":"分類順!F1714","v":20023},"ブル、わらってよ！絵本分類なし(絵本等)ローレンス大日本絵画",1,{"$f":"VLOOKUP(\"*\"&目次加工!$B$2&\"*\",J1715:K1715,2,0)","v":1},{"$error":"#N/A"}]
[null,null,null,{"$f":"分類順!A1715","v":"チョ～　かんたん　おりがみ"},{"$f":"分類順!B1715","v":"絵本"},{"$f":"分類順!C1715","v":"分類なし(絵本等)"},{"$f":"分類順!D1715","v":"たけいしろう"},{"$f":"分類順!E1715","v":"草土文化"},{"$f":"分類順!F1715","v":20024},"チョ～　かんたん　おりがみ絵本分類なし(絵本等)たけいしろう草土文化",1,{"$f":"VLOOKUP(\"*\"&目次加工!$B$2&\"*\",J1716:K1716,2,0)","v":1},{"$error":"#N/A"}]
[null,null,null,{"$f":"分類順!A1716","v":"うんぴ・うんご・うんにょ・うんち うんこのえほん"},{"$f":"分類順!B1716","v":"絵本"},{"$f":"分類順!C1716","v":"分類なし(絵本等)"},{"$f":"分類順!D1716","v":"村上八千世"},{"$f":"分類順!E1716","v":"ほるぷ出版"},{"$f":"分類順!F1716","v":20025},"うんぴ・うんご・うんにょ・うんち うんこのえほん絵本分類なし(絵本等)村上八千世ほるぷ出版",1,{"$f":"VLOOKUP(\"*\"&目次加工!$B$2&\"*\",J1717:K1717,2,0)","v":1},{"$error":"#N/A"}]
[null,null,null,{"$f":"分類順!A1717","v":"フルーツポンチがすき！！"},{"$f":"分類順!B1717","v":"絵本"},{"$f":"分類順!C1717","v":"分類なし(絵本等)"},{"$f":"分類順!D1717","v":"MARVY-Q"},{"$f":"分類順!E1717","v":"タリーズコーヒー"},{"$f":"分類順!F1717","v":20026},"フルーツポンチがすき！！絵本分類なし(絵本等)MARVY-Qタリーズコーヒー",1,{"$f":"VLOOKUP(\"*\"&目次加工!$B$2&\"*\",J1718:K1718,2,0)","v":1},{"$error":"#N/A"}]
[null,null,null,{"$f":"分類順!A1718","v":"とうだいのくま"},{"$f":"分類順!B1718","v":"絵本"},{"$f":"分類順!C1718","v":"分類なし(絵本等)"},{"$f":"分類順!D1718","v":"ひるたりょうこ"},{"$f":"分類順!E1718","v":"タリーズコーヒー"},{"$f":"分類順!F1718","v":20027},"とうだいのくま絵本分類なし(絵本等)ひるたりょうこタリーズコーヒー",1,{"$f":"VLOOKUP(\"*\"&目次加工!$B$2&\"*\",J1719:K1719,2,0)","v":1},{"$error":"#N/A"}]
[null,null,null,{"$f":"分類順!A1719","v":"ことばがくちからでちゃったら"},{"$f":"分類順!B1719","v":"絵本"},{"$f":"分類順!C1719","v":"分類なし(絵本等)"},{"$f":"分類順!D1719","v":"ひなたあおい"},{"$f":"分類順!E1719","v":"タリーズコーヒー"},{"$f":"分類順!F1719","v":20028},"ことばがくちからでちゃったら絵本分類なし(絵本等)ひなたあおいタリーズコーヒー",1,{"$f":"VLOOKUP(\"*\"&目次加工!$B$2&\"*\",J1720:K1720,2,0)","v":1},{"$error":"#N/A"}]
[null,null,null,{"$f":"分類順!A1720","v":"ＳＷＥＥＴ　す・て・き・な・と・き"},{"$f":"分類順!B1720","v":"絵本"},{"$f":"分類順!C1720","v":"分類なし(絵本等)"},{"$f":"分類順!D1720","v":"黒井　健"},{"$f":"分類順!E1720","v":"小学館"},{"$f":"分類順!F1720","v":20031},"ＳＷＥＥＴ　す・て・き・な・と・き絵本分類なし(絵本等)黒井　健小学館",1,{"$f":"VLOOKUP(\"*\"&目次加工!$B$2&\"*\",J1721:K1721,2,0)","v":1},{"$error":"#N/A"}]
[null,null,null,{"$f":"分類順!A1721","v":"あさの絵本"},{"$f":"分類順!B1721","v":"絵本"},{"$f":"分類順!C1721","v":"分類なし(絵本等)"},{"$f":"分類順!D1721","v":"谷川俊太郎"},{"$f":"分類順!E1721","v":"アリス館"},{"$f":"分類順!F1721","v":20032},"あさの絵本絵本分類なし(絵本等)谷川俊太郎アリス館",1,{"$f":"VLOOKUP(\"*\"&目次加工!$B$2&\"*\",J1722:K1722,2,0)","v":1},{"$error":"#N/A"}]
[null,null,null,{"$f":"分類順!A1722","v":"絵本版　象の背中-旅立つ日-"},{"$f":"分類順!B1722","v":"絵本"},{"$f":"分類順!C1722","v":"分類なし(絵本等)"},{"$f":"分類順!D1722","v":"秋元　康"},{"$f":"分類順!E1722","v":"光文社"},{"$f":"分類順!F1722","v":20033},"絵本版　象の背中-旅立つ日-絵本分類なし(絵本等)秋元　康光文社",1,{"$f":"VLOOKUP(\"*\"&目次加工!$B$2&\"*\",J1723:K1723,2,0)","v":1},{"$error":"#N/A"}]
[null,null,null,{"$f":"分類順!A1723","v":"２５　ふしぎの国のアリス"},{"$f":"分類順!B1723","v":"絵本"},{"$f":"分類順!C1723","v":"分類なし(絵本等)"},{"$f":"分類順!D1723","v":"キャロル"},{"$f":"分類順!E1723","v":"永岡書店"},{"$f":"分類順!F1723","v":20045},"２５　ふしぎの国のアリス絵本分類なし(絵本等)キャロル永岡書店",1,{"$f":"VLOOKUP(\"*\"&目次加工!$B$2&\"*\",J1724:K1724,2,0)","v":1},{"$error":"#N/A"}]
[null,null,null,{"$f":"分類順!A1724","v":"ブルーナの０歳からの本２　ミッフィーⅡ"},{"$f":"分類順!B1724","v":"絵本"},{"$f":"分類順!C1724","v":"分類なし(絵本等)"},{"$f":"分類順!D1724","v":"ブルーナ"},{"$f":"分類順!E1724","v":"講談社"},{"$f":"分類順!F1724","v":20063},"ブルーナの０歳からの本２　ミッフィーⅡ絵本分類なし(絵本等)ブルーナ講談社",1,{"$f":"VLOOKUP(\"*\"&目次加工!$B$2&\"*\",J1725:K1725,2,0)","v":1},{"$error":"#N/A"}]
[null,null,null,{"$f":"分類順!A1725","v":"ブルーナの0歳からの本３　たべもの"},{"$f":"分類順!B1725","v":"絵本"},{"$f":"分類順!C1725","v":"分類なし(絵本等)"},{"$f":"分類順!D1725","v":"ブルーナ"},{"$f":"分類順!E1725","v":"トーア出版"},{"$f":"分類順!F1725","v":20064},"ブルーナの0歳からの本３　たべもの絵本分類なし(絵本等)ブルーナトーア出版",1,{"$f":"VLOOKUP(\"*\"&目次加工!$B$2&\"*\",J1726:K1726,2,0)","v":1},1]
[null,null,null,{"$f":"分類順!A1726","v":"ブルーナの0歳からの本４　おもちゃ"},{"$f":"分類順!B1726","v":"絵本"},{"$f":"分類順!C1726","v":"分類なし(絵本等)"},{"$f":"分類順!D1726","v":"ブルーナ"},{"$f":"分類順!E1726","v":"トーア出版"},{"$f":"分類順!F1726","v":20065},"ブルーナの0歳からの本４　おもちゃ絵本分類なし(絵本等)ブルーナトーア出版",1,{"$f":"VLOOKUP(\"*\"&目次加工!$B$2&\"*\",J1727:K1727,2,0)","v":1},1]
[null,null,null,{"$f":"分類順!A1727","v":"ブルーナの0歳からの本５　どうぶつⅠ"},{"$f":"分類順!B1727","v":"絵本"},{"$f":"分類順!C1727","v":"分類なし(絵本等)"},{"$f":"分類順!D1727","v":"ブルーナ"},{"$f":"分類順!E1727","v":"トーア出版"},{"$f":"分類順!F1727","v":20066},"ブルーナの0歳からの本５　どうぶつⅠ絵本分類なし(絵本等)ブルーナトーア出版",1,{"$f":"VLOOKUP(\"*\"&目次加工!$B$2&\"*\",J1728:K1728,2,0)","v":1},1]
[null,null,null,{"$f":"分類順!A1728","v":"ブルーナの0歳からの本７　うちのなかのもの"},{"$f":"分類順!B1728","v":"絵本"},{"$f":"分類順!C1728","v":"分類なし(絵本等)"},{"$f":"分類順!D1728","v":"ブルーナ"},{"$f":"分類順!E1728","v":"トーア出版"},{"$f":"分類順!F1728","v":20067},"ブルーナの0歳からの本７　うちのなかのもの絵本分類なし(絵本等)ブルーナトーア出版",1,{"$f":"VLOOKUP(\"*\"&目次加工!$B$2&\"*\",J1729:K1729,2,0)","v":1},1]
[null,null,null,{"$f":"分類順!A1729","v":"ブルーナの0歳からの本８　ぼくのものわたしのもの"},{"$f":"分類順!B1729","v":"絵本"},{"$f":"分類順!C1729","v":"分類なし(絵本等)"},{"$f":"分類順!D1729","v":"ブルーナ"},{"$f":"分類順!E1729","v":"講談社"},{"$f":"分類順!F1729","v":20068},"ブルーナの0歳からの本８　ぼくのものわたしのもの絵本分類なし(絵本等)ブルーナ講談社",1,{"$f":"VLOOKUP(\"*\"&目次加工!$B$2&\"*\",J1730:K1730,2,0)","v":1},1]
[null,null,null,{"$f":"分類順!A1730","v":"うさこちゃんのにゅういん"},{"$f":"分類順!B1730","v":"絵本"},{"$f":"分類順!C1730","v":"分類なし(絵本等)"},{"$f":"分類順!D1730","v":"ブルーナ"},{"$f":"分類順!E1730","v":"福音館書店"},{"$f":"分類順!F1730","v":20070},"うさこちゃんのにゅういん絵本分類なし(絵本等)ブルーナ福音館書店",1,{"$f":"VLOOKUP(\"*\"&目次加工!$B$2&\"*\",J1731:K1731,2,0)","v":1},{"$error":"#N/A"}]
[null,null,null,{"$f":"分類順!A1731","v":"も～お～うしです"},{"$f":"分類順!B1731","v":"絵本"},{"$f":"分類順!C1731","v":"分類なし(絵本等)"},{"$f":"分類順!D1731","v":"うしのえほんをつくる会"},{"$f":"分類順!E1731","v":"開放出版社"},{"$f":"分類順!F1731","v":20071},"も～お～うしです絵本分類なし(絵本等)うしのえほんをつくる会開放出版社",1,{"$f":"VLOOKUP(\"*\"&目次加工!$B$2&\"*\",J1732:K1732,2,0)","v":1},{"$f":"VLOOKUP(\"*\"&$A$2&\"*\",J1732:K1732,2,0)","v":{"$error":"#N/A"}}]
[null,null,null,{"$f":"分類順!A1732","v":"いないいないばぁ　あそび"},{"$f":"分類順!B1732","v":"絵本"},{"$f":"分類順!C1732","v":"分類なし(絵本等)"},{"$f":"分類順!D1732","v":"きむらゆういち"},{"$f":"分類順!E1732","v":"偕成社"},{"$f":"分類順!F1732","v":20072},"いないいないばぁ　あそび絵本分類なし(絵本等)きむらゆういち偕成社",1,{"$f":"VLOOKUP(\"*\"&目次加工!$B$2&\"*\",J1733:K1733,2,0)","v":1},{"$error":"#N/A"}]
[null,null,null,{"$f":"分類順!A1733","v":"ひとりでうんち　できるかな"},{"$f":"分類順!B1733","v":"絵本"},{"$f":"分類順!C1733","v":"分類なし(絵本等)"},{"$f":"分類順!D1733","v":"きむらゆういち"},{"$f":"分類順!E1733","v":"偕成社"},{"$f":"分類順!F1733","v":20073},"ひとりでうんち　できるかな絵本分類なし(絵本等)きむらゆういち偕成社",1,{"$f":"VLOOKUP(\"*\"&目次加工!$B$2&\"*\",J1734:K1734,2,0)","v":1},{"$error":"#N/A"}]
[null,null,null,{"$f":"分類順!A1734","v":"こどものとも０１２ ありのあちち"},{"$f":"分類順!B1734","v":"絵本"},{"$f":"分類順!C1734","v":"分類なし(絵本等)"},{"$f":"分類順!D1734","v":"つちはしとしこ"},{"$f":"分類順!E1734","v":"福音館書店"},{"$f":"分類順!F1734","v":20074},"こどものとも０１２ ありのあちち絵本分類なし(絵本等)つちはしとしこ福音館書店",1,{"$f":"VLOOKUP(\"*\"&目次加工!$B$2&\"*\",J1735:K1735,2,0)","v":1},{"$error":"#N/A"}]
[null,null,null,{"$f":"分類順!A1735","v":"きんぎょがにげた"},{"$f":"分類順!B1735","v":"絵本"},{"$f":"分類順!C1735","v":"分類なし(絵本等)"},{"$f":"分類順!D1735","v":"五味太郎"},{"$f":"分類順!E1735","v":"福音館書店"},{"$f":"分類順!F1735","v":20075},"きんぎょがにげた絵本分類なし(絵本等)五味太郎福音館書店",1,{"$f":"VLOOKUP(\"*\"&目次加工!$B$2&\"*\",J1736:K1736,2,0)","v":1},{"$error":"#N/A"}]
[null,null,null,{"$f":"分類順!A1736","v":"こげぱん　パンのしあわせってなんだろう・・・。"},{"$f":"分類順!B1736","v":"絵本"},{"$f":"分類順!C1736","v":"分類なし(絵本等)"},{"$f":"分類順!D1736","v":"たかはしみき"},{"$f":"分類順!E1736","v":"ソニーマガジンズ"},{"$f":"分類順!F1736","v":20076},"こげぱん　パンのしあわせってなんだろう・・・。絵本分類なし(絵本等)たかはしみきソニーマガジンズ",1,{"$f":"VLOOKUP(\"*\"&目次加工!$B$2&\"*\",J1737:K1737,2,0)","v":1},{"$error":"#N/A"}]
[null,null,null,{"$f":"分類順!A1737","v":"こげぱん　パンにも出会いがあるらしい・・・。"},{"$f":"分類順!B1737","v":"絵本"},{"$f":"分類順!C1737","v":"分類なし(絵本等)"},{"$f":"分類順!D1737","v":"たかはしみき"},{"$f":"分類順!E1737","v":"ソニーマガジンズ"},{"$f":"分類順!F1737","v":20077},"こげぱん　パンにも出会いがあるらしい・・・。絵本分類なし(絵本等)たかはしみきソニーマガジンズ",1,{"$f":"VLOOKUP(\"*\"&目次加工!$B$2&\"*\",J1738:K1738,2,0)","v":1},{"$error":"#N/A"}]
[null,null,null,{"$f":"分類順!A1738","v":"こげぱん　パンにもいろいろあるらしい・・・。"},{"$f":"分類順!B1738","v":"絵本"},{"$f":"分類順!C1738","v":"分類なし(絵本等)"},{"$f":"分類順!D1738","v":"たかはしみき"},{"$f":"分類順!E1738","v":"ソニーマガジンズ"},{"$f":"分類順!F1738","v":20078},"こげぱん　パンにもいろいろあるらしい・・・。絵本分類なし(絵本等)たかはしみきソニーマガジンズ",1,{"$f":"VLOOKUP(\"*\"&目次加工!$B$2&\"*\",J1739:K1739,2,0)","v":1},{"$error":"#N/A"}]
[null,null,null,{"$f":"分類順!A1739","v":"わたしのきもちをきいて　Ⅰ．家出"},{"$f":"分類順!B1739","v":"絵本"},{"$f":"分類順!C1739","v":"分類なし(絵本等)"},{"$f":"分類順!D1739","v":"バンサン"},{"$f":"分類順!E1739","v":"BL出版"},{"$f":"分類順!F1739","v":20079},"わたしのきもちをきいて　Ⅰ．家出絵本分類なし(絵本等)バンサンBL出版",1,{"$f":"VLOOKUP(\"*\"&目次加工!$B$2&\"*\",J1740:K1740,2,0)","v":1},{"$error":"#N/A"}]
[null,null,null,{"$f":"分類順!A1740","v":"わたしのきもちをきいて　Ⅱ．家出"},{"$f":"分類順!B1740","v":"絵本"},{"$f":"分類順!C1740","v":"分類なし(絵本等)"},{"$f":"分類順!D1740","v":"バンサン"},{"$f":"分類順!E1740","v":"BL出版"},{"$f":"分類順!F1740","v":20080},"わたしのきもちをきいて　Ⅱ．家出絵本分類なし(絵本等)バンサンBL出版",1,{"$f":"VLOOKUP(\"*\"&目次加工!$B$2&\"*\",J1741:K1741,2,0)","v":1},{"$error":"#N/A"}]
[null,null,null,{"$f":"分類順!A1741","v":"たっちゃんはぼくがきらいなの"},{"$f":"分類順!B1741","v":"絵本"},{"$f":"分類順!C1741","v":"分類なし(絵本等)"},{"$f":"分類順!D1741","v":"さとうとしなお"},{"$f":"分類順!E1741","v":"岩崎書店"},{"$f":"分類順!F1741","v":20081},"たっちゃんはぼくがきらいなの絵本分類なし(絵本等)さとうとしなお岩崎書店",1,{"$f":"VLOOKUP(\"*\"&目次加工!$B$2&\"*\",J1742:K1742,2,0)","v":1},{"$error":"#N/A"}]
[null,null,null,{"$f":"分類順!A1742","v":"実物大　あそべるおりがみ"},{"$f":"分類順!B1742","v":"絵本"},{"$f":"分類順!C1742","v":"分類なし(絵本等)"},{"$f":"分類順!D1742","v":"藤本祐子"},{"$f":"分類順!E1742","v":"世界文化社"},{"$f":"分類順!F1742","v":20083},"実物大　あそべるおりがみ絵本分類なし(絵本等)藤本祐子世界文化社",1,{"$f":"VLOOKUP(\"*\"&目次加工!$B$2&\"*\",J1743:K1743,2,0)","v":1},{"$error":"#N/A"}]
[null,null,null,{"$f":"分類順!A1743","v":"フラニーと世界の国々"},{"$f":"分類順!B1743","v":"絵本"},{"$f":"分類順!C1743","v":"分類なし(絵本等)"},{"$f":"分類順!D1743","v":"ほしのまりこ"},{"$f":"分類順!E1743","v":"ライツエンタテイメント"},{"$f":"分類順!F1743","v":20085},"フラニーと世界の国々絵本分類なし(絵本等)ほしのまりこライツエンタテイメント",1,{"$f":"VLOOKUP(\"*\"&目次加工!$B$2&\"*\",J1744:K1744,2,0)","v":1},{"$error":"#N/A"}]
[null,null,null,{"$f":"分類順!A1744","v":"むらさきふうせん"},{"$f":"分類順!B1744","v":"絵本"},{"$f":"分類順!C1744","v":"分類なし(絵本等)"},{"$f":"分類順!D1744","v":"谷川俊太郎"},{"$f":"分類順!E1744","v":"BL出版"},{"$f":"分類順!F1744","v":20086},"むらさきふうせん絵本分類なし(絵本等)谷川俊太郎BL出版",1,{"$f":"VLOOKUP(\"*\"&目次加工!$B$2&\"*\",J1745:K1745,2,0)","v":1},{"$error":"#N/A"}]
[null,null,null,{"$f":"分類順!A1745","v":"ドードーとせいちゃん　おはなしえほん　ドーナツだいすき！"},{"$f":"分類順!B1745","v":"絵本"},{"$f":"分類順!C1745","v":"分類なし(絵本等)"},{"$f":"分類順!D1745","v":"わたせせいぞう"},{"$f":"分類順!E1745","v":"三起商工"},{"$f":"分類順!F1745","v":20088},"ドードーとせいちゃん　おはなしえほん　ドーナツだいすき！絵本分類なし(絵本等)わたせせいぞう三起商工",1,{"$f":"VLOOKUP(\"*\"&目次加工!$B$2&\"*\",J1746:K1746,2,0)","v":1},{"$error":"#N/A"}]
[null,null,null,{"$f":"分類順!A1746","v":"はしれ！はしれ！パトカー"},{"$f":"分類順!B1746","v":"絵本"},{"$f":"分類順!C1746","v":"分類なし(絵本等)"},{"$f":"分類順!D1746","v":"たけいしろう"},{"$f":"分類順!E1746","v":"あかね書房"},{"$f":"分類順!F1746","v":20089},{"$f":"D1747&E1747&F1747&G1747&H1747","v":"はしれ！はしれ！パトカー絵本分類なし(絵本等)たけいしろうあかね書房"},1,{"$f":"VLOOKUP(\"*\"&目次加工!$B$2&\"*\",J1747:K1747,2,0)","v":1},{"$error":"#N/A"}]
[null,null,null,{"$f":"分類順!A1747","v":"はなのさくえほん"},{"$f":"分類順!B1747","v":"絵本"},{"$f":"分類順!C1747","v":"分類なし(絵本等)"},{"$f":"分類順!D1747","v":"いしかわこうじ"},{"$f":"分類順!E1747","v":"童心社"},{"$f":"分類順!F1747","v":20090},"はなのさくえほん絵本分類なし(絵本等)いしかわこうじ童心社",1,{"$f":"VLOOKUP(\"*\"&目次加工!$B$2&\"*\",J1748:K1748,2,0)","v":1},{"$error":"#N/A"}]
[null,null,null,{"$f":"分類順!A1748","v":"ころわんはおにいちゃん"},{"$f":"分類順!B1748","v":"絵本"},{"$f":"分類順!C1748","v":"分類なし(絵本等)"},{"$f":"分類順!D1748","v":"間所ひさ子"},{"$f":"分類順!E1748","v":"ひさかたチャイルド"},{"$f":"分類順!F1748","v":20091},"ころわんはおにいちゃん絵本分類なし(絵本等)間所ひさ子ひさかたチャイルド",1,{"$f":"VLOOKUP(\"*\"&目次加工!$B$2&\"*\",J1749:K1749,2,0)","v":1},{"$error":"#N/A"}]
[null,null,null,{"$f":"分類順!A1749","v":"クリスマスのころわん"},{"$f":"分類順!B1749","v":"絵本"},{"$f":"分類順!C1749","v":"分類なし(絵本等)"},{"$f":"分類順!D1749","v":"間所ひさ子"},{"$f":"分類順!E1749","v":"ひさかたチャイルド"},{"$f":"分類順!F1749","v":20092},"クリスマスのころわん絵本分類なし(絵本等)間所ひさ子ひさかたチャイルド",1,{"$f":"VLOOKUP(\"*\"&目次加工!$B$2&\"*\",J1750:K1750,2,0)","v":1},{"$error":"#N/A"}]
[null,null,null,{"$f":"分類順!A1750","v":"ゴリラのパンやさん"},{"$f":"分類順!B1750","v":"絵本"},{"$f":"分類順!C1750","v":"分類なし(絵本等)"},{"$f":"分類順!D1750","v":"白井三香子"},{"$f":"分類順!E1750","v":"金の星社"},{"$f":"分類順!F1750","v":20093},"ゴリラのパンやさん絵本分類なし(絵本等)白井三香子金の星社",1,{"$f":"VLOOKUP(\"*\"&目次加工!$B$2&\"*\",J1751:K1751,2,0)","v":1},{"$error":"#N/A"}]
[null,null,null,{"$f":"分類順!A1751","v":"あひるのたまご"},{"$f":"分類順!B1751","v":"絵本"},{"$f":"分類順!C1751","v":"分類なし(絵本等)"},{"$f":"分類順!D1751","v":"さとうわきこ"},{"$f":"分類順!E1751","v":"福音館書店"},{"$f":"分類順!F1751","v":20094},"あひるのたまご絵本分類なし(絵本等)さとうわきこ福音館書店",1,{"$f":"VLOOKUP(\"*\"&目次加工!$B$2&\"*\",J1752:K1752,2,0)","v":1},{"$error":"#N/A"}]
[null,null,null,{"$f":"分類順!A1752","v":"くれよんのくろくん"},{"$f":"分類順!B1752","v":"絵本"},{"$f":"分類順!C1752","v":"分類なし(絵本等)"},{"$f":"分類順!D1752","v":"なかやみわ"},{"$f":"分類順!E1752","v":"童心社"},{"$f":"分類順!F1752","v":20095},"くれよんのくろくん絵本分類なし(絵本等)なかやみわ童心社",1,{"$f":"VLOOKUP(\"*\"&目次加工!$B$2&\"*\",J1753:K1753,2,0)","v":1},{"$error":"#N/A"}]
[null,null,null,{"$f":"分類順!A1753","v":"おおきなかぶ"},{"$f":"分類順!B1753","v":"絵本"},{"$f":"分類順!C1753","v":"分類なし(絵本等)"},{"$f":"分類順!D1753","v":"うちだりさこ"},{"$f":"分類順!E1753","v":"福音館書店"},{"$f":"分類順!F1753","v":20096},"おおきなかぶ絵本分類なし(絵本等)うちだりさこ福音館書店",1,{"$f":"VLOOKUP(\"*\"&目次加工!$B$2&\"*\",J1754:K1754,2,0)","v":1},{"$error":"#N/A"}]
[null,null,null,{"$f":"分類順!A1754","v":"もりのスパゲッティやさん"},{"$f":"分類順!B1754","v":"絵本"},{"$f":"分類順!C1754","v":"分類なし(絵本等)"},{"$f":"分類順!D1754","v":"丹崎靖子"},{"$f":"分類順!E1754","v":"偕成社"},{"$f":"分類順!F1754","v":20097},"もりのスパゲッティやさん絵本分類なし(絵本等)丹崎靖子偕成社",1,{"$f":"VLOOKUP(\"*\"&目次加工!$B$2&\"*\",J1755:K1755,2,0)","v":1},{"$error":"#N/A"}]
[null,null,null,{"$f":"分類順!A1755","v":"めがねうさぎ"},{"$f":"分類順!B1755","v":"絵本"},{"$f":"分類順!C1755","v":"分類なし(絵本等)"},{"$f":"分類順!D1755","v":"せなけいこ"},{"$f":"分類順!E1755","v":"ポプラ社"},{"$f":"分類順!F1755","v":20098},"めがねうさぎ絵本分類なし(絵本等)せなけいこポプラ社",1,{"$f":"VLOOKUP(\"*\"&目次加工!$B$2&\"*\",J1756:K1756,2,0)","v":1},{"$error":"#N/A"}]
[null,null,null,{"$f":"分類順!A1756","v":"おばけのてんぷら"},{"$f":"分類順!B1756","v":"絵本"},{"$f":"分類順!C1756","v":"分類なし(絵本等)"},{"$f":"分類順!D1756","v":"せなけいこ"},{"$f":"分類順!E1756","v":"ポプラ社"},{"$f":"分類順!F1756","v":20099},"おばけのてんぷら絵本分類なし(絵本等)せなけいこポプラ社",1,{"$f":"VLOOKUP(\"*\"&目次加工!$B$2&\"*\",J1757:K1757,2,0)","v":1},{"$error":"#N/A"}]
[null,null,null,{"$f":"分類順!A1757","v":"ねぼすけスーザのおかいもの"},{"$f":"分類順!B1757","v":"絵本"},{"$f":"分類順!C1757","v":"分類なし(絵本等)"},{"$f":"分類順!D1757","v":"広野多珂子"},{"$f":"分類順!E1757","v":"福音館書店"},{"$f":"分類順!F1757","v":20100},"ねぼすけスーザのおかいもの絵本分類なし(絵本等)広野多珂子福音館書店",1,{"$f":"VLOOKUP(\"*\"&目次加工!$B$2&\"*\",J1758:K1758,2,0)","v":1},{"$error":"#N/A"}]
[null,null,null,{"$f":"分類順!A1758","v":"せっけん　つるりん"},{"$f":"分類順!B1758","v":"絵本"},{"$f":"分類順!C1758","v":"分類なし(絵本等)"},{"$f":"分類順!D1758","v":"今井弓子"},{"$f":"分類順!E1758","v":"岩崎書店"},{"$f":"分類順!F1758","v":20101},"せっけん　つるりん絵本分類なし(絵本等)今井弓子岩崎書店",1,{"$f":"VLOOKUP(\"*\"&目次加工!$B$2&\"*\",J1759:K1759,2,0)","v":1},{"$error":"#N/A"}]
[null,null,null,{"$f":"分類順!A1759","v":"なきむしライオンのクリスマス"},{"$f":"分類順!B1759","v":"絵本"},{"$f":"分類順!C1759","v":"分類なし(絵本等)"},{"$f":"分類順!D1759","v":"矢崎節夫"},{"$f":"分類順!E1759","v":"東京リスマチック"},{"$f":"分類順!F1759","v":20102},"なきむしライオンのクリスマス絵本分類なし(絵本等)矢崎節夫東京リスマチック",1,{"$f":"VLOOKUP(\"*\"&目次加工!$B$2&\"*\",J1760:K1760,2,0)","v":1},{"$error":"#N/A"}]
[null,null,null,{"$f":"分類順!A1760","v":"きょうはとくべついいひなの"},{"$f":"分類順!B1760","v":"絵本"},{"$f":"分類順!C1760","v":"分類なし(絵本等)"},{"$f":"分類順!D1760","v":"ふじおかきょうこ"},{"$f":"分類順!E1760","v":"星雲社"},{"$f":"分類順!F1760","v":20105},"きょうはとくべついいひなの絵本分類なし(絵本等)ふじおかきょうこ星雲社",1,{"$f":"VLOOKUP(\"*\"&目次加工!$B$2&\"*\",J1761:K1761,2,0)","v":1},{"$error":"#N/A"}]
[null,null,null,{"$f":"分類順!A1761","v":"にゃーご"},{"$f":"分類順!B1761","v":"絵本"},{"$f":"分類順!C1761","v":"分類なし(絵本等)"},{"$f":"分類順!D1761","v":"宮西達也"},{"$f":"分類順!E1761","v":"すずき出版"},{"$f":"分類順!F1761","v":20106},"にゃーご絵本分類なし(絵本等)宮西達也すずき出版",1,{"$f":"VLOOKUP(\"*\"&目次加工!$B$2&\"*\",J1762:K1762,2,0)","v":1},{"$error":"#N/A"}]
[null,null,null,{"$f":"分類順!A1762","v":"もりのとこやさん"},{"$f":"分類順!B1762","v":"絵本"},{"$f":"分類順!C1762","v":"分類なし(絵本等)"},{"$f":"分類順!D1762","v":"いわせななみ"},{"$f":"分類順!E1762","v":"タリーズコーヒー"},{"$f":"分類順!F1762","v":20107},"もりのとこやさん絵本分類なし(絵本等)いわせななみタリーズコーヒー",1,{"$f":"VLOOKUP(\"*\"&目次加工!$B$2&\"*\",J1763:K1763,2,0)","v":1},{"$error":"#N/A"}]
[null,null,null,{"$f":"分類順!A1763","v":"ココペリのかおみっけ！"},{"$f":"分類順!B1763","v":"絵本"},{"$f":"分類順!C1763","v":"分類なし(絵本等)"},{"$f":"分類順!D1763","v":"なかわかりさ"},{"$f":"分類順!E1763","v":"タリーズコーヒー"},{"$f":"分類順!F1763","v":20108},"ココペリのかおみっけ！絵本分類なし(絵本等)なかわかりさタリーズコーヒー",1,{"$f":"VLOOKUP(\"*\"&目次加工!$B$2&\"*\",J1764:K1764,2,0)","v":1},{"$error":"#N/A"}]
[null,null,null,{"$f":"分類順!A1764","v":"あいたあな"},{"$f":"分類順!B1764","v":"絵本"},{"$f":"分類順!C1764","v":"分類なし(絵本等)"},{"$f":"分類順!D1764","v":"ともちえこ"},{"$f":"分類順!E1764","v":"タリーズコーヒー"},{"$f":"分類順!F1764","v":20109},"あいたあな絵本分類なし(絵本等)ともちえこタリーズコーヒー",1,{"$f":"VLOOKUP(\"*\"&目次加工!$B$2&\"*\",J1765:K1765,2,0)","v":1},{"$error":"#N/A"}]
[null,null,null,{"$f":"分類順!A1765","v":"あるふぁべっとのなかまたち"},{"$f":"分類順!B1765","v":"絵本"},{"$f":"分類順!C1765","v":"分類なし(絵本等)"},{"$f":"分類順!D1765","v":"アストラゼネカ"},{"$f":"分類順!E1765","v":"アストラゼネカ"},{"$f":"分類順!F1765","v":20110},"あるふぁべっとのなかまたち絵本分類なし(絵本等)アストラゼネカアストラゼネカ",1,{"$f":"VLOOKUP(\"*\"&目次加工!$B$2&\"*\",J1766:K1766,2,0)","v":1},{"$error":"#N/A"}]
[null,null,null,{"$f":"分類順!A1766","v":"ぼくがあのこをきらいなわけ"},{"$f":"分類順!B1766","v":"絵本"},{"$f":"分類順!C1766","v":"分類なし(絵本等)"},{"$f":"分類順!D1766","v":"礒　みゆき"},{"$f":"分類順!E1766","v":"ポプラ社"},{"$f":"分類順!F1766","v":20111},"ぼくがあのこをきらいなわけ絵本分類なし(絵本等)礒　みゆきポプラ社",1,{"$f":"VLOOKUP(\"*\"&目次加工!$B$2&\"*\",J1767:K1767,2,0)","v":1},{"$error":"#N/A"}]
[null,null,null,{"$f":"分類順!A1767","v":"こりゃ　まてまて"},{"$f":"分類順!B1767","v":"絵本"},{"$f":"分類順!C1767","v":"分類なし(絵本等)"},{"$f":"分類順!D1767","v":"中脇初枝"},{"$f":"分類順!E1767","v":"福音館書店"},{"$f":"分類順!F1767","v":20113},"こりゃ　まてまて絵本分類なし(絵本等)中脇初枝福音館書店",1,{"$f":"VLOOKUP(\"*\"&目次加工!$B$2&\"*\",J1768:K1768,2,0)","v":1},{"$error":"#N/A"}]
[null,null,null,{"$f":"分類順!A1768","v":"おやゆびとうさん"},{"$f":"分類順!B1768","v":"絵本"},{"$f":"分類順!C1768","v":"分類なし(絵本等)"},{"$f":"分類順!D1768","v":"長野ヒデ子"},{"$f":"分類順!E1768","v":"佼成出版"},{"$f":"分類順!F1768","v":20114},"おやゆびとうさん絵本分類なし(絵本等)長野ヒデ子佼成出版",1,{"$f":"VLOOKUP(\"*\"&目次加工!$B$2&\"*\",J1769:K1769,2,0)","v":1},{"$error":"#N/A"}]
[null,null,null,{"$f":"分類順!A1769","v":"ダンボールくん"},{"$f":"分類順!B1769","v":"絵本"},{"$f":"分類順!C1769","v":"分類なし(絵本等)"},{"$f":"分類順!D1769","v":"リュイエ"},{"$f":"分類順!E1769","v":"小峰書店"},{"$f":"分類順!F1769","v":20116},"ダンボールくん絵本分類なし(絵本等)リュイエ小峰書店",1,{"$f":"VLOOKUP(\"*\"&目次加工!$B$2&\"*\",J1770:K1770,2,0)","v":1},{"$error":"#N/A"}]
[null,null,null,{"$f":"分類順!A1770","v":"風の星"},{"$f":"分類順!B1770","v":"絵本"},{"$f":"分類順!C1770","v":"分類なし(絵本等)"},{"$f":"分類順!D1770","v":"新宮　晋"},{"$f":"分類順!E1770","v":"福音館書店"},{"$f":"分類順!F1770","v":20117},"風の星絵本分類なし(絵本等)新宮　晋福音館書店",1,{"$f":"VLOOKUP(\"*\"&目次加工!$B$2&\"*\",J1771:K1771,2,0)","v":1},{"$error":"#N/A"}]
[null,null,null,{"$f":"分類順!A1771","v":"もぐらくんとふゆ"},{"$f":"分類順!B1771","v":"絵本"},{"$f":"分類順!C1771","v":"分類なし(絵本等)"},{"$f":"分類順!D1771","v":"ドスコチロヴァー"},{"$f":"分類順!E1771","v":"偕成社"},{"$f":"分類順!F1771","v":20118},"もぐらくんとふゆ絵本分類なし(絵本等)ドスコチロヴァー偕成社",1,{"$f":"VLOOKUP(\"*\"&目次加工!$B$2&\"*\",J1772:K1772,2,0)","v":1},{"$error":"#N/A"}]
[null,null,null,{"$f":"分類順!A1772","v":"たこぼとみのむし"},{"$f":"分類順!B1772","v":"絵本"},{"$f":"分類順!C1772","v":"分類なし(絵本等)"},{"$f":"分類順!D1772","v":"きのひなた"},{"$f":"分類順!E1772","v":"星の環会"},{"$f":"分類順!F1772","v":20120},"たこぼとみのむし絵本分類なし(絵本等)きのひなた星の環会",1,{"$f":"VLOOKUP(\"*\"&目次加工!$B$2&\"*\",J1773:K1773,2,0)","v":1},{"$error":"#N/A"}]
[null,null,null,{"$f":"分類順!A1773","v":"おかねのきもち"},{"$f":"分類順!B1773","v":"絵本"},{"$f":"分類順!C1773","v":"分類なし(絵本等)"},{"$f":"分類順!D1773","v":"やまもとゆか"},{"$f":"分類順!E1773","v":"KKベストセラーズ"},{"$f":"分類順!F1773","v":20121},"おかねのきもち絵本分類なし(絵本等)やまもとゆかKKベストセラーズ",1,{"$f":"VLOOKUP(\"*\"&目次加工!$B$2&\"*\",J1774:K1774,2,0)","v":1},{"$error":"#N/A"}]
[null,null,null,{"$f":"分類順!A1774","v":"かっとびジャック"},{"$f":"分類順!B1774","v":"絵本"},{"$f":"分類順!C1774","v":"分類なし(絵本等)"},{"$f":"分類順!D1774","v":"やましたはるお"},{"$f":"分類順!E1774","v":"ポプラ社"},{"$f":"分類順!F1774","v":20126},"かっとびジャック絵本分類なし(絵本等)やましたはるおポプラ社",1,{"$f":"VLOOKUP(\"*\"&目次加工!$B$2&\"*\",J1775:K1775,2,0)","v":1},{"$error":"#N/A"}]
[null,null,null,{"$f":"分類順!A1775","v":"まんげつのよるまでまちなさい"},{"$f":"分類順!B1775","v":"絵本"},{"$f":"分類順!C1775","v":"分類なし(絵本等)"},{"$f":"分類順!D1775","v":"ブラウン"},{"$f":"分類順!E1775","v":"ペンギン社"},{"$f":"分類順!F1775","v":20127},"まんげつのよるまでまちなさい絵本分類なし(絵本等)ブラウンペンギン社",1,{"$f":"VLOOKUP(\"*\"&目次加工!$B$2&\"*\",J1776:K1776,2,0)","v":1},{"$error":"#N/A"}]
[null,null,null,{"$f":"分類順!A1776","v":"おしゃべりなもり"},{"$f":"分類順!B1776","v":"絵本"},{"$f":"分類順!C1776","v":"分類なし(絵本等)"},{"$f":"分類順!D1776","v":"スラトコフ"},{"$f":"分類順!E1776","v":"福音館書店"},{"$f":"分類順!F1776","v":20128},"おしゃべりなもり絵本分類なし(絵本等)スラトコフ福音館書店",1,{"$f":"VLOOKUP(\"*\"&目次加工!$B$2&\"*\",J1777:K1777,2,0)","v":1},{"$error":"#N/A"}]
[null,null,null,{"$f":"分類順!A1777","v":"ともだちのたまご"},{"$f":"分類順!B1777","v":"絵本"},{"$f":"分類順!C1777","v":"分類なし(絵本等)"},{"$f":"分類順!D1777","v":"さえぐさひろこ"},{"$f":"分類順!E1777","v":"童心社"},{"$f":"分類順!F1777","v":20129},"ともだちのたまご絵本分類なし(絵本等)さえぐさひろこ童心社",1,{"$f":"VLOOKUP(\"*\"&目次加工!$B$2&\"*\",J1778:K1778,2,0)","v":1},{"$error":"#N/A"}]
[null,null,null,{"$f":"分類順!A1778","v":"ねことおんどり"},{"$f":"分類順!B1778","v":"絵本"},{"$f":"分類順!C1778","v":"分類なし(絵本等)"},{"$f":"分類順!D1778","v":"うちだりさこ"},{"$f":"分類順!E1778","v":"福音館書店"},{"$f":"分類順!F1778","v":20130},"ねことおんどり絵本分類なし(絵本等)うちだりさこ福音館書店",1,{"$f":"VLOOKUP(\"*\"&目次加工!$B$2&\"*\",J1779:K1779,2,0)","v":1},{"$error":"#N/A"}]
[null,null,null,{"$f":"分類順!A1779","v":"たっぷどこへいく"},{"$f":"分類順!B1779","v":"絵本"},{"$f":"分類順!C1779","v":"分類なし(絵本等)"},{"$f":"分類順!D1779","v":"ベングトソン"},{"$f":"分類順!E1779","v":"福音館書店"},{"$f":"分類順!F1779","v":20131},"たっぷどこへいく絵本分類なし(絵本等)ベングトソン福音館書店",1,{"$f":"VLOOKUP(\"*\"&目次加工!$B$2&\"*\",J1780:K1780,2,0)","v":1},{"$error":"#N/A"}]
[null,null,null,{"$f":"分類順!A1780","v":"とにかくさけんでにげるんだ　わるい人から身をまもる"},{"$f":"分類順!B1780","v":"絵本"},{"$f":"分類順!C1780","v":"分類なし(絵本等)"},{"$f":"分類順!D1780","v":"ボガホールド"},{"$f":"分類順!E1780","v":"岩崎書店"},{"$f":"分類順!F1780","v":20132},"とにかくさけんでにげるんだ　わるい人から身をまもる絵本分類なし(絵本等)ボガホールド岩崎書店",1,{"$f":"VLOOKUP(\"*\"&目次加工!$B$2&\"*\",J1781:K1781,2,0)","v":1},{"$error":"#N/A"}]
[null,null,null,{"$f":"分類順!A1781","v":"家缶"},{"$f":"分類順!B1781","v":"絵本"},{"$f":"分類順!C1781","v":"分類なし(絵本等)"},{"$f":"分類順!D1781","v":"早川純子"},{"$f":"分類順!E1781","v":"ほるぷ出版"},{"$f":"分類順!F1781","v":20133},"家缶絵本分類なし(絵本等)早川純子ほるぷ出版",1,{"$f":"VLOOKUP(\"*\"&目次加工!$B$2&\"*\",J1782:K1782,2,0)","v":1},{"$error":"#N/A"}]
[null,null,null,{"$f":"分類順!A1782","v":"えほん　だんちのこいぬ　ダン"},{"$f":"分類順!B1782","v":"絵本"},{"$f":"分類順!C1782","v":"分類なし(絵本等)"},{"$f":"分類順!D1782","v":"せきともゆき"},{"$f":"分類順!E1782","v":"ハート出版"},{"$f":"分類順!F1782","v":20134},"えほん　だんちのこいぬ　ダン絵本分類なし(絵本等)せきともゆきハート出版",1,{"$f":"VLOOKUP(\"*\"&目次加工!$B$2&\"*\",J1783:K1783,2,0)","v":1},{"$error":"#N/A"}]
[null,null,null,{"$f":"分類順!A1783","v":"おうむねこ"},{"$f":"分類順!B1783","v":"絵本"},{"$f":"分類順!C1783","v":"分類なし(絵本等)"},{"$f":"分類順!D1783","v":"ニコラ・ベーリー"},{"$f":"分類順!E1783","v":"ほるぷ出版"},{"$f":"分類順!F1783","v":20135},"おうむねこ絵本分類なし(絵本等)ニコラ・ベーリーほるぷ出版",1,{"$f":"VLOOKUP(\"*\"&目次加工!$B$2&\"*\",J1784:K1784,2,0)","v":1},{"$error":"#N/A"}]
[null,null,null,{"$f":"分類順!A1784","v":"いのち"},{"$f":"分類順!B1784","v":"絵本"},{"$f":"分類順!C1784","v":"分類なし(絵本等)"},{"$f":"分類順!D1784","v":"山岸智幸"},{"$f":"分類順!E1784","v":"三起商工"},{"$f":"分類順!F1784","v":20136},"いのち絵本分類なし(絵本等)山岸智幸三起商工",1,{"$f":"VLOOKUP(\"*\"&目次加工!$B$2&\"*\",J1785:K1785,2,0)","v":1},{"$error":"#N/A"}]
[null,null,null,{"$f":"分類順!A1785","v":"ゆらゆらゆくよ"},{"$f":"分類順!B1785","v":"絵本"},{"$f":"分類順!C1785","v":"分類なし(絵本等)"},{"$f":"分類順!D1785","v":"ジョンセン"},{"$f":"分類順!E1785","v":"小峰書店"},{"$f":"分類順!F1785","v":20137},"ゆらゆらゆくよ絵本分類なし(絵本等)ジョンセン小峰書店",1,{"$f":"VLOOKUP(\"*\"&目次加工!$B$2&\"*\",J1786:K1786,2,0)","v":1},{"$error":"#N/A"}]
[null,null,null,{"$f":"分類順!A1786","v":"ミッキーマウス　たからさがし　ディズニーとびだししかけえほん"},{"$f":"分類順!B1786","v":"絵本"},{"$f":"分類順!C1786","v":"分類なし(絵本等)"},{"$f":"分類順!D1786","v":"ディズニー"},{"$f":"分類順!E1786","v":"大日本絵画"},{"$f":"分類順!F1786","v":20138},"ミッキーマウス　たからさがし　ディズニーとびだししかけえほん絵本分類なし(絵本等)ディズニー大日本絵画",1,{"$f":"VLOOKUP(\"*\"&目次加工!$B$2&\"*\",J1787:K1787,2,0)","v":1},{"$error":"#N/A"}]
[null,null,null,{"$f":"分類順!A1787","v":"クリスマスの12日"},{"$f":"分類順!B1787","v":"絵本"},{"$f":"分類順!C1787","v":"分類なし(絵本等)"},{"$f":"分類順!D1787","v":"サブダ"},{"$f":"分類順!E1787","v":"大日本絵画"},{"$f":"分類順!F1787","v":20139},"クリスマスの12日絵本分類なし(絵本等)サブダ大日本絵画",1,{"$f":"VLOOKUP(\"*\"&目次加工!$B$2&\"*\",J1788:K1788,2,0)","v":1},{"$error":"#N/A"}]
[null,null,null,{"$f":"分類順!A1788","v":"こねこの　ぴっち"},{"$f":"分類順!B1788","v":"絵本"},{"$f":"分類順!C1788","v":"分類なし(絵本等)"},{"$f":"分類順!D1788","v":"石井桃子"},{"$f":"分類順!E1788","v":"岩波書店"},{"$f":"分類順!F1788","v":20140},"こねこの　ぴっち絵本分類なし(絵本等)石井桃子岩波書店",1,{"$f":"VLOOKUP(\"*\"&目次加工!$B$2&\"*\",J1789:K1789,2,0)","v":1},{"$error":"#N/A"}]
[null,null,null,{"$f":"分類順!A1789","v":"くまの子ウーフの絵本　お日さまは　はだかんぼ"},{"$f":"分類順!B1789","v":"絵本"},{"$f":"分類順!C1789","v":"分類なし(絵本等)"},{"$f":"分類順!D1789","v":"神沢利子"},{"$f":"分類順!E1789","v":"ポプラ社"},{"$f":"分類順!F1789","v":20141},"くまの子ウーフの絵本　お日さまは　はだかんぼ絵本分類なし(絵本等)神沢利子ポプラ社",1,{"$f":"VLOOKUP(\"*\"&目次加工!$B$2&\"*\",J1790:K1790,2,0)","v":1},{"$error":"#N/A"}]
[null,null,null,{"$f":"分類順!A1790","v":"鹿のまほう"},{"$f":"分類順!B1790","v":"絵本"},{"$f":"分類順!C1790","v":"分類なし(絵本等)"},{"$f":"分類順!D1790","v":"岡田美里"},{"$f":"分類順!E1790","v":"星の環会"},{"$f":"分類順!F1790","v":20142},"鹿のまほう絵本分類なし(絵本等)岡田美里星の環会",1,{"$f":"VLOOKUP(\"*\"&目次加工!$B$2&\"*\",J1791:K1791,2,0)","v":1},{"$error":"#N/A"}]
[null,null,null,{"$f":"分類順!A1791","v":"けいてぃー　はたらきもののじょせつしゃ"},{"$f":"分類順!B1791","v":"絵本"},{"$f":"分類順!C1791","v":"分類なし(絵本等)"},{"$f":"分類順!D1791","v":"バートン"},{"$f":"分類順!E1791","v":"福音館書店"},{"$f":"分類順!F1791","v":20143},"けいてぃー　はたらきもののじょせつしゃ絵本分類なし(絵本等)バートン福音館書店",1,{"$f":"VLOOKUP(\"*\"&目次加工!$B$2&\"*\",J1792:K1792,2,0)","v":1},{"$error":"#N/A"}]
[null,null,null,{"$f":"分類順!A1792","v":"ぐるんぱのようちえん"},{"$f":"分類順!B1792","v":"絵本"},{"$f":"分類順!C1792","v":"分類なし(絵本等)"},{"$f":"分類順!D1792","v":"西内ミナミ"},{"$f":"分類順!E1792","v":"福音館書店"},{"$f":"分類順!F1792","v":20144},"ぐるんぱのようちえん絵本分類なし(絵本等)西内ミナミ福音館書店",1,{"$f":"VLOOKUP(\"*\"&目次加工!$B$2&\"*\",J1793:K1793,2,0)","v":1},{"$error":"#N/A"}]
[null,null,null,{"$f":"分類順!A1793","v":"ペーター・プムのともだちさがし"},{"$f":"分類順!B1793","v":"絵本"},{"$f":"分類順!C1793","v":"分類なし(絵本等)"},{"$f":"分類順!D1793","v":"イェシュケ"},{"$f":"分類順!E1793","v":"フレーベル館"},{"$f":"分類順!F1793","v":20146},"ペーター・プムのともだちさがし絵本分類なし(絵本等)イェシュケフレーベル館",1,{"$f":"VLOOKUP(\"*\"&目次加工!$B$2&\"*\",J1794:K1794,2,0)","v":1},{"$error":"#N/A"}]
[null,null,null,{"$f":"分類順!A1794","v":"はずかしがりやのれんこんくん"},{"$f":"分類順!B1794","v":"絵本"},{"$f":"分類順!C1794","v":"分類なし(絵本等)"},{"$f":"分類順!D1794","v":"二宮由紀子"},{"$f":"分類順!E1794","v":"童心社"},{"$f":"分類順!F1794","v":20148},"はずかしがりやのれんこんくん絵本分類なし(絵本等)二宮由紀子童心社",1,{"$f":"VLOOKUP(\"*\"&目次加工!$B$2&\"*\",J1795:K1795,2,0)","v":1},{"$error":"#N/A"}]
[null,null,null,{"$f":"分類順!A1795","v":"はなやのおばさん"},{"$f":"分類順!B1795","v":"絵本"},{"$f":"分類順!C1795","v":"分類なし(絵本等)"},{"$f":"分類順!D1795","v":"ねじめ正一"},{"$f":"分類順!E1795","v":"童心社"},{"$f":"分類順!F1795","v":20149},"はなやのおばさん絵本分類なし(絵本等)ねじめ正一童心社",1,{"$f":"VLOOKUP(\"*\"&目次加工!$B$2&\"*\",J1796:K1796,2,0)","v":1},{"$f":"VLOOKUP(\"*\"&$A$2&\"*\",J1796:K1796,2,0)","v":{"$error":"#N/A"}}]
[null,null,null,{"$f":"分類順!A1796","v":"かこさとし　あそびの大宇宙　しかくまぶたちゃんのあそび"},{"$f":"分類順!B1796","v":"絵本"},{"$f":"分類順!C1796","v":"分類なし(絵本等)"},{"$f":"分類順!D1796","v":"かこさとし"},{"$f":"分類順!E1796","v":"農山漁村文化協会"},{"$f":"分類順!F1796","v":20150},"かこさとし　あそびの大宇宙　しかくまぶたちゃんのあそび絵本分類なし(絵本等)かこさとし農山漁村文化協会",1,{"$f":"VLOOKUP(\"*\"&目次加工!$B$2&\"*\",J1797:K1797,2,0)","v":1},{"$error":"#N/A"}]
[null,null,null,{"$f":"分類順!A1797","v":"あざらしのはる"},{"$f":"分類順!B1797","v":"絵本"},{"$f":"分類順!C1797","v":"分類なし(絵本等)"},{"$f":"分類順!D1797","v":"手島圭三郎"},{"$f":"分類順!E1797","v":"リブリオ出版"},{"$f":"分類順!F1797","v":20151},"あざらしのはる絵本分類なし(絵本等)手島圭三郎リブリオ出版",1,{"$f":"VLOOKUP(\"*\"&目次加工!$B$2&\"*\",J1798:K1798,2,0)","v":1},{"$error":"#N/A"}]
[null,null,null,{"$f":"分類順!A1798","v":"はだかのおうさま"},{"$f":"分類順!B1798","v":"絵本"},{"$f":"分類順!C1798","v":"分類なし(絵本等)"},{"$f":"分類順!D1798","v":"アンデルセン"},{"$f":"分類順!E1798","v":"岩崎書店"},{"$f":"分類順!F1798","v":20152},"はだかのおうさま絵本分類なし(絵本等)アンデルセン岩崎書店",1,{"$f":"VLOOKUP(\"*\"&目次加工!$B$2&\"*\",J1799:K1799,2,0)","v":1},{"$error":"#N/A"}]
[null,null,null,{"$f":"分類順!A1799","v":"とんでったらあふりか"},{"$f":"分類順!B1799","v":"絵本"},{"$f":"分類順!C1799","v":"分類なし(絵本等)"},{"$f":"分類順!D1799","v":"羽仁　進"},{"$f":"分類順!E1799","v":"福音館書店"},{"$f":"分類順!F1799","v":20153},"とんでったらあふりか絵本分類なし(絵本等)羽仁　進福音館書店",1,{"$f":"VLOOKUP(\"*\"&目次加工!$B$2&\"*\",J1800:K1800,2,0)","v":1},{"$error":"#N/A"}]
[null,null,null,{"$f":"分類順!A1800","v":"あんな雪　こんな氷"},{"$f":"分類順!B1800","v":"絵本"},{"$f":"分類順!C1800","v":"分類なし(絵本等)"},{"$f":"分類順!D1800","v":"高橋喜平"},{"$f":"分類順!E1800","v":"講談社"},{"$f":"分類順!F1800","v":20155},"あんな雪　こんな氷絵本分類なし(絵本等)高橋喜平講談社",1,{"$f":"VLOOKUP(\"*\"&目次加工!$B$2&\"*\",J1801:K1801,2,0)","v":1},{"$error":"#N/A"}]
[null,null,null,{"$f":"分類順!A1801","v":"わくわく森のむ・－かみ"},{"$f":"分類順!B1801","v":"絵本"},{"$f":"分類順!C1801","v":"分類なし(絵本等)"},{"$f":"分類順!D1801","v":"村上しいこ"},{"$f":"分類順!E1801","v":"アリス館"},{"$f":"分類順!F1801","v":20156},"わくわく森のむ・－かみ絵本分類なし(絵本等)村上しいこアリス館",1,{"$f":"VLOOKUP(\"*\"&目次加工!$B$2&\"*\",J1802:K1802,2,0)","v":1},{"$error":"#N/A"}]
[null,null,null,{"$f":"分類順!A1802","v":"おさるのジョージ　チョコレートこうじょうへいく"},{"$f":"分類順!B1802","v":"絵本"},{"$f":"分類順!C1802","v":"分類なし(絵本等)"},{"$f":"分類順!D1802","v":"レイ"},{"$f":"分類順!E1802","v":"岩波書店"},{"$f":"分類順!F1802","v":20157},"おさるのジョージ　チョコレートこうじょうへいく絵本分類なし(絵本等)レイ岩波書店",1,{"$f":"VLOOKUP(\"*\"&目次加工!$B$2&\"*\",J1803:K1803,2,0)","v":1},{"$error":"#N/A"}]
[null,null,null,{"$f":"分類順!A1803","v":"ぼくとおかあさん"},{"$f":"分類順!B1803","v":"絵本"},{"$f":"分類順!C1803","v":"分類なし(絵本等)"},{"$f":"分類順!D1803","v":"宮本忠夫"},{"$f":"分類順!E1803","v":"くもん出版"},{"$f":"分類順!F1803","v":20158},"ぼくとおかあさん絵本分類なし(絵本等)宮本忠夫くもん出版",1,{"$f":"VLOOKUP(\"*\"&目次加工!$B$2&\"*\",J1804:K1804,2,0)","v":1},{"$error":"#N/A"}]
[null,null,null,{"$f":"分類順!A1804","v":"ピーポポ・パトロール　はんぶんおばけのマメンキサウルス"},{"$f":"分類順!B1804","v":"絵本"},{"$f":"分類順!C1804","v":"分類なし(絵本等)"},{"$f":"分類順!D1804","v":"柏葉幸子"},{"$f":"分類順!E1804","v":"童心社"},{"$f":"分類順!F1804","v":20159},"ピーポポ・パトロール　はんぶんおばけのマメンキサウルス絵本分類なし(絵本等)柏葉幸子童心社",1,{"$f":"VLOOKUP(\"*\"&目次加工!$B$2&\"*\",J1805:K1805,2,0)","v":1},{"$error":"#N/A"}]
[null,null,null,{"$f":"分類順!A1805","v":"ちいさなチョーじんスーパーぼうや"},{"$f":"分類順!B1805","v":"絵本"},{"$f":"分類順!C1805","v":"分類なし(絵本等)"},{"$f":"分類順!D1805","v":"グラハム"},{"$f":"分類順!E1805","v":"評論社"},{"$f":"分類順!F1805","v":20162},"ちいさなチョーじんスーパーぼうや絵本分類なし(絵本等)グラハム評論社",1,{"$f":"VLOOKUP(\"*\"&目次加工!$B$2&\"*\",J1806:K1806,2,0)","v":1},{"$error":"#N/A"}]
[null,null,null,{"$f":"分類順!A1806","v":"としょかんライオン"},{"$f":"分類順!B1806","v":"絵本"},{"$f":"分類順!C1806","v":"分類なし(絵本等)"},{"$f":"分類順!D1806","v":"ヌードセン"},{"$f":"分類順!E1806","v":"岩崎書店"},{"$f":"分類順!F1806","v":20163},"としょかんライオン絵本分類なし(絵本等)ヌードセン岩崎書店",1,{"$f":"VLOOKUP(\"*\"&目次加工!$B$2&\"*\",J1807:K1807,2,0)","v":1},{"$error":"#N/A"}]
[null,null,null,{"$f":"分類順!A1807","v":"リトルチャロ　～キャンディのたんじょうび～"},{"$f":"分類順!B1807","v":"絵本"},{"$f":"分類順!C1807","v":"分類なし(絵本等)"},{"$f":"分類順!D1807","v":"立原滉二"},{"$f":"分類順!E1807","v":"小学館"},{"$f":"分類順!F1807","v":20164},"リトルチャロ　～キャンディのたんじょうび～絵本分類なし(絵本等)立原滉二小学館",1,{"$f":"VLOOKUP(\"*\"&目次加工!$B$2&\"*\",J1808:K1808,2,0)","v":1},{"$error":"#N/A"}]
[null,null,null,{"$f":"分類順!A1808","v":"ダンボールごう空へ"},{"$f":"分類順!B1808","v":"絵本"},{"$f":"分類順!C1808","v":"分類なし(絵本等)"},{"$f":"分類順!D1808","v":"小森良子"},{"$f":"分類順!E1808","v":"新日本出版社"},{"$f":"分類順!F1808","v":20165},"ダンボールごう空へ絵本分類なし(絵本等)小森良子新日本出版社",1,{"$f":"VLOOKUP(\"*\"&目次加工!$B$2&\"*\",J1809:K1809,2,0)","v":1},{"$error":"#N/A"}]
[null,null,null,{"$f":"分類順!A1809","v":"ＮＯ　ＩＤＥＡ"},{"$f":"分類順!B1809","v":"絵本"},{"$f":"分類順!C1809","v":"分類なし(絵本等)"},{"$f":"分類順!D1809","v":"安西水丸"},{"$f":"分類順!E1809","v":"金の星社"},{"$f":"分類順!F1809","v":20166},"ＮＯ　ＩＤＥＡ絵本分類なし(絵本等)安西水丸金の星社",1,{"$f":"VLOOKUP(\"*\"&目次加工!$B$2&\"*\",J1810:K1810,2,0)","v":1},{"$error":"#N/A"}]
[null,null,null,{"$f":"分類順!A1810","v":"だ・い・す・き！　たぬきのホーショージくん"},{"$f":"分類順!B1810","v":"絵本"},{"$f":"分類順!C1810","v":"分類なし(絵本等)"},{"$f":"分類順!D1810","v":"菊池ただし"},{"$f":"分類順!E1810","v":"金の星社"},{"$f":"分類順!F1810","v":20167},{"$f":"D1811&E1811&F1811&G1811&H1811","v":"だ・い・す・き！　たぬきのホーショージくん絵本分類なし(絵本等)菊池ただし金の星社"},1,{"$f":"VLOOKUP(\"*\"&目次加工!$B$2&\"*\",J1811:K1811,2,0)","v":1},{"$error":"#N/A"}]
[null,null,null,{"$f":"分類順!A1811","v":"ふしぎふにゃふにゃフランケン"},{"$f":"分類順!B1811","v":"絵本"},{"$f":"分類順!C1811","v":"分類なし(絵本等)"},{"$f":"分類順!D1811","v":"立花尚之介"},{"$f":"分類順!E1811","v":"岩崎書店"},{"$f":"分類順!F1811","v":20169},"ふしぎふにゃふにゃフランケン絵本分類なし(絵本等)立花尚之介岩崎書店",1,{"$f":"VLOOKUP(\"*\"&目次加工!$B$2&\"*\",J1812:K1812,2,0)","v":1},{"$error":"#N/A"}]
[null,null,null,{"$f":"分類順!A1812","v":"天使のおともだち"},{"$f":"分類順!B1812","v":"絵本"},{"$f":"分類順!C1812","v":"分類なし(絵本等)"},{"$f":"分類順!D1812","v":"ロス"},{"$f":"分類順!E1812","v":"日本教文社"},{"$f":"分類順!F1812","v":20170},"天使のおともだち絵本分類なし(絵本等)ロス日本教文社",1,{"$f":"VLOOKUP(\"*\"&目次加工!$B$2&\"*\",J1813:K1813,2,0)","v":1},{"$error":"#N/A"}]
[null,null,null,{"$f":"分類順!A1813","v":"いのちのあさがお"},{"$f":"分類順!B1813","v":"絵本"},{"$f":"分類順!C1813","v":"分類なし(絵本等)"},{"$f":"分類順!D1813","v":"あやのまさる"},{"$f":"分類順!E1813","v":"ハート出版"},{"$f":"分類順!F1813","v":20171},"いのちのあさがお絵本分類なし(絵本等)あやのまさるハート出版",1,{"$f":"VLOOKUP(\"*\"&目次加工!$B$2&\"*\",J1814:K1814,2,0)","v":1},{"$error":"#N/A"}]
[null,null,null,{"$f":"分類順!A1814","v":"「かゆい、かゆい」はもうすぐそつぎょう"},{"$f":"分類順!B1814","v":"絵本"},{"$f":"分類順!C1814","v":"分類なし(絵本等)"},{"$f":"分類順!D1814","v":"ねじめ正一"},{"$f":"分類順!E1814","v":"大日本印刷社"},{"$f":"分類順!F1814","v":20172},"「かゆい、かゆい」はもうすぐそつぎょう絵本分類なし(絵本等)ねじめ正一大日本印刷社",1,{"$f":"VLOOKUP(\"*\"&目次加工!$B$2&\"*\",J1815:K1815,2,0)","v":1},{"$error":"#N/A"}]
[null,null,null,{"$f":"分類順!A1815","v":"クイールはもうどう犬になった"},{"$f":"分類順!B1815","v":"絵本"},{"$f":"分類順!C1815","v":"分類なし(絵本等)"},{"$f":"分類順!D1815","v":"こわせたまみ"},{"$f":"分類順!E1815","v":"ひさかたチャイルド"},{"$f":"分類順!F1815","v":20174},"クイールはもうどう犬になった絵本分類なし(絵本等)こわせたまみひさかたチャイルド",1,{"$f":"VLOOKUP(\"*\"&目次加工!$B$2&\"*\",J1816:K1816,2,0)","v":1},{"$error":"#N/A"}]
[null,null,null,{"$f":"分類順!A1816","v":"おにいちゃんがいてよかった"},{"$f":"分類順!B1816","v":"絵本"},{"$f":"分類順!C1816","v":"分類なし(絵本等)"},{"$f":"分類順!D1816","v":"細谷亮太"},{"$f":"分類順!E1816","v":"岩崎書店"},{"$f":"分類順!F1816","v":20175},"おにいちゃんがいてよかった絵本分類なし(絵本等)細谷亮太岩崎書店",1,{"$f":"VLOOKUP(\"*\"&目次加工!$B$2&\"*\",J1817:K1817,2,0)","v":1},{"$error":"#N/A"}]
[null,null,null,{"$f":"分類順!A1817","v":"ぼくのいのち"},{"$f":"分類順!B1817","v":"絵本"},{"$f":"分類順!C1817","v":"分類なし(絵本等)"},{"$f":"分類順!D1817","v":"細谷亮太"},{"$f":"分類順!E1817","v":"岩崎書店"},{"$f":"分類順!F1817","v":20176},"ぼくのいのち絵本分類なし(絵本等)細谷亮太岩崎書店",1,{"$f":"VLOOKUP(\"*\"&目次加工!$B$2&\"*\",J1818:K1818,2,0)","v":1},{"$error":"#N/A"}]
[null,null,null,{"$f":"分類順!A1818","v":"チャーリー・ブラウンなぜなんだい？"},{"$f":"分類順!B1818","v":"絵本"},{"$f":"分類順!C1818","v":"分類なし(絵本等)"},{"$f":"分類順!D1818","v":"シュルツ"},{"$f":"分類順!E1818","v":"岩崎書店"},{"$f":"分類順!F1818","v":20177},"チャーリー・ブラウンなぜなんだい？絵本分類なし(絵本等)シュルツ岩崎書店",1,{"$f":"VLOOKUP(\"*\"&目次加工!$B$2&\"*\",J1819:K1819,2,0)","v":1},{"$error":"#N/A"}]
[null,null,null,{"$f":"分類順!A1819","v":"はっぱのフレディ"},{"$f":"分類順!B1819","v":"絵本"},{"$f":"分類順!C1819","v":"分類なし(絵本等)"},{"$f":"分類順!D1819","v":"バスカーリア"},{"$f":"分類順!E1819","v":"童話屋"},{"$f":"分類順!F1819","v":20178},"はっぱのフレディ絵本分類なし(絵本等)バスカーリア童話屋",1,{"$f":"VLOOKUP(\"*\"&目次加工!$B$2&\"*\",J1820:K1820,2,0)","v":1},{"$error":"#N/A"}]
[null,null,null,{"$f":"分類順!A1820","v":"サニーのおねがい　地雷ではなく花をください"},{"$f":"分類順!B1820","v":"絵本"},{"$f":"分類順!C1820","v":"分類なし(絵本等)"},{"$f":"分類順!D1820","v":"柳瀬房子"},{"$f":"分類順!E1820","v":"自由国民社"},{"$f":"分類順!F1820","v":20179},"サニーのおねがい　地雷ではなく花をください絵本分類なし(絵本等)柳瀬房子自由国民社",1,{"$f":"VLOOKUP(\"*\"&目次加工!$B$2&\"*\",J1821:K1821,2,0)","v":1},{"$error":"#N/A"}]
[null,null,null,{"$f":"分類順!A1821","v":"サニー　カンボジアへ　続・地雷ではなく花をください"},{"$f":"分類順!B1821","v":"絵本"},{"$f":"分類順!C1821","v":"分類なし(絵本等)"},{"$f":"分類順!D1821","v":"柳瀬房子"},{"$f":"分類順!E1821","v":"自由国民社"},{"$f":"分類順!F1821","v":20180},"サニー　カンボジアへ　続・地雷ではなく花をください絵本分類なし(絵本等)柳瀬房子自由国民社",1,{"$f":"VLOOKUP(\"*\"&目次加工!$B$2&\"*\",J1822:K1822,2,0)","v":1},{"$error":"#N/A"}]
[null,null,null,{"$f":"分類順!A1822","v":"サニー　ボスニア・ヘルツェゴビナへ　続々・地雷ではなく花をください"},{"$f":"分類順!B1822","v":"絵本"},{"$f":"分類順!C1822","v":"分類なし(絵本等)"},{"$f":"分類順!D1822","v":"柳瀬房子"},{"$f":"分類順!E1822","v":"自由国民社"},{"$f":"分類順!F1822","v":20181},"サニー　ボスニア・ヘルツェゴビナへ　続々・地雷ではなく花をください絵本分類なし(絵本等)柳瀬房子自由国民社",1,{"$f":"VLOOKUP(\"*\"&目次加工!$B$2&\"*\",J1823:K1823,2,0)","v":1},{"$error":"#N/A"}]
[null,null,null,{"$f":"分類順!A1823","v":"サニーのゆめ　ありがとう地雷ではなく花をください"},{"$f":"分類順!B1823","v":"絵本"},{"$f":"分類順!C1823","v":"分類なし(絵本等)"},{"$f":"分類順!D1823","v":"柳瀬房子"},{"$f":"分類順!E1823","v":"自由国民社"},{"$f":"分類順!F1823","v":20182},"サニーのゆめ　ありがとう地雷ではなく花をください絵本分類なし(絵本等)柳瀬房子自由国民社",1,{"$f":"VLOOKUP(\"*\"&目次加工!$B$2&\"*\",J1824:K1824,2,0)","v":1},{"$error":"#N/A"}]
[null,null,null,{"$f":"分類順!A1824","v":"サニー　アフガニスタンへ　心をこめて地雷ではなく花をください"},{"$f":"分類順!B1824","v":"絵本"},{"$f":"分類順!C1824","v":"分類なし(絵本等)"},{"$f":"分類順!D1824","v":"柳瀬房子"},{"$f":"分類順!E1824","v":"自由国民社"},{"$f":"分類順!F1824","v":20183},"サニー　アフガニスタンへ　心をこめて地雷ではなく花をください絵本分類なし(絵本等)柳瀬房子自由国民社",1,{"$f":"VLOOKUP(\"*\"&目次加工!$B$2&\"*\",J1825:K1825,2,0)","v":1},{"$error":"#N/A"}]
[null,null,null,{"$f":"分類順!A1825","v":"わらべきみか　イラスト・セレクション"},{"$f":"分類順!B1825","v":"絵本"},{"$f":"分類順!C1825","v":"分類なし(絵本等)"},{"$f":"分類順!D1825","v":"わらべきみか"},{"$f":"分類順!E1825","v":"ひかりのくに"},{"$f":"分類順!F1825","v":20185},"わらべきみか　イラスト・セレクション絵本分類なし(絵本等)わらべきみかひかりのくに",1,{"$f":"VLOOKUP(\"*\"&目次加工!$B$2&\"*\",J1826:K1826,2,0)","v":1},{"$error":"#N/A"}]
[null,null,null,{"$f":"分類順!A1826","v":"折って丸めてへんしん！　おもしろハンカチ遊び"},{"$f":"分類順!B1826","v":"絵本"},{"$f":"分類順!C1826","v":"分類なし(絵本等)"},{"$f":"分類順!D1826","v":"タキガワタカシ"},{"$f":"分類順!E1826","v":"すずき出版"},{"$f":"分類順!F1826","v":20186},"折って丸めてへんしん！　おもしろハンカチ遊び絵本分類なし(絵本等)タキガワタカシすずき出版",1,{"$f":"VLOOKUP(\"*\"&目次加工!$B$2&\"*\",J1827:K1827,2,0)","v":1},{"$error":"#N/A"}]
[null,null,null,{"$f":"分類順!A1827","v":"楽しいおりがみ教室"},{"$f":"分類順!B1827","v":"絵本"},{"$f":"分類順!C1827","v":"分類なし(絵本等)"},{"$f":"分類順!D1827","v":"八田久弥"},{"$f":"分類順!E1827","v":"小学館"},{"$f":"分類順!F1827","v":20187},"楽しいおりがみ教室絵本分類なし(絵本等)八田久弥小学館",1,{"$f":"VLOOKUP(\"*\"&目次加工!$B$2&\"*\",J1828:K1828,2,0)","v":1},{"$error":"#N/A"}]
[null,null,null,{"$f":"分類順!A1828","v":"いこうよいこうよどうぶつえん"},{"$f":"分類順!B1828","v":"絵本"},{"$f":"分類順!C1828","v":"分類なし(絵本等)"},{"$f":"分類順!D1828","v":"さいとうとしこ"},{"$f":"分類順!E1828","v":"齋藤登志子"},{"$f":"分類順!F1828","v":20188},"いこうよいこうよどうぶつえん絵本分類なし(絵本等)さいとうとしこ齋藤登志子",1,{"$f":"VLOOKUP(\"*\"&目次加工!$B$2&\"*\",J1829:K1829,2,0)","v":1},{"$error":"#N/A"}]
[null,null,null,{"$f":"分類順!A1829","v":"トイレさくせん"},{"$f":"分類順!B1829","v":"絵本"},{"$f":"分類順!C1829","v":"分類なし(絵本等)"},{"$f":"分類順!D1829","v":"うめだよしこ"},{"$f":"分類順!E1829","v":"新日本出版社"},{"$f":"分類順!F1829","v":20189},"トイレさくせん絵本分類なし(絵本等)うめだよしこ新日本出版社",1,{"$f":"VLOOKUP(\"*\"&目次加工!$B$2&\"*\",J1830:K1830,2,0)","v":1},{"$error":"#N/A"}]
[null,null,null,{"$f":"分類順!A1830","v":"ぼくをすてないで"},{"$f":"分類順!B1830","v":"絵本"},{"$f":"分類順!C1830","v":"分類なし(絵本等)"},{"$f":"分類順!D1830","v":"なりゆきわかこ"},{"$f":"分類順!E1830","v":"ハート出版"},{"$f":"分類順!F1830","v":20190},"ぼくをすてないで絵本分類なし(絵本等)なりゆきわかこハート出版",1,{"$f":"VLOOKUP(\"*\"&目次加工!$B$2&\"*\",J1831:K1831,2,0)","v":1},{"$error":"#N/A"}]
[null,null,null,{"$f":"分類順!A1831","v":"１年生のえほん百科"},{"$f":"分類順!B1831","v":"絵本"},{"$f":"分類順!C1831","v":"分類なし(絵本等)"},{"$f":"分類順!D1831","v":"無藤　隆"},{"$f":"分類順!E1831","v":"講談社"},{"$f":"分類順!F1831","v":20191},"１年生のえほん百科絵本分類なし(絵本等)無藤　隆講談社",1,{"$f":"VLOOKUP(\"*\"&目次加工!$B$2&\"*\",J1832:K1832,2,0)","v":1},{"$error":"#N/A"}]
[null,null,null,{"$f":"分類順!A1832","v":"アンパンマンのなぞなぞのくに２"},{"$f":"分類順!B1832","v":"絵本"},{"$f":"分類順!C1832","v":"分類なし(絵本等)"},{"$f":"分類順!D1832","v":"やなせたかし"},{"$f":"分類順!E1832","v":"フレーベル館"},{"$f":"分類順!F1832","v":20192},"アンパンマンのなぞなぞのくに２絵本分類なし(絵本等)やなせたかしフレーベル館",1,{"$f":"VLOOKUP(\"*\"&目次加工!$B$2&\"*\",J1833:K1833,2,0)","v":1},{"$error":"#N/A"}]
[null,null,null,{"$f":"分類順!A1833","v":"センナじいとくま"},{"$f":"分類順!B1833","v":"絵本"},{"$f":"分類順!C1833","v":"分類なし(絵本等)"},{"$f":"分類順!D1833","v":"松谷みよ子"},{"$f":"分類順!E1833","v":"童心社"},{"$f":"分類順!F1833","v":20194},"センナじいとくま絵本分類なし(絵本等)松谷みよ子童心社",1,{"$f":"VLOOKUP(\"*\"&目次加工!$B$2&\"*\",J1834:K1834,2,0)","v":1},{"$error":"#N/A"}]
[null,null,null,{"$f":"分類順!A1834","v":"あめあがり"},{"$f":"分類順!B1834","v":"絵本"},{"$f":"分類順!C1834","v":"分類なし(絵本等)"},{"$f":"分類順!D1834","v":"きむらゆういち"},{"$f":"分類順!E1834","v":"小峰書店"},{"$f":"分類順!F1834","v":20195},"あめあがり絵本分類なし(絵本等)きむらゆういち小峰書店",1,{"$f":"VLOOKUP(\"*\"&目次加工!$B$2&\"*\",J1835:K1835,2,0)","v":1},{"$error":"#N/A"}]
[null,null,null,{"$f":"分類順!A1835","v":"いのちは見えるよ"},{"$f":"分類順!B1835","v":"絵本"},{"$f":"分類順!C1835","v":"分類なし(絵本等)"},{"$f":"分類順!D1835","v":"及川和男"},{"$f":"分類順!E1835","v":"岩崎書店"},{"$f":"分類順!F1835","v":20197},"いのちは見えるよ絵本分類なし(絵本等)及川和男岩崎書店",1,{"$f":"VLOOKUP(\"*\"&目次加工!$B$2&\"*\",J1836:K1836,2,0)","v":1},{"$error":"#N/A"}]
[null,null,null,{"$f":"分類順!A1836","v":"こねこのいのち"},{"$f":"分類順!B1836","v":"絵本"},{"$f":"分類順!C1836","v":"分類なし(絵本等)"},{"$f":"分類順!D1836","v":"高橋さくら"},{"$f":"分類順!E1836","v":"ハート出版"},{"$f":"分類順!F1836","v":20198},"こねこのいのち絵本分類なし(絵本等)高橋さくらハート出版",1,{"$f":"VLOOKUP(\"*\"&目次加工!$B$2&\"*\",J1837:K1837,2,0)","v":1},{"$error":"#N/A"}]
[null,null,null,{"$f":"分類順!A1837","v":"みつやくんのマークX"},{"$f":"分類順!B1837","v":"絵本"},{"$f":"分類順!C1837","v":"分類なし(絵本等)"},{"$f":"分類順!D1837","v":"渡辺茂男"},{"$f":"分類順!E1837","v":"新栄堂書店"},{"$f":"分類順!F1837","v":20199},"みつやくんのマークX絵本分類なし(絵本等)渡辺茂男新栄堂書店",1,{"$f":"VLOOKUP(\"*\"&目次加工!$B$2&\"*\",J1838:K1838,2,0)","v":1},{"$error":"#N/A"}]
[null,null,null,{"$f":"分類順!A1838","v":"アフリカ　ないしょだけどほんとだよ"},{"$f":"分類順!B1838","v":"絵本"},{"$f":"分類順!C1838","v":"分類なし(絵本等)"},{"$f":"分類順!D1838","v":"竹下文子"},{"$f":"分類順!E1838","v":"ポプラ社"},{"$f":"分類順!F1838","v":20200},"アフリカ　ないしょだけどほんとだよ絵本分類なし(絵本等)竹下文子ポプラ社",1,{"$f":"VLOOKUP(\"*\"&目次加工!$B$2&\"*\",J1839:K1839,2,0)","v":1},{"$error":"#N/A"}]
[null,null,null,{"$f":"分類順!A1839","v":"森のこずえちゃん"},{"$f":"分類順!B1839","v":"絵本"},{"$f":"分類順!C1839","v":"分類なし(絵本等)"},{"$f":"分類順!D1839","v":"松居スーザン"},{"$f":"分類順!E1839","v":"童心社"},{"$f":"分類順!F1839","v":20201},"森のこずえちゃん絵本分類なし(絵本等)松居スーザン童心社",1,{"$f":"VLOOKUP(\"*\"&目次加工!$B$2&\"*\",J1840:K1840,2,0)","v":1},{"$error":"#N/A"}]
[null,null,null,{"$f":"分類順!A1840","v":"あっぱれ！わかとの天福丸　お国がえの巻"},{"$f":"分類順!B1840","v":"絵本"},{"$f":"分類順!C1840","v":"分類なし(絵本等)"},{"$f":"分類順!D1840","v":"小暮正夫"},{"$f":"分類順!E1840","v":"金の星社"},{"$f":"分類順!F1840","v":20202},"あっぱれ！わかとの天福丸　お国がえの巻絵本分類なし(絵本等)小暮正夫金の星社",1,{"$f":"VLOOKUP(\"*\"&目次加工!$B$2&\"*\",J1841:K1841,2,0)","v":1},{"$error":"#N/A"}]
[null,null,null,{"$f":"分類順!A1841","v":"綱渡りの男"},{"$f":"分類順!B1841","v":"絵本"},{"$f":"分類順!C1841","v":"分類なし(絵本等)"},{"$f":"分類順!D1841","v":"ガースティン"},{"$f":"分類順!E1841","v":"小峰書店"},{"$f":"分類順!F1841","v":20203},"綱渡りの男絵本分類なし(絵本等)ガースティン小峰書店",1,{"$f":"VLOOKUP(\"*\"&目次加工!$B$2&\"*\",J1842:K1842,2,0)","v":1},{"$error":"#N/A"}]
[null,null,null,{"$f":"分類順!A1842","v":"ピンちゃんポンちゃんだ～いすき！"},{"$f":"分類順!B1842","v":"絵本"},{"$f":"分類順!C1842","v":"分類なし(絵本等)"},{"$f":"分類順!D1842","v":"わたせせいぞう"},{"$f":"分類順!E1842","v":"講談社"},{"$f":"分類順!F1842","v":20205},"ピンちゃんポンちゃんだ～いすき！絵本分類なし(絵本等)わたせせいぞう講談社",1,{"$f":"VLOOKUP(\"*\"&目次加工!$B$2&\"*\",J1843:K1843,2,0)","v":1},{"$error":"#N/A"}]
[null,null,null,{"$f":"分類順!A1843","v":"おばけファクトリー（工場）"},{"$f":"分類順!B1843","v":"絵本"},{"$f":"分類順!C1843","v":"分類なし(絵本等)"},{"$f":"分類順!D1843","v":"みやざきひろかず"},{"$f":"分類順!E1843","v":"旺文社"},{"$f":"分類順!F1843","v":20206},"おばけファクトリー（工場）絵本分類なし(絵本等)みやざきひろかず旺文社",1,{"$f":"VLOOKUP(\"*\"&目次加工!$B$2&\"*\",J1844:K1844,2,0)","v":1},{"$error":"#N/A"}]
[null,null,null,{"$f":"分類順!A1844","v":"ホバート"},{"$f":"分類順!B1844","v":"絵本"},{"$f":"分類順!C1844","v":"分類なし(絵本等)"},{"$f":"分類順!D1844","v":"ブリッグズ"},{"$f":"分類順!E1844","v":"金の星社"},{"$f":"分類順!F1844","v":20207},"ホバート絵本分類なし(絵本等)ブリッグズ金の星社",1,{"$f":"VLOOKUP(\"*\"&目次加工!$B$2&\"*\",J1845:K1845,2,0)","v":1},{"$error":"#N/A"}]
[null,null,null,{"$f":"分類順!A1845","v":"へんてこ宝さがし・３　むかし砂漠はどこだ！"},{"$f":"分類順!B1845","v":"絵本"},{"$f":"分類順!C1845","v":"分類なし(絵本等)"},{"$f":"分類順!D1845","v":"三田村信行"},{"$f":"分類順!E1845","v":"あかね書房"},{"$f":"分類順!F1845","v":20209},"へんてこ宝さがし・３　むかし砂漠はどこだ！絵本分類なし(絵本等)三田村信行あかね書房",1,{"$f":"VLOOKUP(\"*\"&目次加工!$B$2&\"*\",J1846:K1846,2,0)","v":1},{"$error":"#N/A"}]
[null,null,null,{"$f":"分類順!A1846","v":"へんてこ宝さがし・２　マンドラゴラを追え！"},{"$f":"分類順!B1846","v":"絵本"},{"$f":"分類順!C1846","v":"分類なし(絵本等)"},{"$f":"分類順!D1846","v":"三田村信行"},{"$f":"分類順!E1846","v":"あかね書房"},{"$f":"分類順!F1846","v":20210},"へんてこ宝さがし・２　マンドラゴラを追え！絵本分類なし(絵本等)三田村信行あかね書房",1,{"$f":"VLOOKUP(\"*\"&目次加工!$B$2&\"*\",J1847:K1847,2,0)","v":1},{"$error":"#N/A"}]
[null,null,null,{"$f":"分類順!A1847","v":"⑨　トイ・ストーリー"},{"$f":"分類順!B1847","v":"絵本"},{"$f":"分類順!C1847","v":"分類なし(絵本等)"},{"$f":"分類順!D1847","v":"ディズニー"},{"$f":"分類順!E1847","v":"講談社"},{"$f":"分類順!F1847","v":20211},"⑨　トイ・ストーリー絵本分類なし(絵本等)ディズニー講談社",1,{"$f":"VLOOKUP(\"*\"&目次加工!$B$2&\"*\",J1848:K1848,2,0)","v":1},{"$error":"#N/A"}]
[null,null,null,{"$f":"分類順!A1848","v":"オウエンとムゼイ"},{"$f":"分類順!B1848","v":"絵本"},{"$f":"分類順!C1848","v":"分類なし(絵本等)"},{"$f":"分類順!D1848","v":"ハトコフ"},{"$f":"分類順!E1848","v":"NHK出版"},{"$f":"分類順!F1848","v":20212},"オウエンとムゼイ絵本分類なし(絵本等)ハトコフNHK出版",1,{"$f":"VLOOKUP(\"*\"&目次加工!$B$2&\"*\",J1849:K1849,2,0)","v":1},{"$error":"#N/A"}]
[null,null,null,{"$f":"分類順!A1849","v":"カメヤマ　カメタの一がっき"},{"$f":"分類順!B1849","v":"絵本"},{"$f":"分類順!C1849","v":"分類なし(絵本等)"},{"$f":"分類順!D1849","v":"ふなざきよしひこ"},{"$f":"分類順!E1849","v":"草土文化"},{"$f":"分類順!F1849","v":20214},"カメヤマ　カメタの一がっき絵本分類なし(絵本等)ふなざきよしひこ草土文化",1,{"$f":"VLOOKUP(\"*\"&目次加工!$B$2&\"*\",J1850:K1850,2,0)","v":1},{"$error":"#N/A"}]
[null,null,null,{"$f":"分類順!A1850","v":"モンプチ人形のぼうけん旅行"},{"$f":"分類順!B1850","v":"絵本"},{"$f":"分類順!C1850","v":"分類なし(絵本等)"},{"$f":"分類順!D1850","v":"舟崎克彦"},{"$f":"分類順!E1850","v":"金の星社"},{"$f":"分類順!F1850","v":20215},"モンプチ人形のぼうけん旅行絵本分類なし(絵本等)舟崎克彦金の星社",1,{"$f":"VLOOKUP(\"*\"&目次加工!$B$2&\"*\",J1851:K1851,2,0)","v":1},{"$error":"#N/A"}]
[null,null,null,{"$f":"分類順!A1851","v":"おかあさんのパジャマ"},{"$f":"分類順!B1851","v":"絵本"},{"$f":"分類順!C1851","v":"分類なし(絵本等)"},{"$f":"分類順!D1851","v":"渡辺博子"},{"$f":"分類順!E1851","v":"ハート出版"},{"$f":"分類順!F1851","v":20216},"おかあさんのパジャマ絵本分類なし(絵本等)渡辺博子ハート出版",1,{"$f":"VLOOKUP(\"*\"&目次加工!$B$2&\"*\",J1852:K1852,2,0)","v":1},{"$error":"#N/A"}]
[null,null,null,{"$f":"分類順!A1852","v":"あいうえおの花"},{"$f":"分類順!B1852","v":"絵本"},{"$f":"分類順!C1852","v":"分類なし(絵本等)"},{"$f":"分類順!D1852","v":"秋山　滋"},{"$f":"分類順!E1852","v":"金の星社"},{"$f":"分類順!F1852","v":20217},"あいうえおの花絵本分類なし(絵本等)秋山　滋金の星社",1,{"$f":"VLOOKUP(\"*\"&目次加工!$B$2&\"*\",J1853:K1853,2,0)","v":1},{"$error":"#N/A"}]
[null,null,null,{"$f":"分類順!A1853","v":"聖夜のおくりもの"},{"$f":"分類順!B1853","v":"絵本"},{"$f":"分類順!C1853","v":"分類なし(絵本等)"},{"$f":"分類順!D1853","v":"ロマンス"},{"$f":"分類順!E1853","v":"岩波書店"},{"$f":"分類順!F1853","v":20218},"聖夜のおくりもの絵本分類なし(絵本等)ロマンス岩波書店",1,{"$f":"VLOOKUP(\"*\"&目次加工!$B$2&\"*\",J1854:K1854,2,0)","v":1},{"$error":"#N/A"}]
[null,null,null,{"$f":"分類順!A1854","v":"ザスーラ"},{"$f":"分類順!B1854","v":"絵本"},{"$f":"分類順!C1854","v":"分類なし(絵本等)"},{"$f":"分類順!D1854","v":"オールズバーグ"},{"$f":"分類順!E1854","v":"ほるぷ出版"},{"$f":"分類順!F1854","v":20219},"ザスーラ絵本分類なし(絵本等)オールズバーグほるぷ出版",1,{"$f":"VLOOKUP(\"*\"&目次加工!$B$2&\"*\",J1855:K1855,2,0)","v":1},{"$error":"#N/A"}]
[null,null,null,{"$f":"分類順!A1855","v":"ほんとうのハチこうものがたり"},{"$f":"分類順!B1855","v":"絵本"},{"$f":"分類順!C1855","v":"分類なし(絵本等)"},{"$f":"分類順!D1855","v":"あやのまさる"},{"$f":"分類順!E1855","v":"ハート出版"},{"$f":"分類順!F1855","v":20221},"ほんとうのハチこうものがたり絵本分類なし(絵本等)あやのまさるハート出版",1,{"$f":"VLOOKUP(\"*\"&目次加工!$B$2&\"*\",J1856:K1856,2,0)","v":1},{"$error":"#N/A"}]
[null,null,null,{"$f":"分類順!A1856","v":"ジャムつきパンとフランシス"},{"$f":"分類順!B1856","v":"絵本"},{"$f":"分類順!C1856","v":"分類なし(絵本等)"},{"$f":"分類順!D1856","v":"ホーバン"},{"$f":"分類順!E1856","v":"好学社"},{"$f":"分類順!F1856","v":20223},"ジャムつきパンとフランシス絵本分類なし(絵本等)ホーバン好学社",1,{"$f":"VLOOKUP(\"*\"&目次加工!$B$2&\"*\",J1857:K1857,2,0)","v":1},{"$error":"#N/A"}]
[null,null,null,{"$f":"分類順!A1857","v":"シートンさんのどうぶつ記①"},{"$f":"分類順!B1857","v":"絵本"},{"$f":"分類順!C1857","v":"分類なし(絵本等)"},{"$f":"分類順!D1857","v":"シートン"},{"$f":"分類順!E1857","v":"集英社"},{"$f":"分類順!F1857","v":20224},"シートンさんのどうぶつ記①絵本分類なし(絵本等)シートン集英社",1,{"$f":"VLOOKUP(\"*\"&目次加工!$B$2&\"*\",J1858:K1858,2,0)","v":1},{"$error":"#N/A"}]
[null,null,null,{"$f":"分類順!A1858","v":"イプーとまほうのトンネル"},{"$f":"分類順!B1858","v":"絵本"},{"$f":"分類順!C1858","v":"分類なし(絵本等)"},{"$f":"分類順!D1858","v":"片岡道子"},{"$f":"分類順!E1858","v":"旺文社"},{"$f":"分類順!F1858","v":20225},"イプーとまほうのトンネル絵本分類なし(絵本等)片岡道子旺文社",1,{"$f":"VLOOKUP(\"*\"&目次加工!$B$2&\"*\",J1859:K1859,2,0)","v":1},{"$error":"#N/A"}]
[null,null,null,{"$f":"分類順!A1859","v":"手作りおもちゃのかがく館「重さでうごかす　１」"},{"$f":"分類順!B1859","v":"絵本"},{"$f":"分類順!C1859","v":"分類なし(絵本等)"},{"$f":"分類順!D1859","v":"きむらゆういち"},{"$f":"分類順!E1859","v":"ほるぷ出版"},{"$f":"分類順!F1859","v":20228},"手作りおもちゃのかがく館「重さでうごかす　１」絵本分類なし(絵本等)きむらゆういちほるぷ出版",1,{"$f":"VLOOKUP(\"*\"&目次加工!$B$2&\"*\",J1860:K1860,2,0)","v":1},{"$f":"VLOOKUP(\"*\"&$A$2&\"*\",J1860:K1860,2,0)","v":{"$error":"#N/A"}}]
[null,null,null,{"$f":"分類順!A1860","v":"さかな１ぴきなまのまま"},{"$f":"分類順!B1860","v":"絵本"},{"$f":"分類順!C1860","v":"分類なし(絵本等)"},{"$f":"分類順!D1860","v":"さのようこ"},{"$f":"分類順!E1860","v":"フレーベル館"},{"$f":"分類順!F1860","v":20229},"さかな１ぴきなまのまま絵本分類なし(絵本等)さのようこフレーベル館",1,{"$f":"VLOOKUP(\"*\"&目次加工!$B$2&\"*\",J1861:K1861,2,0)","v":1},{"$error":"#N/A"}]
[null,null,null,{"$f":"分類順!A1861","v":"ロッテ ニューヨークにいく"},{"$f":"分類順!B1861","v":"絵本"},{"$f":"分類順!C1861","v":"分類なし(絵本等)"},{"$f":"分類順!D1861","v":"デリエ"},{"$f":"分類順!E1861","v":"理論社"},{"$f":"分類順!F1861","v":20231},"ロッテ ニューヨークにいく絵本分類なし(絵本等)デリエ理論社",1,{"$f":"VLOOKUP(\"*\"&目次加工!$B$2&\"*\",J1862:K1862,2,0)","v":1},{"$error":"#N/A"}]
[null,null,null,{"$f":"分類順!A1862","v":"おひとよしのオオシカ"},{"$f":"分類順!B1862","v":"絵本"},{"$f":"分類順!C1862","v":"分類なし(絵本等)"},{"$f":"分類順!D1862","v":"スース"},{"$f":"分類順!E1862","v":"偕成社"},{"$f":"分類順!F1862","v":20232},"おひとよしのオオシカ絵本分類なし(絵本等)スース偕成社",1,{"$f":"VLOOKUP(\"*\"&目次加工!$B$2&\"*\",J1863:K1863,2,0)","v":1},{"$error":"#N/A"}]
[null,null,null,{"$f":"分類順!A1863","v":"パレッタとふしぎなもくば"},{"$f":"分類順!B1863","v":"絵本"},{"$f":"分類順!C1863","v":"分類なし(絵本等)"},{"$f":"分類順!D1863","v":"千葉史子"},{"$f":"分類順!E1863","v":"講談社"},{"$f":"分類順!F1863","v":20233},"パレッタとふしぎなもくば絵本分類なし(絵本等)千葉史子講談社",1,{"$f":"VLOOKUP(\"*\"&目次加工!$B$2&\"*\",J1864:K1864,2,0)","v":1},{"$error":"#N/A"}]
[null,null,null,{"$f":"分類順!A1864","v":"今日からは、あなたの盲導犬"},{"$f":"分類順!B1864","v":"絵本"},{"$f":"分類順!C1864","v":"分類なし(絵本等)"},{"$f":"分類順!D1864","v":"日野多香子"},{"$f":"分類順!E1864","v":"岩崎書店"},{"$f":"分類順!F1864","v":20234},"今日からは、あなたの盲導犬絵本分類なし(絵本等)日野多香子岩崎書店",1,{"$f":"VLOOKUP(\"*\"&目次加工!$B$2&\"*\",J1865:K1865,2,0)","v":1},{"$error":"#N/A"}]
[null,null,null,{"$f":"分類順!A1865","v":"平和の種をまく　ボスニアの少女エミナ"},{"$f":"分類順!B1865","v":"絵本"},{"$f":"分類順!C1865","v":"分類なし(絵本等)"},{"$f":"分類順!D1865","v":"大塚敦子"},{"$f":"分類順!E1865","v":"岩崎書店"},{"$f":"分類順!F1865","v":20235},"平和の種をまく　ボスニアの少女エミナ絵本分類なし(絵本等)大塚敦子岩崎書店",1,{"$f":"VLOOKUP(\"*\"&目次加工!$B$2&\"*\",J1866:K1866,2,0)","v":1},{"$error":"#N/A"}]
[null,null,null,{"$f":"分類順!A1866","v":"かわいいひかりのこたち"},{"$f":"分類順!B1866","v":"絵本"},{"$f":"分類順!C1866","v":"分類なし(絵本等)"},{"$f":"分類順!D1866","v":"イーダ・ボハッタ"},{"$f":"分類順!E1866","v":"童心社"},{"$f":"分類順!F1866","v":20236},"かわいいひかりのこたち絵本分類なし(絵本等)イーダ・ボハッタ童心社",1,{"$f":"VLOOKUP(\"*\"&目次加工!$B$2&\"*\",J1867:K1867,2,0)","v":1},{"$error":"#N/A"}]
[null,null,null,{"$f":"分類順!A1867","v":"さらばゆきひめ"},{"$f":"分類順!B1867","v":"絵本"},{"$f":"分類順!C1867","v":"分類なし(絵本等)"},{"$f":"分類順!D1867","v":"宮本忠夫"},{"$f":"分類順!E1867","v":"童心社"},{"$f":"分類順!F1867","v":20237},"さらばゆきひめ絵本分類なし(絵本等)宮本忠夫童心社",1,{"$f":"VLOOKUP(\"*\"&目次加工!$B$2&\"*\",J1868:K1868,2,0)","v":1},{"$error":"#N/A"}]
[null,null,null,{"$f":"分類順!A1868","v":"めざせクラスのクイズ王　ずっこけクイズ王"},{"$f":"分類順!B1868","v":"絵本"},{"$f":"分類順!C1868","v":"分類なし(絵本等)"},{"$f":"分類順!D1868","v":"ながたみかこ"},{"$f":"分類順!E1868","v":"大泉書店"},{"$f":"分類順!F1868","v":20238},"めざせクラスのクイズ王　ずっこけクイズ王絵本分類なし(絵本等)ながたみかこ大泉書店",1,{"$f":"VLOOKUP(\"*\"&目次加工!$B$2&\"*\",J1869:K1869,2,0)","v":1},{"$error":"#N/A"}]
[null,null,null,{"$f":"分類順!A1869","v":"カルガモガン太の涙"},{"$f":"分類順!B1869","v":"絵本"},{"$f":"分類順!C1869","v":"分類なし(絵本等)"},{"$f":"分類順!D1869","v":"吉本正彦"},{"$f":"分類順!E1869","v":"ハート出版"},{"$f":"分類順!F1869","v":20239},"カルガモガン太の涙絵本分類なし(絵本等)吉本正彦ハート出版",1,{"$f":"VLOOKUP(\"*\"&目次加工!$B$2&\"*\",J1870:K1870,2,0)","v":1},{"$error":"#N/A"}]
[null,null,null,{"$f":"分類順!A1870","v":"ほたる先生と「とべないホタル」たち"},{"$f":"分類順!B1870","v":"絵本"},{"$f":"分類順!C1870","v":"分類なし(絵本等)"},{"$f":"分類順!D1870","v":"綾野まさる"},{"$f":"分類順!E1870","v":"ハート出版"},{"$f":"分類順!F1870","v":20240},"ほたる先生と「とべないホタル」たち絵本分類なし(絵本等)綾野まさるハート出版",1,{"$f":"VLOOKUP(\"*\"&目次加工!$B$2&\"*\",J1871:K1871,2,0)","v":1},{"$error":"#N/A"}]
[null,null,null,{"$f":"分類順!A1871","v":"きんさんぎんさん　百年の物語"},{"$f":"分類順!B1871","v":"絵本"},{"$f":"分類順!C1871","v":"分類なし(絵本等)"},{"$f":"分類順!D1871","v":"綾野まさる"},{"$f":"分類順!E1871","v":"ハート出版"},{"$f":"分類順!F1871","v":20241},"きんさんぎんさん　百年の物語絵本分類なし(絵本等)綾野まさるハート出版",1,{"$f":"VLOOKUP(\"*\"&目次加工!$B$2&\"*\",J1872:K1872,2,0)","v":1},{"$error":"#N/A"}]
[null,null,null,{"$f":"分類順!A1872","v":"郵便犬ポチの一生　吹雪にきえた郵便屋さん"},{"$f":"分類順!B1872","v":"絵本"},{"$f":"分類順!C1872","v":"分類なし(絵本等)"},{"$f":"分類順!D1872","v":"綾野まさる"},{"$f":"分類順!E1872","v":"ハート出版"},{"$f":"分類順!F1872","v":20242},"郵便犬ポチの一生　吹雪にきえた郵便屋さん絵本分類なし(絵本等)綾野まさるハート出版",1,{"$f":"VLOOKUP(\"*\"&目次加工!$B$2&\"*\",J1873:K1873,2,0)","v":1},{"$error":"#N/A"}]
[null,null,null,{"$f":"分類順!A1873","v":"犬ぞり兄弟ヤマトとムサシ"},{"$f":"分類順!B1873","v":"絵本"},{"$f":"分類順!C1873","v":"分類なし(絵本等)"},{"$f":"分類順!D1873","v":"甲斐　望"},{"$f":"分類順!E1873","v":"ハート出版"},{"$f":"分類順!F1873","v":20243},"犬ぞり兄弟ヤマトとムサシ絵本分類なし(絵本等)甲斐　望ハート出版",1,{"$f":"VLOOKUP(\"*\"&目次加工!$B$2&\"*\",J1874:K1874,2,0)","v":1},{"$error":"#N/A"}]
[null,null,null,{"$f":"分類順!A1874","v":"さるの嫁っこ"},{"$f":"分類順!B1874","v":"絵本"},{"$f":"分類順!C1874","v":"分類なし(絵本等)"},{"$f":"分類順!D1874","v":"小沢昭巳"},{"$f":"分類順!E1874","v":"ハート出版"},{"$f":"分類順!F1874","v":20244},{"$f":"D1875&E1875&F1875&G1875&H1875","v":"さるの嫁っこ絵本分類なし(絵本等)小沢昭巳ハート出版"},1,{"$f":"VLOOKUP(\"*\"&目次加工!$B$2&\"*\",J1875:K1875,2,0)","v":1},{"$error":"#N/A"}]
[null,null,null,{"$f":"分類順!A1875","v":"親子で遊ぼう　手作りおもちゃ"},{"$f":"分類順!B1875","v":"絵本"},{"$f":"分類順!C1875","v":"分類なし(絵本等)"},{"$f":"分類順!D1875","v":"鈴木正一"},{"$f":"分類順!E1875","v":"成美堂出版"},{"$f":"分類順!F1875","v":20245},"親子で遊ぼう　手作りおもちゃ絵本分類なし(絵本等)鈴木正一成美堂出版",1,{"$f":"VLOOKUP(\"*\"&目次加工!$B$2&\"*\",J1876:K1876,2,0)","v":1},{"$error":"#N/A"}]
[null,null,null,{"$f":"分類順!A1876","v":"時を飛ぶＵＦＯ　大統領誘拐の怪事件"},{"$f":"分類順!B1876","v":"絵本"},{"$f":"分類順!C1876","v":"分類なし(絵本等)"},{"$f":"分類順!D1876","v":"高橋克雄"},{"$f":"分類順!E1876","v":"金の星社"},{"$f":"分類順!F1876","v":20246},"時を飛ぶＵＦＯ　大統領誘拐の怪事件絵本分類なし(絵本等)高橋克雄金の星社",1,{"$f":"VLOOKUP(\"*\"&目次加工!$B$2&\"*\",J1877:K1877,2,0)","v":1},{"$error":"#N/A"}]
[null,null,null,{"$f":"分類順!A1877","v":"どきどきミステリーランド　オペラ座の怪人"},{"$f":"分類順!B1877","v":"絵本"},{"$f":"分類順!C1877","v":"分類なし(絵本等)"},{"$f":"分類順!D1877","v":"ルルー"},{"$f":"分類順!E1877","v":"金の星社"},{"$f":"分類順!F1877","v":20247},"どきどきミステリーランド　オペラ座の怪人絵本分類なし(絵本等)ルルー金の星社",1,{"$f":"VLOOKUP(\"*\"&目次加工!$B$2&\"*\",J1878:K1878,2,0)","v":1},{"$error":"#N/A"}]
[null,null,null,{"$f":"分類順!A1878","v":"手作りおもちゃのかがく館　おってうごかす"},{"$f":"分類順!B1878","v":"絵本"},{"$f":"分類順!C1878","v":"分類なし(絵本等)"},{"$f":"分類順!D1878","v":"きむらゆういち"},{"$f":"分類順!E1878","v":"ほるぷ出版"},{"$f":"分類順!F1878","v":20248},"手作りおもちゃのかがく館　おってうごかす絵本分類なし(絵本等)きむらゆういちほるぷ出版",1,{"$f":"VLOOKUP(\"*\"&目次加工!$B$2&\"*\",J1879:K1879,2,0)","v":1},{"$error":"#N/A"}]
[null,null,null,{"$f":"分類順!A1879","v":"自然の中でかず・かたち遊び　かずの冒険　海編"},{"$f":"分類順!B1879","v":"絵本"},{"$f":"分類順!C1879","v":"分類なし(絵本等)"},{"$f":"分類順!D1879","v":"香川元太郎"},{"$f":"分類順!E1879","v":"小学館"},{"$f":"分類順!F1879","v":20249},"自然の中でかず・かたち遊び　かずの冒険　海編絵本分類なし(絵本等)香川元太郎小学館",1,{"$f":"VLOOKUP(\"*\"&目次加工!$B$2&\"*\",J1880:K1880,2,0)","v":1},{"$error":"#N/A"}]
[null,null,null,{"$f":"分類順!A1880","v":"NHKおじゃる丸　時代めいろでおじゃる"},{"$f":"分類順!B1880","v":"絵本"},{"$f":"分類順!C1880","v":"分類なし(絵本等)"},{"$f":"分類順!D1880","v":"このみﾌﾟﾗﾝﾆﾝｸﾞ"},{"$f":"分類順!E1880","v":"NHK出版"},{"$f":"分類順!F1880","v":20250},"NHKおじゃる丸　時代めいろでおじゃる絵本分類なし(絵本等)このみﾌﾟﾗﾝﾆﾝｸﾞNHK出版",1,{"$f":"VLOOKUP(\"*\"&目次加工!$B$2&\"*\",J1881:K1881,2,0)","v":1},{"$error":"#N/A"}]
[null,null,null,{"$f":"分類順!A1881","v":"いのちはどこに入ってるの？"},{"$f":"分類順!B1881","v":"絵本"},{"$f":"分類順!C1881","v":"分類なし(絵本等)"},{"$f":"分類順!D1881","v":"竹内　亨"},{"$f":"分類順!E1881","v":"ハート出版"},{"$f":"分類順!F1881","v":20252},"いのちはどこに入ってるの？絵本分類なし(絵本等)竹内　亨ハート出版",1,{"$f":"VLOOKUP(\"*\"&目次加工!$B$2&\"*\",J1882:K1882,2,0)","v":1},{"$error":"#N/A"}]
[null,null,null,{"$f":"分類順!A1882","v":"植村直己と氷原の犬アンナ"},{"$f":"分類順!B1882","v":"絵本"},{"$f":"分類順!C1882","v":"分類なし(絵本等)"},{"$f":"分類順!D1882","v":"関　朝之"},{"$f":"分類順!E1882","v":"ハート出版"},{"$f":"分類順!F1882","v":20253},"植村直己と氷原の犬アンナ絵本分類なし(絵本等)関　朝之ハート出版",1,{"$f":"VLOOKUP(\"*\"&目次加工!$B$2&\"*\",J1883:K1883,2,0)","v":1},{"$error":"#N/A"}]
[null,null,null,{"$f":"分類順!A1883","v":"愛された団地犬ダン"},{"$f":"分類順!B1883","v":"絵本"},{"$f":"分類順!C1883","v":"分類なし(絵本等)"},{"$f":"分類順!D1883","v":"関　朝之"},{"$f":"分類順!E1883","v":"ハート出版"},{"$f":"分類順!F1883","v":20254},"愛された団地犬ダン絵本分類なし(絵本等)関　朝之ハート出版",1,{"$f":"VLOOKUP(\"*\"&目次加工!$B$2&\"*\",J1884:K1884,2,0)","v":1},{"$error":"#N/A"}]
[null,null,null,{"$f":"分類順!A1884","v":"１２年目のお・か・あ・さ・ん"},{"$f":"分類順!B1884","v":"絵本"},{"$f":"分類順!C1884","v":"分類なし(絵本等)"},{"$f":"分類順!D1884","v":"綾野まさる"},{"$f":"分類順!E1884","v":"ハート出版"},{"$f":"分類順!F1884","v":20255},"１２年目のお・か・あ・さ・ん絵本分類なし(絵本等)綾野まさるハート出版",1,{"$f":"VLOOKUP(\"*\"&目次加工!$B$2&\"*\",J1885:K1885,2,0)","v":1},{"$error":"#N/A"}]
[null,null,null,{"$f":"分類順!A1885","v":"赤いくつはいてた女の子"},{"$f":"分類順!B1885","v":"絵本"},{"$f":"分類順!C1885","v":"分類なし(絵本等)"},{"$f":"分類順!D1885","v":"綾野まさる"},{"$f":"分類順!E1885","v":"ハート出版"},{"$f":"分類順!F1885","v":20256},"赤いくつはいてた女の子絵本分類なし(絵本等)綾野まさるハート出版",1,{"$f":"VLOOKUP(\"*\"&目次加工!$B$2&\"*\",J1886:K1886,2,0)","v":1},{"$error":"#N/A"}]
[null,null,null,{"$f":"分類順!A1886","v":"ちびまる子ちゃんの　なぞなぞ１年生"},{"$f":"分類順!B1886","v":"絵本"},{"$f":"分類順!C1886","v":"分類なし(絵本等)"},{"$f":"分類順!D1886","v":"葉月みどり"},{"$f":"分類順!E1886","v":"集英社"},{"$f":"分類順!F1886","v":20257},"ちびまる子ちゃんの　なぞなぞ１年生絵本分類なし(絵本等)葉月みどり集英社",1,{"$f":"VLOOKUP(\"*\"&目次加工!$B$2&\"*\",J1887:K1887,2,0)","v":1},{"$error":"#N/A"}]
[null,null,null,{"$f":"分類順!A1887","v":"ちびまる子ちゃんの　なぞなぞ２年生"},{"$f":"分類順!B1887","v":"絵本"},{"$f":"分類順!C1887","v":"分類なし(絵本等)"},{"$f":"分類順!D1887","v":"葉月みどり"},{"$f":"分類順!E1887","v":"集英社"},{"$f":"分類順!F1887","v":20258},"ちびまる子ちゃんの　なぞなぞ２年生絵本分類なし(絵本等)葉月みどり集英社",1,{"$f":"VLOOKUP(\"*\"&目次加工!$B$2&\"*\",J1888:K1888,2,0)","v":1},{"$error":"#N/A"}]
[null,null,null,{"$f":"分類順!A1888","v":"２年生の読みもの"},{"$f":"分類順!B1888","v":"絵本"},{"$f":"分類順!C1888","v":"分類なし(絵本等)"},{"$f":"分類順!D1888","v":"長崎源之助"},{"$f":"分類順!E1888","v":"学校図書"},{"$f":"分類順!F1888","v":20259},"２年生の読みもの絵本分類なし(絵本等)長崎源之助学校図書",1,{"$f":"VLOOKUP(\"*\"&目次加工!$B$2&\"*\",J1889:K1889,2,0)","v":1},{"$error":"#N/A"}]
[null,null,null,{"$f":"分類順!A1889","v":"１０分で読める名作　２年生"},{"$f":"分類順!B1889","v":"絵本"},{"$f":"分類順!C1889","v":"分類なし(絵本等)"},{"$f":"分類順!D1889","v":"岡　信子"},{"$f":"分類順!E1889","v":"廣済堂"},{"$f":"分類順!F1889","v":20260},"１０分で読める名作　２年生絵本分類なし(絵本等)岡　信子廣済堂",1,{"$f":"VLOOKUP(\"*\"&目次加工!$B$2&\"*\",J1890:K1890,2,0)","v":1},{"$error":"#N/A"}]
[null,null,null,{"$f":"分類順!A1890","v":"１０分で読めるお話　２年生"},{"$f":"分類順!B1890","v":"絵本"},{"$f":"分類順!C1890","v":"分類なし(絵本等)"},{"$f":"分類順!D1890","v":"岡　信子"},{"$f":"分類順!E1890","v":"廣済堂"},{"$f":"分類順!F1890","v":20261},"１０分で読めるお話　２年生絵本分類なし(絵本等)岡　信子廣済堂",1,{"$f":"VLOOKUP(\"*\"&目次加工!$B$2&\"*\",J1891:K1891,2,0)","v":1},{"$error":"#N/A"}]
[null,null,null,{"$f":"分類順!A1891","v":"介助犬武蔵と学校へ行こう　日本初。難病の久美子ちゃんがチャレンジ"},{"$f":"分類順!B1891","v":"絵本"},{"$f":"分類順!C1891","v":"分類なし(絵本等)"},{"$f":"分類順!D1891","v":"綾野まさる"},{"$f":"分類順!E1891","v":"ハート出版"},{"$f":"分類順!F1891","v":20262},"介助犬武蔵と学校へ行こう　日本初。難病の久美子ちゃんがチャレンジ絵本分類なし(絵本等)綾野まさるハート出版",1,{"$f":"VLOOKUP(\"*\"&目次加工!$B$2&\"*\",J1892:K1892,2,0)","v":1},{"$error":"#N/A"}]
[null,null,null,{"$f":"分類順!A1892","v":"神さまに質問「いのち」ってなんですか"},{"$f":"分類順!B1892","v":"絵本"},{"$f":"分類順!C1892","v":"分類なし(絵本等)"},{"$f":"分類順!D1892","v":"綾野まさる"},{"$f":"分類順!E1892","v":"ハート出版"},{"$f":"分類順!F1892","v":20263},"神さまに質問「いのち」ってなんですか絵本分類なし(絵本等)綾野まさるハート出版",1,{"$f":"VLOOKUP(\"*\"&目次加工!$B$2&\"*\",J1893:K1893,2,0)","v":1},{"$error":"#N/A"}]
[null,null,null,{"$f":"分類順!A1893","v":"いのちの鼓動が聞こえる　心臓を移植した少女の物語"},{"$f":"分類順!B1893","v":"絵本"},{"$f":"分類順!C1893","v":"分類なし(絵本等)"},{"$f":"分類順!D1893","v":"池田まき子"},{"$f":"分類順!E1893","v":"ハート出版"},{"$f":"分類順!F1893","v":20264},"いのちの鼓動が聞こえる　心臓を移植した少女の物語絵本分類なし(絵本等)池田まき子ハート出版",1,{"$f":"VLOOKUP(\"*\"&目次加工!$B$2&\"*\",J1894:K1894,2,0)","v":1},{"$error":"#N/A"}]
[null,null,null,{"$f":"分類順!A1894","v":"ゴン太占い～今日からおきらく～"},{"$f":"分類順!B1894","v":"絵本"},{"$f":"分類順!C1894","v":"分類なし(絵本等)"},{"$f":"分類順!D1894","v":"GONTACLUB"},{"$f":"分類順!E1894","v":"金の星社"},{"$f":"分類順!F1894","v":20265},"ゴン太占い～今日からおきらく～絵本分類なし(絵本等)GONTACLUB金の星社",1,{"$f":"VLOOKUP(\"*\"&目次加工!$B$2&\"*\",J1895:K1895,2,0)","v":1},{"$error":"#N/A"}]
[null,null,null,{"$f":"分類順!A1895","v":"とべないホタル"},{"$f":"分類順!B1895","v":"絵本"},{"$f":"分類順!C1895","v":"分類なし(絵本等)"},{"$f":"分類順!D1895","v":"小沢昭巳"},{"$f":"分類順!E1895","v":"ハート出版"},{"$f":"分類順!F1895","v":20266},"とべないホタル絵本分類なし(絵本等)小沢昭巳ハート出版",1,{"$f":"VLOOKUP(\"*\"&目次加工!$B$2&\"*\",J1896:K1896,2,0)","v":1},{"$error":"#N/A"}]
[null,null,null,{"$f":"分類順!A1896","v":"とべないホタル５－月（のの）さんの歌ー"},{"$f":"分類順!B1896","v":"絵本"},{"$f":"分類順!C1896","v":"分類なし(絵本等)"},{"$f":"分類順!D1896","v":"小沢克巳"},{"$f":"分類順!E1896","v":"ハート出版"},{"$f":"分類順!F1896","v":20267},"とべないホタル５－月（のの）さんの歌ー絵本分類なし(絵本等)小沢克巳ハート出版",1,{"$f":"VLOOKUP(\"*\"&目次加工!$B$2&\"*\",J1897:K1897,2,0)","v":1},{"$error":"#N/A"}]
[null,null,null,{"$f":"分類順!A1897","v":"とべないホタル９－水辺のおやどー"},{"$f":"分類順!B1897","v":"絵本"},{"$f":"分類順!C1897","v":"分類なし(絵本等)"},{"$f":"分類順!D1897","v":"小沢克巳"},{"$f":"分類順!E1897","v":"ハート出版"},{"$f":"分類順!F1897","v":20268},"とべないホタル９－水辺のおやどー絵本分類なし(絵本等)小沢克巳ハート出版",1,{"$f":"VLOOKUP(\"*\"&目次加工!$B$2&\"*\",J1898:K1898,2,0)","v":1},{"$error":"#N/A"}]
[null,null,null,{"$f":"分類順!A1898","v":"とべないホタルのゆりかごー星の降る水辺にー"},{"$f":"分類順!B1898","v":"絵本"},{"$f":"分類順!C1898","v":"分類なし(絵本等)"},{"$f":"分類順!D1898","v":"小沢昭巳"},{"$f":"分類順!E1898","v":"ハート出版"},{"$f":"分類順!F1898","v":20269},"とべないホタルのゆりかごー星の降る水辺にー絵本分類なし(絵本等)小沢昭巳ハート出版",1,{"$f":"VLOOKUP(\"*\"&目次加工!$B$2&\"*\",J1899:K1899,2,0)","v":1},{"$error":"#N/A"}]
[null,null,null,{"$f":"分類順!A1899","v":"出動！災害救助犬　トマト　新潟の人々とペットを救った名犬物語"},{"$f":"分類順!B1899","v":"絵本"},{"$f":"分類順!C1899","v":"分類なし(絵本等)"},{"$f":"分類順!D1899","v":"池田まき子"},{"$f":"分類順!E1899","v":"ハート出版"},{"$f":"分類順!F1899","v":20270},"出動！災害救助犬　トマト　新潟の人々とペットを救った名犬物語絵本分類なし(絵本等)池田まき子ハート出版",1,{"$f":"VLOOKUP(\"*\"&目次加工!$B$2&\"*\",J1900:K1900,2,0)","v":1},{"$error":"#N/A"}]
[null,null,null,{"$f":"分類順!A1900","v":"お帰り！盲導犬オリバー　ぼく、みんなのこと覚えているよ"},{"$f":"分類順!B1900","v":"絵本"},{"$f":"分類順!C1900","v":"分類なし(絵本等)"},{"$f":"分類順!D1900","v":"今泉耕介"},{"$f":"分類順!E1900","v":"ハート出版"},{"$f":"分類順!F1900","v":20271},"お帰り！盲導犬オリバー　ぼく、みんなのこと覚えているよ絵本分類なし(絵本等)今泉耕介ハート出版",1,{"$f":"VLOOKUP(\"*\"&目次加工!$B$2&\"*\",J1901:K1901,2,0)","v":1},{"$error":"#N/A"}]
[null,null,null,{"$f":"分類順!A1901","v":"盲導犬チャンピィ　日本初盲導犬を育てた塩屋賢一ものがたり"},{"$f":"分類順!B1901","v":"絵本"},{"$f":"分類順!C1901","v":"分類なし(絵本等)"},{"$f":"分類順!D1901","v":"桑原崇寿"},{"$f":"分類順!E1901","v":"ハート出版"},{"$f":"分類順!F1901","v":20272},"盲導犬チャンピィ　日本初盲導犬を育てた塩屋賢一ものがたり絵本分類なし(絵本等)桑原崇寿ハート出版",1,{"$f":"VLOOKUP(\"*\"&目次加工!$B$2&\"*\",J1902:K1902,2,0)","v":1},{"$error":"#N/A"}]
[null,null,null,{"$f":"分類順!A1902","v":"がんばれ！盲導犬ベルナ"},{"$f":"分類順!B1902","v":"絵本"},{"$f":"分類順!C1902","v":"分類なし(絵本等)"},{"$f":"分類順!D1902","v":"郡司ななえ"},{"$f":"分類順!E1902","v":"ハート出版"},{"$f":"分類順!F1902","v":20273},"がんばれ！盲導犬ベルナ絵本分類なし(絵本等)郡司ななえハート出版",1,{"$f":"VLOOKUP(\"*\"&目次加工!$B$2&\"*\",J1903:K1903,2,0)","v":1},{"$error":"#N/A"}]
[null,null,null,{"$f":"分類順!A1903","v":"いのちのバトンリレー　臓器移植を乗り越えた少女と白血病の少年の物語"},{"$f":"分類順!B1903","v":"絵本"},{"$f":"分類順!C1903","v":"分類なし(絵本等)"},{"$f":"分類順!D1903","v":"関　朝之"},{"$f":"分類順!E1903","v":"ハート出版"},{"$f":"分類順!F1903","v":20274},"いのちのバトンリレー　臓器移植を乗り越えた少女と白血病の少年の物語絵本分類なし(絵本等)関　朝之ハート出版",1,{"$f":"VLOOKUP(\"*\"&目次加工!$B$2&\"*\",J1904:K1904,2,0)","v":1},{"$error":"#N/A"}]
[null,null,null,{"$f":"分類順!A1904","v":"地震の村で待っていた猫のチボとハル　山古志村で被災したペットたちの物語"},{"$f":"分類順!B1904","v":"絵本"},{"$f":"分類順!C1904","v":"分類なし(絵本等)"},{"$f":"分類順!D1904","v":"池田まき子"},{"$f":"分類順!E1904","v":"ハート出版"},{"$f":"分類順!F1904","v":20275},"地震の村で待っていた猫のチボとハル　山古志村で被災したペットたちの物語絵本分類なし(絵本等)池田まき子ハート出版",1,{"$f":"VLOOKUP(\"*\"&目次加工!$B$2&\"*\",J1905:K1905,2,0)","v":1},{"$error":"#N/A"}]
[null,null,null,{"$f":"分類順!A1905","v":"りそうのくに"},{"$f":"分類順!B1905","v":"絵本"},{"$f":"分類順!C1905","v":"分類なし(絵本等)"},{"$f":"分類順!D1905","v":"平井美里"},{"$f":"分類順!E1905","v":"ハート出版"},{"$f":"分類順!F1905","v":20276},"りそうのくに絵本分類なし(絵本等)平井美里ハート出版",1,{"$f":"VLOOKUP(\"*\"&目次加工!$B$2&\"*\",J1906:K1906,2,0)","v":1},{"$error":"#N/A"}]
[null,null,null,{"$f":"分類順!A1906","v":"うわさの怪談BUNKO１　プールで死者がよんでいる"},{"$f":"分類順!B1906","v":"絵本"},{"$f":"分類順!C1906","v":"分類なし(絵本等)"},{"$f":"分類順!D1906","v":"小暮正夫"},{"$f":"分類順!E1906","v":"岩崎書店"},{"$f":"分類順!F1906","v":20278},"うわさの怪談BUNKO１　プールで死者がよんでいる絵本分類なし(絵本等)小暮正夫岩崎書店",1,{"$f":"VLOOKUP(\"*\"&目次加工!$B$2&\"*\",J1907:K1907,2,0)","v":1},{"$error":"#N/A"}]
[null,null,null,{"$f":"分類順!A1907","v":"うわさの怪談BUNKO２　しのびよる図書室の亡霊"},{"$f":"分類順!B1907","v":"絵本"},{"$f":"分類順!C1907","v":"分類なし(絵本等)"},{"$f":"分類順!D1907","v":"小暮正夫"},{"$f":"分類順!E1907","v":"岩崎書店"},{"$f":"分類順!F1907","v":20279},"うわさの怪談BUNKO２　しのびよる図書室の亡霊絵本分類なし(絵本等)小暮正夫岩崎書店",1,{"$f":"VLOOKUP(\"*\"&目次加工!$B$2&\"*\",J1908:K1908,2,0)","v":1},{"$error":"#N/A"}]
[null,null,null,{"$f":"分類順!A1908","v":"うわさの怪談BUNKO３　のろわれた携帯メール"},{"$f":"分類順!B1908","v":"絵本"},{"$f":"分類順!C1908","v":"分類なし(絵本等)"},{"$f":"分類順!D1908","v":"小暮正夫"},{"$f":"分類順!E1908","v":"岩崎書店"},{"$f":"分類順!F1908","v":20280},"うわさの怪談BUNKO３　のろわれた携帯メール絵本分類なし(絵本等)小暮正夫岩崎書店",1,{"$f":"VLOOKUP(\"*\"&目次加工!$B$2&\"*\",J1909:K1909,2,0)","v":1},{"$error":"#N/A"}]
[null,null,null,{"$f":"分類順!A1909","v":"うわさの怪談BUNKO４　恐怖の人食い観覧車"},{"$f":"分類順!B1909","v":"絵本"},{"$f":"分類順!C1909","v":"分類なし(絵本等)"},{"$f":"分類順!D1909","v":"小暮正夫"},{"$f":"分類順!E1909","v":"岩崎書店"},{"$f":"分類順!F1909","v":20281},"うわさの怪談BUNKO４　恐怖の人食い観覧車絵本分類なし(絵本等)小暮正夫岩崎書店",1,{"$f":"VLOOKUP(\"*\"&目次加工!$B$2&\"*\",J1910:K1910,2,0)","v":1},{"$error":"#N/A"}]
[null,null,null,{"$f":"分類順!A1910","v":"うわさの怪談BUNKO５　地獄からもどった黒ねこ"},{"$f":"分類順!B1910","v":"絵本"},{"$f":"分類順!C1910","v":"分類なし(絵本等)"},{"$f":"分類順!D1910","v":"小暮正夫"},{"$f":"分類順!E1910","v":"岩崎書店"},{"$f":"分類順!F1910","v":20282},"うわさの怪談BUNKO５　地獄からもどった黒ねこ絵本分類なし(絵本等)小暮正夫岩崎書店",1,{"$f":"VLOOKUP(\"*\"&目次加工!$B$2&\"*\",J1911:K1911,2,0)","v":1},{"$error":"#N/A"}]
[null,null,null,{"$f":"分類順!A1911","v":"アボンリーへの道⑪　冬の別れ"},{"$f":"分類順!B1911","v":"絵本"},{"$f":"分類順!C1911","v":"分類なし(絵本等)"},{"$f":"分類順!D1911","v":"モンゴメリ"},{"$f":"分類順!E1911","v":"金の星社"},{"$f":"分類順!F1911","v":20283},"アボンリーへの道⑪　冬の別れ絵本分類なし(絵本等)モンゴメリ金の星社",1,{"$f":"VLOOKUP(\"*\"&目次加工!$B$2&\"*\",J1912:K1912,2,0)","v":1},{"$error":"#N/A"}]
[null,null,null,{"$f":"分類順!A1912","v":"新日本少年少女文学　発掘屋おフミさん"},{"$f":"分類順!B1912","v":"絵本"},{"$f":"分類順!C1912","v":"分類なし(絵本等)"},{"$f":"分類順!D1912","v":"あかねるつ"},{"$f":"分類順!E1912","v":"新日本出版社"},{"$f":"分類順!F1912","v":20285},"新日本少年少女文学　発掘屋おフミさん絵本分類なし(絵本等)あかねるつ新日本出版社",1,{"$f":"VLOOKUP(\"*\"&目次加工!$B$2&\"*\",J1913:K1913,2,0)","v":1},{"$error":"#N/A"}]
[null,null,null,{"$f":"分類順!A1913","v":"Ａ　アンペア"},{"$f":"分類順!B1913","v":"絵本"},{"$f":"分類順!C1913","v":"分類なし(絵本等)"},{"$f":"分類順!D1913","v":"篠原勝之"},{"$f":"分類順!E1913","v":"小学館"},{"$f":"分類順!F1913","v":20286},"Ａ　アンペア絵本分類なし(絵本等)篠原勝之小学館",1,{"$f":"VLOOKUP(\"*\"&目次加工!$B$2&\"*\",J1914:K1914,2,0)","v":1},{"$error":"#N/A"}]
[null,null,null,{"$f":"分類順!A1914","v":"靴を売るシンデレラ"},{"$f":"分類順!B1914","v":"絵本"},{"$f":"分類順!C1914","v":"分類なし(絵本等)"},{"$f":"分類順!D1914","v":"バウアー"},{"$f":"分類順!E1914","v":"小学館"},{"$f":"分類順!F1914","v":20287},"靴を売るシンデレラ絵本分類なし(絵本等)バウアー小学館",1,{"$f":"VLOOKUP(\"*\"&目次加工!$B$2&\"*\",J1915:K1915,2,0)","v":1},{"$error":"#N/A"}]
[null,null,null,{"$f":"分類順!A1915","v":"小説版ドラえもん　のび太と鉄人兵団"},{"$f":"分類順!B1915","v":"絵本"},{"$f":"分類順!C1915","v":"分類なし(絵本等)"},{"$f":"分類順!D1915","v":"瀬名秀明"},{"$f":"分類順!E1915","v":"小学館"},{"$f":"分類順!F1915","v":20288},"小説版ドラえもん　のび太と鉄人兵団絵本分類なし(絵本等)瀬名秀明小学館",1,{"$f":"VLOOKUP(\"*\"&目次加工!$B$2&\"*\",J1916:K1916,2,0)","v":1},{"$error":"#N/A"}]
[null,null,null,{"$f":"分類順!A1916","v":"転校生はハリウッドスター"},{"$f":"分類順!B1916","v":"絵本"},{"$f":"分類順!C1916","v":"分類なし(絵本等)"},{"$f":"分類順!D1916","v":"キャロニタ"},{"$f":"分類順!E1916","v":"小学館"},{"$f":"分類順!F1916","v":20289},"転校生はハリウッドスター絵本分類なし(絵本等)キャロニタ小学館",1,{"$f":"VLOOKUP(\"*\"&目次加工!$B$2&\"*\",J1917:K1917,2,0)","v":1},{"$error":"#N/A"}]
[null,null,null,{"$f":"分類順!A1917","v":"きな子　～見習い警察犬の物語～"},{"$f":"分類順!B1917","v":"絵本"},{"$f":"分類順!C1917","v":"分類なし(絵本等)"},{"$f":"分類順!D1917","v":"水稀しま"},{"$f":"分類順!E1917","v":"小学館"},{"$f":"分類順!F1917","v":20290},"きな子　～見習い警察犬の物語～絵本分類なし(絵本等)水稀しま小学館",1,{"$f":"VLOOKUP(\"*\"&目次加工!$B$2&\"*\",J1918:K1918,2,0)","v":1},{"$error":"#N/A"}]
[null,null,null,{"$f":"分類順!A1918","v":"こども大百科　キッズペディア"},{"$f":"分類順!B1918","v":"絵本"},{"$f":"分類順!C1918","v":"分類なし(絵本等)"},{"$f":"分類順!D1918","v":"小学館"},{"$f":"分類順!E1918","v":"小学館"},{"$f":"分類順!F1918","v":20291},"こども大百科　キッズペディア絵本分類なし(絵本等)小学館小学館",1,{"$f":"VLOOKUP(\"*\"&目次加工!$B$2&\"*\",J1919:K1919,2,0)","v":1},{"$error":"#N/A"}]
[null,null,null,{"$f":"分類順!A1919","v":"電池が切れるまで　子ども病院からのメッセージ"},{"$f":"分類順!B1919","v":"絵本"},{"$f":"分類順!C1919","v":"分類なし(絵本等)"},{"$f":"分類順!D1919","v":"すずらんの会"},{"$f":"分類順!E1919","v":"角川書店"},{"$f":"分類順!F1919","v":20292},"電池が切れるまで　子ども病院からのメッセージ絵本分類なし(絵本等)すずらんの会角川書店",1,{"$f":"VLOOKUP(\"*\"&目次加工!$B$2&\"*\",J1920:K1920,2,0)","v":1},{"$error":"#N/A"}]
[null,null,null,{"$f":"分類順!A1920","v":"電池が切れるまで　子ども病院からのメッセージ"},{"$f":"分類順!B1920","v":"絵本"},{"$f":"分類順!C1920","v":"分類なし(絵本等)"},{"$f":"分類順!D1920","v":"すずらんの会"},{"$f":"分類順!E1920","v":"角川書店"},{"$f":"分類順!F1920","v":20293},"電池が切れるまで　子ども病院からのメッセージ絵本分類なし(絵本等)すずらんの会角川書店",1,{"$f":"VLOOKUP(\"*\"&目次加工!$B$2&\"*\",J1921:K1921,2,0)","v":1},{"$error":"#N/A"}]
[null,null,null,{"$f":"分類順!A1921","v":"アンパンマンがいっぱい　ルームデコレーション"},{"$f":"分類順!B1921","v":"絵本"},{"$f":"分類順!C1921","v":"分類なし(絵本等)"},{"$f":"分類順!D1921","v":"千金美穂"},{"$f":"分類順!E1921","v":"フレーベル館"},{"$f":"分類順!F1921","v":20294},"アンパンマンがいっぱい　ルームデコレーション絵本分類なし(絵本等)千金美穂フレーベル館",1,{"$f":"VLOOKUP(\"*\"&目次加工!$B$2&\"*\",J1922:K1922,2,0)","v":1},{"$error":"#N/A"}]
[null,null,null,{"$f":"分類順!A1922","v":"想像力を高める　たのしい手づくりおもちゃ"},{"$f":"分類順!B1922","v":"絵本"},{"$f":"分類順!C1922","v":"分類なし(絵本等)"},{"$f":"分類順!D1922","v":"小関武明"},{"$f":"分類順!E1922","v":"小学館"},{"$f":"分類順!F1922","v":20298},"想像力を高める　たのしい手づくりおもちゃ絵本分類なし(絵本等)小関武明小学館",1,{"$f":"VLOOKUP(\"*\"&目次加工!$B$2&\"*\",J1923:K1923,2,0)","v":1},{"$error":"#N/A"}]
[null,null,null,{"$f":"分類順!A1923","v":"花のおりがみ"},{"$f":"分類順!B1923","v":"絵本"},{"$f":"分類順!C1923","v":"分類なし(絵本等)"},{"$f":"分類順!D1923","v":"桃谷好秀"},{"$f":"分類順!E1923","v":"誠文堂新光社"},{"$f":"分類順!F1923","v":20300},"花のおりがみ絵本分類なし(絵本等)桃谷好秀誠文堂新光社",1,{"$f":"VLOOKUP(\"*\"&目次加工!$B$2&\"*\",J1924:K1924,2,0)","v":1},{"$f":"VLOOKUP(\"*\"&$A$2&\"*\",J1924:K1924,2,0)","v":{"$error":"#N/A"}}]
[null,null,null,{"$f":"分類順!A1924","v":"遊び図鑑"},{"$f":"分類順!B1924","v":"絵本"},{"$f":"分類順!C1924","v":"分類なし(絵本等)"},{"$f":"分類順!D1924","v":"奥成　達"},{"$f":"分類順!E1924","v":"福音館書店"},{"$f":"分類順!F1924","v":20306},"遊び図鑑絵本分類なし(絵本等)奥成　達福音館書店",1,{"$f":"VLOOKUP(\"*\"&目次加工!$B$2&\"*\",J1925:K1925,2,0)","v":1},{"$error":"#N/A"}]
[null,null,null,{"$f":"分類順!A1925","v":"メル友からのメッセージ"},{"$f":"分類順!B1925","v":"絵本"},{"$f":"分類順!C1925","v":"分類なし(絵本等)"},{"$f":"分類順!D1925","v":"増原亜紀子"},{"$f":"分類順!E1925","v":"ハート出版"},{"$f":"分類順!F1925","v":20308},"メル友からのメッセージ絵本分類なし(絵本等)増原亜紀子ハート出版",1,{"$f":"VLOOKUP(\"*\"&目次加工!$B$2&\"*\",J1926:K1926,2,0)","v":1},{"$error":"#N/A"}]
[null,null,null,{"$f":"分類順!A1926","v":"占い魔女は消えた"},{"$f":"分類順!B1926","v":"絵本"},{"$f":"分類順!C1926","v":"分類なし(絵本等)"},{"$f":"分類順!D1926","v":"池田美代子"},{"$f":"分類順!E1926","v":"岩崎書店"},{"$f":"分類順!F1926","v":20309},"占い魔女は消えた絵本分類なし(絵本等)池田美代子岩崎書店",1,{"$f":"VLOOKUP(\"*\"&目次加工!$B$2&\"*\",J1927:K1927,2,0)","v":1},{"$error":"#N/A"}]
[null,null,null,{"$f":"分類順!A1927","v":"呪われた鏡　占い魔女２"},{"$f":"分類順!B1927","v":"絵本"},{"$f":"分類順!C1927","v":"分類なし(絵本等)"},{"$f":"分類順!D1927","v":"池田美代子"},{"$f":"分類順!E1927","v":"岩崎書店"},{"$f":"分類順!F1927","v":20310},"呪われた鏡　占い魔女２絵本分類なし(絵本等)池田美代子岩崎書店",1,{"$f":"VLOOKUP(\"*\"&目次加工!$B$2&\"*\",J1928:K1928,2,0)","v":1},{"$error":"#N/A"}]
[null,null,null,{"$f":"分類順!A1928","v":"世界の亡霊スリラー"},{"$f":"分類順!B1928","v":"絵本"},{"$f":"分類順!C1928","v":"分類なし(絵本等)"},{"$f":"分類順!D1928","v":"庄司浅水"},{"$f":"分類順!E1928","v":"秋田書店"},{"$f":"分類順!F1928","v":20311},"世界の亡霊スリラー絵本分類なし(絵本等)庄司浅水秋田書店",1,{"$f":"VLOOKUP(\"*\"&目次加工!$B$2&\"*\",J1929:K1929,2,0)","v":1},{"$error":"#N/A"}]
[null,null,null,{"$f":"分類順!A1929","v":"星を見に行く"},{"$f":"分類順!B1929","v":"絵本"},{"$f":"分類順!C1929","v":"分類なし(絵本等)"},{"$f":"分類順!D1929","v":"えびなみつる"},{"$f":"分類順!E1929","v":"誠文堂新光社"},{"$f":"分類順!F1929","v":20312},"星を見に行く絵本分類なし(絵本等)えびなみつる誠文堂新光社",1,{"$f":"VLOOKUP(\"*\"&目次加工!$B$2&\"*\",J1930:K1930,2,0)","v":1},{"$error":"#N/A"}]
[null,null,null,{"$f":"分類順!A1930","v":"心にのこるみんなの体験　きりと雪からのだっしゅつ"},{"$f":"分類順!B1930","v":"絵本"},{"$f":"分類順!C1930","v":"分類なし(絵本等)"},{"$f":"分類順!D1930","v":"日本児童文芸家協会"},{"$f":"分類順!E1930","v":"金の星社"},{"$f":"分類順!F1930","v":20313},"心にのこるみんなの体験　きりと雪からのだっしゅつ絵本分類なし(絵本等)日本児童文芸家協会金の星社",1,{"$f":"VLOOKUP(\"*\"&目次加工!$B$2&\"*\",J1931:K1931,2,0)","v":1},{"$error":"#N/A"}]
[null,null,null,{"$f":"分類順!A1931","v":"世界の名探偵①オーギュスト・デュパン"},{"$f":"分類順!B1931","v":"絵本"},{"$f":"分類順!C1931","v":"分類なし(絵本等)"},{"$f":"分類順!D1931","v":"ｴﾄﾞｶﾞｰ･ｱﾗﾝ･ﾎﾟｰ"},{"$f":"分類順!E1931","v":"岩崎書店"},{"$f":"分類順!F1931","v":20314},"世界の名探偵①オーギュスト・デュパン絵本分類なし(絵本等)ｴﾄﾞｶﾞｰ･ｱﾗﾝ･ﾎﾟｰ岩崎書店",1,{"$f":"VLOOKUP(\"*\"&目次加工!$B$2&\"*\",J1932:K1932,2,0)","v":1},{"$error":"#N/A"}]
[null,null,null,{"$f":"分類順!A1932","v":"世界の名探偵②シャーロック・ホームズ"},{"$f":"分類順!B1932","v":"絵本"},{"$f":"分類順!C1932","v":"分類なし(絵本等)"},{"$f":"分類順!D1932","v":"ドイル"},{"$f":"分類順!E1932","v":"岩崎書店"},{"$f":"分類順!F1932","v":20315},"世界の名探偵②シャーロック・ホームズ絵本分類なし(絵本等)ドイル岩崎書店",1,{"$f":"VLOOKUP(\"*\"&目次加工!$B$2&\"*\",J1933:K1933,2,0)","v":1},{"$error":"#N/A"}]
[null,null,null,{"$f":"分類順!A1933","v":"世界の名探偵③アルセーヌ・ルパン"},{"$f":"分類順!B1933","v":"絵本"},{"$f":"分類順!C1933","v":"分類なし(絵本等)"},{"$f":"分類順!D1933","v":"ルブラン"},{"$f":"分類順!E1933","v":"岩崎書店"},{"$f":"分類順!F1933","v":20316},"世界の名探偵③アルセーヌ・ルパン絵本分類なし(絵本等)ルブラン岩崎書店",1,{"$f":"VLOOKUP(\"*\"&目次加工!$B$2&\"*\",J1934:K1934,2,0)","v":1},{"$error":"#N/A"}]
[null,null,null,{"$f":"分類順!A1934","v":"世界の名探偵④エルキュール・ポワロ"},{"$f":"分類順!B1934","v":"絵本"},{"$f":"分類順!C1934","v":"分類なし(絵本等)"},{"$f":"分類順!D1934","v":"クリスティー"},{"$f":"分類順!E1934","v":"岩崎書店"},{"$f":"分類順!F1934","v":20317},"世界の名探偵④エルキュール・ポワロ絵本分類なし(絵本等)クリスティー岩崎書店",1,{"$f":"VLOOKUP(\"*\"&目次加工!$B$2&\"*\",J1935:K1935,2,0)","v":1},{"$error":"#N/A"}]
[null,null,null,{"$f":"分類順!A1935","v":"世界の名探偵⑤エラリー・クイーン"},{"$f":"分類順!B1935","v":"絵本"},{"$f":"分類順!C1935","v":"分類なし(絵本等)"},{"$f":"分類順!D1935","v":"クイーン"},{"$f":"分類順!E1935","v":"岩崎書店"},{"$f":"分類順!F1935","v":20318},"世界の名探偵⑤エラリー・クイーン絵本分類なし(絵本等)クイーン岩崎書店",1,{"$f":"VLOOKUP(\"*\"&目次加工!$B$2&\"*\",J1936:K1936,2,0)","v":1},{"$error":"#N/A"}]
[null,null,null,{"$f":"分類順!A1936","v":"世界の名探偵⑥ミス・マープル"},{"$f":"分類順!B1936","v":"絵本"},{"$f":"分類順!C1936","v":"分類なし(絵本等)"},{"$f":"分類順!D1936","v":"クリスティー"},{"$f":"分類順!E1936","v":"岩崎書店"},{"$f":"分類順!F1936","v":20319},"世界の名探偵⑥ミス・マープル絵本分類なし(絵本等)クリスティー岩崎書店",1,{"$f":"VLOOKUP(\"*\"&目次加工!$B$2&\"*\",J1937:K1937,2,0)","v":1},{"$error":"#N/A"}]
[null,null,null,{"$f":"分類順!A1937","v":"日本の文学　藤村詩集・嵐"},{"$f":"分類順!B1937","v":"絵本"},{"$f":"分類順!C1937","v":"分類なし(絵本等)"},{"$f":"分類順!D1937","v":"島崎藤村"},{"$f":"分類順!E1937","v":"金の星社"},{"$f":"分類順!F1937","v":20320},"日本の文学　藤村詩集・嵐絵本分類なし(絵本等)島崎藤村金の星社",1,{"$f":"VLOOKUP(\"*\"&目次加工!$B$2&\"*\",J1938:K1938,2,0)","v":1},{"$error":"#N/A"}]
[null,null,null,{"$f":"分類順!A1938","v":"日本の文学　吾輩は猫である（下）"},{"$f":"分類順!B1938","v":"絵本"},{"$f":"分類順!C1938","v":"分類なし(絵本等)"},{"$f":"分類順!D1938","v":"夏目漱石"},{"$f":"分類順!E1938","v":"金の星社"},{"$f":"分類順!F1938","v":20321},{"$f":"D1939&E1939&F1939&G1939&H1939","v":"日本の文学　吾輩は猫である（下）絵本分類なし(絵本等)夏目漱石金の星社"},1,{"$f":"VLOOKUP(\"*\"&目次加工!$B$2&\"*\",J1939:K1939,2,0)","v":1},{"$error":"#N/A"}]
[null,null,null,{"$f":"分類順!A1939","v":"日本の文学　注文の多い料理店"},{"$f":"分類順!B1939","v":"絵本"},{"$f":"分類順!C1939","v":"分類なし(絵本等)"},{"$f":"分類順!D1939","v":"宮沢賢治"},{"$f":"分類順!E1939","v":"金の星社"},{"$f":"分類順!F1939","v":20322},"日本の文学　注文の多い料理店絵本分類なし(絵本等)宮沢賢治金の星社",1,{"$f":"VLOOKUP(\"*\"&目次加工!$B$2&\"*\",J1940:K1940,2,0)","v":1},{"$error":"#N/A"}]
[null,null,null,{"$f":"分類順!A1940","v":"メル友からのメッセージ"},{"$f":"分類順!B1940","v":"絵本"},{"$f":"分類順!C1940","v":"分類なし(絵本等)"},{"$f":"分類順!D1940","v":"増原亜紀子"},{"$f":"分類順!E1940","v":"ハート出版"},{"$f":"分類順!F1940","v":20323},"メル友からのメッセージ絵本分類なし(絵本等)増原亜紀子ハート出版",1,{"$f":"VLOOKUP(\"*\"&目次加工!$B$2&\"*\",J1941:K1941,2,0)","v":1},{"$error":"#N/A"}]
[null,null,null,{"$f":"分類順!A1941","v":"ルナ・チャイルド①　ニーナと魔法宇宙の月"},{"$f":"分類順!B1941","v":"絵本"},{"$f":"分類順!C1941","v":"分類なし(絵本等)"},{"$f":"分類順!D1941","v":"ウィッチャー"},{"$f":"分類順!E1941","v":"岩崎書店"},{"$f":"分類順!F1941","v":20324},"ルナ・チャイルド①　ニーナと魔法宇宙の月絵本分類なし(絵本等)ウィッチャー岩崎書店",1,{"$f":"VLOOKUP(\"*\"&目次加工!$B$2&\"*\",J1942:K1942,2,0)","v":1},{"$error":"#N/A"}]
[null,null,null,{"$f":"分類順!A1942","v":"ルナ・チャイルド②　ニーナと神々の宇宙船"},{"$f":"分類順!B1942","v":"絵本"},{"$f":"分類順!C1942","v":"分類なし(絵本等)"},{"$f":"分類順!D1942","v":"ウィッチャー"},{"$f":"分類順!E1942","v":"岩崎書店"},{"$f":"分類順!F1942","v":20325},"ルナ・チャイルド②　ニーナと神々の宇宙船絵本分類なし(絵本等)ウィッチャー岩崎書店",1,{"$f":"VLOOKUP(\"*\"&目次加工!$B$2&\"*\",J1943:K1943,2,0)","v":1},{"$error":"#N/A"}]
[null,null,null,{"$f":"分類順!A1943","v":"ルナ・チャイルド③　ニーナと錬金タロットの謎"},{"$f":"分類順!B1943","v":"絵本"},{"$f":"分類順!C1943","v":"分類なし(絵本等)"},{"$f":"分類順!D1943","v":"ウィッチャー"},{"$f":"分類順!E1943","v":"岩崎書店"},{"$f":"分類順!F1943","v":20326},"ルナ・チャイルド③　ニーナと錬金タロットの謎絵本分類なし(絵本等)ウィッチャー岩崎書店",1,{"$f":"VLOOKUP(\"*\"&目次加工!$B$2&\"*\",J1944:K1944,2,0)","v":1},{"$error":"#N/A"}]
[null,null,null,{"$f":"分類順!A1944","v":"ルナ・チャイルド④　ニーナと水の迷宮の秘密"},{"$f":"分類順!B1944","v":"絵本"},{"$f":"分類順!C1944","v":"分類なし(絵本等)"},{"$f":"分類順!D1944","v":"ウィッチャー"},{"$f":"分類順!E1944","v":"岩崎書店"},{"$f":"分類順!F1944","v":20327},"ルナ・チャイルド④　ニーナと水の迷宮の秘密絵本分類なし(絵本等)ウィッチャー岩崎書店",1,{"$f":"VLOOKUP(\"*\"&目次加工!$B$2&\"*\",J1945:K1945,2,0)","v":1},{"$error":"#N/A"}]
[null,null,null,{"$f":"分類順!A1945","v":"アプリイ・ダプリイのわらべうた"},{"$f":"分類順!B1945","v":"絵本"},{"$f":"分類順!C1945","v":"分類なし(絵本等)"},{"$f":"分類順!D1945","v":"ビアトリクス・ポター"},{"$f":"分類順!E1945","v":"福音館書店"},{"$f":"分類順!F1945","v":20331},"アプリイ・ダプリイのわらべうた絵本分類なし(絵本等)ビアトリクス・ポター福音館書店",1,{"$f":"VLOOKUP(\"*\"&目次加工!$B$2&\"*\",J1946:K1946,2,0)","v":1},{"$error":"#N/A"}]
[null,null,null,{"$f":"分類順!A1946","v":"セシリ・パセリのわらべうた"},{"$f":"分類順!B1946","v":"絵本"},{"$f":"分類順!C1946","v":"分類なし(絵本等)"},{"$f":"分類順!D1946","v":"ビアトリクス・ポター"},{"$f":"分類順!E1946","v":"福音館書店"},{"$f":"分類順!F1946","v":20332},"セシリ・パセリのわらべうた絵本分類なし(絵本等)ビアトリクス・ポター福音館書店",1,{"$f":"VLOOKUP(\"*\"&目次加工!$B$2&\"*\",J1947:K1947,2,0)","v":1},{"$error":"#N/A"}]
[null,null,null,{"$f":"分類順!A1947","v":"にんじんぎらいのうさこさん"},{"$f":"分類順!B1947","v":"絵本"},{"$f":"分類順!C1947","v":"分類なし(絵本等)"},{"$f":"分類順!D1947","v":"垣内礒子"},{"$f":"分類順!E1947","v":"フレーベル館"},{"$f":"分類順!F1947","v":20333},"にんじんぎらいのうさこさん絵本分類なし(絵本等)垣内礒子フレーベル館",1,{"$f":"VLOOKUP(\"*\"&目次加工!$B$2&\"*\",J1948:K1948,2,0)","v":1},{"$error":"#N/A"}]
[null,null,null,{"$f":"分類順!A1948","v":"いいものひろったくまざわくん"},{"$f":"分類順!B1948","v":"絵本"},{"$f":"分類順!C1948","v":"分類なし(絵本等)"},{"$f":"分類順!D1948","v":"きたやまようこ"},{"$f":"分類順!E1948","v":"あかね書房"},{"$f":"分類順!F1948","v":20334},"いいものひろったくまざわくん絵本分類なし(絵本等)きたやまようこあかね書房",1,{"$f":"VLOOKUP(\"*\"&目次加工!$B$2&\"*\",J1949:K1949,2,0)","v":1},{"$error":"#N/A"}]
[null,null,null,{"$f":"分類順!A1949","v":"いつもなかよし"},{"$f":"分類順!B1949","v":"絵本"},{"$f":"分類順!C1949","v":"分類なし(絵本等)"},{"$f":"分類順!D1949","v":"つちだよしはる"},{"$f":"分類順!E1949","v":"あかね書房"},{"$f":"分類順!F1949","v":20335},"いつもなかよし絵本分類なし(絵本等)つちだよしはるあかね書房",1,{"$f":"VLOOKUP(\"*\"&目次加工!$B$2&\"*\",J1950:K1950,2,0)","v":1},{"$error":"#N/A"}]
[null,null,null,{"$f":"分類順!A1950","v":"キツネのクリーニングや大あわて"},{"$f":"分類順!B1950","v":"絵本"},{"$f":"分類順!C1950","v":"分類なし(絵本等)"},{"$f":"分類順!D1950","v":"三田村信幸"},{"$f":"分類順!E1950","v":"金の星社"},{"$f":"分類順!F1950","v":20336},"キツネのクリーニングや大あわて絵本分類なし(絵本等)三田村信幸金の星社",1,{"$f":"VLOOKUP(\"*\"&目次加工!$B$2&\"*\",J1951:K1951,2,0)","v":1},{"$error":"#N/A"}]
[null,null,null,{"$f":"分類順!A1951","v":"いやいやえん"},{"$f":"分類順!B1951","v":"絵本"},{"$f":"分類順!C1951","v":"分類なし(絵本等)"},{"$f":"分類順!D1951","v":"中川李枝子"},{"$f":"分類順!E1951","v":"子どもの本研究会"},{"$f":"分類順!F1951","v":20337},"いやいやえん絵本分類なし(絵本等)中川李枝子子どもの本研究会",1,{"$f":"VLOOKUP(\"*\"&目次加工!$B$2&\"*\",J1952:K1952,2,0)","v":1},{"$error":"#N/A"}]
[null,null,null,{"$f":"分類順!A1952","v":"さいごのまほう"},{"$f":"分類順!B1952","v":"絵本"},{"$f":"分類順!C1952","v":"分類なし(絵本等)"},{"$f":"分類順!D1952","v":"中島和子"},{"$f":"分類順!E1952","v":"金の星社"},{"$f":"分類順!F1952","v":20338},"さいごのまほう絵本分類なし(絵本等)中島和子金の星社",1,{"$f":"VLOOKUP(\"*\"&目次加工!$B$2&\"*\",J1953:K1953,2,0)","v":1},{"$error":"#N/A"}]
[null,null,null,{"$f":"分類順!A1953","v":"If pigs could fly"},{"$f":"分類順!B1953","v":"絵本"},{"$f":"分類順!C1953","v":"分類なし(絵本等)"},{"$f":"分類順!D1953","v":"RANDOM HOUSE"},{"$f":"分類順!E1953","v":"RANDOMHOUSE"},{"$f":"分類順!F1953","v":20339},"If pigs could fly絵本分類なし(絵本等)RANDOM HOUSERANDOMHOUSE",1,{"$f":"VLOOKUP(\"*\"&目次加工!$B$2&\"*\",J1954:K1954,2,0)","v":1},{"$error":"#N/A"}]
[null,null,null,{"$f":"分類順!A1954","v":"TRUCKS"},{"$f":"分類順!B1954","v":"絵本"},{"$f":"分類順!C1954","v":"分類なし(絵本等)"},{"$f":"分類順!D1954","v":"RANDOM HOUSE"},{"$f":"分類順!E1954","v":"RANDOMHOUSE"},{"$f":"分類順!F1954","v":20340},"TRUCKS絵本分類なし(絵本等)RANDOM HOUSERANDOMHOUSE",1,{"$f":"VLOOKUP(\"*\"&目次加工!$B$2&\"*\",J1955:K1955,2,0)","v":1},{"$error":"#N/A"}]
[null,null,null,{"$f":"分類順!A1955","v":"SCREAMIES"},{"$f":"分類順!B1955","v":"絵本"},{"$f":"分類順!C1955","v":"分類なし(絵本等)"},{"$f":"分類順!D1955","v":"RANDOM HOUSE"},{"$f":"分類順!E1955","v":"RANDOMHOUSE"},{"$f":"分類順!F1955","v":20341},"SCREAMIES絵本分類なし(絵本等)RANDOM HOUSERANDOMHOUSE",1,{"$f":"VLOOKUP(\"*\"&目次加工!$B$2&\"*\",J1956:K1956,2,0)","v":1},{"$error":"#N/A"}]
[null,null,null,{"$f":"分類順!A1956","v":"おばけのパトロール"},{"$f":"分類順!B1956","v":"絵本"},{"$f":"分類順!C1956","v":"分類なし(絵本等)"},{"$f":"分類順!D1956","v":"山本和子"},{"$f":"分類順!E1956","v":"PHP研究所"},{"$f":"分類順!F1956","v":20342},"おばけのパトロール絵本分類なし(絵本等)山本和子PHP研究所",1,{"$f":"VLOOKUP(\"*\"&目次加工!$B$2&\"*\",J1957:K1957,2,0)","v":1},{"$error":"#N/A"}]
[null,null,null,{"$f":"分類順!A1957","v":"おてんきてんしのおくりもの"},{"$f":"分類順!B1957","v":"絵本"},{"$f":"分類順!C1957","v":"分類なし(絵本等)"},{"$f":"分類順!D1957","v":"戸田和代"},{"$f":"分類順!E1957","v":"金の星社"},{"$f":"分類順!F1957","v":20343},"おてんきてんしのおくりもの絵本分類なし(絵本等)戸田和代金の星社",1,{"$f":"VLOOKUP(\"*\"&目次加工!$B$2&\"*\",J1958:K1958,2,0)","v":1},{"$error":"#N/A"}]
[null,null,null,{"$f":"分類順!A1958","v":"いちばんまちどおしい日"},{"$f":"分類順!B1958","v":"絵本"},{"$f":"分類順!C1958","v":"分類なし(絵本等)"},{"$f":"分類順!D1958","v":"土田義晴"},{"$f":"分類順!E1958","v":"ポプラ社"},{"$f":"分類順!F1958","v":20344},"いちばんまちどおしい日絵本分類なし(絵本等)土田義晴ポプラ社",1,{"$f":"VLOOKUP(\"*\"&目次加工!$B$2&\"*\",J1959:K1959,2,0)","v":1},{"$error":"#N/A"}]
[null,null,null,{"$f":"分類順!A1959","v":"川を探検"},{"$f":"分類順!B1959","v":"絵本"},{"$f":"分類順!C1959","v":"分類なし(絵本等)"},{"$f":"分類順!D1959","v":"松井　孝"},{"$f":"分類順!E1959","v":"金の星社"},{"$f":"分類順!F1959","v":20347},"川を探検絵本分類なし(絵本等)松井　孝金の星社",1,{"$f":"VLOOKUP(\"*\"&目次加工!$B$2&\"*\",J1960:K1960,2,0)","v":1},{"$error":"#N/A"}]
[null,null,null,{"$f":"分類順!A1960","v":"ビオトープづくり"},{"$f":"分類順!B1960","v":"絵本"},{"$f":"分類順!C1960","v":"分類なし(絵本等)"},{"$f":"分類順!D1960","v":"松井　孝"},{"$f":"分類順!E1960","v":"金の星社"},{"$f":"分類順!F1960","v":20350},"ビオトープづくり絵本分類なし(絵本等)松井　孝金の星社",1,{"$f":"VLOOKUP(\"*\"&目次加工!$B$2&\"*\",J1961:K1961,2,0)","v":1},{"$error":"#N/A"}]
[null,null,null,{"$f":"分類順!A1961","v":"動物園は心の学校"},{"$f":"分類順!B1961","v":"絵本"},{"$f":"分類順!C1961","v":"分類なし(絵本等)"},{"$f":"分類順!D1961","v":"亀井一成"},{"$f":"分類順!E1961","v":"ポプラ社"},{"$f":"分類順!F1961","v":20351},"動物園は心の学校絵本分類なし(絵本等)亀井一成ポプラ社",1,{"$f":"VLOOKUP(\"*\"&目次加工!$B$2&\"*\",J1962:K1962,2,0)","v":1},{"$error":"#N/A"}]
[null,null,null,{"$f":"分類順!A1962","v":"おばけのアッチとドララちゃん"},{"$f":"分類順!B1962","v":"絵本"},{"$f":"分類順!C1962","v":"分類なし(絵本等)"},{"$f":"分類順!D1962","v":"角野栄子"},{"$f":"分類順!E1962","v":"ポプラ社"},{"$f":"分類順!F1962","v":20352},"おばけのアッチとドララちゃん絵本分類なし(絵本等)角野栄子ポプラ社",1,{"$f":"VLOOKUP(\"*\"&目次加工!$B$2&\"*\",J1963:K1963,2,0)","v":1},{"$error":"#N/A"}]
[null,null,null,{"$f":"分類順!A1963","v":"おばけのアッチほっぺたぺろりん"},{"$f":"分類順!B1963","v":"絵本"},{"$f":"分類順!C1963","v":"分類なし(絵本等)"},{"$f":"分類順!D1963","v":"角野栄子"},{"$f":"分類順!E1963","v":"ポプラ社"},{"$f":"分類順!F1963","v":20353},"おばけのアッチほっぺたぺろりん絵本分類なし(絵本等)角野栄子ポプラ社",1,{"$f":"VLOOKUP(\"*\"&目次加工!$B$2&\"*\",J1964:K1964,2,0)","v":1},{"$error":"#N/A"}]
[null,null,null,{"$f":"分類順!A1964","v":"ぞうさんのふとん"},{"$f":"分類順!B1964","v":"絵本"},{"$f":"分類順!C1964","v":"分類なし(絵本等)"},{"$f":"分類順!D1964","v":"鬼頭　隆"},{"$f":"分類順!E1964","v":"チャイルド本社"},{"$f":"分類順!F1964","v":20354},"ぞうさんのふとん絵本分類なし(絵本等)鬼頭　隆チャイルド本社",1,{"$f":"VLOOKUP(\"*\"&目次加工!$B$2&\"*\",J1965:K1965,2,0)","v":1},{"$error":"#N/A"}]
[null,null,null,{"$f":"分類順!A1965","v":"ぼくをだいて"},{"$f":"分類順!B1965","v":"絵本"},{"$f":"分類順!C1965","v":"分類なし(絵本等)"},{"$f":"分類順!D1965","v":"はたよしこ"},{"$f":"分類順!E1965","v":"偕成社"},{"$f":"分類順!F1965","v":20355},"ぼくをだいて絵本分類なし(絵本等)はたよしこ偕成社",1,{"$f":"VLOOKUP(\"*\"&目次加工!$B$2&\"*\",J1966:K1966,2,0)","v":1},{"$error":"#N/A"}]
[null,null,null,{"$f":"分類順!A1966","v":"プーさんのおさんぽ"},{"$f":"分類順!B1966","v":"絵本"},{"$f":"分類順!C1966","v":"分類なし(絵本等)"},{"$f":"分類順!D1966","v":"村田さちこ"},{"$f":"分類順!E1966","v":"世界文化社"},{"$f":"分類順!F1966","v":20356},"プーさんのおさんぽ絵本分類なし(絵本等)村田さちこ世界文化社",1,{"$f":"VLOOKUP(\"*\"&目次加工!$B$2&\"*\",J1967:K1967,2,0)","v":1},{"$error":"#N/A"}]
[null,null,null,{"$f":"分類順!A1967","v":"どうぞのいす"},{"$f":"分類順!B1967","v":"絵本"},{"$f":"分類順!C1967","v":"分類なし(絵本等)"},{"$f":"分類順!D1967","v":"香山美子"},{"$f":"分類順!E1967","v":"ひさかたチャイルド"},{"$f":"分類順!F1967","v":20357},"どうぞのいす絵本分類なし(絵本等)香山美子ひさかたチャイルド",1,{"$f":"VLOOKUP(\"*\"&目次加工!$B$2&\"*\",J1968:K1968,2,0)","v":1},{"$error":"#N/A"}]
[null,null,null,{"$f":"分類順!A1968","v":"みさきのこうま"},{"$f":"分類順!B1968","v":"絵本"},{"$f":"分類順!C1968","v":"分類なし(絵本等)"},{"$f":"分類順!D1968","v":"市川宣子"},{"$f":"分類順!E1968","v":"チャイルド本社"},{"$f":"分類順!F1968","v":20358},"みさきのこうま絵本分類なし(絵本等)市川宣子チャイルド本社",1,{"$f":"VLOOKUP(\"*\"&目次加工!$B$2&\"*\",J1969:K1969,2,0)","v":1},{"$error":"#N/A"}]
[null,null,null,{"$f":"分類順!A1969","v":"春の主役桜"},{"$f":"分類順!B1969","v":"絵本"},{"$f":"分類順!C1969","v":"分類なし(絵本等)"},{"$f":"分類順!D1969","v":"ゆのきようこ"},{"$f":"分類順!E1969","v":"理論社"},{"$f":"分類順!F1969","v":20360},"春の主役桜絵本分類なし(絵本等)ゆのきようこ理論社",1,{"$f":"VLOOKUP(\"*\"&目次加工!$B$2&\"*\",J1970:K1970,2,0)","v":1},{"$error":"#N/A"}]
[null,null,null,{"$f":"分類順!A1970","v":"日本の風景松"},{"$f":"分類順!B1970","v":"絵本"},{"$f":"分類順!C1970","v":"分類なし(絵本等)"},{"$f":"分類順!D1970","v":"ゆのきようこ"},{"$f":"分類順!E1970","v":"理論社"},{"$f":"分類順!F1970","v":20361},"日本の風景松絵本分類なし(絵本等)ゆのきようこ理論社",1,{"$f":"VLOOKUP(\"*\"&目次加工!$B$2&\"*\",J1971:K1971,2,0)","v":1},{"$error":"#N/A"}]
[null,null,null,{"$f":"分類順!A1971","v":"イプーとイルカの海"},{"$f":"分類順!B1971","v":"絵本"},{"$f":"分類順!C1971","v":"分類なし(絵本等)"},{"$f":"分類順!D1971","v":"片岡道子"},{"$f":"分類順!E1971","v":"旺文社"},{"$f":"分類順!F1971","v":20362},"イプーとイルカの海絵本分類なし(絵本等)片岡道子旺文社",1,{"$f":"VLOOKUP(\"*\"&目次加工!$B$2&\"*\",J1972:K1972,2,0)","v":1},{"$error":"#N/A"}]
[null,null,null,{"$f":"分類順!A1972","v":"おひめさまえんそくにいく"},{"$f":"分類順!B1972","v":"絵本"},{"$f":"分類順!C1972","v":"分類なし(絵本等)"},{"$f":"分類順!D1972","v":"まだらめ三保"},{"$f":"分類順!E1972","v":"ポプラ社"},{"$f":"分類順!F1972","v":20363},"おひめさまえんそくにいく絵本分類なし(絵本等)まだらめ三保ポプラ社",1,{"$f":"VLOOKUP(\"*\"&目次加工!$B$2&\"*\",J1973:K1973,2,0)","v":1},{"$error":"#N/A"}]
[null,null,null,{"$f":"分類順!A1973","v":"りえの森の旅"},{"$f":"分類順!B1973","v":"絵本"},{"$f":"分類順!C1973","v":"分類なし(絵本等)"},{"$f":"分類順!D1973","v":"ぶしかえつこ"},{"$f":"分類順!E1973","v":"小峰書店"},{"$f":"分類順!F1973","v":20365},"りえの森の旅絵本分類なし(絵本等)ぶしかえつこ小峰書店",1,{"$f":"VLOOKUP(\"*\"&目次加工!$B$2&\"*\",J1974:K1974,2,0)","v":1},{"$error":"#N/A"}]
[null,null,null,{"$f":"分類順!A1974","v":"おかあさんにおみやげ"},{"$f":"分類順!B1974","v":"絵本"},{"$f":"分類順!C1974","v":"分類なし(絵本等)"},{"$f":"分類順!D1974","v":"つちだよしはる"},{"$f":"分類順!E1974","v":"あかね書房"},{"$f":"分類順!F1974","v":20366},"おかあさんにおみやげ絵本分類なし(絵本等)つちだよしはるあかね書房",1,{"$f":"VLOOKUP(\"*\"&目次加工!$B$2&\"*\",J1975:K1975,2,0)","v":1},{"$error":"#N/A"}]
[null,null,null,{"$f":"分類順!A1975","v":"かぎばあさんアメリカへいく"},{"$f":"分類順!B1975","v":"絵本"},{"$f":"分類順!C1975","v":"分類なし(絵本等)"},{"$f":"分類順!D1975","v":"手島悠介"},{"$f":"分類順!E1975","v":"岩崎書店"},{"$f":"分類順!F1975","v":20367},"かぎばあさんアメリカへいく絵本分類なし(絵本等)手島悠介岩崎書店",1,{"$f":"VLOOKUP(\"*\"&目次加工!$B$2&\"*\",J1976:K1976,2,0)","v":1},{"$error":"#N/A"}]
[null,null,null,{"$f":"分類順!A1976","v":"まりーちゃんのくりすます"},{"$f":"分類順!B1976","v":"絵本"},{"$f":"分類順!C1976","v":"分類なし(絵本等)"},{"$f":"分類順!D1976","v":"与田準一"},{"$f":"分類順!E1976","v":"岩波書店"},{"$f":"分類順!F1976","v":20368},"まりーちゃんのくりすます絵本分類なし(絵本等)与田準一岩波書店",1,{"$f":"VLOOKUP(\"*\"&目次加工!$B$2&\"*\",J1977:K1977,2,0)","v":1},{"$error":"#N/A"}]
[null,null,null,{"$f":"分類順!A1977","v":"はだかのおうさま"},{"$f":"分類順!B1977","v":"絵本"},{"$f":"分類順!C1977","v":"分類なし(絵本等)"},{"$f":"分類順!D1977","v":"アンデルセン"},{"$f":"分類順!E1977","v":"世界文化社"},{"$f":"分類順!F1977","v":20369},"はだかのおうさま絵本分類なし(絵本等)アンデルセン世界文化社",1,{"$f":"VLOOKUP(\"*\"&目次加工!$B$2&\"*\",J1978:K1978,2,0)","v":1},{"$error":"#N/A"}]
[null,null,null,{"$f":"分類順!A1978","v":"ちいさいケーブルカーのメーベル"},{"$f":"分類順!B1978","v":"絵本"},{"$f":"分類順!C1978","v":"分類なし(絵本等)"},{"$f":"分類順!D1978","v":"ﾊﾞｰｼﾞﾆｱ･ﾘｰ･ﾊﾞｰﾄﾝ"},{"$f":"分類順!E1978","v":"ペンギン社"},{"$f":"分類順!F1978","v":20370},"ちいさいケーブルカーのメーベル絵本分類なし(絵本等)ﾊﾞｰｼﾞﾆｱ･ﾘｰ･ﾊﾞｰﾄﾝペンギン社",1,{"$f":"VLOOKUP(\"*\"&目次加工!$B$2&\"*\",J1979:K1979,2,0)","v":1},{"$error":"#N/A"}]
[null,null,null,{"$f":"分類順!A1979","v":"青いとり"},{"$f":"分類順!B1979","v":"絵本"},{"$f":"分類順!C1979","v":"分類なし(絵本等)"},{"$f":"分類順!D1979","v":"メーテルリンク"},{"$f":"分類順!E1979","v":"チャイルド本社"},{"$f":"分類順!F1979","v":20371},"青いとり絵本分類なし(絵本等)メーテルリンクチャイルド本社",1,{"$f":"VLOOKUP(\"*\"&目次加工!$B$2&\"*\",J1980:K1980,2,0)","v":1},{"$error":"#N/A"}]
[null,null,null,{"$f":"分類順!A1980","v":"旅するベッド"},{"$f":"分類順!B1980","v":"絵本"},{"$f":"分類順!C1980","v":"分類なし(絵本等)"},{"$f":"分類順!D1980","v":"ジョン・バーニンガム"},{"$f":"分類順!E1980","v":"ほるぷ出版"},{"$f":"分類順!F1980","v":20372},"旅するベッド絵本分類なし(絵本等)ジョン・バーニンガムほるぷ出版",1,{"$f":"VLOOKUP(\"*\"&目次加工!$B$2&\"*\",J1981:K1981,2,0)","v":1},{"$error":"#N/A"}]
[null,null,null,{"$f":"分類順!A1981","v":"クモの糸が織物に使えるってホント？"},{"$f":"分類順!B1981","v":"絵本"},{"$f":"分類順!C1981","v":"分類なし(絵本等)"},{"$f":"分類順!D1981","v":"小川茂男"},{"$f":"分類順!E1981","v":"誠文堂新光社"},{"$f":"分類順!F1981","v":20373},"クモの糸が織物に使えるってホント？絵本分類なし(絵本等)小川茂男誠文堂新光社",1,{"$f":"VLOOKUP(\"*\"&目次加工!$B$2&\"*\",J1982:K1982,2,0)","v":1},{"$error":"#N/A"}]
[null,null,null,{"$f":"分類順!A1982","v":"コウスケくんの青い空"},{"$f":"分類順!B1982","v":"絵本"},{"$f":"分類順!C1982","v":"分類なし(絵本等)"},{"$f":"分類順!D1982","v":"綾野まさる"},{"$f":"分類順!E1982","v":"ハート出版"},{"$f":"分類順!F1982","v":20374},"コウスケくんの青い空絵本分類なし(絵本等)綾野まさるハート出版",1,{"$f":"VLOOKUP(\"*\"&目次加工!$B$2&\"*\",J1983:K1983,2,0)","v":1},{"$error":"#N/A"}]
[null,null,null,{"$f":"分類順!A1983","v":"お父さんのバックドロップ"},{"$f":"分類順!B1983","v":"絵本"},{"$f":"分類順!C1983","v":"分類なし(絵本等)"},{"$f":"分類順!D1983","v":"中島らも"},{"$f":"分類順!E1983","v":"学習研究社"},{"$f":"分類順!F1983","v":20375},"お父さんのバックドロップ絵本分類なし(絵本等)中島らも学習研究社",1,{"$f":"VLOOKUP(\"*\"&目次加工!$B$2&\"*\",J1984:K1984,2,0)","v":1},{"$error":"#N/A"}]
[null,null,null,{"$f":"分類順!A1984","v":"なぜタミばあちゃんはボケたか"},{"$f":"分類順!B1984","v":"絵本"},{"$f":"分類順!C1984","v":"分類なし(絵本等)"},{"$f":"分類順!D1984","v":"おいかわさちえ"},{"$f":"分類順!E1984","v":"ハート出版"},{"$f":"分類順!F1984","v":20376},"なぜタミばあちゃんはボケたか絵本分類なし(絵本等)おいかわさちえハート出版",1,{"$f":"VLOOKUP(\"*\"&目次加工!$B$2&\"*\",J1985:K1985,2,0)","v":1},{"$error":"#N/A"}]
[null,null,null,{"$f":"分類順!A1985","v":"大草原の小さな家"},{"$f":"分類順!B1985","v":"絵本"},{"$f":"分類順!C1985","v":"分類なし(絵本等)"},{"$f":"分類順!D1985","v":"ローラ・インガルス・ワイルダー"},{"$f":"分類順!E1985","v":"福音館書店"},{"$f":"分類順!F1985","v":20377},"大草原の小さな家絵本分類なし(絵本等)ローラ・インガルス・ワイルダー福音館書店",1,{"$f":"VLOOKUP(\"*\"&目次加工!$B$2&\"*\",J1986:K1986,2,0)","v":1},{"$error":"#N/A"}]
[null,null,null,{"$f":"分類順!A1986","v":"プロコフィエフ　音楽はだれのために？"},{"$f":"分類順!B1986","v":"絵本"},{"$f":"分類順!C1986","v":"分類なし(絵本等)"},{"$f":"分類順!D1986","v":"ひのまどか"},{"$f":"分類順!E1986","v":"リブリオ出版"},{"$f":"分類順!F1986","v":20378},"プロコフィエフ　音楽はだれのために？絵本分類なし(絵本等)ひのまどかリブリオ出版",1,{"$f":"VLOOKUP(\"*\"&目次加工!$B$2&\"*\",J1987:K1987,2,0)","v":1},{"$error":"#N/A"}]
[null,null,null,{"$f":"分類順!A1987","v":"ヨハン・シュトラウス　「ワルツ王」の喜びと悲しみ"},{"$f":"分類順!B1987","v":"絵本"},{"$f":"分類順!C1987","v":"分類なし(絵本等)"},{"$f":"分類順!D1987","v":"ひのまどか"},{"$f":"分類順!E1987","v":"リブリオ出版"},{"$f":"分類順!F1987","v":20379},"ヨハン・シュトラウス　「ワルツ王」の喜びと悲しみ絵本分類なし(絵本等)ひのまどかリブリオ出版",1,{"$f":"VLOOKUP(\"*\"&目次加工!$B$2&\"*\",J1988:K1988,2,0)","v":1},{"$f":"VLOOKUP(\"*\"&$A$2&\"*\",J1988:K1988,2,0)","v":{"$error":"#N/A"}}]
[null,null,null,{"$f":"分類順!A1988","v":"生命進化のなぞを解く　ゲノム王と二人の家臣"},{"$f":"分類順!B1988","v":"絵本"},{"$f":"分類順!C1988","v":"分類なし(絵本等)"},{"$f":"分類順!D1988","v":"鳥居信夫"},{"$f":"分類順!E1988","v":"誠文堂新光社"},{"$f":"分類順!F1988","v":20380},"生命進化のなぞを解く　ゲノム王と二人の家臣絵本分類なし(絵本等)鳥居信夫誠文堂新光社",1,{"$f":"VLOOKUP(\"*\"&目次加工!$B$2&\"*\",J1989:K1989,2,0)","v":1},{"$error":"#N/A"}]
[null,null,null,{"$f":"分類順!A1989","v":"地平線にむかって"},{"$f":"分類順!B1989","v":"絵本"},{"$f":"分類順!C1989","v":"分類なし(絵本等)"},{"$f":"分類順!D1989","v":"三輪裕子"},{"$f":"分類順!E1989","v":"小峰書店"},{"$f":"分類順!F1989","v":20381},"地平線にむかって絵本分類なし(絵本等)三輪裕子小峰書店",1,{"$f":"VLOOKUP(\"*\"&目次加工!$B$2&\"*\",J1990:K1990,2,0)","v":1},{"$error":"#N/A"}]
[null,null,null,{"$f":"分類順!A1990","v":"ブタヤマさんたらブタヤマさん"},{"$f":"分類順!B1990","v":"絵本"},{"$f":"分類順!C1990","v":"分類なし(絵本等)"},{"$f":"分類順!D1990","v":"長　新太"},{"$f":"分類順!E1990","v":"文研出版"},{"$f":"分類順!F1990","v":20382},"ブタヤマさんたらブタヤマさん絵本分類なし(絵本等)長　新太文研出版",1,{"$f":"VLOOKUP(\"*\"&目次加工!$B$2&\"*\",J1991:K1991,2,0)","v":1},{"$error":"#N/A"}]
[null,null,null,{"$f":"分類順!A1991","v":"だいじょうぶ　だいじょうぶ"},{"$f":"分類順!B1991","v":"絵本"},{"$f":"分類順!C1991","v":"分類なし(絵本等)"},{"$f":"分類順!D1991","v":"いとうひろし"},{"$f":"分類順!E1991","v":"講談社"},{"$f":"分類順!F1991","v":20383},"だいじょうぶ　だいじょうぶ絵本分類なし(絵本等)いとうひろし講談社",1,{"$f":"VLOOKUP(\"*\"&目次加工!$B$2&\"*\",J1992:K1992,2,0)","v":1},{"$error":"#N/A"}]
[null,null,null,{"$f":"分類順!A1992","v":"うたうおかあさん"},{"$f":"分類順!B1992","v":"絵本"},{"$f":"分類順!C1992","v":"分類なし(絵本等)"},{"$f":"分類順!D1992","v":"西舘好子"},{"$f":"分類順!E1992","v":"サンマーク出版"},{"$f":"分類順!F1992","v":20384},"うたうおかあさん絵本分類なし(絵本等)西舘好子サンマーク出版",1,{"$f":"VLOOKUP(\"*\"&目次加工!$B$2&\"*\",J1993:K1993,2,0)","v":1},{"$error":"#N/A"}]
[null,null,null,{"$f":"分類順!A1993","v":"メチャクサ"},{"$f":"分類順!B1993","v":"絵本"},{"$f":"分類順!C1993","v":"分類なし(絵本等)"},{"$f":"分類順!D1993","v":"ジョナサン・アレン"},{"$f":"分類順!E1993","v":"アスラン書房"},{"$f":"分類順!F1993","v":20385},"メチャクサ絵本分類なし(絵本等)ジョナサン・アレンアスラン書房",1,{"$f":"VLOOKUP(\"*\"&目次加工!$B$2&\"*\",J1994:K1994,2,0)","v":1},{"$error":"#N/A"}]
[null,null,null,{"$f":"分類順!A1994","v":"おまえうまそうだな"},{"$f":"分類順!B1994","v":"絵本"},{"$f":"分類順!C1994","v":"分類なし(絵本等)"},{"$f":"分類順!D1994","v":"宮西達也"},{"$f":"分類順!E1994","v":"ポプラ社"},{"$f":"分類順!F1994","v":20386},"おまえうまそうだな絵本分類なし(絵本等)宮西達也ポプラ社",1,{"$f":"VLOOKUP(\"*\"&目次加工!$B$2&\"*\",J1995:K1995,2,0)","v":1},{"$error":"#N/A"}]
[null,null,null,{"$f":"分類順!A1995","v":"パパがくまになるとき"},{"$f":"分類順!B1995","v":"絵本"},{"$f":"分類順!C1995","v":"分類なし(絵本等)"},{"$f":"分類順!D1995","v":"神沢利子"},{"$f":"分類順!E1995","v":"あかね書房"},{"$f":"分類順!F1995","v":20387},"パパがくまになるとき絵本分類なし(絵本等)神沢利子あかね書房",1,{"$f":"VLOOKUP(\"*\"&目次加工!$B$2&\"*\",J1996:K1996,2,0)","v":1},{"$error":"#N/A"}]
[null,null,null,{"$f":"分類順!A1996","v":"きつねのでんわボックス"},{"$f":"分類順!B1996","v":"絵本"},{"$f":"分類順!C1996","v":"分類なし(絵本等)"},{"$f":"分類順!D1996","v":"戸田和代"},{"$f":"分類順!E1996","v":"金の星社"},{"$f":"分類順!F1996","v":20388},"きつねのでんわボックス絵本分類なし(絵本等)戸田和代金の星社",1,{"$f":"VLOOKUP(\"*\"&目次加工!$B$2&\"*\",J1997:K1997,2,0)","v":1},{"$error":"#N/A"}]
[null,null,null,{"$f":"分類順!A1997","v":"学校へいくのいや"},{"$f":"分類順!B1997","v":"絵本"},{"$f":"分類順!C1997","v":"分類なし(絵本等)"},{"$f":"分類順!D1997","v":"末吉暁子"},{"$f":"分類順!E1997","v":"講談社"},{"$f":"分類順!F1997","v":20389},"学校へいくのいや絵本分類なし(絵本等)末吉暁子講談社",1,{"$f":"VLOOKUP(\"*\"&目次加工!$B$2&\"*\",J1998:K1998,2,0)","v":1},{"$error":"#N/A"}]
[null,null,null,{"$f":"分類順!A1998","v":"きょうはいい日だね"},{"$f":"分類順!B1998","v":"絵本"},{"$f":"分類順!C1998","v":"分類なし(絵本等)"},{"$f":"分類順!D1998","v":"宮川ひろ"},{"$f":"分類順!E1998","v":"PHP研究所"},{"$f":"分類順!F1998","v":20390},"きょうはいい日だね絵本分類なし(絵本等)宮川ひろPHP研究所",1,{"$f":"VLOOKUP(\"*\"&目次加工!$B$2&\"*\",J1999:K1999,2,0)","v":1},{"$error":"#N/A"}]
[null,null,null,{"$f":"分類順!A1999","v":"春ちゃんは元気です"},{"$f":"分類順!B1999","v":"絵本"},{"$f":"分類順!C1999","v":"分類なし(絵本等)"},{"$f":"分類順!D1999","v":"松田のぶお"},{"$f":"分類順!E1999","v":"文芸社"},{"$f":"分類順!F1999","v":20391},"春ちゃんは元気です絵本分類なし(絵本等)松田のぶお文芸社",1,{"$f":"VLOOKUP(\"*\"&目次加工!$B$2&\"*\",J2000:K2000,2,0)","v":1},{"$error":"#N/A"}]
[null,null,null,{"$f":"分類順!A2000","v":"まこちゃんしってるよ"},{"$f":"分類順!B2000","v":"絵本"},{"$f":"分類順!C2000","v":"分類なし(絵本等)"},{"$f":"分類順!D2000","v":"松谷みよ子"},{"$f":"分類順!E2000","v":"講談社"},{"$f":"分類順!F2000","v":20393},"まこちゃんしってるよ絵本分類なし(絵本等)松谷みよ子講談社",1,{"$f":"VLOOKUP(\"*\"&目次加工!$B$2&\"*\",J2001:K2001,2,0)","v":1},{"$error":"#N/A"}]
[null,null,null,{"$f":"分類順!A2001","v":"里見八犬伝"},{"$f":"分類順!B2001","v":"絵本"},{"$f":"分類順!C2001","v":"分類なし(絵本等)"},{"$f":"分類順!D2001","v":"高木卓"},{"$f":"分類順!E2001","v":"ポプラ社"},{"$f":"分類順!F2001","v":20397},"里見八犬伝絵本分類なし(絵本等)高木卓ポプラ社",1,{"$f":"VLOOKUP(\"*\"&目次加工!$B$2&\"*\",J2002:K2002,2,0)","v":1},{"$error":"#N/A"}]
[null,null,null,{"$f":"分類順!A2002","v":"くまのオットーとえほんのおうち"},{"$f":"分類順!B2002","v":"絵本"},{"$f":"分類順!C2002","v":"分類なし(絵本等)"},{"$f":"分類順!D2002","v":"ケイティ・クレミソン"},{"$f":"分類順!E2002","v":"岩崎書店"},{"$f":"分類順!F2002","v":20399},{"$f":"D2003&E2003&F2003&G2003&H2003","v":"くまのオットーとえほんのおうち絵本分類なし(絵本等)ケイティ・クレミソン岩崎書店"},1,{"$f":"VLOOKUP(\"*\"&目次加工!$B$2&\"*\",J2003:K2003,2,0)","v":1},{"$error":"#N/A"}]
[null,null,null,{"$f":"分類順!A2003","v":"ニャゴマロのコンテスト"},{"$f":"分類順!B2003","v":"絵本"},{"$f":"分類順!C2003","v":"分類なし(絵本等)"},{"$f":"分類順!D2003","v":"サム・ロイド"},{"$f":"分類順!E2003","v":"評論社"},{"$f":"分類順!F2003","v":20400},"ニャゴマロのコンテスト絵本分類なし(絵本等)サム・ロイド評論社",1,{"$f":"VLOOKUP(\"*\"&目次加工!$B$2&\"*\",J2004:K2004,2,0)","v":1},{"$error":"#N/A"}]
[null,null,null,{"$f":"分類順!A2004","v":"どうぶつ　どうして　どんどんどんと"},{"$f":"分類順!B2004","v":"絵本"},{"$f":"分類順!C2004","v":"分類なし(絵本等)"},{"$f":"分類順!D2004","v":"マイケ・フォアマンル"},{"$f":"分類順!E2004","v":"岩崎書店"},{"$f":"分類順!F2004","v":20401},"どうぶつ　どうして　どんどんどんと絵本分類なし(絵本等)マイケ・フォアマンル岩崎書店",1,{"$f":"VLOOKUP(\"*\"&目次加工!$B$2&\"*\",J2005:K2005,2,0)","v":1},{"$error":"#N/A"}]
[null,null,null,{"$f":"分類順!A2005","v":"そっと　そっと　しずかにね"},{"$f":"分類順!B2005","v":"絵本"},{"$f":"分類順!C2005","v":"分類なし(絵本等)"},{"$f":"分類順!D2005","v":"イアン・ホワイブロウ"},{"$f":"分類順!E2005","v":"評論社"},{"$f":"分類順!F2005","v":20402},"そっと　そっと　しずかにね絵本分類なし(絵本等)イアン・ホワイブロウ評論社",1,{"$f":"VLOOKUP(\"*\"&目次加工!$B$2&\"*\",J2006:K2006,2,0)","v":1},{"$error":"#N/A"}]
[null,null,null,{"$f":"分類順!A2006","v":"エドワルド　せかいでいちばんおぞましいおとこのこ"},{"$f":"分類順!B2006","v":"絵本"},{"$f":"分類順!C2006","v":"分類なし(絵本等)"},{"$f":"分類順!D2006","v":"ジョン・バーニンガム"},{"$f":"分類順!E2006","v":"ほるぷ出版"},{"$f":"分類順!F2006","v":20403},"エドワルド　せかいでいちばんおぞましいおとこのこ絵本分類なし(絵本等)ジョン・バーニンガムほるぷ出版",1,{"$f":"VLOOKUP(\"*\"&目次加工!$B$2&\"*\",J2007:K2007,2,0)","v":1},{"$error":"#N/A"}]
[null,null,null,{"$f":"分類順!A2007","v":"おつきみピクニック"},{"$f":"分類順!B2007","v":"絵本"},{"$f":"分類順!C2007","v":"分類なし(絵本等)"},{"$f":"分類順!D2007","v":"いちかわなつこ"},{"$f":"分類順!E2007","v":"ほるぷ出版"},{"$f":"分類順!F2007","v":20404},"おつきみピクニック絵本分類なし(絵本等)いちかわなつこほるぷ出版",1,{"$f":"VLOOKUP(\"*\"&目次加工!$B$2&\"*\",J2008:K2008,2,0)","v":1},{"$error":"#N/A"}]
[null,null,null,{"$f":"分類順!A2008","v":"かみつきドゥードゥル"},{"$f":"分類順!B2008","v":"絵本"},{"$f":"分類順!C2008","v":"分類なし(絵本等)"},{"$f":"分類順!D2008","v":"ポリー・ダンバー"},{"$f":"分類順!E2008","v":"フレベール館"},{"$f":"分類順!F2008","v":20405},"かみつきドゥードゥル絵本分類なし(絵本等)ポリー・ダンバーフレベール館",1,{"$f":"VLOOKUP(\"*\"&目次加工!$B$2&\"*\",J2009:K2009,2,0)","v":1},{"$error":"#N/A"}]
[null,null,null,{"$f":"分類順!A2009","v":"なかなおり"},{"$f":"分類順!B2009","v":"絵本"},{"$f":"分類順!C2009","v":"分類なし(絵本等)"},{"$f":"分類順!D2009","v":"シャーロット・ゾロトウ"},{"$f":"分類順!E2009","v":"童話屋"},{"$f":"分類順!F2009","v":20406},"なかなおり絵本分類なし(絵本等)シャーロット・ゾロトウ童話屋",1,{"$f":"VLOOKUP(\"*\"&目次加工!$B$2&\"*\",J2010:K2010,2,0)","v":1},{"$error":"#N/A"}]
[null,null,null,{"$f":"分類順!A2010","v":"もし闇夜がこわかったら 夜空に星をくわえましょう"},{"$f":"分類順!B2010","v":"絵本"},{"$f":"分類順!C2010","v":"分類なし(絵本等)"},{"$f":"分類順!D2010","v":"クーパー・エデンズ"},{"$f":"分類順!E2010","v":"ほるぷ出版"},{"$f":"分類順!F2010","v":20407},"もし闇夜がこわかったら 夜空に星をくわえましょう絵本分類なし(絵本等)クーパー・エデンズほるぷ出版",1,{"$f":"VLOOKUP(\"*\"&目次加工!$B$2&\"*\",J2011:K2011,2,0)","v":1},{"$error":"#N/A"}]
[null,null,null,{"$f":"分類順!A2011","v":"そとねこものがたり"},{"$f":"分類順!B2011","v":"絵本"},{"$f":"分類順!C2011","v":"分類なし(絵本等)"},{"$f":"分類順!D2011","v":"しまだけんじ"},{"$f":"分類順!E2011","v":"ハート出版"},{"$f":"分類順!F2011","v":20408},"そとねこものがたり絵本分類なし(絵本等)しまだけんじハート出版",1,{"$f":"VLOOKUP(\"*\"&目次加工!$B$2&\"*\",J2012:K2012,2,0)","v":1},{"$error":"#N/A"}]
[null,null,null,{"$f":"分類順!A2012","v":"わたしのかわいいワニ"},{"$f":"分類順!B2012","v":"絵本"},{"$f":"分類順!C2012","v":"分類なし(絵本等)"},{"$f":"分類順!D2012","v":"ｲｱﾝ･ﾘｭｯｸ･ｱﾝｸﾞﾙﾍﾞｰﾙ"},{"$f":"分類順!E2012","v":"小峰書店"},{"$f":"分類順!F2012","v":20413},"わたしのかわいいワニ絵本分類なし(絵本等)ｲｱﾝ･ﾘｭｯｸ･ｱﾝｸﾞﾙﾍﾞｰﾙ小峰書店",1,{"$f":"VLOOKUP(\"*\"&目次加工!$B$2&\"*\",J2013:K2013,2,0)","v":1},{"$error":"#N/A"}]
[null,null,null,{"$f":"分類順!A2013","v":"ちいさなくし"},{"$f":"分類順!B2013","v":"絵本"},{"$f":"分類順!C2013","v":"分類なし(絵本等)"},{"$f":"分類順!D2013","v":"Ｍ・ポプルトン"},{"$f":"分類順!E2013","v":"福音館書店"},{"$f":"分類順!F2013","v":20414},"ちいさなくし絵本分類なし(絵本等)Ｍ・ポプルトン福音館書店",1,{"$f":"VLOOKUP(\"*\"&目次加工!$B$2&\"*\",J2014:K2014,2,0)","v":1},{"$error":"#N/A"}]
[null,null,null,{"$f":"分類順!A2014","v":"からだあそびシリーズ①　動物になって動いてみよう"},{"$f":"分類順!B2014","v":"絵本"},{"$f":"分類順!C2014","v":"分類なし(絵本等)"},{"$f":"分類順!D2014","v":"久保　健"},{"$f":"分類順!E2014","v":"草土文化"},{"$f":"分類順!F2014","v":20415},"からだあそびシリーズ①　動物になって動いてみよう絵本分類なし(絵本等)久保　健草土文化",1,{"$f":"VLOOKUP(\"*\"&目次加工!$B$2&\"*\",J2015:K2015,2,0)","v":1},{"$error":"#N/A"}]
[null,null,null,{"$f":"分類順!A2015","v":"ふつうのくま"},{"$f":"分類順!B2015","v":"絵本"},{"$f":"分類順!C2015","v":"分類なし(絵本等)"},{"$f":"分類順!D2015","v":"佐野洋子"},{"$f":"分類順!E2015","v":"講談社"},{"$f":"分類順!F2015","v":20416},"ふつうのくま絵本分類なし(絵本等)佐野洋子講談社",1,{"$f":"VLOOKUP(\"*\"&目次加工!$B$2&\"*\",J2016:K2016,2,0)","v":1},{"$error":"#N/A"}]
[null,null,null,{"$f":"分類順!A2016","v":"のんびりすいぞくかん"},{"$f":"分類順!B2016","v":"絵本"},{"$f":"分類順!C2016","v":"分類なし(絵本等)"},{"$f":"分類順!D2016","v":"長　新太"},{"$f":"分類順!E2016","v":"理論社"},{"$f":"分類順!F2016","v":20417},"のんびりすいぞくかん絵本分類なし(絵本等)長　新太理論社",1,{"$f":"VLOOKUP(\"*\"&目次加工!$B$2&\"*\",J2017:K2017,2,0)","v":1},{"$error":"#N/A"}]
[null,null,null,{"$f":"分類順!A2017","v":"思い出のたんじょう日"},{"$f":"分類順!B2017","v":"絵本"},{"$f":"分類順!C2017","v":"分類なし(絵本等)"},{"$f":"分類順!D2017","v":"内田麟太郎"},{"$f":"分類順!E2017","v":"金の星社"},{"$f":"分類順!F2017","v":20418},"思い出のたんじょう日絵本分類なし(絵本等)内田麟太郎金の星社",1,{"$f":"VLOOKUP(\"*\"&目次加工!$B$2&\"*\",J2018:K2018,2,0)","v":1},{"$error":"#N/A"}]
[null,null,null,{"$f":"分類順!A2018","v":"チップとなぞのビー玉めいろ"},{"$f":"分類順!B2018","v":"絵本"},{"$f":"分類順!C2018","v":"分類なし(絵本等)"},{"$f":"分類順!D2018","v":"末吉暁子"},{"$f":"分類順!E2018","v":"あかね書房"},{"$f":"分類順!F2018","v":20419},"チップとなぞのビー玉めいろ絵本分類なし(絵本等)末吉暁子あかね書房",1,{"$f":"VLOOKUP(\"*\"&目次加工!$B$2&\"*\",J2019:K2019,2,0)","v":1},{"$error":"#N/A"}]
[null,null,null,{"$f":"分類順!A2019","v":"えほん　かえってきたジロー"},{"$f":"分類順!B2019","v":"絵本"},{"$f":"分類順!C2019","v":"分類なし(絵本等)"},{"$f":"分類順!D2019","v":"あやのまさる"},{"$f":"分類順!E2019","v":"ハート出版"},{"$f":"分類順!F2019","v":20420},"えほん　かえってきたジロー絵本分類なし(絵本等)あやのまさるハート出版",1,{"$f":"VLOOKUP(\"*\"&目次加工!$B$2&\"*\",J2020:K2020,2,0)","v":1},{"$error":"#N/A"}]
[null,null,null,{"$f":"分類順!A2020","v":"プレゼント　プレゼント"},{"$f":"分類順!B2020","v":"絵本"},{"$f":"分類順!C2020","v":"分類なし(絵本等)"},{"$f":"分類順!D2020","v":"うめだ よしこ"},{"$f":"分類順!E2020","v":"新日本出版社"},{"$f":"分類順!F2020","v":20421},"プレゼント　プレゼント絵本分類なし(絵本等)うめだ よしこ新日本出版社",1,{"$f":"VLOOKUP(\"*\"&目次加工!$B$2&\"*\",J2021:K2021,2,0)","v":1},{"$error":"#N/A"}]
[null,null,null,{"$f":"分類順!A2021","v":"ななみちゃんの漢字えほん"},{"$f":"分類順!B2021","v":"絵本"},{"$f":"分類順!C2021","v":"分類なし(絵本等)"},{"$f":"分類順!D2021","v":"正村史郎"},{"$f":"分類順!E2021","v":"NHK出版"},{"$f":"分類順!F2021","v":20422},"ななみちゃんの漢字えほん絵本分類なし(絵本等)正村史郎NHK出版",1,{"$f":"VLOOKUP(\"*\"&目次加工!$B$2&\"*\",J2022:K2022,2,0)","v":1},{"$error":"#N/A"}]
[null,null,null,{"$f":"分類順!A2022","v":"ことりはどこ？"},{"$f":"分類順!B2022","v":"絵本"},{"$f":"分類順!C2022","v":"分類なし(絵本等)"},{"$f":"分類順!D2022","v":"シャーロット・ゾロトウ"},{"$f":"分類順!E2022","v":"童話屋"},{"$f":"分類順!F2022","v":20423},"ことりはどこ？絵本分類なし(絵本等)シャーロット・ゾロトウ童話屋",1,{"$f":"VLOOKUP(\"*\"&目次加工!$B$2&\"*\",J2023:K2023,2,0)","v":1},{"$error":"#N/A"}]
[null,null,null,{"$f":"分類順!A2023","v":"雪むすめのおくりもの"},{"$f":"分類順!B2023","v":"絵本"},{"$f":"分類順!C2023","v":"分類なし(絵本等)"},{"$f":"分類順!D2023","v":"佐藤義則"},{"$f":"分類順!E2023","v":"草土文化"},{"$f":"分類順!F2023","v":20424},"雪むすめのおくりもの絵本分類なし(絵本等)佐藤義則草土文化",1,{"$f":"VLOOKUP(\"*\"&目次加工!$B$2&\"*\",J2024:K2024,2,0)","v":1},{"$error":"#N/A"}]
[null,null,null,{"$f":"分類順!A2024","v":"おじいさんのはやぶさ"},{"$f":"分類順!B2024","v":"絵本"},{"$f":"分類順!C2024","v":"分類なし(絵本等)"},{"$f":"分類順!D2024","v":"間瀬なおかた"},{"$f":"分類順!E2024","v":"KKベストセラーズ"},{"$f":"分類順!F2024","v":20425},"おじいさんのはやぶさ絵本分類なし(絵本等)間瀬なおかたKKベストセラーズ",1,{"$f":"VLOOKUP(\"*\"&目次加工!$B$2&\"*\",J2025:K2025,2,0)","v":1},{"$error":"#N/A"}]
[null,null,null,{"$f":"分類順!A2025","v":"かぐやひめ"},{"$f":"分類順!B2025","v":"絵本"},{"$f":"分類順!C2025","v":"分類なし(絵本等)"},{"$f":"分類順!D2025","v":"日本童話"},{"$f":"分類順!E2025","v":"ひかりのくに"},{"$f":"分類順!F2025","v":20426},"かぐやひめ絵本分類なし(絵本等)日本童話ひかりのくに",1,{"$f":"VLOOKUP(\"*\"&目次加工!$B$2&\"*\",J2026:K2026,2,0)","v":1},{"$error":"#N/A"}]
[null,null,null,{"$f":"分類順!A2026","v":"ちびフクロウのぼうけん"},{"$f":"分類順!B2026","v":"絵本"},{"$f":"分類順!C2026","v":"分類なし(絵本等)"},{"$f":"分類順!D2026","v":"ノーラ・スロイェギン"},{"$f":"分類順!E2026","v":"福音館書店"},{"$f":"分類順!F2026","v":20427},"ちびフクロウのぼうけん絵本分類なし(絵本等)ノーラ・スロイェギン福音館書店",1,{"$f":"VLOOKUP(\"*\"&目次加工!$B$2&\"*\",J2027:K2027,2,0)","v":1},{"$error":"#N/A"}]
[null,null,null,{"$f":"分類順!A2027","v":"りん　らん　ろん"},{"$f":"分類順!B2027","v":"絵本"},{"$f":"分類順!C2027","v":"分類なし(絵本等)"},{"$f":"分類順!D2027","v":"マリー・コールマン"},{"$f":"分類順!E2027","v":"童話屋"},{"$f":"分類順!F2027","v":20428},"りん　らん　ろん絵本分類なし(絵本等)マリー・コールマン童話屋",1,{"$f":"VLOOKUP(\"*\"&目次加工!$B$2&\"*\",J2028:K2028,2,0)","v":1},{"$error":"#N/A"}]
[null,null,null,{"$f":"分類順!A2028","v":"からだあそびシリーズ①　くらしの中でどう動いてる？"},{"$f":"分類順!B2028","v":"絵本"},{"$f":"分類順!C2028","v":"分類なし(絵本等)"},{"$f":"分類順!D2028","v":"原田奈名子"},{"$f":"分類順!E2028","v":"草土文庫"},{"$f":"分類順!F2028","v":20429},"からだあそびシリーズ①　くらしの中でどう動いてる？絵本分類なし(絵本等)原田奈名子草土文庫",1,{"$f":"VLOOKUP(\"*\"&目次加工!$B$2&\"*\",J2029:K2029,2,0)","v":1},{"$error":"#N/A"}]
[null,null,null,{"$f":"分類順!A2029","v":"宇宙プロキシマ号の伝説"},{"$f":"分類順!B2029","v":"絵本"},{"$f":"分類順!C2029","v":"分類なし(絵本等)"},{"$f":"分類順!D2029","v":"ブライアン・グリーン"},{"$f":"分類順!E2029","v":"あすなろ書房"},{"$f":"分類順!F2029","v":20430},"宇宙プロキシマ号の伝説絵本分類なし(絵本等)ブライアン・グリーンあすなろ書房",1,{"$f":"VLOOKUP(\"*\"&目次加工!$B$2&\"*\",J2030:K2030,2,0)","v":1},{"$error":"#N/A"}]
[null,null,null,{"$f":"分類順!A2030","v":"ジャッキー・チェンになりたいな"},{"$f":"分類順!B2030","v":"絵本"},{"$f":"分類順!C2030","v":"分類なし(絵本等)"},{"$f":"分類順!D2030","v":"岡本　央"},{"$f":"分類順!E2030","v":"草土文化"},{"$f":"分類順!F2030","v":20431},"ジャッキー・チェンになりたいな絵本分類なし(絵本等)岡本　央草土文化",1,{"$f":"VLOOKUP(\"*\"&目次加工!$B$2&\"*\",J2031:K2031,2,0)","v":1},{"$error":"#N/A"}]
[null,null,null,{"$f":"分類順!A2031","v":"おぼうさんになった少年ピタック"},{"$f":"分類順!B2031","v":"絵本"},{"$f":"分類順!C2031","v":"分類なし(絵本等)"},{"$f":"分類順!D2031","v":"田村　仁"},{"$f":"分類順!E2031","v":"草土文化"},{"$f":"分類順!F2031","v":20432},"おぼうさんになった少年ピタック絵本分類なし(絵本等)田村　仁草土文化",1,{"$f":"VLOOKUP(\"*\"&目次加工!$B$2&\"*\",J2032:K2032,2,0)","v":1},{"$error":"#N/A"}]
[null,null,null,{"$f":"分類順!A2032","v":"動物園で毎日働く"},{"$f":"分類順!B2032","v":"絵本"},{"$f":"分類順!C2032","v":"分類なし(絵本等)"},{"$f":"分類順!D2032","v":"中川志郎"},{"$f":"分類順!E2032","v":"農文協"},{"$f":"分類順!F2032","v":20433},"動物園で毎日働く絵本分類なし(絵本等)中川志郎農文協",1,{"$f":"VLOOKUP(\"*\"&目次加工!$B$2&\"*\",J2033:K2033,2,0)","v":1},{"$error":"#N/A"}]
[null,null,null,{"$f":"分類順!A2033","v":"こども電車"},{"$f":"分類順!B2033","v":"絵本"},{"$f":"分類順!C2033","v":"分類なし(絵本等)"},{"$f":"分類順!D2033","v":"岡田　潤"},{"$f":"分類順!E2033","v":"金の星社"},{"$f":"分類順!F2033","v":20434},"こども電車絵本分類なし(絵本等)岡田　潤金の星社",1,{"$f":"VLOOKUP(\"*\"&目次加工!$B$2&\"*\",J2034:K2034,2,0)","v":1},{"$error":"#N/A"}]
[null,null,null,{"$f":"分類順!A2034","v":"ここがわたしのおうちです"},{"$f":"分類順!B2034","v":"絵本"},{"$f":"分類順!C2034","v":"分類なし(絵本等)"},{"$f":"分類順!D2034","v":"アイリーン・スピネリ"},{"$f":"分類順!E2034","v":"さ・え・ら書房"},{"$f":"分類順!F2034","v":20435},"ここがわたしのおうちです絵本分類なし(絵本等)アイリーン・スピネリさ・え・ら書房",1,{"$f":"VLOOKUP(\"*\"&目次加工!$B$2&\"*\",J2035:K2035,2,0)","v":1},{"$error":"#N/A"}]
[null,null,null,{"$f":"分類順!A2035","v":"となりのトンコやん"},{"$f":"分類順!B2035","v":"絵本"},{"$f":"分類順!C2035","v":"分類なし(絵本等)"},{"$f":"分類順!D2035","v":"久保田ゆき"},{"$f":"分類順!E2035","v":"ハート出版"},{"$f":"分類順!F2035","v":20436},"となりのトンコやん絵本分類なし(絵本等)久保田ゆきハート出版",1,{"$f":"VLOOKUP(\"*\"&目次加工!$B$2&\"*\",J2036:K2036,2,0)","v":1},{"$error":"#N/A"}]
[null,null,null,{"$f":"分類順!A2036","v":"アニメ版ちびまる子ちゃん　ヒロシの友情の巻"},{"$f":"分類順!B2036","v":"絵本"},{"$f":"分類順!C2036","v":"分類なし(絵本等)"},{"$f":"分類順!D2036","v":"さくらももこ"},{"$f":"分類順!E2036","v":"金の星社"},{"$f":"分類順!F2036","v":20437},"アニメ版ちびまる子ちゃん　ヒロシの友情の巻絵本分類なし(絵本等)さくらももこ金の星社",1,{"$f":"VLOOKUP(\"*\"&目次加工!$B$2&\"*\",J2037:K2037,2,0)","v":1},{"$error":"#N/A"}]
[null,null,null,{"$f":"分類順!A2037","v":"スーホの白い馬に会ったよ"},{"$f":"分類順!B2037","v":"絵本"},{"$f":"分類順!C2037","v":"分類なし(絵本等)"},{"$f":"分類順!D2037","v":"かまだしゅんぞう"},{"$f":"分類順!E2037","v":"ハート出版"},{"$f":"分類順!F2037","v":20438},"スーホの白い馬に会ったよ絵本分類なし(絵本等)かまだしゅんぞうハート出版",1,{"$f":"VLOOKUP(\"*\"&目次加工!$B$2&\"*\",J2038:K2038,2,0)","v":1},{"$error":"#N/A"}]
[null,null,null,{"$f":"分類順!A2038","v":"おてんば娘　はな子の七転び八起"},{"$f":"分類順!B2038","v":"絵本"},{"$f":"分類順!C2038","v":"分類なし(絵本等)"},{"$f":"分類順!D2038","v":"綾野まさる"},{"$f":"分類順!E2038","v":"ハート出版"},{"$f":"分類順!F2038","v":20439},"おてんば娘　はな子の七転び八起絵本分類なし(絵本等)綾野まさるハート出版",1,{"$f":"VLOOKUP(\"*\"&目次加工!$B$2&\"*\",J2039:K2039,2,0)","v":1},{"$error":"#N/A"}]
[null,null,null,{"$f":"分類順!A2039","v":"ぼくのうしろ足はタイヤだよ　車いすの犬チャンプ"},{"$f":"分類順!B2039","v":"絵本"},{"$f":"分類順!C2039","v":"分類なし(絵本等)"},{"$f":"分類順!D2039","v":"池田　まき子"},{"$f":"分類順!E2039","v":"ハート出版"},{"$f":"分類順!F2039","v":20440},"ぼくのうしろ足はタイヤだよ　車いすの犬チャンプ絵本分類なし(絵本等)池田　まき子ハート出版",1,{"$f":"VLOOKUP(\"*\"&目次加工!$B$2&\"*\",J2040:K2040,2,0)","v":1},{"$error":"#N/A"}]
[null,null,null,{"$f":"分類順!A2040","v":"からだあそびシリーズ③　からだであそぼう"},{"$f":"分類順!B2040","v":"絵本"},{"$f":"分類順!C2040","v":"分類なし(絵本等)"},{"$f":"分類順!D2040","v":"原田奈名子"},{"$f":"分類順!E2040","v":"草土文庫"},{"$f":"分類順!F2040","v":20441},"からだあそびシリーズ③　からだであそぼう絵本分類なし(絵本等)原田奈名子草土文庫",1,{"$f":"VLOOKUP(\"*\"&目次加工!$B$2&\"*\",J2041:K2041,2,0)","v":1},{"$error":"#N/A"}]
[null,null,null,{"$f":"分類順!A2041","v":"おばけのひっこし"},{"$f":"分類順!B2041","v":"絵本"},{"$f":"分類順!C2041","v":"分類なし(絵本等)"},{"$f":"分類順!D2041","v":"さがらあつこ"},{"$f":"分類順!E2041","v":"福音館書店"},{"$f":"分類順!F2041","v":20442},"おばけのひっこし絵本分類なし(絵本等)さがらあつこ福音館書店",1,{"$f":"VLOOKUP(\"*\"&目次加工!$B$2&\"*\",J2042:K2042,2,0)","v":1},{"$error":"#N/A"}]
[null,null,null,{"$f":"分類順!A2042","v":"くりひろい"},{"$f":"分類順!B2042","v":"絵本"},{"$f":"分類順!C2042","v":"分類なし(絵本等)"},{"$f":"分類順!D2042","v":"イェン・タチョン"},{"$f":"分類順!E2042","v":"福音館書店"},{"$f":"分類順!F2042","v":20443},"くりひろい絵本分類なし(絵本等)イェン・タチョン福音館書店",1,{"$f":"VLOOKUP(\"*\"&目次加工!$B$2&\"*\",J2043:K2043,2,0)","v":1},{"$error":"#N/A"}]
[null,null,null,{"$f":"分類順!A2043","v":"ねこのごんごん"},{"$f":"分類順!B2043","v":"絵本"},{"$f":"分類順!C2043","v":"分類なし(絵本等)"},{"$f":"分類順!D2043","v":"大道あや"},{"$f":"分類順!E2043","v":"福音館書店"},{"$f":"分類順!F2043","v":20444},"ねこのごんごん絵本分類なし(絵本等)大道あや福音館書店",1,{"$f":"VLOOKUP(\"*\"&目次加工!$B$2&\"*\",J2044:K2044,2,0)","v":1},{"$error":"#N/A"}]
[null,null,null,{"$f":"分類順!A2044","v":"ひつじかいとうさぎ"},{"$f":"分類順!B2044","v":"絵本"},{"$f":"分類順!C2044","v":"分類なし(絵本等)"},{"$f":"分類順!D2044","v":"うちだりさこ"},{"$f":"分類順!E2044","v":"福音館書店"},{"$f":"分類順!F2044","v":20445},"ひつじかいとうさぎ絵本分類なし(絵本等)うちだりさこ福音館書店",1,{"$f":"VLOOKUP(\"*\"&目次加工!$B$2&\"*\",J2045:K2045,2,0)","v":1},{"$error":"#N/A"}]
[null,null,null,{"$f":"分類順!A2045","v":"そばがらじさまとまめじさま"},{"$f":"分類順!B2045","v":"絵本"},{"$f":"分類順!C2045","v":"分類なし(絵本等)"},{"$f":"分類順!D2045","v":"小林輝子"},{"$f":"分類順!E2045","v":"福音館書店"},{"$f":"分類順!F2045","v":20446},"そばがらじさまとまめじさま絵本分類なし(絵本等)小林輝子福音館書店",1,{"$f":"VLOOKUP(\"*\"&目次加工!$B$2&\"*\",J2046:K2046,2,0)","v":1},{"$error":"#N/A"}]
[null,null,null,{"$f":"分類順!A2046","v":"ゆかいなゆうびんやさん"},{"$f":"分類順!B2046","v":"絵本"},{"$f":"分類順!C2046","v":"分類なし(絵本等)"},{"$f":"分類順!D2046","v":"ジャネット&アラン・アルバーグ"},{"$f":"分類順!E2046","v":"文化出版局"},{"$f":"分類順!F2046","v":20447},"ゆかいなゆうびんやさん絵本分類なし(絵本等)ジャネット&アラン・アルバーグ文化出版局",1,{"$f":"VLOOKUP(\"*\"&目次加工!$B$2&\"*\",J2047:K2047,2,0)","v":1},{"$error":"#N/A"}]
[null,null,null,{"$f":"分類順!A2047","v":"ゆかいなゆうびんやさんのクリスマス"},{"$f":"分類順!B2047","v":"絵本"},{"$f":"分類順!C2047","v":"分類なし(絵本等)"},{"$f":"分類順!D2047","v":"ジャネット&アラン・アルバーグ"},{"$f":"分類順!E2047","v":"文化出版局"},{"$f":"分類順!F2047","v":20448},"ゆかいなゆうびんやさんのクリスマス絵本分類なし(絵本等)ジャネット&アラン・アルバーグ文化出版局",1,{"$f":"VLOOKUP(\"*\"&目次加工!$B$2&\"*\",J2048:K2048,2,0)","v":1},{"$error":"#N/A"}]
[null,null,null,{"$f":"分類順!A2048","v":"ゆかいなゆうびんやさんのだいぼうけん"},{"$f":"分類順!B2048","v":"絵本"},{"$f":"分類順!C2048","v":"分類なし(絵本等)"},{"$f":"分類順!D2048","v":"ジャネット&アラン・アルバーグ"},{"$f":"分類順!E2048","v":"文化出版局"},{"$f":"分類順!F2048","v":20449},"ゆかいなゆうびんやさんのだいぼうけん絵本分類なし(絵本等)ジャネット&アラン・アルバーグ文化出版局",1,{"$f":"VLOOKUP(\"*\"&目次加工!$B$2&\"*\",J2049:K2049,2,0)","v":1},{"$error":"#N/A"}]
[null,null,null,{"$f":"分類順!A2049","v":"ノンタンがんばるもん"},{"$f":"分類順!B2049","v":"絵本"},{"$f":"分類順!C2049","v":"分類なし(絵本等)"},{"$f":"分類順!D2049","v":"キヨノサチコ"},{"$f":"分類順!E2049","v":"偕成社"},{"$f":"分類順!F2049","v":20450},"ノンタンがんばるもん絵本分類なし(絵本等)キヨノサチコ偕成社",1,{"$f":"VLOOKUP(\"*\"&目次加工!$B$2&\"*\",J2050:K2050,2,0)","v":1},{"$error":"#N/A"}]
[null,null,null,{"$f":"分類順!A2050","v":"おへそのあな"},{"$f":"分類順!B2050","v":"絵本"},{"$f":"分類順!C2050","v":"分類なし(絵本等)"},{"$f":"分類順!D2050","v":"長谷川義史"},{"$f":"分類順!E2050","v":"BL出版"},{"$f":"分類順!F2050","v":20451},"おへそのあな絵本分類なし(絵本等)長谷川義史BL出版",1,{"$f":"VLOOKUP(\"*\"&目次加工!$B$2&\"*\",J2051:K2051,2,0)","v":1},{"$error":"#N/A"}]
[null,null,null,{"$f":"分類順!A2051","v":"がっこうでトイレにいけるかな？"},{"$f":"分類順!B2051","v":"絵本"},{"$f":"分類順!C2051","v":"分類なし(絵本等)"},{"$f":"分類順!D2051","v":"村上八千世"},{"$f":"分類順!E2051","v":"ほるぷ出版"},{"$f":"分類順!F2051","v":20452},"がっこうでトイレにいけるかな？絵本分類なし(絵本等)村上八千世ほるぷ出版",1,{"$f":"VLOOKUP(\"*\"&目次加工!$B$2&\"*\",J2052:K2052,2,0)","v":1},{"$f":"VLOOKUP(\"*\"&$A$2&\"*\",J2052:K2052,2,0)","v":{"$error":"#N/A"}}]
[null,null,null,{"$f":"分類順!A2052","v":"おかあさん　だいじょうぶ？"},{"$f":"分類順!B2052","v":"絵本"},{"$f":"分類順!C2052","v":"分類なし(絵本等)"},{"$f":"分類順!D2052","v":"乳がんの親とそのこどものためのﾌﾟﾛｼﾞｪｸﾄ"},{"$f":"分類順!E2052","v":"小学館"},{"$f":"分類順!F2052","v":20453},"おかあさん　だいじょうぶ？絵本分類なし(絵本等)乳がんの親とそのこどものためのﾌﾟﾛｼﾞｪｸﾄ小学館",1,{"$f":"VLOOKUP(\"*\"&目次加工!$B$2&\"*\",J2053:K2053,2,0)","v":1},{"$error":"#N/A"}]
[null,null,null,{"$f":"分類順!A2053","v":"ガスパールびょういんへいく"},{"$f":"分類順!B2053","v":"絵本"},{"$f":"分類順!C2053","v":"分類なし(絵本等)"},{"$f":"分類順!D2053","v":"アン・グッドマン"},{"$f":"分類順!E2053","v":"ブロンズ新社"},{"$f":"分類順!F2053","v":20454},"ガスパールびょういんへいく絵本分類なし(絵本等)アン・グッドマンブロンズ新社",1,{"$f":"VLOOKUP(\"*\"&目次加工!$B$2&\"*\",J2054:K2054,2,0)","v":1},{"$error":"#N/A"}]
[null,null,null,{"$f":"分類順!A2054","v":"いもうとのにゅういん"},{"$f":"分類順!B2054","v":"絵本"},{"$f":"分類順!C2054","v":"分類なし(絵本等)"},{"$f":"分類順!D2054","v":"筒井頼子"},{"$f":"分類順!E2054","v":"福音館書店"},{"$f":"分類順!F2054","v":20455},"いもうとのにゅういん絵本分類なし(絵本等)筒井頼子福音館書店",1,{"$f":"VLOOKUP(\"*\"&目次加工!$B$2&\"*\",J2055:K2055,2,0)","v":1},{"$error":"#N/A"}]
[null,null,null,{"$f":"分類順!A2055","v":"ぼくびょうきじゃないよ"},{"$f":"分類順!B2055","v":"絵本"},{"$f":"分類順!C2055","v":"分類なし(絵本等)"},{"$f":"分類順!D2055","v":"角野栄子"},{"$f":"分類順!E2055","v":"福音館書店"},{"$f":"分類順!F2055","v":20456},"ぼくびょうきじゃないよ絵本分類なし(絵本等)角野栄子福音館書店",1,{"$f":"VLOOKUP(\"*\"&目次加工!$B$2&\"*\",J2056:K2056,2,0)","v":1},{"$error":"#N/A"}]
[null,null,null,{"$f":"分類順!A2056","v":"いのちの時間"},{"$f":"分類順!B2056","v":"絵本"},{"$f":"分類順!C2056","v":"分類なし(絵本等)"},{"$f":"分類順!D2056","v":"ブライアン・メロニー"},{"$f":"分類順!E2056","v":"新教出版社"},{"$f":"分類順!F2056","v":20457},"いのちの時間絵本分類なし(絵本等)ブライアン・メロニー新教出版社",1,{"$f":"VLOOKUP(\"*\"&目次加工!$B$2&\"*\",J2057:K2057,2,0)","v":1},{"$error":"#N/A"}]
[null,null,null,{"$f":"分類順!A2057","v":"14ひきのさむいふゆ"},{"$f":"分類順!B2057","v":"絵本"},{"$f":"分類順!C2057","v":"分類なし(絵本等)"},{"$f":"分類順!D2057","v":"いわむらかずお"},{"$f":"分類順!E2057","v":"童心社"},{"$f":"分類順!F2057","v":20459},"14ひきのさむいふゆ絵本分類なし(絵本等)いわむらかずお童心社",1,{"$f":"VLOOKUP(\"*\"&目次加工!$B$2&\"*\",J2058:K2058,2,0)","v":1},{"$error":"#N/A"}]
[null,null,null,{"$f":"分類順!A2058","v":"すきってなあに"},{"$f":"分類順!B2058","v":"絵本"},{"$f":"分類順!C2058","v":"分類なし(絵本等)"},{"$f":"分類順!D2058","v":"矢崎節夫"},{"$f":"分類順!E2058","v":"至光社"},{"$f":"分類順!F2058","v":20463},"すきってなあに絵本分類なし(絵本等)矢崎節夫至光社",1,{"$f":"VLOOKUP(\"*\"&目次加工!$B$2&\"*\",J2059:K2059,2,0)","v":1},{"$error":"#N/A"}]
[null,null,null,{"$f":"分類順!A2059","v":"ねずみのさかなつり"},{"$f":"分類順!B2059","v":"絵本"},{"$f":"分類順!C2059","v":"分類なし(絵本等)"},{"$f":"分類順!D2059","v":"山下明生"},{"$f":"分類順!E2059","v":"ひさかたチャイルド"},{"$f":"分類順!F2059","v":20466},"ねずみのさかなつり絵本分類なし(絵本等)山下明生ひさかたチャイルド",1,{"$f":"VLOOKUP(\"*\"&目次加工!$B$2&\"*\",J2060:K2060,2,0)","v":1},{"$error":"#N/A"}]
[null,null,null,{"$f":"分類順!A2060","v":"ピーター・パン"},{"$f":"分類順!B2060","v":"絵本"},{"$f":"分類順!C2060","v":"分類なし(絵本等)"},{"$f":"分類順!D2060","v":"ジェームズ・バリ"},{"$f":"分類順!E2060","v":"ポプラ社"},{"$f":"分類順!F2060","v":20467},"ピーター・パン絵本分類なし(絵本等)ジェームズ・バリポプラ社",1,{"$f":"VLOOKUP(\"*\"&目次加工!$B$2&\"*\",J2061:K2061,2,0)","v":1},{"$error":"#N/A"}]
[null,null,null,{"$f":"分類順!A2061","v":"くつやさんと10にんのこびと"},{"$f":"分類順!B2061","v":"絵本"},{"$f":"分類順!C2061","v":"分類なし(絵本等)"},{"$f":"分類順!D2061","v":"グリム兄弟"},{"$f":"分類順!E2061","v":"金の星社"},{"$f":"分類順!F2061","v":20469},"くつやさんと10にんのこびと絵本分類なし(絵本等)グリム兄弟金の星社",1,{"$f":"VLOOKUP(\"*\"&目次加工!$B$2&\"*\",J2062:K2062,2,0)","v":1},1]
[null,null,null,{"$f":"分類順!A2062","v":"どろんこおそうじ"},{"$f":"分類順!B2062","v":"絵本"},{"$f":"分類順!C2062","v":"分類なし(絵本等)"},{"$f":"分類順!D2062","v":"さとうわきこ"},{"$f":"分類順!E2062","v":"福音館書店"},{"$f":"分類順!F2062","v":20470},"どろんこおそうじ絵本分類なし(絵本等)さとうわきこ福音館書店",1,{"$f":"VLOOKUP(\"*\"&目次加工!$B$2&\"*\",J2063:K2063,2,0)","v":1},{"$error":"#N/A"}]
[null,null,null,{"$f":"分類順!A2063","v":"なんでもおこのみやき"},{"$f":"分類順!B2063","v":"絵本"},{"$f":"分類順!C2063","v":"分類なし(絵本等)"},{"$f":"分類順!D2063","v":"さとうわきこ"},{"$f":"分類順!E2063","v":"福音館書店"},{"$f":"分類順!F2063","v":20471},"なんでもおこのみやき絵本分類なし(絵本等)さとうわきこ福音館書店",1,{"$f":"VLOOKUP(\"*\"&目次加工!$B$2&\"*\",J2064:K2064,2,0)","v":1},{"$error":"#N/A"}]
[null,null,null,{"$f":"分類順!A2064","v":"ばばばあちゃんのマフラー"},{"$f":"分類順!B2064","v":"絵本"},{"$f":"分類順!C2064","v":"分類なし(絵本等)"},{"$f":"分類順!D2064","v":"さとうわきこ"},{"$f":"分類順!E2064","v":"福音館書店"},{"$f":"分類順!F2064","v":20472},"ばばばあちゃんのマフラー絵本分類なし(絵本等)さとうわきこ福音館書店",1,{"$f":"VLOOKUP(\"*\"&目次加工!$B$2&\"*\",J2065:K2065,2,0)","v":1},{"$error":"#N/A"}]
[null,null,null,{"$f":"分類順!A2065","v":"ぐりとぐらのかいすいよく"},{"$f":"分類順!B2065","v":"絵本"},{"$f":"分類順!C2065","v":"分類なし(絵本等)"},{"$f":"分類順!D2065","v":"なかがわえりこ"},{"$f":"分類順!E2065","v":"福音館書店"},{"$f":"分類順!F2065","v":20473},"ぐりとぐらのかいすいよく絵本分類なし(絵本等)なかがわえりこ福音館書店",1,{"$f":"VLOOKUP(\"*\"&目次加工!$B$2&\"*\",J2066:K2066,2,0)","v":1},{"$error":"#N/A"}]
[null,null,null,{"$f":"分類順!A2066","v":"10ぴきのかえる"},{"$f":"分類順!B2066","v":"絵本"},{"$f":"分類順!C2066","v":"分類なし(絵本等)"},{"$f":"分類順!D2066","v":"間所ひさこ"},{"$f":"分類順!E2066","v":"PHP研究所"},{"$f":"分類順!F2066","v":20474},{"$f":"D2067&E2067&F2067&G2067&H2067","v":"10ぴきのかえる絵本分類なし(絵本等)間所ひさこPHP研究所"},1,{"$f":"VLOOKUP(\"*\"&目次加工!$B$2&\"*\",J2067:K2067,2,0)","v":1},1]
[null,null,null,{"$f":"分類順!A2067","v":"10ぴきのかえるのふゆぼもり"},{"$f":"分類順!B2067","v":"絵本"},{"$f":"分類順!C2067","v":"分類なし(絵本等)"},{"$f":"分類順!D2067","v":"間所ひさこ"},{"$f":"分類順!E2067","v":"PHP研究所"},{"$f":"分類順!F2067","v":20475},"10ぴきのかえるのふゆぼもり絵本分類なし(絵本等)間所ひさこPHP研究所",1,{"$f":"VLOOKUP(\"*\"&目次加工!$B$2&\"*\",J2068:K2068,2,0)","v":1},1]
[null,null,null,{"$f":"分類順!A2068","v":"ばばばあちゃんのなぞなぞりょうりえほん　むしぱんのまき"},{"$f":"分類順!B2068","v":"絵本"},{"$f":"分類順!C2068","v":"分類なし(絵本等)"},{"$f":"分類順!D2068","v":"さとうわきこ"},{"$f":"分類順!E2068","v":"福音館書店"},{"$f":"分類順!F2068","v":20484},"ばばばあちゃんのなぞなぞりょうりえほん　むしぱんのまき絵本分類なし(絵本等)さとうわきこ福音館書店",1,{"$f":"VLOOKUP(\"*\"&目次加工!$B$2&\"*\",J2069:K2069,2,0)","v":1},{"$error":"#N/A"}]
[null,null,null,{"$f":"分類順!A2069","v":"ばばばあちゃんとおべんとう　つくろう"},{"$f":"分類順!B2069","v":"絵本"},{"$f":"分類順!C2069","v":"分類なし(絵本等)"},{"$f":"分類順!D2069","v":"さとうわきこ"},{"$f":"分類順!E2069","v":"福音館書店"},{"$f":"分類順!F2069","v":20485},"ばばばあちゃんとおべんとう　つくろう絵本分類なし(絵本等)さとうわきこ福音館書店",1,{"$f":"VLOOKUP(\"*\"&目次加工!$B$2&\"*\",J2070:K2070,2,0)","v":1},{"$error":"#N/A"}]
[null,null,null,{"$f":"分類順!A2070","v":"きょうふのうらないやしき"},{"$f":"分類順!B2070","v":"絵本"},{"$f":"分類順!C2070","v":"分類なし(絵本等)"},{"$f":"分類順!D2070","v":"おぐまこうじ"},{"$f":"分類順!E2070","v":"小峰書店"},{"$f":"分類順!F2070","v":20486},"きょうふのうらないやしき絵本分類なし(絵本等)おぐまこうじ小峰書店",1,{"$f":"VLOOKUP(\"*\"&目次加工!$B$2&\"*\",J2071:K2071,2,0)","v":1},{"$error":"#N/A"}]
[null,null,null,{"$f":"分類順!A2071","v":"サンタさんからきたてがみ"},{"$f":"分類順!B2071","v":"絵本"},{"$f":"分類順!C2071","v":"分類なし(絵本等)"},{"$f":"分類順!D2071","v":"たんのゆきこ"},{"$f":"分類順!E2071","v":"福音館書店"},{"$f":"分類順!F2071","v":20487},"サンタさんからきたてがみ絵本分類なし(絵本等)たんのゆきこ福音館書店",1,{"$f":"VLOOKUP(\"*\"&目次加工!$B$2&\"*\",J2072:K2072,2,0)","v":1},{"$error":"#N/A"}]
[null,null,null,{"$f":"分類順!A2072","v":"まほうのえのぐ"},{"$f":"分類順!B2072","v":"絵本"},{"$f":"分類順!C2072","v":"分類なし(絵本等)"},{"$f":"分類順!D2072","v":"林明子"},{"$f":"分類順!E2072","v":"福音館書店"},{"$f":"分類順!F2072","v":20488},"まほうのえのぐ絵本分類なし(絵本等)林明子福音館書店",1,{"$f":"VLOOKUP(\"*\"&目次加工!$B$2&\"*\",J2073:K2073,2,0)","v":1},{"$error":"#N/A"}]
[null,null,null,{"$f":"分類順!A2073","v":"おふろだいすき"},{"$f":"分類順!B2073","v":"絵本"},{"$f":"分類順!C2073","v":"分類なし(絵本等)"},{"$f":"分類順!D2073","v":"松岡亨子"},{"$f":"分類順!E2073","v":"福音館書店"},{"$f":"分類順!F2073","v":20489},"おふろだいすき絵本分類なし(絵本等)松岡亨子福音館書店",1,{"$f":"VLOOKUP(\"*\"&目次加工!$B$2&\"*\",J2074:K2074,2,0)","v":1},{"$error":"#N/A"}]
[null,null,null,{"$f":"分類順!A2074","v":"おきゃくさま"},{"$f":"分類順!B2074","v":"絵本"},{"$f":"分類順!C2074","v":"分類なし(絵本等)"},{"$f":"分類順!D2074","v":"なかがわりえこ"},{"$f":"分類順!E2074","v":"福音館書店"},{"$f":"分類順!F2074","v":20490},"おきゃくさま絵本分類なし(絵本等)なかがわりえこ福音館書店",1,{"$f":"VLOOKUP(\"*\"&目次加工!$B$2&\"*\",J2075:K2075,2,0)","v":1},{"$error":"#N/A"}]
[null,null,null,{"$f":"分類順!A2075","v":"てぶくろをかいに"},{"$f":"分類順!B2075","v":"絵本"},{"$f":"分類順!C2075","v":"分類なし(絵本等)"},{"$f":"分類順!D2075","v":"新見南吉"},{"$f":"分類順!E2075","v":"ポプラ社"},{"$f":"分類順!F2075","v":20491},"てぶくろをかいに絵本分類なし(絵本等)新見南吉ポプラ社",1,{"$f":"VLOOKUP(\"*\"&目次加工!$B$2&\"*\",J2076:K2076,2,0)","v":1},{"$error":"#N/A"}]
[null,null,null,{"$f":"分類順!A2076","v":"月夜の子うさぎ"},{"$f":"分類順!B2076","v":"絵本"},{"$f":"分類順!C2076","v":"分類なし(絵本等)"},{"$f":"分類順!D2076","v":"いわむらかずお"},{"$f":"分類順!E2076","v":"クレヨンハウス"},{"$f":"分類順!F2076","v":20492},"月夜の子うさぎ絵本分類なし(絵本等)いわむらかずおクレヨンハウス",1,{"$f":"VLOOKUP(\"*\"&目次加工!$B$2&\"*\",J2077:K2077,2,0)","v":1},{"$error":"#N/A"}]
[null,null,null,{"$f":"分類順!A2077","v":"クリスマスをめぐる7つのふしぎ"},{"$f":"分類順!B2077","v":"絵本"},{"$f":"分類順!C2077","v":"分類なし(絵本等)"},{"$f":"分類順!D2077","v":"斉藤洋"},{"$f":"分類順!E2077","v":"理論社"},{"$f":"分類順!F2077","v":20493},"クリスマスをめぐる7つのふしぎ絵本分類なし(絵本等)斉藤洋理論社",1,{"$f":"VLOOKUP(\"*\"&目次加工!$B$2&\"*\",J2078:K2078,2,0)","v":1},{"$error":"#N/A"}]
[null,null,null,{"$f":"分類順!A2078","v":"かみであそぼう"},{"$f":"分類順!B2078","v":"絵本"},{"$f":"分類順!C2078","v":"分類なし(絵本等)"},{"$f":"分類順!D2078","v":"こばやしみのる"},{"$f":"分類順!E2078","v":"ほるぷ出版"},{"$f":"分類順!F2078","v":20494},"かみであそぼう絵本分類なし(絵本等)こばやしみのるほるぷ出版",1,{"$f":"VLOOKUP(\"*\"&目次加工!$B$2&\"*\",J2079:K2079,2,0)","v":1},{"$error":"#N/A"}]
[null,null,null,{"$f":"分類順!A2079","v":"すなはまいそのいきものずかん"},{"$f":"分類順!B2079","v":"絵本"},{"$f":"分類順!C2079","v":"分類なし(絵本等)"},{"$f":"分類順!D2079","v":"荒木勝彦"},{"$f":"分類順!E2079","v":"学習研究社"},{"$f":"分類順!F2079","v":20495},"すなはまいそのいきものずかん絵本分類なし(絵本等)荒木勝彦学習研究社",1,{"$f":"VLOOKUP(\"*\"&目次加工!$B$2&\"*\",J2080:K2080,2,0)","v":1},{"$error":"#N/A"}]
[null,null,null,{"$f":"分類順!A2080","v":"はるのいきものずかん"},{"$f":"分類順!B2080","v":"絵本"},{"$f":"分類順!C2080","v":"分類なし(絵本等)"},{"$f":"分類順!D2080","v":"荒木勝彦"},{"$f":"分類順!E2080","v":"学習研究社"},{"$f":"分類順!F2080","v":20496},"はるのいきものずかん絵本分類なし(絵本等)荒木勝彦学習研究社",1,{"$f":"VLOOKUP(\"*\"&目次加工!$B$2&\"*\",J2081:K2081,2,0)","v":1},{"$error":"#N/A"}]
[null,null,null,{"$f":"分類順!A2081","v":"びっくりいきものずかん"},{"$f":"分類順!B2081","v":"絵本"},{"$f":"分類順!C2081","v":"分類なし(絵本等)"},{"$f":"分類順!D2081","v":"荒木勝彦"},{"$f":"分類順!E2081","v":"学習研究社"},{"$f":"分類順!F2081","v":20497},"びっくりいきものずかん絵本分類なし(絵本等)荒木勝彦学習研究社",1,{"$f":"VLOOKUP(\"*\"&目次加工!$B$2&\"*\",J2082:K2082,2,0)","v":1},{"$error":"#N/A"}]
[null,null,null,{"$f":"分類順!A2082","v":"ふゆのいきものずかん"},{"$f":"分類順!B2082","v":"絵本"},{"$f":"分類順!C2082","v":"分類なし(絵本等)"},{"$f":"分類順!D2082","v":"荒木勝彦"},{"$f":"分類順!E2082","v":"学習研究社"},{"$f":"分類順!F2082","v":20498},"ふゆのいきものずかん絵本分類なし(絵本等)荒木勝彦学習研究社",1,{"$f":"VLOOKUP(\"*\"&目次加工!$B$2&\"*\",J2083:K2083,2,0)","v":1},{"$error":"#N/A"}]
[null,null,null,{"$f":"分類順!A2083","v":"モモちゃんとアカネちゃん"},{"$f":"分類順!B2083","v":"絵本"},{"$f":"分類順!C2083","v":"分類なし(絵本等)"},{"$f":"分類順!D2083","v":"松谷みよ子"},{"$f":"分類順!E2083","v":"講談社"},{"$f":"分類順!F2083","v":20500},"モモちゃんとアカネちゃん絵本分類なし(絵本等)松谷みよ子講談社",1,{"$f":"VLOOKUP(\"*\"&目次加工!$B$2&\"*\",J2084:K2084,2,0)","v":1},{"$error":"#N/A"}]
[null,null,null,{"$f":"分類順!A2084","v":"アイ！マイ！まいん！"},{"$f":"分類順!B2084","v":"絵本"},{"$f":"分類順!C2084","v":"分類なし(絵本等)"},{"$f":"分類順!D2084","v":"市瀬悦子"},{"$f":"分類順!E2084","v":"小学館"},{"$f":"分類順!F2084","v":20501},"アイ！マイ！まいん！絵本分類なし(絵本等)市瀬悦子小学館",1,{"$f":"VLOOKUP(\"*\"&目次加工!$B$2&\"*\",J2085:K2085,2,0)","v":1},{"$error":"#N/A"}]
[null,null,null,{"$f":"分類順!A2085","v":"とっとこハム太郎"},{"$f":"分類順!B2085","v":"絵本"},{"$f":"分類順!C2085","v":"分類なし(絵本等)"},{"$f":"分類順!D2085","v":"河合リツ子"},{"$f":"分類順!E2085","v":"小学館"},{"$f":"分類順!F2085","v":20502},"とっとこハム太郎絵本分類なし(絵本等)河合リツ子小学館",1,{"$f":"VLOOKUP(\"*\"&目次加工!$B$2&\"*\",J2086:K2086,2,0)","v":1},{"$error":"#N/A"}]
[null,null,null,{"$f":"分類順!A2086","v":"はじめての多面体おりがみ"},{"$f":"分類順!B2086","v":"絵本"},{"$f":"分類順!C2086","v":"分類なし(絵本等)"},{"$f":"分類順!D2086","v":"川村みゆき"},{"$f":"分類順!E2086","v":"日本ヴォーグ社"},{"$f":"分類順!F2086","v":20508},"はじめての多面体おりがみ絵本分類なし(絵本等)川村みゆき日本ヴォーグ社",1,{"$f":"VLOOKUP(\"*\"&目次加工!$B$2&\"*\",J2087:K2087,2,0)","v":1},{"$error":"#N/A"}]
[null,null,null,{"$f":"分類順!A2087","v":"ひねもす山のなかまたち（５）赤いマフラー"},{"$f":"分類順!B2087","v":"絵本"},{"$f":"分類順!C2087","v":"分類なし(絵本等)"},{"$f":"分類順!D2087","v":"むかいはつこ"},{"$f":"分類順!E2087","v":"文芸社"},{"$f":"分類順!F2087","v":20509},"ひねもす山のなかまたち（５）赤いマフラー絵本分類なし(絵本等)むかいはつこ文芸社",1,{"$f":"VLOOKUP(\"*\"&目次加工!$B$2&\"*\",J2088:K2088,2,0)","v":1},{"$error":"#N/A"}]
[null,null,null,{"$f":"分類順!A2088","v":"ひねもす山のなかまたち"},{"$f":"分類順!B2088","v":"絵本"},{"$f":"分類順!C2088","v":"分類なし(絵本等)"},{"$f":"分類順!D2088","v":"むかいはつこ"},{"$f":"分類順!E2088","v":"文芸社"},{"$f":"分類順!F2088","v":20510},"ひねもす山のなかまたち絵本分類なし(絵本等)むかいはつこ文芸社",1,{"$f":"VLOOKUP(\"*\"&目次加工!$B$2&\"*\",J2089:K2089,2,0)","v":1},{"$error":"#N/A"}]
[null,null,null,{"$f":"分類順!A2089","v":"いつでも会える"},{"$f":"分類順!B2089","v":"絵本"},{"$f":"分類順!C2089","v":"分類なし(絵本等)"},{"$f":"分類順!D2089","v":"菊田まりこ"},{"$f":"分類順!E2089","v":"学研"},{"$f":"分類順!F2089","v":20511},"いつでも会える絵本分類なし(絵本等)菊田まりこ学研",1,{"$f":"VLOOKUP(\"*\"&目次加工!$B$2&\"*\",J2090:K2090,2,0)","v":1},{"$error":"#N/A"}]
[null,null,null,{"$f":"分類順!A2090","v":"もぐらバス"},{"$f":"分類順!B2090","v":"絵本"},{"$f":"分類順!C2090","v":"分類なし(絵本等)"},{"$f":"分類順!D2090","v":"佐藤雅彦"},{"$f":"分類順!E2090","v":"偕成社"},{"$f":"分類順!F2090","v":20520},"もぐらバス絵本分類なし(絵本等)佐藤雅彦偕成社",1,{"$f":"VLOOKUP(\"*\"&目次加工!$B$2&\"*\",J2091:K2091,2,0)","v":1},{"$error":"#N/A"}]
[null,null,null,{"$f":"分類順!A2091","v":"ともだちや"},{"$f":"分類順!B2091","v":"絵本"},{"$f":"分類順!C2091","v":"分類なし(絵本等)"},{"$f":"分類順!D2091","v":"内田麟太郎"},{"$f":"分類順!E2091","v":"偕成社"},{"$f":"分類順!F2091","v":20521},"ともだちや絵本分類なし(絵本等)内田麟太郎偕成社",1,{"$f":"VLOOKUP(\"*\"&目次加工!$B$2&\"*\",J2092:K2092,2,0)","v":1},{"$error":"#N/A"}]
[null,null,null,{"$f":"分類順!A2092","v":"ノアとはこぶねのおはなし"},{"$f":"分類順!B2092","v":"絵本"},{"$f":"分類順!C2092","v":"分類なし(絵本等)"},{"$f":"分類順!D2092","v":"聖書"},{"$f":"分類順!E2092","v":"いのちのことば社"},{"$f":"分類順!F2092","v":20522},"ノアとはこぶねのおはなし絵本分類なし(絵本等)聖書いのちのことば社",1,{"$f":"VLOOKUP(\"*\"&目次加工!$B$2&\"*\",J2093:K2093,2,0)","v":1},{"$error":"#N/A"}]
[null,null,null,{"$f":"分類順!A2093","v":"ぐりとぐら"},{"$f":"分類順!B2093","v":"絵本"},{"$f":"分類順!C2093","v":"分類なし(絵本等)"},{"$f":"分類順!D2093","v":"なかがわりえこ"},{"$f":"分類順!E2093","v":"福音館書店"},{"$f":"分類順!F2093","v":20523},"ぐりとぐら絵本分類なし(絵本等)なかがわりえこ福音館書店",1,{"$f":"VLOOKUP(\"*\"&目次加工!$B$2&\"*\",J2094:K2094,2,0)","v":1},{"$error":"#N/A"}]
[null,null,null,{"$f":"分類順!A2094","v":"ぐりとぐらのえんそく"},{"$f":"分類順!B2094","v":"絵本"},{"$f":"分類順!C2094","v":"分類なし(絵本等)"},{"$f":"分類順!D2094","v":"なかがわりえこ"},{"$f":"分類順!E2094","v":"福音館書店"},{"$f":"分類順!F2094","v":20524},"ぐりとぐらのえんそく絵本分類なし(絵本等)なかがわりえこ福音館書店",1,{"$f":"VLOOKUP(\"*\"&目次加工!$B$2&\"*\",J2095:K2095,2,0)","v":1},{"$error":"#N/A"}]
[null,null,null,{"$f":"分類順!A2095","v":"そらまめくんとめだかのこ"},{"$f":"分類順!B2095","v":"絵本"},{"$f":"分類順!C2095","v":"分類なし(絵本等)"},{"$f":"分類順!D2095","v":"なかやみわ"},{"$f":"分類順!E2095","v":"福音館書店"},{"$f":"分類順!F2095","v":20525},"そらまめくんとめだかのこ絵本分類なし(絵本等)なかやみわ福音館書店",1,{"$f":"VLOOKUP(\"*\"&目次加工!$B$2&\"*\",J2096:K2096,2,0)","v":1},{"$error":"#N/A"}]
[null,null,null,{"$f":"分類順!A2096","v":"ウサコレプチイチゴウサギをさがせ！"},{"$f":"分類順!B2096","v":"絵本"},{"$f":"分類順!C2096","v":"分類なし(絵本等)"},{"$f":"分類順!D2096","v":"大野直美"},{"$f":"分類順!E2096","v":"学研"},{"$f":"分類順!F2096","v":20527},"ウサコレプチイチゴウサギをさがせ！絵本分類なし(絵本等)大野直美学研",1,{"$f":"VLOOKUP(\"*\"&目次加工!$B$2&\"*\",J2097:K2097,2,0)","v":1},{"$error":"#N/A"}]
[null,null,null,{"$f":"分類順!A2097","v":"ハムスターのひとりごと"},{"$f":"分類順!B2097","v":"絵本"},{"$f":"分類順!C2097","v":"分類なし(絵本等)"},{"$f":"分類順!D2097","v":"井川俊彦"},{"$f":"分類順!E2097","v":"誠文堂新光社"},{"$f":"分類順!F2097","v":20528},"ハムスターのひとりごと絵本分類なし(絵本等)井川俊彦誠文堂新光社",1,{"$f":"VLOOKUP(\"*\"&目次加工!$B$2&\"*\",J2098:K2098,2,0)","v":1},{"$error":"#N/A"}]
[null,null,null,{"$f":"分類順!A2098","v":"けんた・うさぎ"},{"$f":"分類順!B2098","v":"絵本"},{"$f":"分類順!C2098","v":"分類なし(絵本等)"},{"$f":"分類順!D2098","v":"中川李枝子"},{"$f":"分類順!E2098","v":"のら書店"},{"$f":"分類順!F2098","v":20529},"けんた・うさぎ絵本分類なし(絵本等)中川李枝子のら書店",1,{"$f":"VLOOKUP(\"*\"&目次加工!$B$2&\"*\",J2099:K2099,2,0)","v":1},{"$error":"#N/A"}]
[null,null,null,{"$f":"分類順!A2099","v":"齋藤孝のイッキによめる！名作選　小学2年生"},{"$f":"分類順!B2099","v":"絵本"},{"$f":"分類順!C2099","v":"分類なし(絵本等)"},{"$f":"分類順!D2099","v":"齋藤　孝"},{"$f":"分類順!E2099","v":"講談社"},{"$f":"分類順!F2099","v":20530},"齋藤孝のイッキによめる！名作選　小学2年生絵本分類なし(絵本等)齋藤　孝講談社",1,{"$f":"VLOOKUP(\"*\"&目次加工!$B$2&\"*\",J2100:K2100,2,0)","v":1},{"$error":"#N/A"}]
[null,null,null,{"$f":"分類順!A2100","v":"モモちゃんとプー"},{"$f":"分類順!B2100","v":"絵本"},{"$f":"分類順!C2100","v":"分類なし(絵本等)"},{"$f":"分類順!D2100","v":"松谷みよ子"},{"$f":"分類順!E2100","v":"講談社"},{"$f":"分類順!F2100","v":20531},"モモちゃんとプー絵本分類なし(絵本等)松谷みよ子講談社",1,{"$f":"VLOOKUP(\"*\"&目次加工!$B$2&\"*\",J2101:K2101,2,0)","v":1},{"$error":"#N/A"}]
[null,null,null,{"$f":"分類順!A2101","v":"せかいのどうぶつずかん"},{"$f":"分類順!B2101","v":"絵本"},{"$f":"分類順!C2101","v":"分類なし(絵本等)"},{"$f":"分類順!D2101","v":"荒木勝彦"},{"$f":"分類順!E2101","v":"学研"},{"$f":"分類順!F2101","v":20532},"せかいのどうぶつずかん絵本分類なし(絵本等)荒木勝彦学研",1,{"$f":"VLOOKUP(\"*\"&目次加工!$B$2&\"*\",J2102:K2102,2,0)","v":1},{"$error":"#N/A"}]
[null,null,null,{"$f":"分類順!A2102","v":"にほんのどうぶつずかん"},{"$f":"分類順!B2102","v":"絵本"},{"$f":"分類順!C2102","v":"分類なし(絵本等)"},{"$f":"分類順!D2102","v":"荒木勝彦"},{"$f":"分類順!E2102","v":"学研"},{"$f":"分類順!F2102","v":20533},"にほんのどうぶつずかん絵本分類なし(絵本等)荒木勝彦学研",1,{"$f":"VLOOKUP(\"*\"&目次加工!$B$2&\"*\",J2103:K2103,2,0)","v":1},{"$error":"#N/A"}]
[null,null,null,{"$f":"分類順!A2103","v":"みずのいきものずかん"},{"$f":"分類順!B2103","v":"絵本"},{"$f":"分類順!C2103","v":"分類なし(絵本等)"},{"$f":"分類順!D2103","v":"荒木勝彦"},{"$f":"分類順!E2103","v":"学研"},{"$f":"分類順!F2103","v":20534},"みずのいきものずかん絵本分類なし(絵本等)荒木勝彦学研",1,{"$f":"VLOOKUP(\"*\"&目次加工!$B$2&\"*\",J2104:K2104,2,0)","v":1},{"$error":"#N/A"}]
[null,null,null,{"$f":"分類順!A2104","v":"どうぶつのおかあさんあかちゃんずかん"},{"$f":"分類順!B2104","v":"絵本"},{"$f":"分類順!C2104","v":"分類なし(絵本等)"},{"$f":"分類順!D2104","v":"荒木勝彦"},{"$f":"分類順!E2104","v":"学研"},{"$f":"分類順!F2104","v":20535},"どうぶつのおかあさんあかちゃんずかん絵本分類なし(絵本等)荒木勝彦学研",1,{"$f":"VLOOKUP(\"*\"&目次加工!$B$2&\"*\",J2105:K2105,2,0)","v":1},{"$error":"#N/A"}]
[null,null,null,{"$f":"分類順!A2105","v":"ひとのからだたんけんずかん"},{"$f":"分類順!B2105","v":"絵本"},{"$f":"分類順!C2105","v":"分類なし(絵本等)"},{"$f":"分類順!D2105","v":"荒木勝彦"},{"$f":"分類順!E2105","v":"学研"},{"$f":"分類順!F2105","v":20536},"ひとのからだたんけんずかん絵本分類なし(絵本等)荒木勝彦学研",1,{"$f":"VLOOKUP(\"*\"&目次加工!$B$2&\"*\",J2106:K2106,2,0)","v":1},{"$error":"#N/A"}]
[null,null,null,{"$f":"分類順!A2106","v":"クリスマスのインタビュー"},{"$f":"分類順!B2106","v":"絵本"},{"$f":"分類順!C2106","v":"分類なし(絵本等)"},{"$f":"分類順!D2106","v":"吉池好高"},{"$f":"分類順!E2106","v":"女子パウロ会"},{"$f":"分類順!F2106","v":20537},"クリスマスのインタビュー絵本分類なし(絵本等)吉池好高女子パウロ会",1,{"$f":"VLOOKUP(\"*\"&目次加工!$B$2&\"*\",J2107:K2107,2,0)","v":1},{"$error":"#N/A"}]
[null,null,null,{"$f":"分類順!A2107","v":"流れ星におねがい"},{"$f":"分類順!B2107","v":"絵本"},{"$f":"分類順!C2107","v":"分類なし(絵本等)"},{"$f":"分類順!D2107","v":"森絵都"},{"$f":"分類順!E2107","v":"童心社"},{"$f":"分類順!F2107","v":20538},"流れ星におねがい絵本分類なし(絵本等)森絵都童心社",1,{"$f":"VLOOKUP(\"*\"&目次加工!$B$2&\"*\",J2108:K2108,2,0)","v":1},{"$error":"#N/A"}]
[null,null,null,{"$f":"分類順!A2108","v":"こんにちはウーフ"},{"$f":"分類順!B2108","v":"絵本"},{"$f":"分類順!C2108","v":"分類なし(絵本等)"},{"$f":"分類順!D2108","v":"神沢利子"},{"$f":"分類順!E2108","v":"ポプラ社"},{"$f":"分類順!F2108","v":20539},"こんにちはウーフ絵本分類なし(絵本等)神沢利子ポプラ社",1,{"$f":"VLOOKUP(\"*\"&目次加工!$B$2&\"*\",J2109:K2109,2,0)","v":1},{"$error":"#N/A"}]
[null,null,null,{"$f":"分類順!A2109","v":"こぶたのかくれんぼ"},{"$f":"分類順!B2109","v":"絵本"},{"$f":"分類順!C2109","v":"分類なし(絵本等)"},{"$f":"分類順!D2109","v":"小沢正"},{"$f":"分類順!E2109","v":"ポプラ社"},{"$f":"分類順!F2109","v":20540},"こぶたのかくれんぼ絵本分類なし(絵本等)小沢正ポプラ社",1,{"$f":"VLOOKUP(\"*\"&目次加工!$B$2&\"*\",J2110:K2110,2,0)","v":1},{"$error":"#N/A"}]
[null,null,null,{"$f":"分類順!A2110","v":"かいけつゾロリのドラゴンたいじ　きょうふのやかた"},{"$f":"分類順!B2110","v":"絵本"},{"$f":"分類順!C2110","v":"分類なし(絵本等)"},{"$f":"分類順!D2110","v":"原ゆたか"},{"$f":"分類順!E2110","v":"ポプラ社"},{"$f":"分類順!F2110","v":20541},"かいけつゾロリのドラゴンたいじ　きょうふのやかた絵本分類なし(絵本等)原ゆたかポプラ社",1,{"$f":"VLOOKUP(\"*\"&目次加工!$B$2&\"*\",J2111:K2111,2,0)","v":1},{"$error":"#N/A"}]
[null,null,null,{"$f":"分類順!A2111","v":"おしゃれキャット"},{"$f":"分類順!B2111","v":"絵本"},{"$f":"分類順!C2111","v":"分類なし(絵本等)"},{"$f":"分類順!D2111","v":"ディズニー"},{"$f":"分類順!E2111","v":"偕成社"},{"$f":"分類順!F2111","v":20542},"おしゃれキャット絵本分類なし(絵本等)ディズニー偕成社",1,{"$f":"VLOOKUP(\"*\"&目次加工!$B$2&\"*\",J2112:K2112,2,0)","v":1},{"$error":"#N/A"}]
[null,null,null,{"$f":"分類順!A2112","v":"魔女とふしぎな指輪"},{"$f":"分類順!B2112","v":"絵本"},{"$f":"分類順!C2112","v":"分類なし(絵本等)"},{"$f":"分類順!D2112","v":"ルース・チュウ"},{"$f":"分類順!E2112","v":"フレーベル館"},{"$f":"分類順!F2112","v":20543},"魔女とふしぎな指輪絵本分類なし(絵本等)ルース・チュウフレーベル館",1,{"$f":"VLOOKUP(\"*\"&目次加工!$B$2&\"*\",J2113:K2113,2,0)","v":1},{"$error":"#N/A"}]
[null,null,null,{"$f":"分類順!A2113","v":"かさじぞう"},{"$f":"分類順!B2113","v":"絵本"},{"$f":"分類順!C2113","v":"分類なし(絵本等)"},{"$f":"分類順!D2113","v":"日本昔話"},{"$f":"分類順!E2113","v":"ポプラ社"},{"$f":"分類順!F2113","v":20544},"かさじぞう絵本分類なし(絵本等)日本昔話ポプラ社",1,{"$f":"VLOOKUP(\"*\"&目次加工!$B$2&\"*\",J2114:K2114,2,0)","v":1},{"$error":"#N/A"}]
[null,null,null,{"$f":"分類順!A2114","v":"初恋ストリート"},{"$f":"分類順!B2114","v":"絵本"},{"$f":"分類順!C2114","v":"分類なし(絵本等)"},{"$f":"分類順!D2114","v":"藤村かおり"},{"$f":"分類順!E2114","v":"金の星社"},{"$f":"分類順!F2114","v":20545},"初恋ストリート絵本分類なし(絵本等)藤村かおり金の星社",1,{"$f":"VLOOKUP(\"*\"&目次加工!$B$2&\"*\",J2115:K2115,2,0)","v":1},{"$error":"#N/A"}]
[null,null,null,{"$f":"分類順!A2115","v":"Peter　Pan"},{"$f":"分類順!B2115","v":"絵本"},{"$f":"分類順!C2115","v":"分類なし(絵本等)"},{"$f":"分類順!D2115","v":"ディズニー"},{"$f":"分類順!E2115","v":"アルク"},{"$f":"分類順!F2115","v":20547},"Peter　Pan絵本分類なし(絵本等)ディズニーアルク",1,{"$f":"VLOOKUP(\"*\"&目次加工!$B$2&\"*\",J2116:K2116,2,0)","v":1},{"$f":"VLOOKUP(\"*\"&$A$2&\"*\",J2116:K2116,2,0)","v":{"$error":"#N/A"}}]
[null,null,null,{"$f":"分類順!A2116","v":"トムとムー　おかしのまちへいく"},{"$f":"分類順!B2116","v":"絵本"},{"$f":"分類順!C2116","v":"分類なし(絵本等)"},{"$f":"分類順!D2116","v":"伊勢淳一"},{"$f":"分類順!E2116","v":"ワークス"},{"$f":"分類順!F2116","v":20548},"トムとムー　おかしのまちへいく絵本分類なし(絵本等)伊勢淳一ワークス",1,{"$f":"VLOOKUP(\"*\"&目次加工!$B$2&\"*\",J2117:K2117,2,0)","v":1},{"$error":"#N/A"}]
[null,null,null,{"$f":"分類順!A2117","v":"旅人の甘い蜜"},{"$f":"分類順!B2117","v":"絵本"},{"$f":"分類順!C2117","v":"分類なし(絵本等)"},{"$f":"分類順!D2117","v":"山田法胤"},{"$f":"分類順!E2117","v":"コミニケ出版"},{"$f":"分類順!F2117","v":20549},"旅人の甘い蜜絵本分類なし(絵本等)山田法胤コミニケ出版",1,{"$f":"VLOOKUP(\"*\"&目次加工!$B$2&\"*\",J2118:K2118,2,0)","v":1},{"$error":"#N/A"}]
[null,null,null,{"$f":"分類順!A2118","v":"ピーターラビットのおはなし"},{"$f":"分類順!B2118","v":"絵本"},{"$f":"分類順!C2118","v":"分類なし(絵本等)"},{"$f":"分類順!D2118","v":"ビアトリクス・ポター"},{"$f":"分類順!E2118","v":"福音館書店"},{"$f":"分類順!F2118","v":20550},"ピーターラビットのおはなし絵本分類なし(絵本等)ビアトリクス・ポター福音館書店",1,{"$f":"VLOOKUP(\"*\"&目次加工!$B$2&\"*\",J2119:K2119,2,0)","v":1},{"$error":"#N/A"}]
[null,null,null,{"$f":"分類順!A2119","v":"ベンジャミンバニーのおはなし"},{"$f":"分類順!B2119","v":"絵本"},{"$f":"分類順!C2119","v":"分類なし(絵本等)"},{"$f":"分類順!D2119","v":"ビアトリクス・ポター"},{"$f":"分類順!E2119","v":"福音館書店"},{"$f":"分類順!F2119","v":20551},"ベンジャミンバニーのおはなし絵本分類なし(絵本等)ビアトリクス・ポター福音館書店",1,{"$f":"VLOOKUP(\"*\"&目次加工!$B$2&\"*\",J2120:K2120,2,0)","v":1},{"$error":"#N/A"}]
[null,null,null,{"$f":"分類順!A2120","v":"フロプシーのこどもたち"},{"$f":"分類順!B2120","v":"絵本"},{"$f":"分類順!C2120","v":"分類なし(絵本等)"},{"$f":"分類順!D2120","v":"ビアトリクス・ポター"},{"$f":"分類順!E2120","v":"福音館書店"},{"$f":"分類順!F2120","v":20552},"フロプシーのこどもたち絵本分類なし(絵本等)ビアトリクス・ポター福音館書店",1,{"$f":"VLOOKUP(\"*\"&目次加工!$B$2&\"*\",J2121:K2121,2,0)","v":1},{"$error":"#N/A"}]
[null,null,null,{"$f":"分類順!A2121","v":"こねこのトムのおはなし"},{"$f":"分類順!B2121","v":"絵本"},{"$f":"分類順!C2121","v":"分類なし(絵本等)"},{"$f":"分類順!D2121","v":"ビアトリクス・ポター"},{"$f":"分類順!E2121","v":"福音館書店"},{"$f":"分類順!F2121","v":20553},"こねこのトムのおはなし絵本分類なし(絵本等)ビアトリクス・ポター福音館書店",1,{"$f":"VLOOKUP(\"*\"&目次加工!$B$2&\"*\",J2122:K2122,2,0)","v":1},{"$error":"#N/A"}]
[null,null,null,{"$f":"分類順!A2122","v":"モペットちゃんのおはなし"},{"$f":"分類順!B2122","v":"絵本"},{"$f":"分類順!C2122","v":"分類なし(絵本等)"},{"$f":"分類順!D2122","v":"ビアトリクス・ポター"},{"$f":"分類順!E2122","v":"福音館書店"},{"$f":"分類順!F2122","v":20554},"モペットちゃんのおはなし絵本分類なし(絵本等)ビアトリクス・ポター福音館書店",1,{"$f":"VLOOKUP(\"*\"&目次加工!$B$2&\"*\",J2123:K2123,2,0)","v":1},{"$error":"#N/A"}]
[null,null,null,{"$f":"分類順!A2123","v":"こわいわるいうさぎのおはなし"},{"$f":"分類順!B2123","v":"絵本"},{"$f":"分類順!C2123","v":"分類なし(絵本等)"},{"$f":"分類順!D2123","v":"ビアトリクス・ポター"},{"$f":"分類順!E2123","v":"福音館書店"},{"$f":"分類順!F2123","v":20555},"こわいわるいうさぎのおはなし絵本分類なし(絵本等)ビアトリクス・ポター福音館書店",1,{"$f":"VLOOKUP(\"*\"&目次加工!$B$2&\"*\",J2124:K2124,2,0)","v":1},{"$error":"#N/A"}]
[null,null,null,{"$f":"分類順!A2124","v":"2ひきのわるいねずみのおはなし"},{"$f":"分類順!B2124","v":"絵本"},{"$f":"分類順!C2124","v":"分類なし(絵本等)"},{"$f":"分類順!D2124","v":"ビアトリクス・ポター"},{"$f":"分類順!E2124","v":"福音館書店"},{"$f":"分類順!F2124","v":20556},"2ひきのわるいねずみのおはなし絵本分類なし(絵本等)ビアトリクス・ポター福音館書店",1,{"$f":"VLOOKUP(\"*\"&目次加工!$B$2&\"*\",J2125:K2125,2,0)","v":1},{"$error":"#N/A"}]
[null,null,null,{"$f":"分類順!A2125","v":"のねずみチュウチュウおくさんのおはなし"},{"$f":"分類順!B2125","v":"絵本"},{"$f":"分類順!C2125","v":"分類なし(絵本等)"},{"$f":"分類順!D2125","v":"ビアトリクス・ポター"},{"$f":"分類順!E2125","v":"福音館書店"},{"$f":"分類順!F2125","v":20557},"のねずみチュウチュウおくさんのおはなし絵本分類なし(絵本等)ビアトリクス・ポター福音館書店",1,{"$f":"VLOOKUP(\"*\"&目次加工!$B$2&\"*\",J2126:K2126,2,0)","v":1},{"$error":"#N/A"}]
[null,null,null,{"$f":"分類順!A2126","v":"まちねずみジョニーのおはなし"},{"$f":"分類順!B2126","v":"絵本"},{"$f":"分類順!C2126","v":"分類なし(絵本等)"},{"$f":"分類順!D2126","v":"ビアトリクス・ポター"},{"$f":"分類順!E2126","v":"福音館書店"},{"$f":"分類順!F2126","v":20558},"まちねずみジョニーのおはなし絵本分類なし(絵本等)ビアトリクス・ポター福音館書店",1,{"$f":"VLOOKUP(\"*\"&目次加工!$B$2&\"*\",J2127:K2127,2,0)","v":1},{"$error":"#N/A"}]
[null,null,null,{"$f":"分類順!A2127","v":"りすのナトキンのおはなし"},{"$f":"分類順!B2127","v":"絵本"},{"$f":"分類順!C2127","v":"分類なし(絵本等)"},{"$f":"分類順!D2127","v":"ビアトリクス・ポター"},{"$f":"分類順!E2127","v":"福音館書店"},{"$f":"分類順!F2127","v":20559},"りすのナトキンのおはなし絵本分類なし(絵本等)ビアトリクス・ポター福音館書店",1,{"$f":"VLOOKUP(\"*\"&目次加工!$B$2&\"*\",J2128:K2128,2,0)","v":1},{"$error":"#N/A"}]
[null,null,null,{"$f":"分類順!A2128","v":"あひるのジマイマのおはなし"},{"$f":"分類順!B2128","v":"絵本"},{"$f":"分類順!C2128","v":"分類なし(絵本等)"},{"$f":"分類順!D2128","v":"ビアトリクス・ポター"},{"$f":"分類順!E2128","v":"福音館書店"},{"$f":"分類順!F2128","v":20560},"あひるのジマイマのおはなし絵本分類なし(絵本等)ビアトリクス・ポター福音館書店",1,{"$f":"VLOOKUP(\"*\"&目次加工!$B$2&\"*\",J2129:K2129,2,0)","v":1},{"$error":"#N/A"}]
[null,null,null,{"$f":"分類順!A2129","v":"「ジンジャーとピクルズや」のおはなし"},{"$f":"分類順!B2129","v":"絵本"},{"$f":"分類順!C2129","v":"分類なし(絵本等)"},{"$f":"分類順!D2129","v":"ビアトリクス・ポター"},{"$f":"分類順!E2129","v":"福音館書店"},{"$f":"分類順!F2129","v":20561},"「ジンジャーとピクルズや」のおはなし絵本分類なし(絵本等)ビアトリクス・ポター福音館書店",1,{"$f":"VLOOKUP(\"*\"&目次加工!$B$2&\"*\",J2130:K2130,2,0)","v":1},{"$error":"#N/A"}]
[null,null,null,{"$f":"分類順!A2130","v":"キツネどんのおはなし"},{"$f":"分類順!B2130","v":"絵本"},{"$f":"分類順!C2130","v":"分類なし(絵本等)"},{"$f":"分類順!D2130","v":"ビアトリクス・ポター"},{"$f":"分類順!E2130","v":"福音館書店"},{"$f":"分類順!F2130","v":20562},{"$f":"D2131&E2131&F2131&G2131&H2131","v":"キツネどんのおはなし絵本分類なし(絵本等)ビアトリクス・ポター福音館書店"},1,{"$f":"VLOOKUP(\"*\"&目次加工!$B$2&\"*\",J2131:K2131,2,0)","v":1},{"$error":"#N/A"}]
[null,null,null,{"$f":"分類順!A2131","v":"ひげのサムエルのおはなし"},{"$f":"分類順!B2131","v":"絵本"},{"$f":"分類順!C2131","v":"分類なし(絵本等)"},{"$f":"分類順!D2131","v":"ビアトリクス・ポター"},{"$f":"分類順!E2131","v":"福音館書店"},{"$f":"分類順!F2131","v":20563},"ひげのサムエルのおはなし絵本分類なし(絵本等)ビアトリクス・ポター福音館書店",1,{"$f":"VLOOKUP(\"*\"&目次加工!$B$2&\"*\",J2132:K2132,2,0)","v":1},{"$error":"#N/A"}]
[null,null,null,{"$f":"分類順!A2132","v":"グロースターの仕立て屋"},{"$f":"分類順!B2132","v":"絵本"},{"$f":"分類順!C2132","v":"分類なし(絵本等)"},{"$f":"分類順!D2132","v":"ビアトリクス・ポター"},{"$f":"分類順!E2132","v":"福音館書店"},{"$f":"分類順!F2132","v":20564},"グロースターの仕立て屋絵本分類なし(絵本等)ビアトリクス・ポター福音館書店",1,{"$f":"VLOOKUP(\"*\"&目次加工!$B$2&\"*\",J2133:K2133,2,0)","v":1},{"$error":"#N/A"}]
[null,null,null,{"$f":"分類順!A2133","v":"ティギーおばさんのおはなし"},{"$f":"分類順!B2133","v":"絵本"},{"$f":"分類順!C2133","v":"分類なし(絵本等)"},{"$f":"分類順!D2133","v":"ビアトリクス・ポター"},{"$f":"分類順!E2133","v":"福音館書店"},{"$f":"分類順!F2133","v":20565},"ティギーおばさんのおはなし絵本分類なし(絵本等)ビアトリクス・ポター福音館書店",1,{"$f":"VLOOKUP(\"*\"&目次加工!$B$2&\"*\",J2134:K2134,2,0)","v":1},{"$error":"#N/A"}]
[null,null,null,{"$f":"分類順!A2134","v":"ジェレミー・フィッシャーどんのおはなし"},{"$f":"分類順!B2134","v":"絵本"},{"$f":"分類順!C2134","v":"分類なし(絵本等)"},{"$f":"分類順!D2134","v":"ビアトリクス・ポター"},{"$f":"分類順!E2134","v":"福音館書店"},{"$f":"分類順!F2134","v":20566},"ジェレミー・フィッシャーどんのおはなし絵本分類なし(絵本等)ビアトリクス・ポター福音館書店",1,{"$f":"VLOOKUP(\"*\"&目次加工!$B$2&\"*\",J2135:K2135,2,0)","v":1},{"$error":"#N/A"}]
[null,null,null,{"$f":"分類順!A2135","v":"カルアシ・チミーのおはなし"},{"$f":"分類順!B2135","v":"絵本"},{"$f":"分類順!C2135","v":"分類なし(絵本等)"},{"$f":"分類順!D2135","v":"ビアトリクス・ポター"},{"$f":"分類順!E2135","v":"福音館書店"},{"$f":"分類順!F2135","v":20567},"カルアシ・チミーのおはなし絵本分類なし(絵本等)ビアトリクス・ポター福音館書店",1,{"$f":"VLOOKUP(\"*\"&目次加工!$B$2&\"*\",J2136:K2136,2,0)","v":1},{"$error":"#N/A"}]
[null,null,null,{"$f":"分類順!A2136","v":"パイがふたつあったおはなし"},{"$f":"分類順!B2136","v":"絵本"},{"$f":"分類順!C2136","v":"分類なし(絵本等)"},{"$f":"分類順!D2136","v":"ビアトリクス・ポター"},{"$f":"分類順!E2136","v":"福音館書店"},{"$f":"分類順!F2136","v":20568},"パイがふたつあったおはなし絵本分類なし(絵本等)ビアトリクス・ポター福音館書店",1,{"$f":"VLOOKUP(\"*\"&目次加工!$B$2&\"*\",J2137:K2137,2,0)","v":1},{"$error":"#N/A"}]
[null,null,null,{"$f":"分類順!A2137","v":"ずるいねこのおはなし"},{"$f":"分類順!B2137","v":"絵本"},{"$f":"分類順!C2137","v":"分類なし(絵本等)"},{"$f":"分類順!D2137","v":"ビアトリクス・ポター"},{"$f":"分類順!E2137","v":"福音館書店"},{"$f":"分類順!F2137","v":20569},"ずるいねこのおはなし絵本分類なし(絵本等)ビアトリクス・ポター福音館書店",1,{"$f":"VLOOKUP(\"*\"&目次加工!$B$2&\"*\",J2138:K2138,2,0)","v":1},{"$error":"#N/A"}]
[null,null,null,{"$f":"分類順!A2138","v":"こぶたのピグリン・ブランドのおはなし"},{"$f":"分類順!B2138","v":"絵本"},{"$f":"分類順!C2138","v":"分類なし(絵本等)"},{"$f":"分類順!D2138","v":"ビアトリクス・ポター"},{"$f":"分類順!E2138","v":"福音館書店"},{"$f":"分類順!F2138","v":20570},"こぶたのピグリン・ブランドのおはなし絵本分類なし(絵本等)ビアトリクス・ポター福音館書店",1,{"$f":"VLOOKUP(\"*\"&目次加工!$B$2&\"*\",J2139:K2139,2,0)","v":1},{"$error":"#N/A"}]
[null,null,null,{"$f":"分類順!A2139","v":"ピーターラビットのてがみの本①"},{"$f":"分類順!B2139","v":"絵本"},{"$f":"分類順!C2139","v":"分類なし(絵本等)"},{"$f":"分類順!D2139","v":"ビアトリクス・ポター"},{"$f":"分類順!E2139","v":"福音館書店"},{"$f":"分類順!F2139","v":20571},"ピーターラビットのてがみの本①絵本分類なし(絵本等)ビアトリクス・ポター福音館書店",1,{"$f":"VLOOKUP(\"*\"&目次加工!$B$2&\"*\",J2140:K2140,2,0)","v":1},{"$error":"#N/A"}]
[null,null,null,{"$f":"分類順!A2140","v":"ピーターラビットのてがみの本②"},{"$f":"分類順!B2140","v":"絵本"},{"$f":"分類順!C2140","v":"分類なし(絵本等)"},{"$f":"分類順!D2140","v":"ビアトリクス・ポター"},{"$f":"分類順!E2140","v":"福音館書店"},{"$f":"分類順!F2140","v":20572},"ピーターラビットのてがみの本②絵本分類なし(絵本等)ビアトリクス・ポター福音館書店",1,{"$f":"VLOOKUP(\"*\"&目次加工!$B$2&\"*\",J2141:K2141,2,0)","v":1},{"$error":"#N/A"}]
[null,null,null,{"$f":"分類順!A2141","v":"ポケモンおもしろことわざ"},{"$f":"分類順!B2141","v":"絵本"},{"$f":"分類順!C2141","v":"分類なし(絵本等)"},{"$f":"分類順!D2141","v":"げゑせんうえの"},{"$f":"分類順!E2141","v":"永岡書店"},{"$f":"分類順!F2141","v":20574},"ポケモンおもしろことわざ絵本分類なし(絵本等)げゑせんうえの永岡書店",1,{"$f":"VLOOKUP(\"*\"&目次加工!$B$2&\"*\",J2142:K2142,2,0)","v":1},{"$error":"#N/A"}]
[null,null,null,{"$f":"分類順!A2142","v":"アンパンマンとげんきにあいさつ"},{"$f":"分類順!B2142","v":"絵本"},{"$f":"分類順!C2142","v":"分類なし(絵本等)"},{"$f":"分類順!D2142","v":"やなせたかし"},{"$f":"分類順!E2142","v":"フレーベル館"},{"$f":"分類順!F2142","v":20576},"アンパンマンとげんきにあいさつ絵本分類なし(絵本等)やなせたかしフレーベル館",1,{"$f":"VLOOKUP(\"*\"&目次加工!$B$2&\"*\",J2143:K2143,2,0)","v":1},{"$error":"#N/A"}]
[null,null,null,{"$f":"分類順!A2143","v":"アンパンマンとあそぼう　おりがみ"},{"$f":"分類順!B2143","v":"絵本"},{"$f":"分類順!C2143","v":"分類なし(絵本等)"},{"$f":"分類順!D2143","v":"仲田安津子"},{"$f":"分類順!E2143","v":"フレーベル館"},{"$f":"分類順!F2143","v":20577},"アンパンマンとあそぼう　おりがみ絵本分類なし(絵本等)仲田安津子フレーベル館",1,{"$f":"VLOOKUP(\"*\"&目次加工!$B$2&\"*\",J2144:K2144,2,0)","v":1},{"$error":"#N/A"}]
[null,null,null,{"$f":"分類順!A2144","v":"ひと目でわかる！図解人気折り紙"},{"$f":"分類順!B2144","v":"絵本"},{"$f":"分類順!C2144","v":"分類なし(絵本等)"},{"$f":"分類順!D2144","v":"山口　真"},{"$f":"分類順!E2144","v":"主婦と生活社"},{"$f":"分類順!F2144","v":20578},"ひと目でわかる！図解人気折り紙絵本分類なし(絵本等)山口　真主婦と生活社",1,{"$f":"VLOOKUP(\"*\"&目次加工!$B$2&\"*\",J2145:K2145,2,0)","v":1},{"$error":"#N/A"}]
[null,null,null,{"$f":"分類順!A2145","v":"キャラクターいっぱいのおりがみ44てん"},{"$f":"分類順!B2145","v":"絵本"},{"$f":"分類順!C2145","v":"分類なし(絵本等)"},{"$f":"分類順!D2145","v":"金杉 登喜子"},{"$f":"分類順!E2145","v":"ブティック社"},{"$f":"分類順!F2145","v":20579},"キャラクターいっぱいのおりがみ44てん絵本分類なし(絵本等)金杉 登喜子ブティック社",1,{"$f":"VLOOKUP(\"*\"&目次加工!$B$2&\"*\",J2146:K2146,2,0)","v":1},{"$error":"#N/A"}]
[null,null,null,{"$f":"分類順!A2146","v":"いちご新聞　キャラクターおりがみ教室"},{"$f":"分類順!B2146","v":"絵本"},{"$f":"分類順!C2146","v":"分類なし(絵本等)"},{"$f":"分類順!D2146","v":"高島 麻子"},{"$f":"分類順!E2146","v":"サンリオ"},{"$f":"分類順!F2146","v":20580},"いちご新聞　キャラクターおりがみ教室絵本分類なし(絵本等)高島 麻子サンリオ",1,{"$f":"VLOOKUP(\"*\"&目次加工!$B$2&\"*\",J2147:K2147,2,0)","v":1},{"$error":"#N/A"}]
[null,null,null,{"$f":"分類順!A2147","v":"昔ばなしのおりがみえほん"},{"$f":"分類順!B2147","v":"絵本"},{"$f":"分類順!C2147","v":"分類なし(絵本等)"},{"$f":"分類順!D2147","v":"丹羽 兌子"},{"$f":"分類順!E2147","v":"泉書房"},{"$f":"分類順!F2147","v":20581},"昔ばなしのおりがみえほん絵本分類なし(絵本等)丹羽 兌子泉書房",1,{"$f":"VLOOKUP(\"*\"&目次加工!$B$2&\"*\",J2148:K2148,2,0)","v":1},{"$error":"#N/A"}]
[null,null,null,{"$f":"分類順!A2148","v":"こげぱん　京都ぶらり旅日記"},{"$f":"分類順!B2148","v":"絵本"},{"$f":"分類順!C2148","v":"分類なし(絵本等)"},{"$f":"分類順!D2148","v":"たかはしみき"},{"$f":"分類順!E2148","v":"主婦と生活社"},{"$f":"分類順!F2148","v":20582},"こげぱん　京都ぶらり旅日記絵本分類なし(絵本等)たかはしみき主婦と生活社",1,{"$f":"VLOOKUP(\"*\"&目次加工!$B$2&\"*\",J2149:K2149,2,0)","v":1},{"$error":"#N/A"}]
[null,null,null,{"$f":"分類順!A2149","v":"こげぱん　三都旅日記　～大阪・神戸編～"},{"$f":"分類順!B2149","v":"絵本"},{"$f":"分類順!C2149","v":"分類なし(絵本等)"},{"$f":"分類順!D2149","v":"たかはしみき"},{"$f":"分類順!E2149","v":"ソニーマガジンズ"},{"$f":"分類順!F2149","v":20583},"こげぱん　三都旅日記　～大阪・神戸編～絵本分類なし(絵本等)たかはしみきソニーマガジンズ",1,{"$f":"VLOOKUP(\"*\"&目次加工!$B$2&\"*\",J2150:K2150,2,0)","v":1},{"$error":"#N/A"}]
[null,null,null,{"$f":"分類順!A2150","v":"簡単おりがみ大百科"},{"$f":"分類順!B2150","v":"絵本"},{"$f":"分類順!C2150","v":"分類なし(絵本等)"},{"$f":"分類順!D2150","v":"萩野善之"},{"$f":"分類順!E2150","v":"主婦の友社"},{"$f":"分類順!F2150","v":20584},"簡単おりがみ大百科絵本分類なし(絵本等)萩野善之主婦の友社",1,{"$f":"VLOOKUP(\"*\"&目次加工!$B$2&\"*\",J2151:K2151,2,0)","v":1},{"$error":"#N/A"}]
[null,null,null,{"$f":"分類順!A2151","v":"新電車大集合1616点"},{"$f":"分類順!B2151","v":"絵本"},{"$f":"分類順!C2151","v":"分類なし(絵本等)"},{"$f":"分類順!D2151","v":"広田尚敦"},{"$f":"分類順!E2151","v":"講談社"},{"$f":"分類順!F2151","v":20585},"新電車大集合1616点絵本分類なし(絵本等)広田尚敦講談社",1,{"$f":"VLOOKUP(\"*\"&目次加工!$B$2&\"*\",J2152:K2152,2,0)","v":1},{"$error":"#N/A"}]
[null,null,null,{"$f":"分類順!A2152","v":"北極のムーシカミーシカ"},{"$f":"分類順!B2152","v":"絵本"},{"$f":"分類順!C2152","v":"分類なし(絵本等)"},{"$f":"分類順!D2152","v":"いぬいとみこ"},{"$f":"分類順!E2152","v":"理論社"},{"$f":"分類順!F2152","v":20586},"北極のムーシカミーシカ絵本分類なし(絵本等)いぬいとみこ理論社",1,{"$f":"VLOOKUP(\"*\"&目次加工!$B$2&\"*\",J2153:K2153,2,0)","v":1},{"$error":"#N/A"}]
[null,null,null,{"$f":"分類順!A2153","v":"しあわせの子犬たち"},{"$f":"分類順!B2153","v":"絵本"},{"$f":"分類順!C2153","v":"分類なし(絵本等)"},{"$f":"分類順!D2153","v":"Ｍ・ラバット"},{"$f":"分類順!E2153","v":"文研出版"},{"$f":"分類順!F2153","v":20587},"しあわせの子犬たち絵本分類なし(絵本等)Ｍ・ラバット文研出版",1,{"$f":"VLOOKUP(\"*\"&目次加工!$B$2&\"*\",J2154:K2154,2,0)","v":1},{"$error":"#N/A"}]
[null,null,null,{"$f":"分類順!A2154","v":"うたぶっく①"},{"$f":"分類順!B2154","v":"絵本"},{"$f":"分類順!C2154","v":"分類なし(絵本等)"},{"$f":"分類順!D2154","v":"たかいよしかず"},{"$f":"分類順!E2154","v":"京田クリエーション"},{"$f":"分類順!F2154","v":20588},"うたぶっく①絵本分類なし(絵本等)たかいよしかず京田クリエーション",1,{"$f":"VLOOKUP(\"*\"&目次加工!$B$2&\"*\",J2155:K2155,2,0)","v":1},{"$error":"#N/A"}]
[null,null,null,{"$f":"分類順!A2155","v":"プレゼント"},{"$f":"分類順!B2155","v":"絵本"},{"$f":"分類順!C2155","v":"分類なし(絵本等)"},{"$f":"分類順!D2155","v":"おとたけひろただ"},{"$f":"分類順!E2155","v":"中央法規出版"},{"$f":"分類順!F2155","v":20589},"プレゼント絵本分類なし(絵本等)おとたけひろただ中央法規出版",1,{"$f":"VLOOKUP(\"*\"&目次加工!$B$2&\"*\",J2156:K2156,2,0)","v":1},{"$error":"#N/A"}]
[null,null,null,{"$f":"分類順!A2156","v":"三月ひなのつき"},{"$f":"分類順!B2156","v":"絵本"},{"$f":"分類順!C2156","v":"分類なし(絵本等)"},{"$f":"分類順!D2156","v":"石井桃子"},{"$f":"分類順!E2156","v":"福音館書店"},{"$f":"分類順!F2156","v":20590},"三月ひなのつき絵本分類なし(絵本等)石井桃子福音館書店",1,{"$f":"VLOOKUP(\"*\"&目次加工!$B$2&\"*\",J2157:K2157,2,0)","v":1},{"$error":"#N/A"}]
[null,null,null,{"$f":"分類順!A2157","v":"あの子は気になる転校生"},{"$f":"分類順!B2157","v":"絵本"},{"$f":"分類順!C2157","v":"分類なし(絵本等)"},{"$f":"分類順!D2157","v":"藤田富美恵"},{"$f":"分類順!E2157","v":"PHP研究所"},{"$f":"分類順!F2157","v":20591},"あの子は気になる転校生絵本分類なし(絵本等)藤田富美恵PHP研究所",1,{"$f":"VLOOKUP(\"*\"&目次加工!$B$2&\"*\",J2158:K2158,2,0)","v":1},{"$error":"#N/A"}]
[null,null,null,{"$f":"分類順!A2158","v":"あるはれたひに"},{"$f":"分類順!B2158","v":"絵本"},{"$f":"分類順!C2158","v":"分類なし(絵本等)"},{"$f":"分類順!D2158","v":"木村裕一"},{"$f":"分類順!E2158","v":"講談社"},{"$f":"分類順!F2158","v":20592},"あるはれたひに絵本分類なし(絵本等)木村裕一講談社",1,{"$f":"VLOOKUP(\"*\"&目次加工!$B$2&\"*\",J2159:K2159,2,0)","v":1},{"$error":"#N/A"}]
[null,null,null,{"$f":"分類順!A2159","v":"くものきれまに"},{"$f":"分類順!B2159","v":"絵本"},{"$f":"分類順!C2159","v":"分類なし(絵本等)"},{"$f":"分類順!D2159","v":"木村裕一"},{"$f":"分類順!E2159","v":"講談社"},{"$f":"分類順!F2159","v":20593},"くものきれまに絵本分類なし(絵本等)木村裕一講談社",1,{"$f":"VLOOKUP(\"*\"&目次加工!$B$2&\"*\",J2160:K2160,2,0)","v":1},{"$error":"#N/A"}]
[null,null,null,{"$f":"分類順!A2160","v":"きりのなかで"},{"$f":"分類順!B2160","v":"絵本"},{"$f":"分類順!C2160","v":"分類なし(絵本等)"},{"$f":"分類順!D2160","v":"木村裕一"},{"$f":"分類順!E2160","v":"講談社"},{"$f":"分類順!F2160","v":20594},"きりのなかで絵本分類なし(絵本等)木村裕一講談社",1,{"$f":"VLOOKUP(\"*\"&目次加工!$B$2&\"*\",J2161:K2161,2,0)","v":1},{"$error":"#N/A"}]
[null,null,null,{"$f":"分類順!A2161","v":"風にのってきたメアリー・ポピンズ"},{"$f":"分類順!B2161","v":"絵本"},{"$f":"分類順!C2161","v":"分類なし(絵本等)"},{"$f":"分類順!D2161","v":"トラヴァース"},{"$f":"分類順!E2161","v":"岩波書店"},{"$f":"分類順!F2161","v":20595},"風にのってきたメアリー・ポピンズ絵本分類なし(絵本等)トラヴァース岩波書店",1,{"$f":"VLOOKUP(\"*\"&目次加工!$B$2&\"*\",J2162:K2162,2,0)","v":1},{"$error":"#N/A"}]
[null,null,null,{"$f":"分類順!A2162","v":"ぼくらは少年探偵団"},{"$f":"分類順!B2162","v":"絵本"},{"$f":"分類順!C2162","v":"分類なし(絵本等)"},{"$f":"分類順!D2162","v":"日本児童文学者協会"},{"$f":"分類順!E2162","v":"偕成社"},{"$f":"分類順!F2162","v":20596},"ぼくらは少年探偵団絵本分類なし(絵本等)日本児童文学者協会偕成社",1,{"$f":"VLOOKUP(\"*\"&目次加工!$B$2&\"*\",J2163:K2163,2,0)","v":1},{"$error":"#N/A"}]
[null,null,null,{"$f":"分類順!A2163","v":"なぞの電子メール"},{"$f":"分類順!B2163","v":"絵本"},{"$f":"分類順!C2163","v":"分類なし(絵本等)"},{"$f":"分類順!D2163","v":"日本児童文学者協会"},{"$f":"分類順!E2163","v":"偕成社"},{"$f":"分類順!F2163","v":20597},"なぞの電子メール絵本分類なし(絵本等)日本児童文学者協会偕成社",1,{"$f":"VLOOKUP(\"*\"&目次加工!$B$2&\"*\",J2164:K2164,2,0)","v":1},{"$error":"#N/A"}]
[null,null,null,{"$f":"分類順!A2164","v":"学校のびっくり事件ファイル"},{"$f":"分類順!B2164","v":"絵本"},{"$f":"分類順!C2164","v":"分類なし(絵本等)"},{"$f":"分類順!D2164","v":"日本児童文学者協会"},{"$f":"分類順!E2164","v":"偕成社"},{"$f":"分類順!F2164","v":20598},"学校のびっくり事件ファイル絵本分類なし(絵本等)日本児童文学者協会偕成社",1,{"$f":"VLOOKUP(\"*\"&目次加工!$B$2&\"*\",J2165:K2165,2,0)","v":1},{"$error":"#N/A"}]
[null,null,null,{"$f":"分類順!A2165","v":"後路みね"},{"$f":"分類順!B2165","v":"絵本"},{"$f":"分類順!C2165","v":"分類なし(絵本等)"},{"$f":"分類順!D2165","v":"いわむらかずお"},{"$f":"分類順!E2165","v":"理論社"},{"$f":"分類順!F2165","v":20599},"後路みね絵本分類なし(絵本等)いわむらかずお理論社",1,{"$f":"VLOOKUP(\"*\"&目次加工!$B$2&\"*\",J2166:K2166,2,0)","v":1},{"$error":"#N/A"}]
[null,null,null,{"$f":"分類順!A2166","v":"金色のクジラ"},{"$f":"分類順!B2166","v":"絵本"},{"$f":"分類順!C2166","v":"分類なし(絵本等)"},{"$f":"分類順!D2166","v":"岸川悦子"},{"$f":"分類順!E2166","v":"ひくまの出版"},{"$f":"分類順!F2166","v":20600},"金色のクジラ絵本分類なし(絵本等)岸川悦子ひくまの出版",1,{"$f":"VLOOKUP(\"*\"&目次加工!$B$2&\"*\",J2167:K2167,2,0)","v":1},{"$error":"#N/A"}]
[null,null,null,{"$f":"分類順!A2167","v":"おりおりのりものずかん"},{"$f":"分類順!B2167","v":"絵本"},{"$f":"分類順!C2167","v":"分類なし(絵本等)"},{"$f":"分類順!D2167","v":"和田由紀夫"},{"$f":"分類順!E2167","v":"大泉書店"},{"$f":"分類順!F2167","v":20601},"おりおりのりものずかん絵本分類なし(絵本等)和田由紀夫大泉書店",1,{"$f":"VLOOKUP(\"*\"&目次加工!$B$2&\"*\",J2168:K2168,2,0)","v":1},{"$error":"#N/A"}]
[null,null,null,{"$f":"分類順!A2168","v":"ドングリ山のやまんばあさん"},{"$f":"分類順!B2168","v":"絵本"},{"$f":"分類順!C2168","v":"分類なし(絵本等)"},{"$f":"分類順!D2168","v":"富安陽子"},{"$f":"分類順!E2168","v":"理論社"},{"$f":"分類順!F2168","v":20602},"ドングリ山のやまんばあさん絵本分類なし(絵本等)富安陽子理論社",1,{"$f":"VLOOKUP(\"*\"&目次加工!$B$2&\"*\",J2169:K2169,2,0)","v":1},{"$error":"#N/A"}]
[null,null,null,{"$f":"分類順!A2169","v":"クリスマス・キャロル"},{"$f":"分類順!B2169","v":"絵本"},{"$f":"分類順!C2169","v":"分類なし(絵本等)"},{"$f":"分類順!D2169","v":"ディケンズ"},{"$f":"分類順!E2169","v":"岩波書店"},{"$f":"分類順!F2169","v":20603},"クリスマス・キャロル絵本分類なし(絵本等)ディケンズ岩波書店",1,{"$f":"VLOOKUP(\"*\"&目次加工!$B$2&\"*\",J2170:K2170,2,0)","v":1},{"$error":"#N/A"}]
[null,null,null,{"$f":"分類順!A2170","v":"ねこ語の歌が死を招く"},{"$f":"分類順!B2170","v":"絵本"},{"$f":"分類順!C2170","v":"分類なし(絵本等)"},{"$f":"分類順!D2170","v":"宇賀神　水青"},{"$f":"分類順!E2170","v":"集英社"},{"$f":"分類順!F2170","v":20604},"ねこ語の歌が死を招く絵本分類なし(絵本等)宇賀神　水青集英社",1,{"$f":"VLOOKUP(\"*\"&目次加工!$B$2&\"*\",J2171:K2171,2,0)","v":1},{"$error":"#N/A"}]
[null,null,null,{"$f":"分類順!A2171","v":"ゲームの中に閉じこめて"},{"$f":"分類順!B2171","v":"絵本"},{"$f":"分類順!C2171","v":"分類なし(絵本等)"},{"$f":"分類順!D2171","v":"宇賀神　水青"},{"$f":"分類順!E2171","v":"集英社"},{"$f":"分類順!F2171","v":20605},"ゲームの中に閉じこめて絵本分類なし(絵本等)宇賀神　水青集英社",1,{"$f":"VLOOKUP(\"*\"&目次加工!$B$2&\"*\",J2172:K2172,2,0)","v":1},{"$error":"#N/A"}]
[null,null,null,{"$f":"分類順!A2172","v":"死者はにっこりよみがえる"},{"$f":"分類順!B2172","v":"絵本"},{"$f":"分類順!C2172","v":"分類なし(絵本等)"},{"$f":"分類順!D2172","v":"宇賀神　水青"},{"$f":"分類順!E2172","v":"集英社"},{"$f":"分類順!F2172","v":20606},"死者はにっこりよみがえる絵本分類なし(絵本等)宇賀神　水青集英社",1,{"$f":"VLOOKUP(\"*\"&目次加工!$B$2&\"*\",J2173:K2173,2,0)","v":1},{"$error":"#N/A"}]
[null,null,null,{"$f":"分類順!A2173","v":"シャッター・チャンスでこ・ろ・さ・れ・る"},{"$f":"分類順!B2173","v":"絵本"},{"$f":"分類順!C2173","v":"分類なし(絵本等)"},{"$f":"分類順!D2173","v":"宇賀神　水青"},{"$f":"分類順!E2173","v":"集英社"},{"$f":"分類順!F2173","v":20607},"シャッター・チャンスでこ・ろ・さ・れ・る絵本分類なし(絵本等)宇賀神　水青集英社",1,{"$f":"VLOOKUP(\"*\"&目次加工!$B$2&\"*\",J2174:K2174,2,0)","v":1},{"$error":"#N/A"}]
[null,null,null,{"$f":"分類順!A2174","v":"棺のなかで目ざめたら"},{"$f":"分類順!B2174","v":"絵本"},{"$f":"分類順!C2174","v":"分類なし(絵本等)"},{"$f":"分類順!D2174","v":"宇賀神　水青"},{"$f":"分類順!E2174","v":"集英社"},{"$f":"分類順!F2174","v":20608},"棺のなかで目ざめたら絵本分類なし(絵本等)宇賀神　水青集英社",1,{"$f":"VLOOKUP(\"*\"&目次加工!$B$2&\"*\",J2175:K2175,2,0)","v":1},{"$error":"#N/A"}]
[null,null,null,{"$f":"分類順!A2175","v":"美少女シェフに手をだすな"},{"$f":"分類順!B2175","v":"絵本"},{"$f":"分類順!C2175","v":"分類なし(絵本等)"},{"$f":"分類順!D2175","v":"宇賀神　水青"},{"$f":"分類順!E2175","v":"集英社"},{"$f":"分類順!F2175","v":20609},"美少女シェフに手をだすな絵本分類なし(絵本等)宇賀神　水青集英社",1,{"$f":"VLOOKUP(\"*\"&目次加工!$B$2&\"*\",J2176:K2176,2,0)","v":1},{"$error":"#N/A"}]
[null,null,null,{"$f":"分類順!A2176","v":"赤毛のアン"},{"$f":"分類順!B2176","v":"絵本"},{"$f":"分類順!C2176","v":"分類なし(絵本等)"},{"$f":"分類順!D2176","v":"L.M.モンゴメリー"},{"$f":"分類順!E2176","v":"講談社"},{"$f":"分類順!F2176","v":20610},"赤毛のアン絵本分類なし(絵本等)L.M.モンゴメリー講談社",1,{"$f":"VLOOKUP(\"*\"&目次加工!$B$2&\"*\",J2177:K2177,2,0)","v":1},{"$error":"#N/A"}]
[null,null,null,{"$f":"分類順!A2177","v":"THE TALE OF TOM KITTEN"},{"$f":"分類順!B2177","v":"絵本"},{"$f":"分類順!C2177","v":"分類なし(絵本等)"},{"$f":"分類順!D2177","v":"ベアトリックス・ポター"},{"$f":"分類順!E2177","v":"WILLIAMCLOWES"},{"$f":"分類順!F2177","v":20611},"THE TALE OF TOM KITTEN絵本分類なし(絵本等)ベアトリックス・ポターWILLIAMCLOWES",1,{"$f":"VLOOKUP(\"*\"&目次加工!$B$2&\"*\",J2178:K2178,2,0)","v":1},{"$error":"#N/A"}]
[null,null,null,{"$f":"分類順!A2178","v":"アンネの日記"},{"$f":"分類順!B2178","v":"絵本"},{"$f":"分類順!C2178","v":"分類なし(絵本等)"},{"$f":"分類順!D2178","v":"アンネ・フランク"},{"$f":"分類順!E2178","v":"文藝春秋"},{"$f":"分類順!F2178","v":20612},"アンネの日記絵本分類なし(絵本等)アンネ・フランク文藝春秋",1,{"$f":"VLOOKUP(\"*\"&目次加工!$B$2&\"*\",J2179:K2179,2,0)","v":1},{"$error":"#N/A"}]
[null,null,null,{"$f":"分類順!A2179","v":"ふわふわのおはなし"},{"$f":"分類順!B2179","v":"絵本"},{"$f":"分類順!C2179","v":"分類なし(絵本等)"},{"$f":"分類順!D2179","v":"ひろかわさえこ"},{"$f":"分類順!E2179","v":"あかね書房"},{"$f":"分類順!F2179","v":20613},"ふわふわのおはなし絵本分類なし(絵本等)ひろかわさえこあかね書房",1,{"$f":"VLOOKUP(\"*\"&目次加工!$B$2&\"*\",J2180:K2180,2,0)","v":1},{"$f":"VLOOKUP(\"*\"&$A$2&\"*\",J2180:K2180,2,0)","v":{"$error":"#N/A"}}]
[null,null,null,{"$f":"分類順!A2180","v":"三びきの子ぶた"},{"$f":"分類順!B2180","v":"絵本"},{"$f":"分類順!C2180","v":"分類なし(絵本等)"},{"$f":"分類順!D2180","v":"梯有子（イギリス民話）"},{"$f":"分類順!E2180","v":"河出書房新社"},{"$f":"分類順!F2180","v":20614},"三びきの子ぶた絵本分類なし(絵本等)梯有子（イギリス民話）河出書房新社",1,{"$f":"VLOOKUP(\"*\"&目次加工!$B$2&\"*\",J2181:K2181,2,0)","v":1},{"$error":"#N/A"}]
[null,null,null,{"$f":"分類順!A2181","v":"ハリーとマルタン②"},{"$f":"分類順!B2181","v":"絵本"},{"$f":"分類順!C2181","v":"分類なし(絵本等)"},{"$f":"分類順!D2181","v":"やなせたかし"},{"$f":"分類順!E2181","v":"新日本出版社"},{"$f":"分類順!F2181","v":20618},"ハリーとマルタン②絵本分類なし(絵本等)やなせたかし新日本出版社",1,{"$f":"VLOOKUP(\"*\"&目次加工!$B$2&\"*\",J2182:K2182,2,0)","v":1},{"$error":"#N/A"}]
[null,null,null,{"$f":"分類順!A2182","v":"ハリーとマルタン③"},{"$f":"分類順!B2182","v":"絵本"},{"$f":"分類順!C2182","v":"分類なし(絵本等)"},{"$f":"分類順!D2182","v":"やなせたかし"},{"$f":"分類順!E2182","v":"新日本出版社"},{"$f":"分類順!F2182","v":20619},"ハリーとマルタン③絵本分類なし(絵本等)やなせたかし新日本出版社",1,{"$f":"VLOOKUP(\"*\"&目次加工!$B$2&\"*\",J2183:K2183,2,0)","v":1},{"$error":"#N/A"}]
[null,null,null,{"$f":"分類順!A2183","v":"ハリーとマルタン④"},{"$f":"分類順!B2183","v":"絵本"},{"$f":"分類順!C2183","v":"分類なし(絵本等)"},{"$f":"分類順!D2183","v":"やなせたかし"},{"$f":"分類順!E2183","v":"新日本出版社"},{"$f":"分類順!F2183","v":20620},"ハリーとマルタン④絵本分類なし(絵本等)やなせたかし新日本出版社",1,{"$f":"VLOOKUP(\"*\"&目次加工!$B$2&\"*\",J2184:K2184,2,0)","v":1},{"$error":"#N/A"}]
[null,null,null,{"$f":"分類順!A2184","v":"ハリーとマルタン⑤"},{"$f":"分類順!B2184","v":"絵本"},{"$f":"分類順!C2184","v":"分類なし(絵本等)"},{"$f":"分類順!D2184","v":"やなせたかし"},{"$f":"分類順!E2184","v":"新日本出版社"},{"$f":"分類順!F2184","v":20621},"ハリーとマルタン⑤絵本分類なし(絵本等)やなせたかし新日本出版社",1,{"$f":"VLOOKUP(\"*\"&目次加工!$B$2&\"*\",J2185:K2185,2,0)","v":1},{"$error":"#N/A"}]
[null,null,null,{"$f":"分類順!A2185","v":"ハリーとマルタン⑥"},{"$f":"分類順!B2185","v":"絵本"},{"$f":"分類順!C2185","v":"分類なし(絵本等)"},{"$f":"分類順!D2185","v":"やなせたかし"},{"$f":"分類順!E2185","v":"新日本出版社"},{"$f":"分類順!F2185","v":20622},"ハリーとマルタン⑥絵本分類なし(絵本等)やなせたかし新日本出版社",1,{"$f":"VLOOKUP(\"*\"&目次加工!$B$2&\"*\",J2186:K2186,2,0)","v":1},{"$error":"#N/A"}]
[null,null,null,{"$f":"分類順!A2186","v":"サンタさん　すきですといえなくて・・・"},{"$f":"分類順!B2186","v":"絵本"},{"$f":"分類順!C2186","v":"分類なし(絵本等)"},{"$f":"分類順!D2186","v":"ふくだすぐる"},{"$f":"分類順!E2186","v":"大和書房"},{"$f":"分類順!F2186","v":20623},"サンタさん　すきですといえなくて・・・絵本分類なし(絵本等)ふくだすぐる大和書房",1,{"$f":"VLOOKUP(\"*\"&目次加工!$B$2&\"*\",J2187:K2187,2,0)","v":1},{"$error":"#N/A"}]
[null,null,null,{"$f":"分類順!A2187","v":"ふたりはなかよし"},{"$f":"分類順!B2187","v":"絵本"},{"$f":"分類順!C2187","v":"分類なし(絵本等)"},{"$f":"分類順!D2187","v":"ジョアンナ・コール　ほか"},{"$f":"分類順!E2187","v":"小峰書店"},{"$f":"分類順!F2187","v":20624},"ふたりはなかよし絵本分類なし(絵本等)ジョアンナ・コール　ほか小峰書店",1,{"$f":"VLOOKUP(\"*\"&目次加工!$B$2&\"*\",J2188:K2188,2,0)","v":1},{"$error":"#N/A"}]
[null,null,null,{"$f":"分類順!A2188","v":"かいけつゾロリの大まじんをさがせ！！"},{"$f":"分類順!B2188","v":"絵本"},{"$f":"分類順!C2188","v":"分類なし(絵本等)"},{"$f":"分類順!D2188","v":"原　ゆたか"},{"$f":"分類順!E2188","v":"ポプラ社"},{"$f":"分類順!F2188","v":20625},"かいけつゾロリの大まじんをさがせ！！絵本分類なし(絵本等)原　ゆたかポプラ社",1,{"$f":"VLOOKUP(\"*\"&目次加工!$B$2&\"*\",J2189:K2189,2,0)","v":1},{"$error":"#N/A"}]
[null,null,null,{"$f":"分類順!A2189","v":"いぬとねこ１００"},{"$f":"分類順!B2189","v":"絵本"},{"$f":"分類順!C2189","v":"分類なし(絵本等)"},{"$f":"分類順!D2189","v":"今泉忠明"},{"$f":"分類順!E2189","v":"講談社"},{"$f":"分類順!F2189","v":20626},"いぬとねこ１００絵本分類なし(絵本等)今泉忠明講談社",1,{"$f":"VLOOKUP(\"*\"&目次加工!$B$2&\"*\",J2190:K2190,2,0)","v":1},{"$error":"#N/A"}]
[null,null,null,{"$f":"分類順!A2190","v":"カプチーヌ"},{"$f":"分類順!B2190","v":"絵本"},{"$f":"分類順!C2190","v":"分類なし(絵本等)"},{"$f":"分類順!D2190","v":"タンギー・グレバン"},{"$f":"分類順!E2190","v":"小峰書店"},{"$f":"分類順!F2190","v":20627},"カプチーヌ絵本分類なし(絵本等)タンギー・グレバン小峰書店",1,{"$f":"VLOOKUP(\"*\"&目次加工!$B$2&\"*\",J2191:K2191,2,0)","v":1},{"$error":"#N/A"}]
[null,null,null,{"$f":"分類順!A2191","v":"サンタクロースのふくろのなか"},{"$f":"分類順!B2191","v":"絵本"},{"$f":"分類順!C2191","v":"分類なし(絵本等)"},{"$f":"分類順!D2191","v":"安野光雅"},{"$f":"分類順!E2191","v":"童話屋"},{"$f":"分類順!F2191","v":20628},"サンタクロースのふくろのなか絵本分類なし(絵本等)安野光雅童話屋",1,{"$f":"VLOOKUP(\"*\"&目次加工!$B$2&\"*\",J2192:K2192,2,0)","v":1},{"$error":"#N/A"}]
[null,null,null,{"$f":"分類順!A2192","v":"ほんとうの南極犬物語"},{"$f":"分類順!B2192","v":"絵本"},{"$f":"分類順!C2192","v":"分類なし(絵本等)"},{"$f":"分類順!D2192","v":"綾野まさる"},{"$f":"分類順!E2192","v":"ハート出版"},{"$f":"分類順!F2192","v":20629},"ほんとうの南極犬物語絵本分類なし(絵本等)綾野まさるハート出版",1,{"$f":"VLOOKUP(\"*\"&目次加工!$B$2&\"*\",J2193:K2193,2,0)","v":1},{"$error":"#N/A"}]
[null,null,null,{"$f":"分類順!A2193","v":"犬のおまわりさんボギー"},{"$f":"分類順!B2193","v":"絵本"},{"$f":"分類順!C2193","v":"分類なし(絵本等)"},{"$f":"分類順!D2193","v":"西松　宏"},{"$f":"分類順!E2193","v":"ハート出版"},{"$f":"分類順!F2193","v":20630},"犬のおまわりさんボギー絵本分類なし(絵本等)西松　宏ハート出版",1,{"$f":"VLOOKUP(\"*\"&目次加工!$B$2&\"*\",J2194:K2194,2,0)","v":1},{"$error":"#N/A"}]
[null,null,null,{"$f":"分類順!A2194","v":"レッツゴー・サフィー"},{"$f":"分類順!B2194","v":"絵本"},{"$f":"分類順!C2194","v":"分類なし(絵本等)"},{"$f":"分類順!D2194","v":"井上夕香"},{"$f":"分類順!E2194","v":"ハート出版"},{"$f":"分類順!F2194","v":20631},{"$f":"D2195&E2195&F2195&G2195&H2195","v":"レッツゴー・サフィー絵本分類なし(絵本等)井上夕香ハート出版"},1,{"$f":"VLOOKUP(\"*\"&目次加工!$B$2&\"*\",J2195:K2195,2,0)","v":1},{"$error":"#N/A"}]
[null,null,null,{"$f":"分類順!A2195","v":"タイタニックの犬ラブ"},{"$f":"分類順!B2195","v":"絵本"},{"$f":"分類順!C2195","v":"分類なし(絵本等)"},{"$f":"分類順!D2195","v":"関　朝之"},{"$f":"分類順!E2195","v":"ハート出版"},{"$f":"分類順!F2195","v":20632},"タイタニックの犬ラブ絵本分類なし(絵本等)関　朝之ハート出版",1,{"$f":"VLOOKUP(\"*\"&目次加工!$B$2&\"*\",J2196:K2196,2,0)","v":1},{"$error":"#N/A"}]
[null,null,null,{"$f":"分類順!A2196","v":"前足だけの白い猫マイ"},{"$f":"分類順!B2196","v":"絵本"},{"$f":"分類順!C2196","v":"分類なし(絵本等)"},{"$f":"分類順!D2196","v":"今泉耕介"},{"$f":"分類順!E2196","v":"ハート出版"},{"$f":"分類順!F2196","v":20633},"前足だけの白い猫マイ絵本分類なし(絵本等)今泉耕介ハート出版",1,{"$f":"VLOOKUP(\"*\"&目次加工!$B$2&\"*\",J2197:K2197,2,0)","v":1},{"$error":"#N/A"}]
[null,null,null,{"$f":"分類順!A2197","v":"ゴリラのボスになった力三さん"},{"$f":"分類順!B2197","v":"絵本"},{"$f":"分類順!C2197","v":"分類なし(絵本等)"},{"$f":"分類順!D2197","v":"綾野まさる"},{"$f":"分類順!E2197","v":"ハート出版"},{"$f":"分類順!F2197","v":20634},"ゴリラのボスになった力三さん絵本分類なし(絵本等)綾野まさるハート出版",1,{"$f":"VLOOKUP(\"*\"&目次加工!$B$2&\"*\",J2198:K2198,2,0)","v":1},{"$error":"#N/A"}]
[null,null,null,{"$f":"分類順!A2198","v":"おてんば娘はな子の七転び八起"},{"$f":"分類順!B2198","v":"絵本"},{"$f":"分類順!C2198","v":"分類なし(絵本等)"},{"$f":"分類順!D2198","v":"綾野まさる"},{"$f":"分類順!E2198","v":"ハート出版"},{"$f":"分類順!F2198","v":20635},"おてんば娘はな子の七転び八起絵本分類なし(絵本等)綾野まさるハート出版",1,{"$f":"VLOOKUP(\"*\"&目次加工!$B$2&\"*\",J2199:K2199,2,0)","v":1},{"$error":"#N/A"}]
[null,null,null,{"$f":"分類順!A2199","v":"小学生探偵　コタロウと謎の村"},{"$f":"分類順!B2199","v":"絵本"},{"$f":"分類順!C2199","v":"分類なし(絵本等)"},{"$f":"分類順!D2199","v":"夢現舎"},{"$f":"分類順!E2199","v":"ほるぷ出版"},{"$f":"分類順!F2199","v":20636},"小学生探偵　コタロウと謎の村絵本分類なし(絵本等)夢現舎ほるぷ出版",1,{"$f":"VLOOKUP(\"*\"&目次加工!$B$2&\"*\",J2200:K2200,2,0)","v":1},{"$error":"#N/A"}]
[null,null,null,{"$f":"分類順!A2200","v":"１・２年生のなぞなぞたんけんたい"},{"$f":"分類順!B2200","v":"絵本"},{"$f":"分類順!C2200","v":"分類なし(絵本等)"},{"$f":"分類順!D2200","v":"このみ・プラニング"},{"$f":"分類順!E2200","v":"大泉書店"},{"$f":"分類順!F2200","v":20637},"１・２年生のなぞなぞたんけんたい絵本分類なし(絵本等)このみ・プラニング大泉書店",1,{"$f":"VLOOKUP(\"*\"&目次加工!$B$2&\"*\",J2201:K2201,2,0)","v":1},{"$error":"#N/A"}]
[null,null,null,{"$f":"分類順!A2201","v":"遊べる！おりがみ"},{"$f":"分類順!B2201","v":"絵本"},{"$f":"分類順!C2201","v":"分類なし(絵本等)"},{"$f":"分類順!D2201","v":"笠原邦彦"},{"$f":"分類順!E2201","v":"大泉書店"},{"$f":"分類順!F2201","v":20638},"遊べる！おりがみ絵本分類なし(絵本等)笠原邦彦大泉書店",1,{"$f":"VLOOKUP(\"*\"&目次加工!$B$2&\"*\",J2202:K2202,2,0)","v":1},{"$error":"#N/A"}]
[null,null,null,{"$f":"分類順!A2202","v":"番号をどうぞ"},{"$f":"分類順!B2202","v":"絵本"},{"$f":"分類順!C2202","v":"分類なし(絵本等)"},{"$f":"分類順!D2202","v":"和田　誠"},{"$f":"分類順!E2202","v":"理論社"},{"$f":"分類順!F2202","v":20639},"番号をどうぞ絵本分類なし(絵本等)和田　誠理論社",1,{"$f":"VLOOKUP(\"*\"&目次加工!$B$2&\"*\",J2203:K2203,2,0)","v":1},{"$error":"#N/A"}]
[null,null,null,{"$f":"分類順!A2203","v":"月と猫"},{"$f":"分類順!B2203","v":"絵本"},{"$f":"分類順!C2203","v":"分類なし(絵本等)"},{"$f":"分類順!D2203","v":"田川　誠"},{"$f":"分類順!E2203","v":"Peter&Joseph"},{"$f":"分類順!F2203","v":20640},"月と猫絵本分類なし(絵本等)田川　誠Peter&Joseph",1,{"$f":"VLOOKUP(\"*\"&目次加工!$B$2&\"*\",J2204:K2204,2,0)","v":1},{"$error":"#N/A"}]
[null,null,null,{"$f":"分類順!A2204","v":"やさしい折りかた　かわいいおりがみ"},{"$f":"分類順!B2204","v":"絵本"},{"$f":"分類順!C2204","v":"分類なし(絵本等)"},{"$f":"分類順!D2204","v":"三村あつ子"},{"$f":"分類順!E2204","v":"大泉書店"},{"$f":"分類順!F2204","v":20641},"やさしい折りかた　かわいいおりがみ絵本分類なし(絵本等)三村あつ子大泉書店",1,{"$f":"VLOOKUP(\"*\"&目次加工!$B$2&\"*\",J2205:K2205,2,0)","v":1},{"$error":"#N/A"}]
[null,null,null,{"$f":"分類順!A2205","v":"ルルとララのおしゃれクッキー"},{"$f":"分類順!B2205","v":"絵本"},{"$f":"分類順!C2205","v":"分類なし(絵本等)"},{"$f":"分類順!D2205","v":"あんびるやすこ"},{"$f":"分類順!E2205","v":"岩崎書店"},{"$f":"分類順!F2205","v":20642},"ルルとララのおしゃれクッキー絵本分類なし(絵本等)あんびるやすこ岩崎書店",1,{"$f":"VLOOKUP(\"*\"&目次加工!$B$2&\"*\",J2206:K2206,2,0)","v":1},{"$error":"#N/A"}]
[null,null,null,{"$f":"分類順!A2206","v":"ルルとララのチョコレート"},{"$f":"分類順!B2206","v":"絵本"},{"$f":"分類順!C2206","v":"分類なし(絵本等)"},{"$f":"分類順!D2206","v":"あんびるやすこ"},{"$f":"分類順!E2206","v":"岩崎書店"},{"$f":"分類順!F2206","v":20643},"ルルとララのチョコレート絵本分類なし(絵本等)あんびるやすこ岩崎書店",1,{"$f":"VLOOKUP(\"*\"&目次加工!$B$2&\"*\",J2207:K2207,2,0)","v":1},{"$error":"#N/A"}]
[null,null,null,{"$f":"分類順!A2207","v":"ルルとララのアイスクリーム"},{"$f":"分類順!B2207","v":"絵本"},{"$f":"分類順!C2207","v":"分類なし(絵本等)"},{"$f":"分類順!D2207","v":"あんびるやすこ"},{"$f":"分類順!E2207","v":"岩崎書店"},{"$f":"分類順!F2207","v":20644},"ルルとララのアイスクリーム絵本分類なし(絵本等)あんびるやすこ岩崎書店",1,{"$f":"VLOOKUP(\"*\"&目次加工!$B$2&\"*\",J2208:K2208,2,0)","v":1},{"$error":"#N/A"}]
[null,null,null,{"$f":"分類順!A2208","v":"ルルとララのシャーベット"},{"$f":"分類順!B2208","v":"絵本"},{"$f":"分類順!C2208","v":"分類なし(絵本等)"},{"$f":"分類順!D2208","v":"あんびるやすこ"},{"$f":"分類順!E2208","v":"岩崎書店"},{"$f":"分類順!F2208","v":20645},"ルルとララのシャーベット絵本分類なし(絵本等)あんびるやすこ岩崎書店",1,{"$f":"VLOOKUP(\"*\"&目次加工!$B$2&\"*\",J2209:K2209,2,0)","v":1},{"$error":"#N/A"}]
[null,null,null,{"$f":"分類順!A2209","v":"ルルとララのわくわくクレープ"},{"$f":"分類順!B2209","v":"絵本"},{"$f":"分類順!C2209","v":"分類なし(絵本等)"},{"$f":"分類順!D2209","v":"あんびるやすこ"},{"$f":"分類順!E2209","v":"岩崎書店"},{"$f":"分類順!F2209","v":20646},"ルルとララのわくわくクレープ絵本分類なし(絵本等)あんびるやすこ岩崎書店",1,{"$f":"VLOOKUP(\"*\"&目次加工!$B$2&\"*\",J2210:K2210,2,0)","v":1},{"$error":"#N/A"}]
[null,null,null,{"$f":"分類順!A2210","v":"ルルとララのふんわりムース"},{"$f":"分類順!B2210","v":"絵本"},{"$f":"分類順!C2210","v":"分類なし(絵本等)"},{"$f":"分類順!D2210","v":"あんびるやすこ"},{"$f":"分類順!E2210","v":"岩崎書店"},{"$f":"分類順!F2210","v":20647},"ルルとララのふんわりムース絵本分類なし(絵本等)あんびるやすこ岩崎書店",1,{"$f":"VLOOKUP(\"*\"&目次加工!$B$2&\"*\",J2211:K2211,2,0)","v":1},{"$error":"#N/A"}]
[null,null,null,{"$f":"分類順!A2211","v":"あんぽんたんのおもしろことばなんじゃらほい！その①"},{"$f":"分類順!B2211","v":"絵本"},{"$f":"分類順!C2211","v":"分類なし(絵本等)"},{"$f":"分類順!D2211","v":"ひろかわさえこ"},{"$f":"分類順!E2211","v":"草土文化"},{"$f":"分類順!F2211","v":20648},"あんぽんたんのおもしろことばなんじゃらほい！その①絵本分類なし(絵本等)ひろかわさえこ草土文化",1,{"$f":"VLOOKUP(\"*\"&目次加工!$B$2&\"*\",J2212:K2212,2,0)","v":1},{"$error":"#N/A"}]
[null,null,null,{"$f":"分類順!A2212","v":"あんぽんたんのおもしろことばなんじゃらほい！その②"},{"$f":"分類順!B2212","v":"絵本"},{"$f":"分類順!C2212","v":"分類なし(絵本等)"},{"$f":"分類順!D2212","v":"ひろかわさえこ"},{"$f":"分類順!E2212","v":"草土文化"},{"$f":"分類順!F2212","v":20649},"あんぽんたんのおもしろことばなんじゃらほい！その②絵本分類なし(絵本等)ひろかわさえこ草土文化",1,{"$f":"VLOOKUP(\"*\"&目次加工!$B$2&\"*\",J2213:K2213,2,0)","v":1},{"$error":"#N/A"}]
[null,null,null,{"$f":"分類順!A2213","v":"かいけつゾロリのにんじゃ大さくせん"},{"$f":"分類順!B2213","v":"絵本"},{"$f":"分類順!C2213","v":"分類なし(絵本等)"},{"$f":"分類順!D2213","v":"原ゆたか"},{"$f":"分類順!E2213","v":"ポプラ社"},{"$f":"分類順!F2213","v":20650},"かいけつゾロリのにんじゃ大さくせん絵本分類なし(絵本等)原ゆたかポプラ社",1,{"$f":"VLOOKUP(\"*\"&目次加工!$B$2&\"*\",J2214:K2214,2,0)","v":1},{"$error":"#N/A"}]
[null,null,null,{"$f":"分類順!A2214","v":"かいけつゾロリのめいたんていとうじょう"},{"$f":"分類順!B2214","v":"絵本"},{"$f":"分類順!C2214","v":"分類なし(絵本等)"},{"$f":"分類順!D2214","v":"原ゆたか"},{"$f":"分類順!E2214","v":"ポプラ社"},{"$f":"分類順!F2214","v":20651},"かいけつゾロリのめいたんていとうじょう絵本分類なし(絵本等)原ゆたかポプラ社",1,{"$f":"VLOOKUP(\"*\"&目次加工!$B$2&\"*\",J2215:K2215,2,0)","v":1},{"$error":"#N/A"}]
[null,null,null,{"$f":"分類順!A2215","v":"かいけつゾロリの大どろぼう"},{"$f":"分類順!B2215","v":"絵本"},{"$f":"分類順!C2215","v":"分類なし(絵本等)"},{"$f":"分類順!D2215","v":"原ゆたか"},{"$f":"分類順!E2215","v":"ポプラ社"},{"$f":"分類順!F2215","v":20652},"かいけつゾロリの大どろぼう絵本分類なし(絵本等)原ゆたかポプラ社",1,{"$f":"VLOOKUP(\"*\"&目次加工!$B$2&\"*\",J2216:K2216,2,0)","v":1},{"$error":"#N/A"}]
[null,null,null,{"$f":"分類順!A2216","v":"かいけつゾロリのなぞのおたから大さくせん　前編"},{"$f":"分類順!B2216","v":"絵本"},{"$f":"分類順!C2216","v":"分類なし(絵本等)"},{"$f":"分類順!D2216","v":"原ゆたか"},{"$f":"分類順!E2216","v":"ポプラ社"},{"$f":"分類順!F2216","v":20653},"かいけつゾロリのなぞのおたから大さくせん　前編絵本分類なし(絵本等)原ゆたかポプラ社",1,{"$f":"VLOOKUP(\"*\"&目次加工!$B$2&\"*\",J2217:K2217,2,0)","v":1},{"$error":"#N/A"}]
[null,null,null,{"$f":"分類順!A2217","v":"かいけつゾロリのなぞのおたから大さくせん　後編"},{"$f":"分類順!B2217","v":"絵本"},{"$f":"分類順!C2217","v":"分類なし(絵本等)"},{"$f":"分類順!D2217","v":"原ゆたか"},{"$f":"分類順!E2217","v":"ポプラ社"},{"$f":"分類順!F2217","v":20654},"かいけつゾロリのなぞのおたから大さくせん　後編絵本分類なし(絵本等)原ゆたかポプラ社",1,{"$f":"VLOOKUP(\"*\"&目次加工!$B$2&\"*\",J2218:K2218,2,0)","v":1},{"$error":"#N/A"}]
[null,null,null,{"$f":"分類順!A2218","v":"かいけつゾロリのちきゅうさいごの日"},{"$f":"分類順!B2218","v":"絵本"},{"$f":"分類順!C2218","v":"分類なし(絵本等)"},{"$f":"分類順!D2218","v":"原ゆたか"},{"$f":"分類順!E2218","v":"ポプラ社"},{"$f":"分類順!F2218","v":20655},"かいけつゾロリのちきゅうさいごの日絵本分類なし(絵本等)原ゆたかポプラ社",1,{"$f":"VLOOKUP(\"*\"&目次加工!$B$2&\"*\",J2219:K2219,2,0)","v":1},{"$error":"#N/A"}]
[null,null,null,{"$f":"分類順!A2219","v":"かいけつゾロリのてんごくとじごく"},{"$f":"分類順!B2219","v":"絵本"},{"$f":"分類順!C2219","v":"分類なし(絵本等)"},{"$f":"分類順!D2219","v":"原ゆたか"},{"$f":"分類順!E2219","v":"ポプラ社"},{"$f":"分類順!F2219","v":20656},"かいけつゾロリのてんごくとじごく絵本分類なし(絵本等)原ゆたかポプラ社",1,{"$f":"VLOOKUP(\"*\"&目次加工!$B$2&\"*\",J2220:K2220,2,0)","v":1},{"$error":"#N/A"}]
[null,null,null,{"$f":"分類順!A2220","v":"かいけつゾロリきょうふのようかいえんそく"},{"$f":"分類順!B2220","v":"絵本"},{"$f":"分類順!C2220","v":"分類なし(絵本等)"},{"$f":"分類順!D2220","v":"原ゆたか"},{"$f":"分類順!E2220","v":"ポプラ社"},{"$f":"分類順!F2220","v":20657},"かいけつゾロリきょうふのようかいえんそく絵本分類なし(絵本等)原ゆたかポプラ社",1,{"$f":"VLOOKUP(\"*\"&目次加工!$B$2&\"*\",J2221:K2221,2,0)","v":1},{"$error":"#N/A"}]
[null,null,null,{"$f":"分類順!A2221","v":"かいけつゾロリのだ・だ・だ・だいぼうけん！ 前編"},{"$f":"分類順!B2221","v":"絵本"},{"$f":"分類順!C2221","v":"分類なし(絵本等)"},{"$f":"分類順!D2221","v":"原ゆたか"},{"$f":"分類順!E2221","v":"ポプラ社"},{"$f":"分類順!F2221","v":20658},"かいけつゾロリのだ・だ・だ・だいぼうけん！ 前編絵本分類なし(絵本等)原ゆたかポプラ社",1,{"$f":"VLOOKUP(\"*\"&目次加工!$B$2&\"*\",J2222:K2222,2,0)","v":1},{"$error":"#N/A"}]
[null,null,null,{"$f":"分類順!A2222","v":"かいけつゾロリのだ・だ・だ・だいぼうけん！ 中編"},{"$f":"分類順!B2222","v":"絵本"},{"$f":"分類順!C2222","v":"分類なし(絵本等)"},{"$f":"分類順!D2222","v":"原ゆたか"},{"$f":"分類順!E2222","v":"ポプラ社"},{"$f":"分類順!F2222","v":20659},"かいけつゾロリのだ・だ・だ・だいぼうけん！ 中編絵本分類なし(絵本等)原ゆたかポプラ社",1,{"$f":"VLOOKUP(\"*\"&目次加工!$B$2&\"*\",J2223:K2223,2,0)","v":1},{"$error":"#N/A"}]
[null,null,null,{"$f":"分類順!A2223","v":"かいけつゾロリのだ・だ・だ・だいぼうけん！ 後編"},{"$f":"分類順!B2223","v":"絵本"},{"$f":"分類順!C2223","v":"分類なし(絵本等)"},{"$f":"分類順!D2223","v":"原ゆたか"},{"$f":"分類順!E2223","v":"ポプラ社"},{"$f":"分類順!F2223","v":20660},"かいけつゾロリのだ・だ・だ・だいぼうけん！ 後編絵本分類なし(絵本等)原ゆたかポプラ社",1,{"$f":"VLOOKUP(\"*\"&目次加工!$B$2&\"*\",J2224:K2224,2,0)","v":1},{"$error":"#N/A"}]
[null,null,null,{"$f":"分類順!A2224","v":"かいけつゾロリのはちゃめちゃテレビ局"},{"$f":"分類順!B2224","v":"絵本"},{"$f":"分類順!C2224","v":"分類なし(絵本等)"},{"$f":"分類順!D2224","v":"原ゆたか"},{"$f":"分類順!E2224","v":"ポプラ社"},{"$f":"分類順!F2224","v":20661},"かいけつゾロリのはちゃめちゃテレビ局絵本分類なし(絵本等)原ゆたかポプラ社",1,{"$f":"VLOOKUP(\"*\"&目次加工!$B$2&\"*\",J2225:K2225,2,0)","v":1},{"$error":"#N/A"}]
[null,null,null,{"$f":"分類順!A2225","v":"かいけつゾロリはなよめとゾロリじょう"},{"$f":"分類順!B2225","v":"絵本"},{"$f":"分類順!C2225","v":"分類なし(絵本等)"},{"$f":"分類順!D2225","v":"原ゆたか"},{"$f":"分類順!E2225","v":"ポプラ社"},{"$f":"分類順!F2225","v":20662},"かいけつゾロリはなよめとゾロリじょう絵本分類なし(絵本等)原ゆたかポプラ社",1,{"$f":"VLOOKUP(\"*\"&目次加工!$B$2&\"*\",J2226:K2226,2,0)","v":1},{"$error":"#N/A"}]
[null,null,null,{"$f":"分類順!A2226","v":"かいけつゾロリのメカメカ大さくせん"},{"$f":"分類順!B2226","v":"絵本"},{"$f":"分類順!C2226","v":"分類なし(絵本等)"},{"$f":"分類順!D2226","v":"原ゆたか"},{"$f":"分類順!E2226","v":"ポプラ社"},{"$f":"分類順!F2226","v":20663},"かいけつゾロリのメカメカ大さくせん絵本分類なし(絵本等)原ゆたかポプラ社",1,{"$f":"VLOOKUP(\"*\"&目次加工!$B$2&\"*\",J2227:K2227,2,0)","v":1},{"$error":"#N/A"}]
[null,null,null,{"$f":"分類順!A2227","v":"かいけつゾロリなぞのスパイとチョコレート"},{"$f":"分類順!B2227","v":"絵本"},{"$f":"分類順!C2227","v":"分類なし(絵本等)"},{"$f":"分類順!D2227","v":"原ゆたか"},{"$f":"分類順!E2227","v":"ポプラ社"},{"$f":"分類順!F2227","v":20664},"かいけつゾロリなぞのスパイとチョコレート絵本分類なし(絵本等)原ゆたかポプラ社",1,{"$f":"VLOOKUP(\"*\"&目次加工!$B$2&\"*\",J2228:K2228,2,0)","v":1},{"$error":"#N/A"}]
[null,null,null,{"$f":"分類順!A2228","v":"かいけつゾロリナゾノスパイと100本のバラ"},{"$f":"分類順!B2228","v":"絵本"},{"$f":"分類順!C2228","v":"分類なし(絵本等)"},{"$f":"分類順!D2228","v":"原ゆたか"},{"$f":"分類順!E2228","v":"ポプラ社"},{"$f":"分類順!F2228","v":20665},"かいけつゾロリナゾノスパイと100本のバラ絵本分類なし(絵本等)原ゆたかポプラ社",1,{"$f":"VLOOKUP(\"*\"&目次加工!$B$2&\"*\",J2229:K2229,2,0)","v":1},1]
[null,null,null,{"$f":"分類順!A2229","v":"ポケネコにゃんころりん　ポケットの中のふしぎネコ"},{"$f":"分類順!B2229","v":"絵本"},{"$f":"分類順!C2229","v":"分類なし(絵本等)"},{"$f":"分類順!D2229","v":"山本悦子"},{"$f":"分類順!E2229","v":"童心社"},{"$f":"分類順!F2229","v":20666},"ポケネコにゃんころりん　ポケットの中のふしぎネコ絵本分類なし(絵本等)山本悦子童心社",1,{"$f":"VLOOKUP(\"*\"&目次加工!$B$2&\"*\",J2230:K2230,2,0)","v":1},{"$error":"#N/A"}]
[null,null,null,{"$f":"分類順!A2230","v":"ドキドキハートの告白大作戦"},{"$f":"分類順!B2230","v":"絵本"},{"$f":"分類順!C2230","v":"分類なし(絵本等)"},{"$f":"分類順!D2230","v":"奥沢しおり"},{"$f":"分類順!E2230","v":"フレーベル館"},{"$f":"分類順!F2230","v":20667},"ドキドキハートの告白大作戦絵本分類なし(絵本等)奥沢しおりフレーベル館",1,{"$f":"VLOOKUP(\"*\"&目次加工!$B$2&\"*\",J2231:K2231,2,0)","v":1},{"$error":"#N/A"}]
[null,null,null,{"$f":"分類順!A2231","v":"おしゃれバトルがはじまっちゃう！"},{"$f":"分類順!B2231","v":"絵本"},{"$f":"分類順!C2231","v":"分類なし(絵本等)"},{"$f":"分類順!D2231","v":"奥沢しおり"},{"$f":"分類順!E2231","v":"フレーベル館"},{"$f":"分類順!F2231","v":20668},"おしゃれバトルがはじまっちゃう！絵本分類なし(絵本等)奥沢しおりフレーベル館",1,{"$f":"VLOOKUP(\"*\"&目次加工!$B$2&\"*\",J2232:K2232,2,0)","v":1},{"$error":"#N/A"}]
[null,null,null,{"$f":"分類順!A2232","v":"妖精ライラ"},{"$f":"分類順!B2232","v":"絵本"},{"$f":"分類順!C2232","v":"分類なし(絵本等)"},{"$f":"分類順!D2232","v":"エリザベス・リンジー"},{"$f":"分類順!E2232","v":"星雲社"},{"$f":"分類順!F2232","v":20669},"妖精ライラ絵本分類なし(絵本等)エリザベス・リンジー星雲社",1,{"$f":"VLOOKUP(\"*\"&目次加工!$B$2&\"*\",J2233:K2233,2,0)","v":1},{"$error":"#N/A"}]
[null,null,null,{"$f":"分類順!A2233","v":"バンビ"},{"$f":"分類順!B2233","v":"絵本"},{"$f":"分類順!C2233","v":"分類なし(絵本等)"},{"$f":"分類順!D2233","v":"ジョアン・ライダー作"},{"$f":"分類順!E2233","v":"偕成社"},{"$f":"分類順!F2233","v":20670},"バンビ絵本分類なし(絵本等)ジョアン・ライダー作偕成社",1,{"$f":"VLOOKUP(\"*\"&目次加工!$B$2&\"*\",J2234:K2234,2,0)","v":1},{"$error":"#N/A"}]
[null,null,null,{"$f":"分類順!A2234","v":"ほっぺちゃん"},{"$f":"分類順!B2234","v":"絵本"},{"$f":"分類順!C2234","v":"分類なし(絵本等)"},{"$f":"分類順!D2234","v":"名取なずな"},{"$f":"分類順!E2234","v":"角川書店"},{"$f":"分類順!F2234","v":20671},"ほっぺちゃん絵本分類なし(絵本等)名取なずな角川書店",1,{"$f":"VLOOKUP(\"*\"&目次加工!$B$2&\"*\",J2235:K2235,2,0)","v":1},{"$error":"#N/A"}]
[null,null,null,{"$f":"分類順!A2235","v":"クレヨンしんちゃんのまんが科学のふしぎ"},{"$f":"分類順!B2235","v":"絵本"},{"$f":"分類順!C2235","v":"分類なし(絵本等)"},{"$f":"分類順!D2235","v":"臼井儀人"},{"$f":"分類順!E2235","v":"双葉社"},{"$f":"分類順!F2235","v":20672},"クレヨンしんちゃんのまんが科学のふしぎ絵本分類なし(絵本等)臼井儀人双葉社",1,{"$f":"VLOOKUP(\"*\"&目次加工!$B$2&\"*\",J2236:K2236,2,0)","v":1},{"$error":"#N/A"}]
[null,null,null,{"$f":"分類順!A2236","v":"書く力伝える力　小学生の作文力"},{"$f":"分類順!B2236","v":"絵本"},{"$f":"分類順!C2236","v":"分類なし(絵本等)"},{"$f":"分類順!D2236","v":"岸本裕史"},{"$f":"分類順!E2236","v":"小学館"},{"$f":"分類順!F2236","v":20673},"書く力伝える力　小学生の作文力絵本分類なし(絵本等)岸本裕史小学館",1,{"$f":"VLOOKUP(\"*\"&目次加工!$B$2&\"*\",J2237:K2237,2,0)","v":1},{"$error":"#N/A"}]
[null,null,null,{"$f":"分類順!A2237","v":"リトル・ウイング"},{"$f":"分類順!B2237","v":"絵本"},{"$f":"分類順!C2237","v":"分類なし(絵本等)"},{"$f":"分類順!D2237","v":"吉富多美"},{"$f":"分類順!E2237","v":"金の星社"},{"$f":"分類順!F2237","v":20674},"リトル・ウイング絵本分類なし(絵本等)吉富多美金の星社",1,{"$f":"VLOOKUP(\"*\"&目次加工!$B$2&\"*\",J2238:K2238,2,0)","v":1},{"$error":"#N/A"}]
[null,null,null,{"$f":"分類順!A2238","v":"ハムスターの研究レポート①"},{"$f":"分類順!B2238","v":"絵本"},{"$f":"分類順!C2238","v":"分類なし(絵本等)"},{"$f":"分類順!D2238","v":"大雪師走"},{"$f":"分類順!E2238","v":"偕成社"},{"$f":"分類順!F2238","v":20675},"ハムスターの研究レポート①絵本分類なし(絵本等)大雪師走偕成社",1,{"$f":"VLOOKUP(\"*\"&目次加工!$B$2&\"*\",J2239:K2239,2,0)","v":1},{"$error":"#N/A"}]
[null,null,null,{"$f":"分類順!A2239","v":"ちびまる子ちゃんの学級文庫①"},{"$f":"分類順!B2239","v":"絵本"},{"$f":"分類順!C2239","v":"分類なし(絵本等)"},{"$f":"分類順!D2239","v":"さくらももこ"},{"$f":"分類順!E2239","v":"学習研究社"},{"$f":"分類順!F2239","v":20676},"ちびまる子ちゃんの学級文庫①絵本分類なし(絵本等)さくらももこ学習研究社",1,{"$f":"VLOOKUP(\"*\"&目次加工!$B$2&\"*\",J2240:K2240,2,0)","v":1},{"$error":"#N/A"}]
[null,null,null,{"$f":"分類順!A2240","v":"いるかをおそった黒い波"},{"$f":"分類順!B2240","v":"絵本"},{"$f":"分類順!C2240","v":"分類なし(絵本等)"},{"$f":"分類順!D2240","v":"今関信子"},{"$f":"分類順!E2240","v":"汐文社"},{"$f":"分類順!F2240","v":20677},"いるかをおそった黒い波絵本分類なし(絵本等)今関信子汐文社",1,{"$f":"VLOOKUP(\"*\"&目次加工!$B$2&\"*\",J2241:K2241,2,0)","v":1},{"$error":"#N/A"}]
[null,null,null,{"$f":"分類順!A2241","v":"ほんとうに心があったかくなる話　４年生"},{"$f":"分類順!B2241","v":"絵本"},{"$f":"分類順!C2241","v":"分類なし(絵本等)"},{"$f":"分類順!D2241","v":"日本児童文学者協会"},{"$f":"分類順!E2241","v":"ポプラ社"},{"$f":"分類順!F2241","v":20678},"ほんとうに心があったかくなる話　４年生絵本分類なし(絵本等)日本児童文学者協会ポプラ社",1,{"$f":"VLOOKUP(\"*\"&目次加工!$B$2&\"*\",J2242:K2242,2,0)","v":1},{"$error":"#N/A"}]
[null,null,null,{"$f":"分類順!A2242","v":"なんでも魔女商会　お洋服リフォーム支店"},{"$f":"分類順!B2242","v":"絵本"},{"$f":"分類順!C2242","v":"分類なし(絵本等)"},{"$f":"分類順!D2242","v":"あんびるやすこ"},{"$f":"分類順!E2242","v":"岩崎書店"},{"$f":"分類順!F2242","v":20679},"なんでも魔女商会　お洋服リフォーム支店絵本分類なし(絵本等)あんびるやすこ岩崎書店",1,{"$f":"VLOOKUP(\"*\"&目次加工!$B$2&\"*\",J2243:K2243,2,0)","v":1},{"$error":"#N/A"}]
[null,null,null,{"$f":"分類順!A2243","v":"赤毛の妖精　ルビー"},{"$f":"分類順!B2243","v":"絵本"},{"$f":"分類順!C2243","v":"分類なし(絵本等)"},{"$f":"分類順!D2243","v":"デイジー・メドウズ"},{"$f":"分類順!E2243","v":"ゴマブックス"},{"$f":"分類順!F2243","v":20680},"赤毛の妖精　ルビー絵本分類なし(絵本等)デイジー・メドウズゴマブックス",1,{"$f":"VLOOKUP(\"*\"&目次加工!$B$2&\"*\",J2244:K2244,2,0)","v":1},{"$f":"VLOOKUP(\"*\"&$A$2&\"*\",J2244:K2244,2,0)","v":{"$error":"#N/A"}}]
[null,null,null,{"$f":"分類順!A2244","v":"注文の多い料理店"},{"$f":"分類順!B2244","v":"絵本"},{"$f":"分類順!C2244","v":"分類なし(絵本等)"},{"$f":"分類順!D2244","v":"宮沢賢治"},{"$f":"分類順!E2244","v":"岩崎書店"},{"$f":"分類順!F2244","v":20681},"注文の多い料理店絵本分類なし(絵本等)宮沢賢治岩崎書店",1,{"$f":"VLOOKUP(\"*\"&目次加工!$B$2&\"*\",J2245:K2245,2,0)","v":1},{"$error":"#N/A"}]
[null,null,null,{"$f":"分類順!A2245","v":"幽霊屋敷レストラン"},{"$f":"分類順!B2245","v":"絵本"},{"$f":"分類順!C2245","v":"分類なし(絵本等)"},{"$f":"分類順!D2245","v":"松谷みよ子"},{"$f":"分類順!E2245","v":"童心社"},{"$f":"分類順!F2245","v":20682},"幽霊屋敷レストラン絵本分類なし(絵本等)松谷みよ子童心社",1,{"$f":"VLOOKUP(\"*\"&目次加工!$B$2&\"*\",J2246:K2246,2,0)","v":1},{"$error":"#N/A"}]
[null,null,null,{"$f":"分類順!A2246","v":"チンパンジー神ちゃんの日記"},{"$f":"分類順!B2246","v":"絵本"},{"$f":"分類順!C2246","v":"分類なし(絵本等)"},{"$f":"分類順!D2246","v":"亀井一成"},{"$f":"分類順!E2246","v":"ポプラ社"},{"$f":"分類順!F2246","v":20683},"チンパンジー神ちゃんの日記絵本分類なし(絵本等)亀井一成ポプラ社",1,{"$f":"VLOOKUP(\"*\"&目次加工!$B$2&\"*\",J2247:K2247,2,0)","v":1},{"$error":"#N/A"}]
[null,null,null,{"$f":"分類順!A2247","v":"なくなキリンの六と甲"},{"$f":"分類順!B2247","v":"絵本"},{"$f":"分類順!C2247","v":"分類なし(絵本等)"},{"$f":"分類順!D2247","v":"亀井一成"},{"$f":"分類順!E2247","v":"ポプラ社"},{"$f":"分類順!F2247","v":20684},"なくなキリンの六と甲絵本分類なし(絵本等)亀井一成ポプラ社",1,{"$f":"VLOOKUP(\"*\"&目次加工!$B$2&\"*\",J2248:K2248,2,0)","v":1},{"$error":"#N/A"}]
[null,null,null,{"$f":"分類順!A2248","v":"バンジのにゃむにゃむ日記"},{"$f":"分類順!B2248","v":"絵本"},{"$f":"分類順!C2248","v":"分類なし(絵本等)"},{"$f":"分類順!D2248","v":"ジョンイ"},{"$f":"分類順!E2248","v":"ポプラ社"},{"$f":"分類順!F2248","v":20685},"バンジのにゃむにゃむ日記絵本分類なし(絵本等)ジョンイポプラ社",1,{"$f":"VLOOKUP(\"*\"&目次加工!$B$2&\"*\",J2249:K2249,2,0)","v":1},{"$error":"#N/A"}]
[null,null,null,{"$f":"分類順!A2249","v":"しずくちゃん③しずくパークへようこそ！"},{"$f":"分類順!B2249","v":"絵本"},{"$f":"分類順!C2249","v":"分類なし(絵本等)"},{"$f":"分類順!D2249","v":"ぎぼりつこ"},{"$f":"分類順!E2249","v":"岩崎書店"},{"$f":"分類順!F2249","v":20687},"しずくちゃん③しずくパークへようこそ！絵本分類なし(絵本等)ぎぼりつこ岩崎書店",1,{"$f":"VLOOKUP(\"*\"&目次加工!$B$2&\"*\",J2250:K2250,2,0)","v":1},{"$error":"#N/A"}]
[null,null,null,{"$f":"分類順!A2250","v":"しずくちゃん④ぼくらのだいぼうけん。"},{"$f":"分類順!B2250","v":"絵本"},{"$f":"分類順!C2250","v":"分類なし(絵本等)"},{"$f":"分類順!D2250","v":"ぎぼりつこ"},{"$f":"分類順!E2250","v":"岩崎書店"},{"$f":"分類順!F2250","v":20688},"しずくちゃん④ぼくらのだいぼうけん。絵本分類なし(絵本等)ぎぼりつこ岩崎書店",1,{"$f":"VLOOKUP(\"*\"&目次加工!$B$2&\"*\",J2251:K2251,2,0)","v":1},{"$error":"#N/A"}]
[null,null,null,{"$f":"分類順!A2251","v":"しずくちゃん⑤がっこうはたのしいな♪"},{"$f":"分類順!B2251","v":"絵本"},{"$f":"分類順!C2251","v":"分類なし(絵本等)"},{"$f":"分類順!D2251","v":"ぎぼりつこ"},{"$f":"分類順!E2251","v":"岩崎書店"},{"$f":"分類順!F2251","v":20689},"しずくちゃん⑤がっこうはたのしいな♪絵本分類なし(絵本等)ぎぼりつこ岩崎書店",1,{"$f":"VLOOKUP(\"*\"&目次加工!$B$2&\"*\",J2252:K2252,2,0)","v":1},{"$error":"#N/A"}]
[null,null,null,{"$f":"分類順!A2252","v":"しずくちゃん⑥しずくの森の12か月。"},{"$f":"分類順!B2252","v":"絵本"},{"$f":"分類順!C2252","v":"分類なし(絵本等)"},{"$f":"分類順!D2252","v":"ぎぼりつこ"},{"$f":"分類順!E2252","v":"岩崎書店"},{"$f":"分類順!F2252","v":20690},"しずくちゃん⑥しずくの森の12か月。絵本分類なし(絵本等)ぎぼりつこ岩崎書店",1,{"$f":"VLOOKUP(\"*\"&目次加工!$B$2&\"*\",J2253:K2253,2,0)","v":1},{"$error":"#N/A"}]
[null,null,null,{"$f":"分類順!A2253","v":"しずくちゃん⑦わくわく★しゅうがくりょこう"},{"$f":"分類順!B2253","v":"絵本"},{"$f":"分類順!C2253","v":"分類なし(絵本等)"},{"$f":"分類順!D2253","v":"ぎぼりつこ"},{"$f":"分類順!E2253","v":"岩崎書店"},{"$f":"分類順!F2253","v":20691},"しずくちゃん⑦わくわく★しゅうがくりょこう絵本分類なし(絵本等)ぎぼりつこ岩崎書店",1,{"$f":"VLOOKUP(\"*\"&目次加工!$B$2&\"*\",J2254:K2254,2,0)","v":1},{"$error":"#N/A"}]
[null,null,null,{"$f":"分類順!A2254","v":"しずくちゃん⑬がくえんさいにいらっしゃい！"},{"$f":"分類順!B2254","v":"絵本"},{"$f":"分類順!C2254","v":"分類なし(絵本等)"},{"$f":"分類順!D2254","v":"ぎぼりつこ"},{"$f":"分類順!E2254","v":"岩崎書店"},{"$f":"分類順!F2254","v":20692},"しずくちゃん⑬がくえんさいにいらっしゃい！絵本分類なし(絵本等)ぎぼりつこ岩崎書店",1,{"$f":"VLOOKUP(\"*\"&目次加工!$B$2&\"*\",J2255:K2255,2,0)","v":1},{"$error":"#N/A"}]
[null,null,null,{"$f":"分類順!A2255","v":"しずくちゃん⑭ハイサイ！沖縄めぐり"},{"$f":"分類順!B2255","v":"絵本"},{"$f":"分類順!C2255","v":"分類なし(絵本等)"},{"$f":"分類順!D2255","v":"ぎぼりつこ"},{"$f":"分類順!E2255","v":"岩崎書店"},{"$f":"分類順!F2255","v":20693},"しずくちゃん⑭ハイサイ！沖縄めぐり絵本分類なし(絵本等)ぎぼりつこ岩崎書店",1,{"$f":"VLOOKUP(\"*\"&目次加工!$B$2&\"*\",J2256:K2256,2,0)","v":1},{"$error":"#N/A"}]
[null,null,null,{"$f":"分類順!A2256","v":"しずくちゃん⑮デパート★レボリューション"},{"$f":"分類順!B2256","v":"絵本"},{"$f":"分類順!C2256","v":"分類なし(絵本等)"},{"$f":"分類順!D2256","v":"ぎぼりつこ"},{"$f":"分類順!E2256","v":"岩崎書店"},{"$f":"分類順!F2256","v":20694},"しずくちゃん⑮デパート★レボリューション絵本分類なし(絵本等)ぎぼりつこ岩崎書店",1,{"$f":"VLOOKUP(\"*\"&目次加工!$B$2&\"*\",J2257:K2257,2,0)","v":1},{"$error":"#N/A"}]
[null,null,null,{"$f":"分類順!A2257","v":"しずくちゃん⑲クリスマスはおおいそがし！"},{"$f":"分類順!B2257","v":"絵本"},{"$f":"分類順!C2257","v":"分類なし(絵本等)"},{"$f":"分類順!D2257","v":"ぎぼりつこ"},{"$f":"分類順!E2257","v":"岩崎書店"},{"$f":"分類順!F2257","v":20695},"しずくちゃん⑲クリスマスはおおいそがし！絵本分類なし(絵本等)ぎぼりつこ岩崎書店",1,{"$f":"VLOOKUP(\"*\"&目次加工!$B$2&\"*\",J2258:K2258,2,0)","v":1},{"$error":"#N/A"}]
[null,null,null,{"$f":"分類順!A2258","v":"しずくちゃん⑳ときどきハッピーバースデー"},{"$f":"分類順!B2258","v":"絵本"},{"$f":"分類順!C2258","v":"分類なし(絵本等)"},{"$f":"分類順!D2258","v":"ぎぼりつこ"},{"$f":"分類順!E2258","v":"岩崎書店"},{"$f":"分類順!F2258","v":20696},{"$f":"D2259&E2259&F2259&G2259&H2259","v":"しずくちゃん⑳ときどきハッピーバースデー絵本分類なし(絵本等)ぎぼりつこ岩崎書店"},1,{"$f":"VLOOKUP(\"*\"&目次加工!$B$2&\"*\",J2259:K2259,2,0)","v":1},{"$error":"#N/A"}]
[null,null,null,{"$f":"分類順!A2259","v":"こげぱん　毎日クタ～っと。"},{"$f":"分類順!B2259","v":"絵本"},{"$f":"分類順!C2259","v":"分類なし(絵本等)"},{"$f":"分類順!D2259","v":"たかはしみき"},{"$f":"分類順!E2259","v":"ソニーマガジンズ"},{"$f":"分類順!F2259","v":20698},"こげぱん　毎日クタ～っと。絵本分類なし(絵本等)たかはしみきソニーマガジンズ",1,{"$f":"VLOOKUP(\"*\"&目次加工!$B$2&\"*\",J2260:K2260,2,0)","v":1},{"$error":"#N/A"}]
[null,null,null,{"$f":"分類順!A2260","v":"地図絵本　日本の食べもの"},{"$f":"分類順!B2260","v":"絵本"},{"$f":"分類順!C2260","v":"分類なし(絵本等)"},{"$f":"分類順!D2260","v":"素朴社"},{"$f":"分類順!E2260","v":"素朴社"},{"$f":"分類順!F2260","v":20699},"地図絵本　日本の食べもの絵本分類なし(絵本等)素朴社素朴社",1,{"$f":"VLOOKUP(\"*\"&目次加工!$B$2&\"*\",J2261:K2261,2,0)","v":1},{"$error":"#N/A"}]
[null,null,null,{"$f":"分類順!A2261","v":"にっぽん探検大図鑑"},{"$f":"分類順!B2261","v":"絵本"},{"$f":"分類順!C2261","v":"分類なし(絵本等)"},{"$f":"分類順!D2261","v":"小学館"},{"$f":"分類順!E2261","v":"小学館"},{"$f":"分類順!F2261","v":20700},"にっぽん探検大図鑑絵本分類なし(絵本等)小学館小学館",1,{"$f":"VLOOKUP(\"*\"&目次加工!$B$2&\"*\",J2262:K2262,2,0)","v":1},{"$error":"#N/A"}]
[null,null,null,{"$f":"分類順!A2262","v":"楽しく遊ぶ学ぶ　きせつの図鑑"},{"$f":"分類順!B2262","v":"絵本"},{"$f":"分類順!C2262","v":"分類なし(絵本等)"},{"$f":"分類順!D2262","v":"小学館"},{"$f":"分類順!E2262","v":"小学館"},{"$f":"分類順!F2262","v":20701},"楽しく遊ぶ学ぶ　きせつの図鑑絵本分類なし(絵本等)小学館小学館",1,{"$f":"VLOOKUP(\"*\"&目次加工!$B$2&\"*\",J2263:K2263,2,0)","v":1},{"$error":"#N/A"}]
[null,null,null,{"$f":"分類順!A2263","v":"楽しく遊ぶ学ぶ　ふしぎの図鑑"},{"$f":"分類順!B2263","v":"絵本"},{"$f":"分類順!C2263","v":"分類なし(絵本等)"},{"$f":"分類順!D2263","v":"小学館"},{"$f":"分類順!E2263","v":"小学館"},{"$f":"分類順!F2263","v":20702},"楽しく遊ぶ学ぶ　ふしぎの図鑑絵本分類なし(絵本等)小学館小学館",1,{"$f":"VLOOKUP(\"*\"&目次加工!$B$2&\"*\",J2264:K2264,2,0)","v":1},{"$error":"#N/A"}]
[null,null,null,{"$f":"分類順!A2264","v":"楽しく遊ぶ学ぶ　こくごの図鑑"},{"$f":"分類順!B2264","v":"絵本"},{"$f":"分類順!C2264","v":"分類なし(絵本等)"},{"$f":"分類順!D2264","v":"小学館"},{"$f":"分類順!E2264","v":"小学館"},{"$f":"分類順!F2264","v":20703},"楽しく遊ぶ学ぶ　こくごの図鑑絵本分類なし(絵本等)小学館小学館",1,{"$f":"VLOOKUP(\"*\"&目次加工!$B$2&\"*\",J2265:K2265,2,0)","v":1},{"$error":"#N/A"}]
[null,null,null,{"$f":"分類順!A2265","v":"くらべる図鑑"},{"$f":"分類順!B2265","v":"絵本"},{"$f":"分類順!C2265","v":"分類なし(絵本等)"},{"$f":"分類順!D2265","v":"小学館"},{"$f":"分類順!E2265","v":"小学館"},{"$f":"分類順!F2265","v":20704},"くらべる図鑑絵本分類なし(絵本等)小学館小学館",1,{"$f":"VLOOKUP(\"*\"&目次加工!$B$2&\"*\",J2266:K2266,2,0)","v":1},{"$error":"#N/A"}]
[null,null,null,{"$f":"分類順!A2266","v":"学研の図鑑　動物"},{"$f":"分類順!B2266","v":"絵本"},{"$f":"分類順!C2266","v":"分類なし(絵本等)"},{"$f":"分類順!D2266","v":"学研"},{"$f":"分類順!E2266","v":"学研"},{"$f":"分類順!F2266","v":20705},"学研の図鑑　動物絵本分類なし(絵本等)学研学研",1,{"$f":"VLOOKUP(\"*\"&目次加工!$B$2&\"*\",J2267:K2267,2,0)","v":1},{"$error":"#N/A"}]
[null,null,null,{"$f":"分類順!A2267","v":"こども図鑑　からだ"},{"$f":"分類順!B2267","v":"絵本"},{"$f":"分類順!C2267","v":"分類なし(絵本等)"},{"$f":"分類順!D2267","v":"学研"},{"$f":"分類順!E2267","v":"学研"},{"$f":"分類順!F2267","v":20706},"こども図鑑　からだ絵本分類なし(絵本等)学研学研",1,{"$f":"VLOOKUP(\"*\"&目次加工!$B$2&\"*\",J2268:K2268,2,0)","v":1},{"$error":"#N/A"}]
[null,null,null,{"$f":"分類順!A2268","v":"はっけんずかん　どうぶつ"},{"$f":"分類順!B2268","v":"絵本"},{"$f":"分類順!C2268","v":"分類なし(絵本等)"},{"$f":"分類順!D2268","v":"学研"},{"$f":"分類順!E2268","v":"学研"},{"$f":"分類順!F2268","v":20707},"はっけんずかん　どうぶつ絵本分類なし(絵本等)学研学研",1,{"$f":"VLOOKUP(\"*\"&目次加工!$B$2&\"*\",J2269:K2269,2,0)","v":1},{"$error":"#N/A"}]
[null,null,null,{"$f":"分類順!A2269","v":"東京ミュウミュウ④"},{"$f":"分類順!B2269","v":"絵本"},{"$f":"分類順!C2269","v":"分類なし(絵本等)"},{"$f":"分類順!D2269","v":"征海未亜"},{"$f":"分類順!E2269","v":"講談社"},{"$f":"分類順!F2269","v":20708},"東京ミュウミュウ④絵本分類なし(絵本等)征海未亜講談社",1,{"$f":"VLOOKUP(\"*\"&目次加工!$B$2&\"*\",J2270:K2270,2,0)","v":1},{"$error":"#N/A"}]
[null,null,null,{"$f":"分類順!A2270","v":"美少女戦士セーラームーン①"},{"$f":"分類順!B2270","v":"絵本"},{"$f":"分類順!C2270","v":"分類なし(絵本等)"},{"$f":"分類順!D2270","v":"武内直子"},{"$f":"分類順!E2270","v":"講談社"},{"$f":"分類順!F2270","v":20709},"美少女戦士セーラームーン①絵本分類なし(絵本等)武内直子講談社",1,{"$f":"VLOOKUP(\"*\"&目次加工!$B$2&\"*\",J2271:K2271,2,0)","v":1},{"$error":"#N/A"}]
[null,null,null,{"$f":"分類順!A2271","v":"未来PUREボイス"},{"$f":"分類順!B2271","v":"絵本"},{"$f":"分類順!C2271","v":"分類なし(絵本等)"},{"$f":"分類順!D2271","v":"五十嵐かおる"},{"$f":"分類順!E2271","v":"小学館"},{"$f":"分類順!F2271","v":20710},"未来PUREボイス絵本分類なし(絵本等)五十嵐かおる小学館",1,{"$f":"VLOOKUP(\"*\"&目次加工!$B$2&\"*\",J2272:K2272,2,0)","v":1},{"$error":"#N/A"}]
[null,null,null,{"$f":"分類順!A2272","v":"はぴはぴクローバー③"},{"$f":"分類順!B2272","v":"絵本"},{"$f":"分類順!C2272","v":"分類なし(絵本等)"},{"$f":"分類順!D2272","v":"竜山さゆり"},{"$f":"分類順!E2272","v":"小学館"},{"$f":"分類順!F2272","v":20711},"はぴはぴクローバー③絵本分類なし(絵本等)竜山さゆり小学館",1,{"$f":"VLOOKUP(\"*\"&目次加工!$B$2&\"*\",J2273:K2273,2,0)","v":1},{"$error":"#N/A"}]
[null,null,null,{"$f":"分類順!A2273","v":"はぴはぴクローバー②"},{"$f":"分類順!B2273","v":"絵本"},{"$f":"分類順!C2273","v":"分類なし(絵本等)"},{"$f":"分類順!D2273","v":"竜山さゆり"},{"$f":"分類順!E2273","v":"小学館"},{"$f":"分類順!F2273","v":20712},"はぴはぴクローバー②絵本分類なし(絵本等)竜山さゆり小学館",1,{"$f":"VLOOKUP(\"*\"&目次加工!$B$2&\"*\",J2274:K2274,2,0)","v":1},{"$error":"#N/A"}]
[null,null,null,{"$f":"分類順!A2274","v":"はぴはぴクローバー①"},{"$f":"分類順!B2274","v":"絵本"},{"$f":"分類順!C2274","v":"分類なし(絵本等)"},{"$f":"分類順!D2274","v":"竜山さゆり"},{"$f":"分類順!E2274","v":"小学館"},{"$f":"分類順!F2274","v":20713},"はぴはぴクローバー①絵本分類なし(絵本等)竜山さゆり小学館",1,{"$f":"VLOOKUP(\"*\"&目次加工!$B$2&\"*\",J2275:K2275,2,0)","v":1},{"$error":"#N/A"}]
[null,null,null,{"$f":"分類順!A2275","v":"きらりん★レボリューション①"},{"$f":"分類順!B2275","v":"絵本"},{"$f":"分類順!C2275","v":"分類なし(絵本等)"},{"$f":"分類順!D2275","v":"中原杏"},{"$f":"分類順!E2275","v":"小学館"},{"$f":"分類順!F2275","v":20714},"きらりん★レボリューション①絵本分類なし(絵本等)中原杏小学館",1,{"$f":"VLOOKUP(\"*\"&目次加工!$B$2&\"*\",J2276:K2276,2,0)","v":1},{"$error":"#N/A"}]
[null,null,null,{"$f":"分類順!A2276","v":"きらりん★レボリューション②"},{"$f":"分類順!B2276","v":"絵本"},{"$f":"分類順!C2276","v":"分類なし(絵本等)"},{"$f":"分類順!D2276","v":"中原杏"},{"$f":"分類順!E2276","v":"小学館"},{"$f":"分類順!F2276","v":20715},"きらりん★レボリューション②絵本分類なし(絵本等)中原杏小学館",1,{"$f":"VLOOKUP(\"*\"&目次加工!$B$2&\"*\",J2277:K2277,2,0)","v":1},{"$error":"#N/A"}]
[null,null,null,{"$f":"分類順!A2277","v":"きらりん★レボリューション⑦"},{"$f":"分類順!B2277","v":"絵本"},{"$f":"分類順!C2277","v":"分類なし(絵本等)"},{"$f":"分類順!D2277","v":"中原杏"},{"$f":"分類順!E2277","v":"小学館"},{"$f":"分類順!F2277","v":20716},"きらりん★レボリューション⑦絵本分類なし(絵本等)中原杏小学館",1,{"$f":"VLOOKUP(\"*\"&目次加工!$B$2&\"*\",J2278:K2278,2,0)","v":1},{"$error":"#N/A"}]
[null,null,null,{"$f":"分類順!A2278","v":"きらりん★レボリューション⑨"},{"$f":"分類順!B2278","v":"絵本"},{"$f":"分類順!C2278","v":"分類なし(絵本等)"},{"$f":"分類順!D2278","v":"中原杏"},{"$f":"分類順!E2278","v":"小学館"},{"$f":"分類順!F2278","v":20717},"きらりん★レボリューション⑨絵本分類なし(絵本等)中原杏小学館",1,{"$f":"VLOOKUP(\"*\"&目次加工!$B$2&\"*\",J2279:K2279,2,0)","v":1},{"$error":"#N/A"}]
[null,null,null,{"$f":"分類順!A2279","v":"きらりん★レボリューション⑬"},{"$f":"分類順!B2279","v":"絵本"},{"$f":"分類順!C2279","v":"分類なし(絵本等)"},{"$f":"分類順!D2279","v":"中原杏"},{"$f":"分類順!E2279","v":"小学館"},{"$f":"分類順!F2279","v":20718},"きらりん★レボリューション⑬絵本分類なし(絵本等)中原杏小学館",1,{"$f":"VLOOKUP(\"*\"&目次加工!$B$2&\"*\",J2280:K2280,2,0)","v":1},{"$error":"#N/A"}]
[null,null,null,{"$f":"分類順!A2280","v":"きらりん★レボリューション⑭"},{"$f":"分類順!B2280","v":"絵本"},{"$f":"分類順!C2280","v":"分類なし(絵本等)"},{"$f":"分類順!D2280","v":"中原杏"},{"$f":"分類順!E2280","v":"小学館"},{"$f":"分類順!F2280","v":20719},"きらりん★レボリューション⑭絵本分類なし(絵本等)中原杏小学館",1,{"$f":"VLOOKUP(\"*\"&目次加工!$B$2&\"*\",J2281:K2281,2,0)","v":1},{"$error":"#N/A"}]
[null,null,null,{"$f":"分類順!A2281","v":"ぼくは赤ちゃんがほしいの"},{"$f":"分類順!B2281","v":"絵本"},{"$f":"分類順!C2281","v":"分類なし(絵本等)"},{"$f":"分類順!D2281","v":"シャーロット・ズロトウ"},{"$f":"分類順!E2281","v":"童話屋"},{"$f":"分類順!F2281","v":20720},"ぼくは赤ちゃんがほしいの絵本分類なし(絵本等)シャーロット・ズロトウ童話屋",1,{"$f":"VLOOKUP(\"*\"&目次加工!$B$2&\"*\",J2282:K2282,2,0)","v":1},{"$error":"#N/A"}]
[null,null,null,{"$f":"分類順!A2282","v":"都市伝説＆怪談スペシャル"},{"$f":"分類順!B2282","v":"絵本"},{"$f":"分類順!C2282","v":"分類なし(絵本等)"},{"$f":"分類順!D2282","v":"ヤングセレクション"},{"$f":"分類順!E2282","v":"実業之日本社"},{"$f":"分類順!F2282","v":20721},"都市伝説＆怪談スペシャル絵本分類なし(絵本等)ヤングセレクション実業之日本社",1,{"$f":"VLOOKUP(\"*\"&目次加工!$B$2&\"*\",J2283:K2283,2,0)","v":1},{"$error":"#N/A"}]
[null,null,null,{"$f":"分類順!A2283","v":"幽霊＆都市伝説スペシャル"},{"$f":"分類順!B2283","v":"絵本"},{"$f":"分類順!C2283","v":"分類なし(絵本等)"},{"$f":"分類順!D2283","v":"ヤングセレクション"},{"$f":"分類順!E2283","v":"実業之日本社"},{"$f":"分類順!F2283","v":20722},"幽霊＆都市伝説スペシャル絵本分類なし(絵本等)ヤングセレクション実業之日本社",1,{"$f":"VLOOKUP(\"*\"&目次加工!$B$2&\"*\",J2284:K2284,2,0)","v":1},{"$error":"#N/A"}]
[null,null,null,{"$f":"分類順!A2284","v":"ラブ♥偏差値"},{"$f":"分類順!B2284","v":"絵本"},{"$f":"分類順!C2284","v":"分類なし(絵本等)"},{"$f":"分類順!D2284","v":"斉藤栄実美"},{"$f":"分類順!E2284","v":"金の星社"},{"$f":"分類順!F2284","v":20723},"ラブ♥偏差値絵本分類なし(絵本等)斉藤栄実美金の星社",1,{"$f":"VLOOKUP(\"*\"&目次加工!$B$2&\"*\",J2285:K2285,2,0)","v":1},{"$error":"#N/A"}]
[null,null,null,{"$f":"分類順!A2285","v":"生まれ変わりレストラン"},{"$f":"分類順!B2285","v":"絵本"},{"$f":"分類順!C2285","v":"分類なし(絵本等)"},{"$f":"分類順!D2285","v":"怪談レストラン編集委員会"},{"$f":"分類順!E2285","v":"童心社"},{"$f":"分類順!F2285","v":20724},"生まれ変わりレストラン絵本分類なし(絵本等)怪談レストラン編集委員会童心社",1,{"$f":"VLOOKUP(\"*\"&目次加工!$B$2&\"*\",J2286:K2286,2,0)","v":1},{"$error":"#N/A"}]
[null,null,null,{"$f":"分類順!A2286","v":"消えた恐竜のなぞ"},{"$f":"分類順!B2286","v":"絵本"},{"$f":"分類順!C2286","v":"分類なし(絵本等)"},{"$f":"分類順!D2286","v":"大野太郎"},{"$f":"分類順!E2286","v":"集英社"},{"$f":"分類順!F2286","v":20725},"消えた恐竜のなぞ絵本分類なし(絵本等)大野太郎集英社",1,{"$f":"VLOOKUP(\"*\"&目次加工!$B$2&\"*\",J2287:K2287,2,0)","v":1},{"$error":"#N/A"}]
[null,null,null,{"$f":"分類順!A2287","v":"はじめてのずかん３"},{"$f":"分類順!B2287","v":"絵本"},{"$f":"分類順!C2287","v":"分類なし(絵本等)"},{"$f":"分類順!D2287","v":"たしろたく"},{"$f":"分類順!E2287","v":"偕成社"},{"$f":"分類順!F2287","v":20726},"はじめてのずかん３絵本分類なし(絵本等)たしろたく偕成社",1,{"$f":"VLOOKUP(\"*\"&目次加工!$B$2&\"*\",J2288:K2288,2,0)","v":1},{"$error":"#N/A"}]
[null,null,null,{"$f":"分類順!A2288","v":"ともだち絵本　けんか"},{"$f":"分類順!B2288","v":"絵本"},{"$f":"分類順!C2288","v":"分類なし(絵本等)"},{"$f":"分類順!D2288","v":"シャーロット・ズロトウ"},{"$f":"分類順!E2288","v":"童話屋"},{"$f":"分類順!F2288","v":20727},"ともだち絵本　けんか絵本分類なし(絵本等)シャーロット・ズロトウ童話屋",1,{"$f":"VLOOKUP(\"*\"&目次加工!$B$2&\"*\",J2289:K2289,2,0)","v":1},{"$error":"#N/A"}]
[null,null,null,{"$f":"分類順!A2289","v":"バルボンさんのおうち"},{"$f":"分類順!B2289","v":"絵本"},{"$f":"分類順!C2289","v":"分類なし(絵本等)"},{"$f":"分類順!D2289","v":"とよた　かずひこ"},{"$f":"分類順!E2289","v":"アリス館"},{"$f":"分類順!F2289","v":20728},"バルボンさんのおうち絵本分類なし(絵本等)とよた　かずひこアリス館",1,{"$f":"VLOOKUP(\"*\"&目次加工!$B$2&\"*\",J2290:K2290,2,0)","v":1},{"$error":"#N/A"}]
[null,null,null,{"$f":"分類順!A2290","v":"よるくま"},{"$f":"分類順!B2290","v":"絵本"},{"$f":"分類順!C2290","v":"分類なし(絵本等)"},{"$f":"分類順!D2290","v":"酒井駒子"},{"$f":"分類順!E2290","v":"偕成社"},{"$f":"分類順!F2290","v":20729},"よるくま絵本分類なし(絵本等)酒井駒子偕成社",1,{"$f":"VLOOKUP(\"*\"&目次加工!$B$2&\"*\",J2291:K2291,2,0)","v":1},{"$error":"#N/A"}]
[null,null,null,{"$f":"分類順!A2291","v":"ぷうちゃんのちいさいマル"},{"$f":"分類順!B2291","v":"絵本"},{"$f":"分類順!C2291","v":"分類なし(絵本等)"},{"$f":"分類順!D2291","v":"東直子"},{"$f":"分類順!E2291","v":"岩崎書店"},{"$f":"分類順!F2291","v":20730},"ぷうちゃんのちいさいマル絵本分類なし(絵本等)東直子岩崎書店",1,{"$f":"VLOOKUP(\"*\"&目次加工!$B$2&\"*\",J2292:K2292,2,0)","v":1},{"$error":"#N/A"}]
[null,null,null,{"$f":"分類順!A2292","v":"おしりたんてい"},{"$f":"分類順!B2292","v":"絵本"},{"$f":"分類順!C2292","v":"分類なし(絵本等)"},{"$f":"分類順!D2292","v":"トロル"},{"$f":"分類順!E2292","v":"ポプラ社"},{"$f":"分類順!F2292","v":20731},"おしりたんてい絵本分類なし(絵本等)トロルポプラ社",1,{"$f":"VLOOKUP(\"*\"&目次加工!$B$2&\"*\",J2293:K2293,2,0)","v":1},{"$error":"#N/A"}]
[null,null,null,{"$f":"分類順!A2293","v":"ペンギンビッグハウス"},{"$f":"分類順!B2293","v":"絵本"},{"$f":"分類順!C2293","v":"分類なし(絵本等)"},{"$f":"分類順!D2293","v":"クリスティン・イェレミース"},{"$f":"分類順!E2293","v":"ブロンズ新社"},{"$f":"分類順!F2293","v":20732},"ペンギンビッグハウス絵本分類なし(絵本等)クリスティン・イェレミースブロンズ新社",1,{"$f":"VLOOKUP(\"*\"&目次加工!$B$2&\"*\",J2294:K2294,2,0)","v":1},{"$error":"#N/A"}]
[null,null,null,{"$f":"分類順!A2294","v":"絵本おとうと"},{"$f":"分類順!B2294","v":"絵本"},{"$f":"分類順!C2294","v":"分類なし(絵本等)"},{"$f":"分類順!D2294","v":"松本春野"},{"$f":"分類順!E2294","v":"新日本出版社"},{"$f":"分類順!F2294","v":20733},"絵本おとうと絵本分類なし(絵本等)松本春野新日本出版社",1,{"$f":"VLOOKUP(\"*\"&目次加工!$B$2&\"*\",J2295:K2295,2,0)","v":1},{"$error":"#N/A"}]
[null,null,null,{"$f":"分類順!A2295","v":"絵本おとうとⅡ　はじめての学校"},{"$f":"分類順!B2295","v":"絵本"},{"$f":"分類順!C2295","v":"分類なし(絵本等)"},{"$f":"分類順!D2295","v":"松本春野"},{"$f":"分類順!E2295","v":"新日本出版社"},{"$f":"分類順!F2295","v":20734},"絵本おとうとⅡ　はじめての学校絵本分類なし(絵本等)松本春野新日本出版社",1,{"$f":"VLOOKUP(\"*\"&目次加工!$B$2&\"*\",J2296:K2296,2,0)","v":1},{"$error":"#N/A"}]
[null,null,null,{"$f":"分類順!A2296","v":"カイくんと子どもたち"},{"$f":"分類順!B2296","v":"絵本"},{"$f":"分類順!C2296","v":"分類なし(絵本等)"},{"$f":"分類順!D2296","v":"坂本カイ"},{"$f":"分類順!E2296","v":"ポプラ社"},{"$f":"分類順!F2296","v":20737},"カイくんと子どもたち絵本分類なし(絵本等)坂本カイポプラ社",1,{"$f":"VLOOKUP(\"*\"&目次加工!$B$2&\"*\",J2297:K2297,2,0)","v":1},{"$error":"#N/A"}]
[null,null,null,{"$f":"分類順!A2297","v":"アレックスとネコさん"},{"$f":"分類順!B2297","v":"絵本"},{"$f":"分類順!C2297","v":"分類なし(絵本等)"},{"$f":"分類順!D2297","v":"Ｓ・ラムート"},{"$f":"分類順!E2297","v":"あかね書房"},{"$f":"分類順!F2297","v":20738},"アレックスとネコさん絵本分類なし(絵本等)Ｓ・ラムートあかね書房",1,{"$f":"VLOOKUP(\"*\"&目次加工!$B$2&\"*\",J2298:K2298,2,0)","v":1},{"$error":"#N/A"}]
[null,null,null,{"$f":"分類順!A2298","v":"動物と話せる少女リリアーネ"},{"$f":"分類順!B2298","v":"絵本"},{"$f":"分類順!C2298","v":"分類なし(絵本等)"},{"$f":"分類順!D2298","v":"タニヤ・シュテーブナー"},{"$f":"分類順!E2298","v":"学研"},{"$f":"分類順!F2298","v":20739},"動物と話せる少女リリアーネ絵本分類なし(絵本等)タニヤ・シュテーブナー学研",1,{"$f":"VLOOKUP(\"*\"&目次加工!$B$2&\"*\",J2299:K2299,2,0)","v":1},{"$error":"#N/A"}]
[null,null,null,{"$f":"分類順!A2299","v":"パン屋のこびととハリネズミ"},{"$f":"分類順!B2299","v":"絵本"},{"$f":"分類順!C2299","v":"分類なし(絵本等)"},{"$f":"分類順!D2299","v":"アニー・G・M・シュミット"},{"$f":"分類順!E2299","v":"徳間書店"},{"$f":"分類順!F2299","v":20740},"パン屋のこびととハリネズミ絵本分類なし(絵本等)アニー・G・M・シュミット徳間書店",1,{"$f":"VLOOKUP(\"*\"&目次加工!$B$2&\"*\",J2300:K2300,2,0)","v":1},{"$error":"#N/A"}]
[null,null,null,{"$f":"分類順!A2300","v":"タッジーマッジーと三人の魔女"},{"$f":"分類順!B2300","v":"絵本"},{"$f":"分類順!C2300","v":"分類なし(絵本等)"},{"$f":"分類順!D2300","v":"あんびるやすこ"},{"$f":"分類順!E2300","v":"ポプラ社"},{"$f":"分類順!F2300","v":20741},"タッジーマッジーと三人の魔女絵本分類なし(絵本等)あんびるやすこポプラ社",1,{"$f":"VLOOKUP(\"*\"&目次加工!$B$2&\"*\",J2301:K2301,2,0)","v":1},{"$error":"#N/A"}]
[null,null,null,{"$f":"分類順!A2301","v":"フェアリーたちの魔法の夜"},{"$f":"分類順!B2301","v":"絵本"},{"$f":"分類順!C2301","v":"分類なし(絵本等)"},{"$f":"分類順!D2301","v":"あんびるやすこ"},{"$f":"分類順!E2301","v":"ポプラ社"},{"$f":"分類順!F2301","v":20742},"フェアリーたちの魔法の夜絵本分類なし(絵本等)あんびるやすこポプラ社",1,{"$f":"VLOOKUP(\"*\"&目次加工!$B$2&\"*\",J2302:K2302,2,0)","v":1},{"$error":"#N/A"}]
[null,null,null,{"$f":"分類順!A2302","v":"女王様のむらさきの魔法"},{"$f":"分類順!B2302","v":"絵本"},{"$f":"分類順!C2302","v":"分類なし(絵本等)"},{"$f":"分類順!D2302","v":"あんびるやすこ"},{"$f":"分類順!E2302","v":"ポプラ社"},{"$f":"分類順!F2302","v":20743},"女王様のむらさきの魔法絵本分類なし(絵本等)あんびるやすこポプラ社",1,{"$f":"VLOOKUP(\"*\"&目次加工!$B$2&\"*\",J2303:K2303,2,0)","v":1},{"$error":"#N/A"}]
[null,null,null,{"$f":"分類順!A2303","v":"魔女のステキな冬じたく"},{"$f":"分類順!B2303","v":"絵本"},{"$f":"分類順!C2303","v":"分類なし(絵本等)"},{"$f":"分類順!D2303","v":"あんびるやすこ"},{"$f":"分類順!E2303","v":"ポプラ社"},{"$f":"分類順!F2303","v":20744},"魔女のステキな冬じたく絵本分類なし(絵本等)あんびるやすこポプラ社",1,{"$f":"VLOOKUP(\"*\"&目次加工!$B$2&\"*\",J2304:K2304,2,0)","v":1},{"$error":"#N/A"}]
[null,null,null,{"$f":"分類順!A2304","v":"一期一会　スキだから"},{"$f":"分類順!B2304","v":"絵本"},{"$f":"分類順!C2304","v":"分類なし(絵本等)"},{"$f":"分類順!D2304","v":"粟生こずえ"},{"$f":"分類順!E2304","v":"学研"},{"$f":"分類順!F2304","v":20745},"一期一会　スキだから絵本分類なし(絵本等)粟生こずえ学研",1,{"$f":"VLOOKUP(\"*\"&目次加工!$B$2&\"*\",J2305:K2305,2,0)","v":1},{"$error":"#N/A"}]
[null,null,null,{"$f":"分類順!A2305","v":"マジックの鉄人"},{"$f":"分類順!B2305","v":"絵本"},{"$f":"分類順!C2305","v":"分類なし(絵本等)"},{"$f":"分類順!D2305","v":"稲村八大"},{"$f":"分類順!E2305","v":"ポプラ社"},{"$f":"分類順!F2305","v":20746},"マジックの鉄人絵本分類なし(絵本等)稲村八大ポプラ社",1,{"$f":"VLOOKUP(\"*\"&目次加工!$B$2&\"*\",J2306:K2306,2,0)","v":1},{"$error":"#N/A"}]
[null,null,null,{"$f":"分類順!A2306","v":"ちび★デビ！"},{"$f":"分類順!B2306","v":"絵本"},{"$f":"分類順!C2306","v":"分類なし(絵本等)"},{"$f":"分類順!D2306","v":"蜜家ビィ"},{"$f":"分類順!E2306","v":"小学館"},{"$f":"分類順!F2306","v":20747},"ちび★デビ！絵本分類なし(絵本等)蜜家ビィ小学館",1,{"$f":"VLOOKUP(\"*\"&目次加工!$B$2&\"*\",J2307:K2307,2,0)","v":1},{"$error":"#N/A"}]
[null,null,null,{"$f":"分類順!A2307","v":"らくだい魔女のデート作戦"},{"$f":"分類順!B2307","v":"絵本"},{"$f":"分類順!C2307","v":"分類なし(絵本等)"},{"$f":"分類順!D2307","v":"成田サトコ"},{"$f":"分類順!E2307","v":"ポプラ社"},{"$f":"分類順!F2307","v":20748},"らくだい魔女のデート作戦絵本分類なし(絵本等)成田サトコポプラ社",1,{"$f":"VLOOKUP(\"*\"&目次加工!$B$2&\"*\",J2308:K2308,2,0)","v":1},{"$f":"VLOOKUP(\"*\"&$A$2&\"*\",J2308:K2308,2,0)","v":{"$error":"#N/A"}}]
[null,null,null,{"$f":"分類順!A2308","v":"黒魔女さんが通る！！"},{"$f":"分類順!B2308","v":"絵本"},{"$f":"分類順!C2308","v":"分類なし(絵本等)"},{"$f":"分類順!D2308","v":"石崎洋司"},{"$f":"分類順!E2308","v":"講談社"},{"$f":"分類順!F2308","v":20749},"黒魔女さんが通る！！絵本分類なし(絵本等)石崎洋司講談社",1,{"$f":"VLOOKUP(\"*\"&目次加工!$B$2&\"*\",J2309:K2309,2,0)","v":1},{"$error":"#N/A"}]
[null,null,null,{"$f":"分類順!A2309","v":"多摩川にすてられたミーコ"},{"$f":"分類順!B2309","v":"絵本"},{"$f":"分類順!C2309","v":"分類なし(絵本等)"},{"$f":"分類順!D2309","v":"なりゆきわかこ"},{"$f":"分類順!E2309","v":"角川書店"},{"$f":"分類順!F2309","v":20750},"多摩川にすてられたミーコ絵本分類なし(絵本等)なりゆきわかこ角川書店",1,{"$f":"VLOOKUP(\"*\"&目次加工!$B$2&\"*\",J2310:K2310,2,0)","v":1},{"$error":"#N/A"}]
[null,null,null,{"$f":"分類順!A2310","v":"思い出のマーニー"},{"$f":"分類順!B2310","v":"絵本"},{"$f":"分類順!C2310","v":"分類なし(絵本等)"},{"$f":"分類順!D2310","v":"ジョーン・G・ロビンソン"},{"$f":"分類順!E2310","v":"角川書店"},{"$f":"分類順!F2310","v":20751},"思い出のマーニー絵本分類なし(絵本等)ジョーン・G・ロビンソン角川書店",1,{"$f":"VLOOKUP(\"*\"&目次加工!$B$2&\"*\",J2311:K2311,2,0)","v":1},{"$error":"#N/A"}]
[null,null,null,{"$f":"分類順!A2311","v":"パンダのひ・み・つ"},{"$f":"分類順!B2311","v":"絵本"},{"$f":"分類順!C2311","v":"分類なし(絵本等)"},{"$f":"分類順!D2311","v":"森田倫代/熊川智子"},{"$f":"分類順!E2311","v":"アワーズ・アドベンチャーワールド"},{"$f":"分類順!F2311","v":20752},"パンダのひ・み・つ絵本分類なし(絵本等)森田倫代/熊川智子アワーズ・アドベンチャーワールド",1,{"$f":"VLOOKUP(\"*\"&目次加工!$B$2&\"*\",J2312:K2312,2,0)","v":1},{"$error":"#N/A"}]
[null,null,null,{"$f":"分類順!A2312","v":"遊べる！おりがみ"},{"$f":"分類順!B2312","v":"絵本"},{"$f":"分類順!C2312","v":"分類なし(絵本等)"},{"$f":"分類順!D2312","v":"笠原邦彦"},{"$f":"分類順!E2312","v":"大泉書店"},{"$f":"分類順!F2312","v":20753},"遊べる！おりがみ絵本分類なし(絵本等)笠原邦彦大泉書店",1,{"$f":"VLOOKUP(\"*\"&目次加工!$B$2&\"*\",J2313:K2313,2,0)","v":1},{"$error":"#N/A"}]
[null,null,null,{"$f":"分類順!A2313","v":"１０分で読めるお話５年生"},{"$f":"分類順!B2313","v":"絵本"},{"$f":"分類順!C2313","v":"分類なし(絵本等)"},{"$f":"分類順!D2313","v":"小暮正夫"},{"$f":"分類順!E2313","v":"学研"},{"$f":"分類順!F2313","v":20754},"１０分で読めるお話５年生絵本分類なし(絵本等)小暮正夫学研",1,{"$f":"VLOOKUP(\"*\"&目次加工!$B$2&\"*\",J2314:K2314,2,0)","v":1},{"$error":"#N/A"}]
[null,null,null,{"$f":"分類順!A2314","v":"あらしのよるに①"},{"$f":"分類順!B2314","v":"絵本"},{"$f":"分類順!C2314","v":"分類なし(絵本等)"},{"$f":"分類順!D2314","v":"木村裕一"},{"$f":"分類順!E2314","v":"講談社"},{"$f":"分類順!F2314","v":20755},"あらしのよるに①絵本分類なし(絵本等)木村裕一講談社",1,{"$f":"VLOOKUP(\"*\"&目次加工!$B$2&\"*\",J2315:K2315,2,0)","v":1},{"$error":"#N/A"}]
[null,null,null,{"$f":"分類順!A2315","v":"あるはれたひに②"},{"$f":"分類順!B2315","v":"絵本"},{"$f":"分類順!C2315","v":"分類なし(絵本等)"},{"$f":"分類順!D2315","v":"木村裕一"},{"$f":"分類順!E2315","v":"講談社"},{"$f":"分類順!F2315","v":20756},"あるはれたひに②絵本分類なし(絵本等)木村裕一講談社",1,{"$f":"VLOOKUP(\"*\"&目次加工!$B$2&\"*\",J2316:K2316,2,0)","v":1},{"$error":"#N/A"}]
[null,null,null,{"$f":"分類順!A2316","v":"くものきれまに③"},{"$f":"分類順!B2316","v":"絵本"},{"$f":"分類順!C2316","v":"分類なし(絵本等)"},{"$f":"分類順!D2316","v":"木村裕一"},{"$f":"分類順!E2316","v":"講談社"},{"$f":"分類順!F2316","v":20757},"くものきれまに③絵本分類なし(絵本等)木村裕一講談社",1,{"$f":"VLOOKUP(\"*\"&目次加工!$B$2&\"*\",J2317:K2317,2,0)","v":1},{"$error":"#N/A"}]
[null,null,null,{"$f":"分類順!A2317","v":"きりのなかで④"},{"$f":"分類順!B2317","v":"絵本"},{"$f":"分類順!C2317","v":"分類なし(絵本等)"},{"$f":"分類順!D2317","v":"木村裕一"},{"$f":"分類順!E2317","v":"講談社"},{"$f":"分類順!F2317","v":20758},"きりのなかで④絵本分類なし(絵本等)木村裕一講談社",1,{"$f":"VLOOKUP(\"*\"&目次加工!$B$2&\"*\",J2318:K2318,2,0)","v":1},{"$error":"#N/A"}]
[null,null,null,{"$f":"分類順!A2318","v":"どしゃぶりのひに⑤"},{"$f":"分類順!B2318","v":"絵本"},{"$f":"分類順!C2318","v":"分類なし(絵本等)"},{"$f":"分類順!D2318","v":"木村裕一"},{"$f":"分類順!E2318","v":"講談社"},{"$f":"分類順!F2318","v":20759},"どしゃぶりのひに⑤絵本分類なし(絵本等)木村裕一講談社",1,{"$f":"VLOOKUP(\"*\"&目次加工!$B$2&\"*\",J2319:K2319,2,0)","v":1},{"$error":"#N/A"}]
[null,null,null,{"$f":"分類順!A2319","v":"ふぶきのあした⑥"},{"$f":"分類順!B2319","v":"絵本"},{"$f":"分類順!C2319","v":"分類なし(絵本等)"},{"$f":"分類順!D2319","v":"木村裕一"},{"$f":"分類順!E2319","v":"講談社"},{"$f":"分類順!F2319","v":20760},"ふぶきのあした⑥絵本分類なし(絵本等)木村裕一講談社",1,{"$f":"VLOOKUP(\"*\"&目次加工!$B$2&\"*\",J2320:K2320,2,0)","v":1},{"$error":"#N/A"}]
[null,null,null,{"$f":"分類順!A2320","v":"まんげつのよるに⑦"},{"$f":"分類順!B2320","v":"絵本"},{"$f":"分類順!C2320","v":"分類なし(絵本等)"},{"$f":"分類順!D2320","v":"木村裕一"},{"$f":"分類順!E2320","v":"講談社"},{"$f":"分類順!F2320","v":20761},"まんげつのよるに⑦絵本分類なし(絵本等)木村裕一講談社",1,{"$f":"VLOOKUP(\"*\"&目次加工!$B$2&\"*\",J2321:K2321,2,0)","v":1},{"$error":"#N/A"}]
[null,null,null,{"$f":"分類順!A2321","v":"宝　島"},{"$f":"分類順!B2321","v":"絵本"},{"$f":"分類順!C2321","v":"分類なし(絵本等)"},{"$f":"分類順!D2321","v":"坂井晴彦"},{"$f":"分類順!E2321","v":"福音館書店"},{"$f":"分類順!F2321","v":20781},"宝　島絵本分類なし(絵本等)坂井晴彦福音館書店",1,{"$f":"VLOOKUP(\"*\"&目次加工!$B$2&\"*\",J2322:K2322,2,0)","v":1},{"$error":"#N/A"}]
[null,null,null,{"$f":"分類順!A2322","v":"アニマル"},{"$f":"分類順!B2322","v":"目次へ"},{"$f":"分類順!C2322","v":"※PDF版ではリンクしておりません。"},{"$f":"分類順!D2322","v":0},{"$f":"分類順!E2322","v":0},{"$f":"分類順!F2322","v":0},{"$f":"D2323&E2323&F2323&G2323&H2323","v":"アニマル目次へ※PDF版ではリンクしておりません。00"},1,{"$f":"VLOOKUP(\"*\"&目次加工!$B$2&\"*\",J2323:K2323,2,0)","v":1},1]
[null,null,null,{"$f":"分類順!A2323","v":"ありがとう障害犬タロー"},{"$f":"分類順!B2323","v":"一般図書"},{"$f":"分類順!C2323","v":"P：アニマル"},{"$f":"分類順!D2323","v":"小森泰治"},{"$f":"分類順!E2323","v":"アスペクト"},{"$f":"分類順!F2323","v":10382},"ありがとう障害犬タロー一般図書P：アニマル小森泰治アスペクト",1,{"$f":"VLOOKUP(\"*\"&目次加工!$B$2&\"*\",J2324:K2324,2,0)","v":1},{"$error":"#N/A"}]
[null,null,null,{"$f":"分類順!A2324","v":"ワン"},{"$f":"分類順!B2324","v":"一般図書"},{"$f":"分類順!C2324","v":"P：アニマル"},{"$f":"分類順!D2324","v":"コシノタミオ/ラッセル　ブラックウェル"},{"$f":"分類順!E2324","v":"講談社"},{"$f":"分類順!F2324","v":10403},"ワン一般図書P：アニマルコシノタミオ/ラッセル　ブラックウェル講談社",1,{"$f":"VLOOKUP(\"*\"&目次加工!$B$2&\"*\",J2325:K2325,2,0)","v":1},{"$error":"#N/A"}]
[null,null,null,{"$f":"分類順!A2325","v":"犬の生態図鑑"},{"$f":"分類順!B2325","v":"一般図書"},{"$f":"分類順!C2325","v":"P：アニマル"},{"$f":"分類順!D2325","v":"蒔田和典"},{"$f":"分類順!E2325","v":"金の星社"},{"$f":"分類順!F2325","v":10404},"犬の生態図鑑一般図書P：アニマル蒔田和典金の星社",1,{"$f":"VLOOKUP(\"*\"&目次加工!$B$2&\"*\",J2326:K2326,2,0)","v":1},{"$error":"#N/A"}]
[null,null,null,{"$f":"分類順!A2326","v":"MY BEST FRIEND AT THE HOSPITAL こどもたちの目にうつったファシリティドッグ"},{"$f":"分類順!B2326","v":"医療の本"},{"$f":"分類順!C2326","v":"P：アニマル"},{"$f":"分類順!D2326","v":"シャイン　オン！キッズ"},{"$f":"分類順!E2326","v":"認定特定非営利活動法人　シャイン・オン・キッズ"},{"$f":"分類順!F2326","v":10406},"MY BEST FRIEND AT THE HOSPITAL こどもたちの目にうつったファシリティドッグ医療の本P：アニマルシャイン　オン！キッズ認定特定非営利活動法人　シャイン・オン・キッズ",1,{"$f":"VLOOKUP(\"*\"&目次加工!$B$2&\"*\",J2327:K2327,2,0)","v":1},{"$error":"#N/A"}]
[null,null,null,{"$f":"分類順!A2327","v":"さむくてもまけない　季節と動物"},{"$f":"分類順!B2327","v":"絵本"},{"$f":"分類順!C2327","v":"P：アニマル"},{"$f":"分類順!D2327","v":"中嶋博和"},{"$f":"分類順!E2327","v":"農文協"},{"$f":"分類順!F2327","v":20879},"さむくてもまけない　季節と動物絵本P：アニマル中嶋博和農文協",1,{"$f":"VLOOKUP(\"*\"&目次加工!$B$2&\"*\",J2328:K2328,2,0)","v":1},{"$error":"#N/A"}]
[null,null,null,{"$f":"分類順!A2328","v":"アニマルテラピー"},{"$f":"分類順!B2328","v":"目次へ"},{"$f":"分類順!C2328","v":"※PDF版ではリンクしておりません。"},{"$f":"分類順!D2328","v":0},{"$f":"分類順!E2328","v":0},{"$f":"分類順!F2328","v":0},"アニマルテラピー目次へ※PDF版ではリンクしておりません。00",1,{"$f":"VLOOKUP(\"*\"&目次加工!$B$2&\"*\",J2329:K2329,2,0)","v":1},1]
[null,null,null,{"$f":"分類順!A2329","v":"セラピードッグ(動物介在療法)の世界"},{"$f":"分類順!B2329","v":"医療の本"},{"$f":"分類順!C2329","v":"Pd：アニマルテラピー"},{"$f":"分類順!D2329","v":"大木トオル　著"},{"$f":"分類順!E2329","v":"日本経済新聞出版社"},{"$f":"分類順!F2329","v":5390},"セラピードッグ(動物介在療法)の世界医療の本Pd：アニマルテラピー大木トオル　著日本経済新聞出版社",1,{"$f":"VLOOKUP(\"*\"&目次加工!$B$2&\"*\",J2330:K2330,2,0)","v":1},{"$error":"#N/A"}]
[null,null,null,{"$f":"分類順!A2330","v":"メタボリックシンドローム"},{"$f":"分類順!B2330","v":"目次へ"},{"$f":"分類順!C2330","v":"※PDF版ではリンクしておりません。"},{"$f":"分類順!D2330","v":0},{"$f":"分類順!E2330","v":0},{"$f":"分類順!F2330","v":0},"メタボリックシンドローム目次へ※PDF版ではリンクしておりません。00",1,{"$f":"VLOOKUP(\"*\"&目次加工!$B$2&\"*\",J2331:K2331,2,0)","v":1},1]
[null,null,null,{"$f":"分類順!A2331","v":"肥満症・痛風の食事療法　第２版"},{"$f":"分類順!B2331","v":"医療の本"},{"$f":"分類順!C2331","v":"V：メタボリックシンドローム"},{"$f":"分類順!D2331","v":"医歯薬出版　編"},{"$f":"分類順!E2331","v":"医歯薬出版"},{"$f":"分類順!F2331","v":244},"肥満症・痛風の食事療法　第２版医療の本V：メタボリックシンドローム医歯薬出版　編医歯薬出版",1,{"$f":"VLOOKUP(\"*\"&目次加工!$B$2&\"*\",J2332:K2332,2,0)","v":1},{"$error":"#N/A"}]
[null,null,null,{"$f":"分類順!A2332","v":"メタボリックシンドローム"},{"$f":"分類順!B2332","v":"医療の本"},{"$f":"分類順!C2332","v":"V：メタボリックシンドローム"},{"$f":"分類順!D2332","v":"和田　高士　著"},{"$f":"分類順!E2332","v":"保健同人社"},{"$f":"分類順!F2332","v":929},"メタボリックシンドローム医療の本V：メタボリックシンドローム和田　高士　著保健同人社",1,{"$f":"VLOOKUP(\"*\"&目次加工!$B$2&\"*\",J2333:K2333,2,0)","v":1},{"$error":"#N/A"}]
[null,null,null,{"$f":"分類順!A2333","v":"やさしい生活習慣病の自己管理　改訂版"},{"$f":"分類順!B2333","v":"医療の本"},{"$f":"分類順!C2333","v":"V：メタボリックシンドローム"},{"$f":"分類順!D2333","v":"北村　諭　著"},{"$f":"分類順!E2333","v":"医薬ジャーナル社"},{"$f":"分類順!F2333","v":931},"やさしい生活習慣病の自己管理　改訂版医療の本V：メタボリックシンドローム北村　諭　著医薬ジャーナル社",1,{"$f":"VLOOKUP(\"*\"&目次加工!$B$2&\"*\",J2334:K2334,2,0)","v":1},{"$error":"#N/A"}]
[null,null,null,{"$f":"分類順!A2334","v":"生活習慣病の予防・治療に役立つ心身医学"},{"$f":"分類順!B2334","v":"医療の本"},{"$f":"分類順!C2334","v":"V：メタボリックシンドローム"},{"$f":"分類順!D2334","v":"久保　千春"},{"$f":"分類順!E2334","v":"ライフサイエンス出版"},{"$f":"分類順!F2334","v":932},"生活習慣病の予防・治療に役立つ心身医学医療の本V：メタボリックシンドローム久保　千春ライフサイエンス出版",1,{"$f":"VLOOKUP(\"*\"&目次加工!$B$2&\"*\",J2335:K2335,2,0)","v":1},{"$error":"#N/A"}]
[null,null,null,{"$f":"分類順!A2335","v":"ごぼう力"},{"$f":"分類順!B2335","v":"医療の本"},{"$f":"分類順!C2335","v":"V：メタボリックシンドローム"},{"$f":"分類順!D2335","v":"南雲 吉則　著"},{"$f":"分類順!E2335","v":"主婦と生活社"},{"$f":"分類順!F2335","v":5391},"ごぼう力医療の本V：メタボリックシンドローム南雲 吉則　著主婦と生活社",1,{"$f":"VLOOKUP(\"*\"&目次加工!$B$2&\"*\",J2336:K2336,2,0)","v":1},{"$error":"#N/A"}]
[null,null,null,{"$f":"分類順!A2336","v":"体脂肪計タニタの社員食堂 ~500kcalのまんぷく定食"},{"$f":"分類順!B2336","v":"医療の本"},{"$f":"分類順!C2336","v":"V：メタボリックシンドローム"},{"$f":"分類順!D2336","v":"タニタ　著"},{"$f":"分類順!E2336","v":"大和書房"},{"$f":"分類順!F2336","v":5392},"体脂肪計タニタの社員食堂 ~500kcalのまんぷく定食医療の本V：メタボリックシンドロームタニタ　著大和書房",1,{"$f":"VLOOKUP(\"*\"&目次加工!$B$2&\"*\",J2337:K2337,2,0)","v":1},1]
[null,null,null,{"$f":"分類順!A2337","v":"続・体脂肪計タニタの社員食堂"},{"$f":"分類順!B2337","v":"医療の本"},{"$f":"分類順!C2337","v":"V：メタボリックシンドローム"},{"$f":"分類順!D2337","v":"タニタ　著"},{"$f":"分類順!E2337","v":"大和書房"},{"$f":"分類順!F2337","v":5393},"続・体脂肪計タニタの社員食堂医療の本V：メタボリックシンドロームタニタ　著大和書房",1,{"$f":"VLOOKUP(\"*\"&目次加工!$B$2&\"*\",J2338:K2338,2,0)","v":1},{"$error":"#N/A"}]
[null,null,null,{"$f":"分類順!A2338","v":"いつまでもデブと思うなよ"},{"$f":"分類順!B2338","v":"一般図書"},{"$f":"分類順!C2338","v":"V：メタボリックシンドローム"},{"$f":"分類順!D2338","v":"岡田斗司夫"},{"$f":"分類順!E2338","v":"新潮社"},{"$f":"分類順!F2338","v":5405},"いつまでもデブと思うなよ一般図書V：メタボリックシンドローム岡田斗司夫新潮社",1,{"$f":"VLOOKUP(\"*\"&目次加工!$B$2&\"*\",J2339:K2339,2,0)","v":1},{"$error":"#N/A"}]
[null,null,null,{"$f":"分類順!A2339","v":"肥満の人の食事"},{"$f":"分類順!B2339","v":"医療の本"},{"$f":"分類順!C2339","v":"V：メタボリックシンドローム"},{"$f":"分類順!D2339","v":"小山勝一/宮崎靖子"},{"$f":"分類順!E2339","v":"健康同人社"},{"$f":"分類順!F2339","v":5627},"肥満の人の食事医療の本V：メタボリックシンドローム小山勝一/宮崎靖子健康同人社",1,{"$f":"VLOOKUP(\"*\"&目次加工!$B$2&\"*\",J2340:K2340,2,0)","v":1},{"$error":"#N/A"}]
[null,null,null,{"$f":"分類順!A2340","v":"食べて健康！タニタ式カラダのひみつ"},{"$f":"分類順!B2340","v":"医療の本"},{"$f":"分類順!C2340","v":"V：メタボリックシンドローム"},{"$f":"分類順!D2340","v":"池田義雄"},{"$f":"分類順!E2340","v":"三笠書房"},{"$f":"分類順!F2340","v":5663},"食べて健康！タニタ式カラダのひみつ医療の本V：メタボリックシンドローム池田義雄三笠書房",1,{"$f":"VLOOKUP(\"*\"&目次加工!$B$2&\"*\",J2341:K2341,2,0)","v":1},{"$error":"#N/A"}]
[null,null,null,{"$f":"分類順!A2341","v":"５０歳からの健康歳時記"},{"$f":"分類順!B2341","v":"医療の本"},{"$f":"分類順!C2341","v":"V：メタボリックシンドローム"},{"$f":"分類順!D2341","v":"石川恭三"},{"$f":"分類順!E2341","v":"朝日新聞出版"},{"$f":"分類順!F2341","v":5664},"５０歳からの健康歳時記医療の本V：メタボリックシンドローム石川恭三朝日新聞出版",1,{"$f":"VLOOKUP(\"*\"&目次加工!$B$2&\"*\",J2342:K2342,2,0)","v":1},{"$error":"#N/A"}]
[null,null,null,{"$f":"分類順!A2342","v":"やさしいメタボリックシンドロームの自己管理　改訂版"},{"$f":"分類順!B2342","v":"医療の本"},{"$f":"分類順!C2342","v":"V：メタボリックシンドローム"},{"$f":"分類順!D2342","v":"松沢佑次監修"},{"$f":"分類順!E2342","v":"医薬ジャーナル社"},{"$f":"分類順!F2342","v":8063},"やさしいメタボリックシンドロームの自己管理　改訂版医療の本V：メタボリックシンドローム松沢佑次監修医薬ジャーナル社",1,{"$f":"VLOOKUP(\"*\"&目次加工!$B$2&\"*\",J2343:K2343,2,0)","v":1},{"$error":"#N/A"}]
[null,null,null,{"$f":"分類順!A2343","v":"メタボ外来のやせるレシピ"},{"$f":"分類順!B2343","v":"医療の本"},{"$f":"分類順!C2343","v":"V：メタボリックシンドローム"},{"$f":"分類順!D2343","v":"京都医療ｾﾝﾀｰ"},{"$f":"分類順!E2343","v":"セブン＆アイ出版"},{"$f":"分類順!F2343","v":10212},"メタボ外来のやせるレシピ医療の本V：メタボリックシンドローム京都医療ｾﾝﾀｰセブン＆アイ出版",1,{"$f":"VLOOKUP(\"*\"&目次加工!$B$2&\"*\",J2344:K2344,2,0)","v":1},{"$error":"#N/A"}]
[null,null,null,{"$f":"分類順!A2344","v":"メタボ外来のやせる弁当と作りおき"},{"$f":"分類順!B2344","v":"医療の本"},{"$f":"分類順!C2344","v":"V：メタボリックシンドローム"},{"$f":"分類順!D2344","v":"京都医療ｾﾝﾀｰ"},{"$f":"分類順!E2344","v":"セブン＆アイ出版"},{"$f":"分類順!F2344","v":10322},"メタボ外来のやせる弁当と作りおき医療の本V：メタボリックシンドローム京都医療ｾﾝﾀｰセブン＆アイ出版",1,{"$f":"VLOOKUP(\"*\"&目次加工!$B$2&\"*\",J2345:K2345,2,0)","v":1},{"$error":"#N/A"}]
[null,null,null,{"$f":"分類順!A2345","v":"高脂血症"},{"$f":"分類順!B2345","v":"目次へ"},{"$f":"分類順!C2345","v":"※PDF版ではリンクしておりません。"},{"$f":"分類順!D2345","v":0},{"$f":"分類順!E2345","v":0},{"$f":"分類順!F2345","v":0},"高脂血症目次へ※PDF版ではリンクしておりません。00",1,{"$f":"VLOOKUP(\"*\"&目次加工!$B$2&\"*\",J2346:K2346,2,0)","v":1},1]
[null,null,null,{"$f":"分類順!A2346","v":"高脂血症の人の食事"},{"$f":"分類順!B2346","v":"医療の本"},{"$f":"分類順!C2346","v":"Va：高脂血症"},{"$f":"分類順!D2346","v":"多田　紀夫 著"},{"$f":"分類順!E2346","v":"女子栄養大学出版部"},{"$f":"分類順!F2346","v":92},"高脂血症の人の食事医療の本Va：高脂血症多田　紀夫 著女子栄養大学出版部",1,{"$f":"VLOOKUP(\"*\"&目次加工!$B$2&\"*\",J2347:K2347,2,0)","v":1},{"$error":"#N/A"}]
[null,null,null,{"$f":"分類順!A2347","v":"高脂血症・動脈硬化症の食事療法　第２版"},{"$f":"分類順!B2347","v":"医療の本"},{"$f":"分類順!C2347","v":"Va：高脂血症"},{"$f":"分類順!D2347","v":"医歯薬出版　編"},{"$f":"分類順!E2347","v":"医歯薬出版"},{"$f":"分類順!F2347","v":933},"高脂血症・動脈硬化症の食事療法　第２版医療の本Va：高脂血症医歯薬出版　編医歯薬出版",1,{"$f":"VLOOKUP(\"*\"&目次加工!$B$2&\"*\",J2348:K2348,2,0)","v":1},{"$error":"#N/A"}]
[null,null,null,{"$f":"分類順!A2348","v":"高脂血症を治して脳梗塞・狭心症を予防する"},{"$f":"分類順!B2348","v":"医療の本"},{"$f":"分類順!C2348","v":"Va：高脂血症"},{"$f":"分類順!D2348","v":"石川　俊次　監修"},{"$f":"分類順!E2348","v":"講談社"},{"$f":"分類順!F2348","v":934},"高脂血症を治して脳梗塞・狭心症を予防する医療の本Va：高脂血症石川　俊次　監修講談社",1,{"$f":"VLOOKUP(\"*\"&目次加工!$B$2&\"*\",J2349:K2349,2,0)","v":1},{"$error":"#N/A"}]
[null,null,null,{"$f":"分類順!A2349","v":"高脂血症・肥満～動脈硬化～"},{"$f":"分類順!B2349","v":"医療の本"},{"$f":"分類順!C2349","v":"Va：高脂血症"},{"$f":"分類順!D2349","v":"荻原　俊男　監修"},{"$f":"分類順!E2349","v":"メディカルレビュー社"},{"$f":"分類順!F2349","v":937},"高脂血症・肥満～動脈硬化～医療の本Va：高脂血症荻原　俊男　監修メディカルレビュー社",1,{"$f":"VLOOKUP(\"*\"&目次加工!$B$2&\"*\",J2350:K2350,2,0)","v":1},{"$error":"#N/A"}]
[null,null,null,{"$f":"分類順!A2350","v":"脂質異常の最新治療 (よくわかる最新医学)"},{"$f":"分類順!B2350","v":"医療の本"},{"$f":"分類順!C2350","v":"Va：高脂血症"},{"$f":"分類順!D2350","v":"石川 俊次"},{"$f":"分類順!E2350","v":"主婦の友社"},{"$f":"分類順!F2350","v":10186},"脂質異常の最新治療 (よくわかる最新医学)医療の本Va：高脂血症石川 俊次主婦の友社",1,{"$f":"VLOOKUP(\"*\"&目次加工!$B$2&\"*\",J2351:K2351,2,0)","v":1},{"$error":"#N/A"}]
[null,null,null,{"$f":"分類順!A2351","v":"高血圧"},{"$f":"分類順!B2351","v":"目次へ"},{"$f":"分類順!C2351","v":"※PDF版ではリンクしておりません。"},{"$f":"分類順!D2351","v":0},{"$f":"分類順!E2351","v":0},{"$f":"分類順!F2351","v":0},"高血圧目次へ※PDF版ではリンクしておりません。00",1,{"$f":"VLOOKUP(\"*\"&目次加工!$B$2&\"*\",J2352:K2352,2,0)","v":1},1]
[null,null,null,{"$f":"分類順!A2352","v":"食べて治す高血圧 イラスト版"},{"$f":"分類順!B2352","v":"医療の本"},{"$f":"分類順!C2352","v":"Vb：高血圧"},{"$f":"分類順!D2352","v":"家森　幸男"},{"$f":"分類順!E2352","v":"講談社"},{"$f":"分類順!F2352","v":247},"食べて治す高血圧 イラスト版医療の本Vb：高血圧家森　幸男講談社",1,{"$f":"VLOOKUP(\"*\"&目次加工!$B$2&\"*\",J2353:K2353,2,0)","v":1},{"$error":"#N/A"}]
[null,null,null,{"$f":"分類順!A2353","v":"高血圧の人の食事"},{"$f":"分類順!B2353","v":"医療の本"},{"$f":"分類順!C2353","v":"Vb：高血圧"},{"$f":"分類順!D2353","v":"長澤　紘一　他"},{"$f":"分類順!E2353","v":"女子栄養大学出版部"},{"$f":"分類順!F2353","v":342},"高血圧の人の食事医療の本Vb：高血圧長澤　紘一　他女子栄養大学出版部",1,{"$f":"VLOOKUP(\"*\"&目次加工!$B$2&\"*\",J2354:K2354,2,0)","v":1},{"$error":"#N/A"}]
[null,null,null,{"$f":"分類順!A2354","v":"高血圧・心臓病の食事療法　第２版"},{"$f":"分類順!B2354","v":"医療の本"},{"$f":"分類順!C2354","v":"Vb：高血圧"},{"$f":"分類順!D2354","v":"医歯薬出版　編"},{"$f":"分類順!E2354","v":"医歯薬出版"},{"$f":"分類順!F2354","v":940},"高血圧・心臓病の食事療法　第２版医療の本Vb：高血圧医歯薬出版　編医歯薬出版",1,{"$f":"VLOOKUP(\"*\"&目次加工!$B$2&\"*\",J2355:K2355,2,0)","v":1},{"$error":"#N/A"}]
[null,null,null,{"$f":"分類順!A2355","v":"やさしい早朝高血圧の自己管理"},{"$f":"分類順!B2355","v":"医療の本"},{"$f":"分類順!C2355","v":"Vb：高血圧"},{"$f":"分類順!D2355","v":"苅尾　七臣　著"},{"$f":"分類順!E2355","v":"医薬ジャーナル社"},{"$f":"分類順!F2355","v":943},"やさしい早朝高血圧の自己管理医療の本Vb：高血圧苅尾　七臣　著医薬ジャーナル社",1,{"$f":"VLOOKUP(\"*\"&目次加工!$B$2&\"*\",J2356:K2356,2,0)","v":1},{"$error":"#N/A"}]
[null,null,null,{"$f":"分類順!A2356","v":"高血圧の病態生理と診断・治療"},{"$f":"分類順!B2356","v":"医療の本"},{"$f":"分類順!C2356","v":"Vb：高血圧"},{"$f":"分類順!D2356","v":"田口　理恵　他"},{"$f":"分類順!E2356","v":"真興交易医書出版"},{"$f":"分類順!F2356","v":947},"高血圧の病態生理と診断・治療医療の本Vb：高血圧田口　理恵　他真興交易医書出版",1,{"$f":"VLOOKUP(\"*\"&目次加工!$B$2&\"*\",J2357:K2357,2,0)","v":1},{"$error":"#N/A"}]
[null,null,null,{"$f":"分類順!A2357","v":"日本人のための高血圧治療Ｑ＆Ａ～エビデン"},{"$f":"分類順!B2357","v":"医療の本"},{"$f":"分類順!C2357","v":"Vb：高血圧"},{"$f":"分類順!D2357","v":"檜垣　實男　編"},{"$f":"分類順!E2357","v":"医薬ジャーナル社"},{"$f":"分類順!F2357","v":951},"日本人のための高血圧治療Ｑ＆Ａ～エビデン医療の本Vb：高血圧檜垣　實男　編医薬ジャーナル社",1,{"$f":"VLOOKUP(\"*\"&目次加工!$B$2&\"*\",J2358:K2358,2,0)","v":1},{"$error":"#N/A"}]
[null,null,null,{"$f":"分類順!A2358","v":"高血圧・糖尿病　生活習慣病　改訂版"},{"$f":"分類順!B2358","v":"医療の本"},{"$f":"分類順!C2358","v":"Vb：高血圧"},{"$f":"分類順!D2358","v":"荻原　俊男　監修"},{"$f":"分類順!E2358","v":"メディカルレビュー社"},{"$f":"分類順!F2358","v":1021},"高血圧・糖尿病　生活習慣病　改訂版医療の本Vb：高血圧荻原　俊男　監修メディカルレビュー社",1,{"$f":"VLOOKUP(\"*\"&目次加工!$B$2&\"*\",J2359:K2359,2,0)","v":1},{"$error":"#N/A"}]
[null,null,null,{"$f":"分類順!A2359","v":"０９　高血圧治療ガイドライン"},{"$f":"分類順!B2359","v":"医療の本"},{"$f":"分類順!C2359","v":"Vb：高血圧"},{"$f":"分類順!D2359","v":0},{"$f":"分類順!E2359","v":"ライフサイエンス出版"},{"$f":"分類順!F2359","v":1023},"０９　高血圧治療ガイドライン医療の本Vb：高血圧0ライフサイエンス出版",1,{"$f":"VLOOKUP(\"*\"&目次加工!$B$2&\"*\",J2360:K2360,2,0)","v":1},1]
[null,null,null,{"$f":"分類順!A2360","v":"高血圧の人のおいしいレシピブック"},{"$f":"分類順!B2360","v":"医療の本"},{"$f":"分類順!C2360","v":"Vb：高血圧"},{"$f":"分類順!D2360","v":"末永 みどり・　浜内 千波　・斉藤 邦夫"},{"$f":"分類順!E2360","v":"保健同人社"},{"$f":"分類順!F2360","v":8099},"高血圧の人のおいしいレシピブック医療の本Vb：高血圧末永 みどり・　浜内 千波　・斉藤 邦夫保健同人社",1,{"$f":"VLOOKUP(\"*\"&目次加工!$B$2&\"*\",J2361:K2361,2,0)","v":1},{"$error":"#N/A"}]
[null,null,null,{"$f":"分類順!A2361","v":"高血圧治療ガイドライン2014"},{"$f":"分類順!B2361","v":"医療の本"},{"$f":"分類順!C2361","v":"Vb：高血圧"},{"$f":"分類順!D2361","v":"日本高血圧学会高血圧治療ガイドライン作成委員会"},{"$f":"分類順!E2361","v":"ライフサイエンス出版"},{"$f":"分類順!F2361","v":10187},"高血圧治療ガイドライン2014医療の本Vb：高血圧日本高血圧学会高血圧治療ガイドライン作成委員会ライフサイエンス出版",1,{"$f":"VLOOKUP(\"*\"&目次加工!$B$2&\"*\",J2362:K2362,2,0)","v":1},1]
[null,null,null,{"$f":"分類順!A2362","v":"高血圧の最新治療 (よくわかる最新医学)"},{"$f":"分類順!B2362","v":"医療の本"},{"$f":"分類順!C2362","v":"Vb：高血圧"},{"$f":"分類順!D2362","v":"宗像 正徳"},{"$f":"分類順!E2362","v":"主婦の友社"},{"$f":"分類順!F2362","v":10188},"高血圧の最新治療 (よくわかる最新医学)医療の本Vb：高血圧宗像 正徳主婦の友社",1,{"$f":"VLOOKUP(\"*\"&目次加工!$B$2&\"*\",J2363:K2363,2,0)","v":1},{"$error":"#N/A"}]
[null,null,null,{"$f":"分類順!A2363","v":"塩分早わかり第3版　ＦＯＯＤ＆ＣＯＯＫＩＮＧ　ＤＡＴＡ"},{"$f":"分類順!B2363","v":"医療の本"},{"$f":"分類順!C2363","v":"Vb：高血圧"},{"$f":"分類順!D2363","v":"牧野直子, 女子栄養大学出版部"},{"$f":"分類順!E2363","v":"女子栄養大学出版部"},{"$f":"分類順!F2363","v":10264},"塩分早わかり第3版　ＦＯＯＤ＆ＣＯＯＫＩＮＧ　ＤＡＴＡ医療の本Vb：高血圧牧野直子, 女子栄養大学出版部女子栄養大学出版部",1,{"$f":"VLOOKUP(\"*\"&目次加工!$B$2&\"*\",J2364:K2364,2,0)","v":1},{"$error":"#N/A"}]
[null,null,null,{"$f":"分類順!A2364","v":"血液・血管が詰まらない切れない最強セルフケア　（Ｍａｋｉｎｏ　ｍｏｏｋ＊マキノ出版ムック）"},{"$f":"分類順!B2364","v":"医療の本"},{"$f":"分類順!C2364","v":"Vb：高血圧"},{"$f":"分類順!D2364","v":"小林弘幸, 池谷敏郎"},{"$f":"分類順!E2364","v":"マキノ出版"},{"$f":"分類順!F2364","v":10265},"血液・血管が詰まらない切れない最強セルフケア　（Ｍａｋｉｎｏ　ｍｏｏｋ＊マキノ出版ムック）医療の本Vb：高血圧小林弘幸, 池谷敏郎マキノ出版",1,{"$f":"VLOOKUP(\"*\"&目次加工!$B$2&\"*\",J2365:K2365,2,0)","v":1},{"$error":"#N/A"}]
[null,null,null,{"$f":"分類順!A2365","v":"糖尿病"},{"$f":"分類順!B2365","v":"目次へ"},{"$f":"分類順!C2365","v":"※PDF版ではリンクしておりません。"},{"$f":"分類順!D2365","v":0},{"$f":"分類順!E2365","v":0},{"$f":"分類順!F2365","v":0},"糖尿病目次へ※PDF版ではリンクしておりません。00",1,{"$f":"VLOOKUP(\"*\"&目次加工!$B$2&\"*\",J2366:K2366,2,0)","v":1},1]
[null,null,null,{"$f":"分類順!A2366","v":"糖尿病が良くなるごちそうレシピ"},{"$f":"分類順!B2366","v":"医療の本"},{"$f":"分類順!C2366","v":"Vc：糖尿病"},{"$f":"分類順!D2366","v":"江部　康二　著"},{"$f":"分類順!E2366","v":"東洋経済新報社"},{"$f":"分類順!F2366","v":252},"糖尿病が良くなるごちそうレシピ医療の本Vc：糖尿病江部　康二　著東洋経済新報社",1,{"$f":"VLOOKUP(\"*\"&目次加工!$B$2&\"*\",J2367:K2367,2,0)","v":1},{"$error":"#N/A"}]
[null,null,null,{"$f":"分類順!A2367","v":"糖尿病の人の食事"},{"$f":"分類順!B2367","v":"医療の本"},{"$f":"分類順!C2367","v":"Vc：糖尿病"},{"$f":"分類順!D2367","v":"長坂　昌一郎;宮本　佳代子;松田　康子"},{"$f":"分類順!E2367","v":"女子栄養大学出版部"},{"$f":"分類順!F2367","v":566},"糖尿病の人の食事医療の本Vc：糖尿病長坂　昌一郎;宮本　佳代子;松田　康子女子栄養大学出版部",1,{"$f":"VLOOKUP(\"*\"&目次加工!$B$2&\"*\",J2368:K2368,2,0)","v":1},{"$error":"#N/A"}]
[null,null,null,{"$f":"分類順!A2368","v":"糖尿病性腎症の人の食事"},{"$f":"分類順!B2368","v":"医療の本"},{"$f":"分類順!C2368","v":"Vc：糖尿病"},{"$f":"分類順!D2368","v":"長坂　昌一郎;本田　佳子;小川　久惠"},{"$f":"分類順!E2368","v":"女子栄養大学出版部"},{"$f":"分類順!F2368","v":648},"糖尿病性腎症の人の食事医療の本Vc：糖尿病長坂　昌一郎;本田　佳子;小川　久惠女子栄養大学出版部",1,{"$f":"VLOOKUP(\"*\"&目次加工!$B$2&\"*\",J2369:K2369,2,0)","v":1},{"$error":"#N/A"}]
[null,null,null,{"$f":"分類順!A2369","v":"あなたもできる減量作戦"},{"$f":"分類順!B2369","v":"医療の本"},{"$f":"分類順!C2369","v":"Vc：糖尿病"},{"$f":"分類順!D2369","v":"坂根　直樹　著"},{"$f":"分類順!E2369","v":"診断と治療社"},{"$f":"分類順!F2369","v":953},"あなたもできる減量作戦医療の本Vc：糖尿病坂根　直樹　著診断と治療社",1,{"$f":"VLOOKUP(\"*\"&目次加工!$B$2&\"*\",J2370:K2370,2,0)","v":1},{"$error":"#N/A"}]
[null,null,null,{"$f":"分類順!A2370","v":"はじめの一歩が大切"},{"$f":"分類順!B2370","v":"医療の本"},{"$f":"分類順!C2370","v":"Vc：糖尿病"},{"$f":"分類順!D2370","v":"坂根　直樹"},{"$f":"分類順!E2370","v":"診断と治療社"},{"$f":"分類順!F2370","v":954},"はじめの一歩が大切医療の本Vc：糖尿病坂根　直樹診断と治療社",1,{"$f":"VLOOKUP(\"*\"&目次加工!$B$2&\"*\",J2371:K2371,2,0)","v":1},{"$error":"#N/A"}]
[null,null,null,{"$f":"分類順!A2371","v":"もしも１００人の糖尿病村があったら"},{"$f":"分類順!B2371","v":"医療の本"},{"$f":"分類順!C2371","v":"Vc：糖尿病"},{"$f":"分類順!D2371","v":"坂根　直樹　著"},{"$f":"分類順!E2371","v":"診断と治療社"},{"$f":"分類順!F2371","v":956},"もしも１００人の糖尿病村があったら医療の本Vc：糖尿病坂根　直樹　著診断と治療社",1,{"$f":"VLOOKUP(\"*\"&目次加工!$B$2&\"*\",J2372:K2372,2,0)","v":1},{"$f":"VLOOKUP(\"*\"&$A$2&\"*\",J2372:K2372,2,0)","v":{"$error":"#N/A"}}]
[null,null,null,{"$f":"分類順!A2372","v":"自信がもてる食事療法のコツ"},{"$f":"分類順!B2372","v":"医療の本"},{"$f":"分類順!C2372","v":"Vc：糖尿病"},{"$f":"分類順!D2372","v":"坂根　直樹"},{"$f":"分類順!E2372","v":"診断と治療社"},{"$f":"分類順!F2372","v":958},"自信がもてる食事療法のコツ医療の本Vc：糖尿病坂根　直樹診断と治療社",1,{"$f":"VLOOKUP(\"*\"&目次加工!$B$2&\"*\",J2373:K2373,2,0)","v":1},{"$error":"#N/A"}]
[null,null,null,{"$f":"分類順!A2373","v":"糖尿病"},{"$f":"分類順!B2373","v":"医療の本"},{"$f":"分類順!C2373","v":"Vc：糖尿病"},{"$f":"分類順!D2373","v":"加藤　光敏;加藤　則子"},{"$f":"分類順!E2373","v":"日本医学館"},{"$f":"分類順!F2373","v":960},"糖尿病医療の本Vc：糖尿病加藤　光敏;加藤　則子日本医学館",1,{"$f":"VLOOKUP(\"*\"&目次加工!$B$2&\"*\",J2374:K2374,2,0)","v":1},{"$error":"#N/A"}]
[null,null,null,{"$f":"分類順!A2374","v":"糖尿病 病気の本質、危険信号、検査法　新版"},{"$f":"分類順!B2374","v":"医療の本"},{"$f":"分類順!C2374","v":"Vc：糖尿病"},{"$f":"分類順!D2374","v":"鈴木　吉彦"},{"$f":"分類順!E2374","v":"主婦の友社"},{"$f":"分類順!F2374","v":961},"糖尿病 病気の本質、危険信号、検査法　新版医療の本Vc：糖尿病鈴木　吉彦主婦の友社",1,{"$f":"VLOOKUP(\"*\"&目次加工!$B$2&\"*\",J2375:K2375,2,0)","v":1},{"$error":"#N/A"}]
[null,null,null,{"$f":"分類順!A2375","v":"糖尿病の食事療法　第２版"},{"$f":"分類順!B2375","v":"医療の本"},{"$f":"分類順!C2375","v":"Vc：糖尿病"},{"$f":"分類順!D2375","v":"医歯薬出版　編"},{"$f":"分類順!E2375","v":"医歯薬出版"},{"$f":"分類順!F2375","v":962},"糖尿病の食事療法　第２版医療の本Vc：糖尿病医歯薬出版　編医歯薬出版",1,{"$f":"VLOOKUP(\"*\"&目次加工!$B$2&\"*\",J2376:K2376,2,0)","v":1},{"$error":"#N/A"}]
[null,null,null,{"$f":"分類順!A2376","v":"糖尿病はこうして防ぐ、治す イラスト版"},{"$f":"分類順!B2376","v":"医療の本"},{"$f":"分類順!C2376","v":"Vc：糖尿病"},{"$f":"分類順!D2376","v":"河盛　隆造"},{"$f":"分類順!E2376","v":"講談社"},{"$f":"分類順!F2376","v":964},"糖尿病はこうして防ぐ、治す イラスト版医療の本Vc：糖尿病河盛　隆造講談社",1,{"$f":"VLOOKUP(\"*\"&目次加工!$B$2&\"*\",J2377:K2377,2,0)","v":1},{"$error":"#N/A"}]
[null,null,null,{"$f":"分類順!A2377","v":"やさしいインスリン治療の自己管理　改訂版"},{"$f":"分類順!B2377","v":"医療の本"},{"$f":"分類順!C2377","v":"Vc：糖尿病"},{"$f":"分類順!D2377","v":"松澤　佑次　監"},{"$f":"分類順!E2377","v":"医薬ジャーナル社"},{"$f":"分類順!F2377","v":968},"やさしいインスリン治療の自己管理　改訂版医療の本Vc：糖尿病松澤　佑次　監医薬ジャーナル社",1,{"$f":"VLOOKUP(\"*\"&目次加工!$B$2&\"*\",J2378:K2378,2,0)","v":1},{"$error":"#N/A"}]
[null,null,null,{"$f":"分類順!A2378","v":"やさしい糖尿病食の献立と料理　腎症予防の"},{"$f":"分類順!B2378","v":"医療の本"},{"$f":"分類順!C2378","v":"Vc：糖尿病"},{"$f":"分類順!D2378","v":"穐山　道子　他編"},{"$f":"分類順!E2378","v":"医薬ジャーナル社"},{"$f":"分類順!F2378","v":971},"やさしい糖尿病食の献立と料理　腎症予防の医療の本Vc：糖尿病穐山　道子　他編医薬ジャーナル社",1,{"$f":"VLOOKUP(\"*\"&目次加工!$B$2&\"*\",J2379:K2379,2,0)","v":1},{"$error":"#N/A"}]
[null,null,null,{"$f":"分類順!A2379","v":"糖尿病の食事をつくる本　新版"},{"$f":"分類順!B2379","v":"医療の本"},{"$f":"分類順!C2379","v":"Vc：糖尿病"},{"$f":"分類順!D2379","v":"鈴木　吉彦　著"},{"$f":"分類順!E2379","v":"主婦の友社"},{"$f":"分類順!F2379","v":973},"糖尿病の食事をつくる本　新版医療の本Vc：糖尿病鈴木　吉彦　著主婦の友社",1,{"$f":"VLOOKUP(\"*\"&目次加工!$B$2&\"*\",J2380:K2380,2,0)","v":1},{"$error":"#N/A"}]
[null,null,null,{"$f":"分類順!A2380","v":"糖尿病の人の朝昼夕献立カレンダー　改新"},{"$f":"分類順!B2380","v":"医療の本"},{"$f":"分類順!C2380","v":"Vc：糖尿病"},{"$f":"分類順!D2380","v":"香川　芳子　監"},{"$f":"分類順!E2380","v":"女子栄養大学出版部"},{"$f":"分類順!F2380","v":974},"糖尿病の人の朝昼夕献立カレンダー　改新医療の本Vc：糖尿病香川　芳子　監女子栄養大学出版部",1,{"$f":"VLOOKUP(\"*\"&目次加工!$B$2&\"*\",J2381:K2381,2,0)","v":1},{"$error":"#N/A"}]
[null,null,null,{"$f":"分類順!A2381","v":"糖尿病食事療法のための食品交換表 第６版"},{"$f":"分類順!B2381","v":"医療の本"},{"$f":"分類順!C2381","v":"Vc：糖尿病"},{"$f":"分類順!D2381","v":"日本糖尿病学会"},{"$f":"分類順!E2381","v":"文光堂"},{"$f":"分類順!F2381","v":977},"糖尿病食事療法のための食品交換表 第６版医療の本Vc：糖尿病日本糖尿病学会文光堂",1,{"$f":"VLOOKUP(\"*\"&目次加工!$B$2&\"*\",J2382:K2382,2,0)","v":1},{"$error":"#N/A"}]
[null,null,null,{"$f":"分類順!A2382","v":"糖尿病食事療法のための食品交換表 活用編"},{"$f":"分類順!B2382","v":"医療の本"},{"$f":"分類順!C2382","v":"Vc：糖尿病"},{"$f":"分類順!D2382","v":"日本糖尿病学会"},{"$f":"分類順!E2382","v":"文光堂"},{"$f":"分類順!F2382","v":978},"糖尿病食事療法のための食品交換表 活用編医療の本Vc：糖尿病日本糖尿病学会文光堂",1,{"$f":"VLOOKUP(\"*\"&目次加工!$B$2&\"*\",J2383:K2383,2,0)","v":1},{"$error":"#N/A"}]
[null,null,null,{"$f":"分類順!A2383","v":"糖尿病性腎症の食品交換表 第２版"},{"$f":"分類順!B2383","v":"医療の本"},{"$f":"分類順!C2383","v":"Vc：糖尿病"},{"$f":"分類順!D2383","v":"日本糖尿病学会"},{"$f":"分類順!E2383","v":"文光堂"},{"$f":"分類順!F2383","v":979},"糖尿病性腎症の食品交換表 第２版医療の本Vc：糖尿病日本糖尿病学会文光堂",1,{"$f":"VLOOKUP(\"*\"&目次加工!$B$2&\"*\",J2384:K2384,2,0)","v":1},{"$error":"#N/A"}]
[null,null,null,{"$f":"分類順!A2384","v":"別冊「プラクティス」糖尿病の生活支援Q＆A 看護と食事療法のポイント"},{"$f":"分類順!B2384","v":"医療の本"},{"$f":"分類順!C2384","v":"Vc：糖尿病"},{"$f":"分類順!D2384","v":"(社)日本糖尿病協会"},{"$f":"分類順!E2384","v":"医歯薬出版"},{"$f":"分類順!F2384","v":980},"別冊「プラクティス」糖尿病の生活支援Q＆A 看護と食事療法のポイント医療の本Vc：糖尿病(社)日本糖尿病協会医歯薬出版",1,{"$f":"VLOOKUP(\"*\"&目次加工!$B$2&\"*\",J2385:K2385,2,0)","v":1},{"$error":"#N/A"}]
[null,null,null,{"$f":"分類順!A2385","v":"やさしい糖尿病の外食のコツと心得　改訂版"},{"$f":"分類順!B2385","v":"医療の本"},{"$f":"分類順!C2385","v":"Vc：糖尿病"},{"$f":"分類順!D2385","v":"山崎　義光　他編著"},{"$f":"分類順!E2385","v":"医薬ジャーナル社"},{"$f":"分類順!F2385","v":1022},"やさしい糖尿病の外食のコツと心得　改訂版医療の本Vc：糖尿病山崎　義光　他編著医薬ジャーナル社",1,{"$f":"VLOOKUP(\"*\"&目次加工!$B$2&\"*\",J2386:K2386,2,0)","v":1},{"$error":"#N/A"}]
[null,null,null,{"$f":"分類順!A2386","v":"新外食料理のしおり"},{"$f":"分類順!B2386","v":"医療の本"},{"$f":"分類順!C2386","v":"Vc：糖尿病"},{"$f":"分類順!D2386","v":"大阪糖尿病協会顧問栄養士会"},{"$f":"分類順!E2386","v":"赤坂印刷"},{"$f":"分類順!F2386","v":5315},{"$f":"D2387&E2387&F2387&G2387&H2387","v":"新外食料理のしおり医療の本Vc：糖尿病大阪糖尿病協会顧問栄養士会赤坂印刷"},1,{"$f":"VLOOKUP(\"*\"&目次加工!$B$2&\"*\",J2387:K2387,2,0)","v":1},{"$error":"#N/A"}]
[null,null,null,{"$f":"分類順!A2387","v":"マンガでわかる生活習慣病　糖尿病をやっつけろ！"},{"$f":"分類順!B2387","v":"医療の本"},{"$f":"分類順!C2387","v":"Vc：糖尿病"},{"$f":"分類順!D2387","v":"加来浩平"},{"$f":"分類順!E2387","v":"武田薬品工業"},{"$f":"分類順!F2387","v":5322},"マンガでわかる生活習慣病　糖尿病をやっつけろ！医療の本Vc：糖尿病加来浩平武田薬品工業",1,{"$f":"VLOOKUP(\"*\"&目次加工!$B$2&\"*\",J2388:K2388,2,0)","v":1},{"$error":"#N/A"}]
[null,null,null,{"$f":"分類順!A2388","v":"糖尿病患者のためのカーボフラッシュカード"},{"$f":"分類順!B2388","v":"医療の本"},{"$f":"分類順!C2388","v":"Vc：糖尿病"},{"$f":"分類順!D2388","v":"川村智行"},{"$f":"分類順!E2388","v":"医療ジャーナル社"},{"$f":"分類順!F2388","v":5665},"糖尿病患者のためのカーボフラッシュカード医療の本Vc：糖尿病川村智行医療ジャーナル社",1,{"$f":"VLOOKUP(\"*\"&目次加工!$B$2&\"*\",J2389:K2389,2,0)","v":1},{"$error":"#N/A"}]
[null,null,null,{"$f":"分類順!A2389","v":"チャートで学ぶ糖尿病と合併症"},{"$f":"分類順!B2389","v":"医療の本"},{"$f":"分類順!C2389","v":"Vc：糖尿病"},{"$f":"分類順!D2389","v":"細井雅之"},{"$f":"分類順!E2389","v":"メディカ出版"},{"$f":"分類順!F2389","v":5666},"チャートで学ぶ糖尿病と合併症医療の本Vc：糖尿病細井雅之メディカ出版",1,{"$f":"VLOOKUP(\"*\"&目次加工!$B$2&\"*\",J2390:K2390,2,0)","v":1},{"$error":"#N/A"}]
[null,null,null,{"$f":"分類順!A2390","v":"１型糖尿病[IDDM]お役立ちマニュアル インスリンとともに生きる"},{"$f":"分類順!B2390","v":"医療の本"},{"$f":"分類順!C2390","v":"Vc：糖尿病"},{"$f":"分類順!D2390","v":"日本ＩＤＤＭネットワーク"},{"$f":"分類順!E2390","v":"日本IDDMネットワーク"},{"$f":"分類順!F2390","v":5667},"１型糖尿病[IDDM]お役立ちマニュアル インスリンとともに生きる医療の本Vc：糖尿病日本ＩＤＤＭネットワーク日本IDDMネットワーク",1,{"$f":"VLOOKUP(\"*\"&目次加工!$B$2&\"*\",J2391:K2391,2,0)","v":1},{"$error":"#N/A"}]
[null,null,null,{"$f":"分類順!A2391","v":"１型糖尿病[IDDM]お役立ちマニュアル 災害対応編"},{"$f":"分類順!B2391","v":"医療の本"},{"$f":"分類順!C2391","v":"Vc：糖尿病"},{"$f":"分類順!D2391","v":"日本ＩＤＤＭネットワーク"},{"$f":"分類順!E2391","v":"日本IDDMネットワーク"},{"$f":"分類順!F2391","v":5668},"１型糖尿病[IDDM]お役立ちマニュアル 災害対応編医療の本Vc：糖尿病日本ＩＤＤＭネットワーク日本IDDMネットワーク",1,{"$f":"VLOOKUP(\"*\"&目次加工!$B$2&\"*\",J2392:K2392,2,0)","v":1},{"$error":"#N/A"}]
[null,null,null,{"$f":"分類順!A2392","v":"病気がみえる　③：糖尿病・代謝・内分泌　第2版"},{"$f":"分類順!B2392","v":"医療の本"},{"$f":"分類順!C2392","v":"Vc：糖尿病"},{"$f":"分類順!D2392","v":0},{"$f":"分類順!E2392","v":"メディックメディア"},{"$f":"分類順!F2392","v":8003},"病気がみえる　③：糖尿病・代謝・内分泌　第2版医療の本Vc：糖尿病0メディックメディア",1,{"$f":"VLOOKUP(\"*\"&目次加工!$B$2&\"*\",J2393:K2393,2,0)","v":1},1]
[null,null,null,{"$f":"分類順!A2393","v":"やさしい食後高血糖の自己管理"},{"$f":"分類順!B2393","v":"医療の本"},{"$f":"分類順!C2393","v":"Vc：糖尿病"},{"$f":"分類順!D2393","v":"加来浩平　編"},{"$f":"分類順!E2393","v":"医薬ジャーナル社"},{"$f":"分類順!F2393","v":8021},"やさしい食後高血糖の自己管理医療の本Vc：糖尿病加来浩平　編医薬ジャーナル社",1,{"$f":"VLOOKUP(\"*\"&目次加工!$B$2&\"*\",J2394:K2394,2,0)","v":1},{"$error":"#N/A"}]
[null,null,null,{"$f":"分類順!A2394","v":"やさしい糖尿病の外食のコツと心得　改訂版"},{"$f":"分類順!B2394","v":"医療の本"},{"$f":"分類順!C2394","v":"Vc：糖尿病"},{"$f":"分類順!D2394","v":"山崎義光　他編著"},{"$f":"分類順!E2394","v":"医薬ジャーナル社"},{"$f":"分類順!F2394","v":8030},"やさしい糖尿病の外食のコツと心得　改訂版医療の本Vc：糖尿病山崎義光　他編著医薬ジャーナル社",1,{"$f":"VLOOKUP(\"*\"&目次加工!$B$2&\"*\",J2395:K2395,2,0)","v":1},{"$error":"#N/A"}]
[null,null,null,{"$f":"分類順!A2395","v":"最新版　よくわかる　血糖値を下げる基本の食事"},{"$f":"分類順!B2395","v":"医療の本"},{"$f":"分類順!C2395","v":"Vc：糖尿病"},{"$f":"分類順!D2395","v":"監修 松葉育郎、忍田聡子"},{"$f":"分類順!E2395","v":"主婦の友社"},{"$f":"分類順!F2395","v":8085},"最新版　よくわかる　血糖値を下げる基本の食事医療の本Vc：糖尿病監修 松葉育郎、忍田聡子主婦の友社",1,{"$f":"VLOOKUP(\"*\"&目次加工!$B$2&\"*\",J2396:K2396,2,0)","v":1},{"$error":"#N/A"}]
[null,null,null,{"$f":"分類順!A2396","v":"専門医が治す！糖尿病"},{"$f":"分類順!B2396","v":"医療の本"},{"$f":"分類順!C2396","v":"Vc：糖尿病"},{"$f":"分類順!D2396","v":"東京女子医科大学糖尿病センター/編"},{"$f":"分類順!E2396","v":"高橋書店"},{"$f":"分類順!F2396","v":8087},"専門医が治す！糖尿病医療の本Vc：糖尿病東京女子医科大学糖尿病センター/編高橋書店",1,{"$f":"VLOOKUP(\"*\"&目次加工!$B$2&\"*\",J2397:K2397,2,0)","v":1},{"$error":"#N/A"}]
[null,null,null,{"$f":"分類順!A2397","v":"インフォームドコンセントのための図説シリーズ　糖尿病のフットケア"},{"$f":"分類順!B2397","v":"医療の本"},{"$f":"分類順!C2397","v":"Vc：糖尿病"},{"$f":"分類順!D2397","v":"門脇孝[ほか]編集"},{"$f":"分類順!E2397","v":"医薬ジャーナル社"},{"$f":"分類順!F2397","v":8105},"インフォームドコンセントのための図説シリーズ　糖尿病のフットケア医療の本Vc：糖尿病門脇孝[ほか]編集医薬ジャーナル社",1,{"$f":"VLOOKUP(\"*\"&目次加工!$B$2&\"*\",J2398:K2398,2,0)","v":1},{"$error":"#N/A"}]
[null,null,null,{"$f":"分類順!A2398","v":"60歳からの糖尿病　（よくわかる最新医学）"},{"$f":"分類順!B2398","v":"医療の本"},{"$f":"分類順!C2398","v":"Vc：糖尿病"},{"$f":"分類順!D2398","v":"阪本要一"},{"$f":"分類順!E2398","v":"主婦の友社"},{"$f":"分類順!F2398","v":8109},"60歳からの糖尿病　（よくわかる最新医学）医療の本Vc：糖尿病阪本要一主婦の友社",1,{"$f":"VLOOKUP(\"*\"&目次加工!$B$2&\"*\",J2399:K2399,2,0)","v":1},1]
[null,null,null,{"$f":"分類順!A2399","v":"糖尿病　ビジュアルガイド"},{"$f":"分類順!B2399","v":"医療の本"},{"$f":"分類順!C2399","v":"Vc：糖尿病"},{"$f":"分類順!D2399","v":"石井　均"},{"$f":"分類順!E2399","v":"医歯薬出版"},{"$f":"分類順!F2399","v":8120},"糖尿病　ビジュアルガイド医療の本Vc：糖尿病石井　均医歯薬出版",1,{"$f":"VLOOKUP(\"*\"&目次加工!$B$2&\"*\",J2400:K2400,2,0)","v":1},{"$error":"#N/A"}]
[null,null,null,{"$f":"分類順!A2400","v":"病気がみえる　№３　糖尿病・代謝・内分泌"},{"$f":"分類順!B2400","v":"医療の本"},{"$f":"分類順!C2400","v":"Vc：糖尿病"},{"$f":"分類順!D2400","v":"メディックメディア"},{"$f":"分類順!E2400","v":"メディックメディア"},{"$f":"分類順!F2400","v":10031},"病気がみえる　№３　糖尿病・代謝・内分泌医療の本Vc：糖尿病メディックメディアメディックメディア",1,{"$f":"VLOOKUP(\"*\"&目次加工!$B$2&\"*\",J2401:K2401,2,0)","v":1},{"$error":"#N/A"}]
[null,null,null,{"$f":"分類順!A2401","v":"1型糖尿病の治療マニュアル"},{"$f":"分類順!B2401","v":"医療の本"},{"$f":"分類順!C2401","v":"Vc：糖尿病"},{"$f":"分類順!D2401","v":"丸山太郎"},{"$f":"分類順!E2401","v":"南江堂"},{"$f":"分類順!F2401","v":10086},"1型糖尿病の治療マニュアル医療の本Vc：糖尿病丸山太郎南江堂",1,{"$f":"VLOOKUP(\"*\"&目次加工!$B$2&\"*\",J2402:K2402,2,0)","v":1},{"$error":"#N/A"}]
[null,null,null,{"$f":"分類順!A2402","v":"かんたんカーボカウント"},{"$f":"分類順!B2402","v":"医療の本"},{"$f":"分類順!C2402","v":"Vc：糖尿病"},{"$f":"分類順!D2402","v":"大阪市立大学"},{"$f":"分類順!E2402","v":"医療ジャーナル社"},{"$f":"分類順!F2402","v":10087},"かんたんカーボカウント医療の本Vc：糖尿病大阪市立大学医療ジャーナル社",1,{"$f":"VLOOKUP(\"*\"&目次加工!$B$2&\"*\",J2403:K2403,2,0)","v":1},{"$error":"#N/A"}]
[null,null,null,{"$f":"分類順!A2403","v":"糖尿病食事療法のための食品交換表　第7版"},{"$f":"分類順!B2403","v":"医療の本"},{"$f":"分類順!C2403","v":"Vc：糖尿病"},{"$f":"分類順!D2403","v":"日本糖尿病学会"},{"$f":"分類順!E2403","v":"文光堂"},{"$f":"分類順!F2403","v":10189},"糖尿病食事療法のための食品交換表　第7版医療の本Vc：糖尿病日本糖尿病学会文光堂",1,{"$f":"VLOOKUP(\"*\"&目次加工!$B$2&\"*\",J2404:K2404,2,0)","v":1},{"$error":"#N/A"}]
[null,null,null,{"$f":"分類順!A2404","v":"糖尿病 最新治療・最新薬"},{"$f":"分類順!B2404","v":"医療の本"},{"$f":"分類順!C2404","v":"Vc：糖尿病"},{"$f":"分類順!D2404","v":"鈴木 吉彦"},{"$f":"分類順!E2404","v":"主婦の友社"},{"$f":"分類順!F2404","v":10190},"糖尿病 最新治療・最新薬医療の本Vc：糖尿病鈴木 吉彦主婦の友社",1,{"$f":"VLOOKUP(\"*\"&目次加工!$B$2&\"*\",J2405:K2405,2,0)","v":1},{"$error":"#N/A"}]
[null,null,null,{"$f":"分類順!A2405","v":"糖尿病食事療法のための食品交換表 活用編―献立例とその実践　第２版"},{"$f":"分類順!B2405","v":"医療の本"},{"$f":"分類順!C2405","v":"Vc：糖尿病"},{"$f":"分類順!D2405","v":"日本糖尿病学会"},{"$f":"分類順!E2405","v":"文光堂"},{"$f":"分類順!F2405","v":10291},"糖尿病食事療法のための食品交換表 活用編―献立例とその実践　第２版医療の本Vc：糖尿病日本糖尿病学会文光堂",1,{"$f":"VLOOKUP(\"*\"&目次加工!$B$2&\"*\",J2406:K2406,2,0)","v":1},{"$error":"#N/A"}]
[null,null,null,{"$f":"分類順!A2406","v":"筑波大学附属病院とクックパッドのおいしく治す「糖尿病食」"},{"$f":"分類順!B2406","v":"医療の本"},{"$f":"分類順!C2406","v":"Vc：糖尿病"},{"$f":"分類順!D2406","v":"屋作直也"},{"$f":"分類順!E2406","v":"講談社"},{"$f":"分類順!F2406","v":10292},"筑波大学附属病院とクックパッドのおいしく治す「糖尿病食」医療の本Vc：糖尿病屋作直也講談社",1,{"$f":"VLOOKUP(\"*\"&目次加工!$B$2&\"*\",J2407:K2407,2,0)","v":1},{"$error":"#N/A"}]
[null,null,null,{"$f":"分類順!A2407","v":"糖尿病治療ガイド 2014ー2015"},{"$f":"分類順!B2407","v":"医療の本"},{"$f":"分類順!C2407","v":"Vc：糖尿病"},{"$f":"分類順!D2407","v":"文光堂"},{"$f":"分類順!E2407","v":"文光堂"},{"$f":"分類順!F2407","v":10293},"糖尿病治療ガイド 2014ー2015医療の本Vc：糖尿病文光堂文光堂",1,{"$f":"VLOOKUP(\"*\"&目次加工!$B$2&\"*\",J2408:K2408,2,0)","v":1},1]
[null,null,null,{"$f":"分類順!A2408","v":"病気がみえる③糖尿病・代謝・内分泌　第4版"},{"$f":"分類順!B2408","v":"医療の本"},{"$f":"分類順!C2408","v":"Vc：糖尿病"},{"$f":"分類順!D2408","v":"メデックメディア"},{"$f":"分類順!E2408","v":"メディックメディア"},{"$f":"分類順!F2408","v":10372},"病気がみえる③糖尿病・代謝・内分泌　第4版医療の本Vc：糖尿病メデックメディアメディックメディア",1,{"$f":"VLOOKUP(\"*\"&目次加工!$B$2&\"*\",J2409:K2409,2,0)","v":1},{"$error":"#N/A"}]
[null,null,null,{"$f":"分類順!A2409","v":"糖尿病の人の献立カレンダー　朝昼夕（３）"},{"$f":"分類順!B2409","v":"医療の本"},{"$f":"分類順!C2409","v":"Vc：糖尿病"},{"$f":"分類順!D2409","v":"香川芳子"},{"$f":"分類順!E2409","v":"女子栄養大学出版部"},{"$f":"分類順!F2409","v":10488},"糖尿病の人の献立カレンダー　朝昼夕（３）医療の本Vc：糖尿病香川芳子女子栄養大学出版部",1,{"$f":"VLOOKUP(\"*\"&目次加工!$B$2&\"*\",J2410:K2410,2,0)","v":1},{"$error":"#N/A"}]
[null,null,null,{"$f":"分類順!A2410","v":"病気がみえるvol.3　糖尿病・代謝・内分泌　第4版"},{"$f":"分類順!B2410","v":"医療の本"},{"$f":"分類順!C2410","v":"Vc：糖尿病"},{"$f":"分類順!D2410","v":"医療情報科学研究所"},{"$f":"分類順!E2410","v":"メディックメディア"},{"$f":"分類順!F2410","v":10534},"病気がみえるvol.3　糖尿病・代謝・内分泌　第4版医療の本Vc：糖尿病医療情報科学研究所メディックメディア",1,{"$f":"VLOOKUP(\"*\"&目次加工!$B$2&\"*\",J2411:K2411,2,0)","v":1},{"$error":"#N/A"}]
[null,null,null,{"$f":"分類順!A2411","v":"DVD"},{"$f":"分類順!B2411","v":"目次へ"},{"$f":"分類順!C2411","v":"※PDF版ではリンクしておりません。"},{"$f":"分類順!D2411","v":0},{"$f":"分類順!E2411","v":0},{"$f":"分類順!F2411","v":0},"DVD目次へ※PDF版ではリンクしておりません。00",1,{"$f":"VLOOKUP(\"*\"&目次加工!$B$2&\"*\",J2412:K2412,2,0)","v":1},1]
[null,null,null,{"$f":"分類順!A2412","v":"ガン・完全治療の法則"},{"$f":"分類順!B2412","v":"医療の本"},{"$f":"分類順!C2412","v":"Z：DVD"},{"$f":"分類順!D2412","v":"川竹文夫"},{"$f":"分類順!E2412","v":"人間出版"},{"$f":"分類順!F2412","v":5535},"ガン・完全治療の法則医療の本Z：DVD川竹文夫人間出版",1,{"$f":"VLOOKUP(\"*\"&目次加工!$B$2&\"*\",J2413:K2413,2,0)","v":1},{"$error":"#N/A"}]
[null,null,null,{"$f":"分類順!A2413","v":"生命を継ぐ物語　皇帝ペンギン"},{"$f":"分類順!B2413","v":"一般図書"},{"$f":"分類順!C2413","v":"Z：DVD"},{"$f":"分類順!D2413","v":0},{"$f":"分類順!E2413","v":"ギャガ・コミュニケーションズ"},{"$f":"分類順!F2413","v":5546},"生命を継ぐ物語　皇帝ペンギン一般図書Z：DVD0ギャガ・コミュニケーションズ",1,{"$f":"VLOOKUP(\"*\"&目次加工!$B$2&\"*\",J2414:K2414,2,0)","v":1},1]
[null,null,null,{"$f":"分類順!A2414","v":"こんなに大切！抗がん剤治療とうまく付き合う「口腔ケア」"},{"$f":"分類順!B2414","v":"医療の本"},{"$f":"分類順!C2414","v":"Z：DVD"},{"$f":"分類順!D2414","v":"大田洋二郎"},{"$f":"分類順!E2414","v":"武田薬品工業"},{"$f":"分類順!F2414","v":10123},"こんなに大切！抗がん剤治療とうまく付き合う「口腔ケア」医療の本Z：DVD大田洋二郎武田薬品工業",1,{"$f":"VLOOKUP(\"*\"&目次加工!$B$2&\"*\",J2415:K2415,2,0)","v":1},{"$error":"#N/A"}]
[null,null,null,{"$f":"分類順!A2415","v":"病気のこと子どもに伝える？伝えない？～迷っているあなたへ～"},{"$f":"分類順!B2415","v":"医療の本"},{"$f":"分類順!C2415","v":"Z：DVD"},{"$f":"分類順!D2415","v":"福田護"},{"$f":"分類順!E2415","v":"武田薬品工業"},{"$f":"分類順!F2415","v":10124},"病気のこと子どもに伝える？伝えない？～迷っているあなたへ～医療の本Z：DVD福田護武田薬品工業",1,{"$f":"VLOOKUP(\"*\"&目次加工!$B$2&\"*\",J2416:K2416,2,0)","v":1},{"$error":"#N/A"}]
[null,null,null,{"$f":"分類順!A2416","v":"これならできる！感染予防～抗がん剤治療を乗りきるために～"},{"$f":"分類順!B2416","v":"医療の本"},{"$f":"分類順!C2416","v":"Z：DVD"},{"$f":"分類順!D2416","v":"辻村秀樹"},{"$f":"分類順!E2416","v":"武田薬品工業"},{"$f":"分類順!F2416","v":10125},"これならできる！感染予防～抗がん剤治療を乗りきるために～医療の本Z：DVD辻村秀樹武田薬品工業",1,{"$f":"VLOOKUP(\"*\"&目次加工!$B$2&\"*\",J2417:K2417,2,0)","v":1},{"$error":"#N/A"}]
[null,null,null,{"$f":"分類順!A2417","v":"もう怖くない！抗がん剤の吐き気は、ここまで予防できる"},{"$f":"分類順!B2417","v":"医療の本"},{"$f":"分類順!C2417","v":"Z：DVD"},{"$f":"分類順!D2417","v":"中村清吾"},{"$f":"分類順!E2417","v":"武田薬品工業"},{"$f":"分類順!F2417","v":10126},"もう怖くない！抗がん剤の吐き気は、ここまで予防できる医療の本Z：DVD中村清吾武田薬品工業",1,{"$f":"VLOOKUP(\"*\"&目次加工!$B$2&\"*\",J2418:K2418,2,0)","v":1},{"$error":"#N/A"}]
[null,null,null,{"$f":"分類順!A2418","v":0},{"$f":"分類順!B2418","v":0},{"$f":"分類順!C2418","v":0},{"$f":"分類順!D2418","v":0},{"$f":"分類順!E2418","v":0},{"$f":"分類順!F2418","v":0},"00000",1,{"$f":"VLOOKUP(\"*\"&目次加工!$B$2&\"*\",J2419:K2419,2,0)","v":1},1]
[null,null,null,{"$f":"分類順!A2419","v":0},{"$f":"分類順!B2419","v":0},{"$f":"分類順!C2419","v":0},{"$f":"分類順!D2419","v":0},{"$f":"分類順!E2419","v":0},{"$f":"分類順!F2419","v":0},"00000",1,{"$f":"VLOOKUP(\"*\"&目次加工!$B$2&\"*\",J2420:K2420,2,0)","v":1},1]
[null,null,null,{"$f":"分類順!A2420","v":0},{"$f":"分類順!B2420","v":0},{"$f":"分類順!C2420","v":0},{"$f":"分類順!D2420","v":0},{"$f":"分類順!E2420","v":0},{"$f":"分類順!F2420","v":0},"00000",1,{"$f":"VLOOKUP(\"*\"&目次加工!$B$2&\"*\",J2421:K2421,2,0)","v":1},1]
[null,null,null,{"$f":"分類順!A2421","v":0},{"$f":"分類順!B2421","v":0},{"$f":"分類順!C2421","v":0},{"$f":"分類順!D2421","v":0},{"$f":"分類順!E2421","v":0},{"$f":"分類順!F2421","v":0},"00000",1,{"$f":"VLOOKUP(\"*\"&目次加工!$B$2&\"*\",J2422:K2422,2,0)","v":1},1]
[null,null,null,{"$f":"分類順!A2422","v":0},{"$f":"分類順!B2422","v":0},{"$f":"分類順!C2422","v":0},{"$f":"分類順!D2422","v":0},{"$f":"分類順!E2422","v":0},{"$f":"分類順!F2422","v":0},"00000",1,{"$f":"VLOOKUP(\"*\"&目次加工!$B$2&\"*\",J2423:K2423,2,0)","v":1},1]
[null,null,null,{"$f":"分類順!A2423","v":0},{"$f":"分類順!B2423","v":0},{"$f":"分類順!C2423","v":0},{"$f":"分類順!D2423","v":0},{"$f":"分類順!E2423","v":0},{"$f":"分類順!F2423","v":0},"00000",1,{"$f":"VLOOKUP(\"*\"&目次加工!$B$2&\"*\",J2424:K2424,2,0)","v":1},1]
[null,null,null,{"$f":"分類順!A2424","v":0},{"$f":"分類順!B2424","v":0},{"$f":"分類順!C2424","v":0},{"$f":"分類順!D2424","v":0},{"$f":"分類順!E2424","v":0},{"$f":"分類順!F2424","v":0},"00000",1,{"$f":"VLOOKUP(\"*\"&目次加工!$B$2&\"*\",J2425:K2425,2,0)","v":1},1]
[null,null,null,{"$f":"分類順!A2425","v":0},{"$f":"分類順!B2425","v":0},{"$f":"分類順!C2425","v":0},{"$f":"分類順!D2425","v":0},{"$f":"分類順!E2425","v":0},{"$f":"分類順!F2425","v":0},"00000",1,{"$f":"VLOOKUP(\"*\"&目次加工!$B$2&\"*\",J2426:K2426,2,0)","v":1},1]
[null,null,null,{"$f":"分類順!A2426","v":0},{"$f":"分類順!B2426","v":0},{"$f":"分類順!C2426","v":0},{"$f":"分類順!D2426","v":0},{"$f":"分類順!E2426","v":0},{"$f":"分類順!F2426","v":0},"00000",1,{"$f":"VLOOKUP(\"*\"&目次加工!$B$2&\"*\",J2427:K2427,2,0)","v":1},1]
[null,null,null,{"$f":"分類順!A2427","v":0},{"$f":"分類順!B2427","v":0},{"$f":"分類順!C2427","v":0},{"$f":"分類順!D2427","v":0},{"$f":"分類順!E2427","v":0},{"$f":"分類順!F2427","v":0},"00000",1,{"$f":"VLOOKUP(\"*\"&目次加工!$B$2&\"*\",J2428:K2428,2,0)","v":1},1]
[null,null,null,{"$f":"分類順!A2428","v":0},{"$f":"分類順!B2428","v":0},{"$f":"分類順!C2428","v":0},{"$f":"分類順!D2428","v":0},{"$f":"分類順!E2428","v":0},{"$f":"分類順!F2428","v":0},"00000",1,{"$f":"VLOOKUP(\"*\"&目次加工!$B$2&\"*\",J2429:K2429,2,0)","v":1},1]
[null,null,null,{"$f":"分類順!A2429","v":0},{"$f":"分類順!B2429","v":0},{"$f":"分類順!C2429","v":0},{"$f":"分類順!D2429","v":0},{"$f":"分類順!E2429","v":0},{"$f":"分類順!F2429","v":0},"00000",1,{"$f":"VLOOKUP(\"*\"&目次加工!$B$2&\"*\",J2430:K2430,2,0)","v":1},1]
[null,null,null,{"$f":"分類順!A2430","v":0},{"$f":"分類順!B2430","v":0},{"$f":"分類順!C2430","v":0},{"$f":"分類順!D2430","v":0},{"$f":"分類順!E2430","v":0},{"$f":"分類順!F2430","v":0},"00000",1,{"$f":"VLOOKUP(\"*\"&目次加工!$B$2&\"*\",J2431:K2431,2,0)","v":1},1]
[null,null,null,{"$f":"分類順!A2431","v":0},{"$f":"分類順!B2431","v":0},{"$f":"分類順!C2431","v":0},{"$f":"分類順!D2431","v":0},{"$f":"分類順!E2431","v":0},{"$f":"分類順!F2431","v":0},"00000",1,{"$f":"VLOOKUP(\"*\"&目次加工!$B$2&\"*\",J2432:K2432,2,0)","v":1},1]
[null,null,null,{"$f":"分類順!A2432","v":0},{"$f":"分類順!B2432","v":0},{"$f":"分類順!C2432","v":0},{"$f":"分類順!D2432","v":0},{"$f":"分類順!E2432","v":0},{"$f":"分類順!F2432","v":0},"00000",1,{"$f":"VLOOKUP(\"*\"&目次加工!$B$2&\"*\",J2433:K2433,2,0)","v":1},1]
[null,null,null,{"$f":"分類順!A2433","v":0},{"$f":"分類順!B2433","v":0},{"$f":"分類順!C2433","v":0},{"$f":"分類順!D2433","v":0},{"$f":"分類順!E2433","v":0},{"$f":"分類順!F2433","v":0},"00000",1,{"$f":"VLOOKUP(\"*\"&目次加工!$B$2&\"*\",J2434:K2434,2,0)","v":1},1]
[null,null,null,{"$f":"分類順!A2434","v":0},{"$f":"分類順!B2434","v":0},{"$f":"分類順!C2434","v":0},{"$f":"分類順!D2434","v":0},{"$f":"分類順!E2434","v":0},{"$f":"分類順!F2434","v":0},"00000",1,{"$f":"VLOOKUP(\"*\"&目次加工!$B$2&\"*\",J2435:K2435,2,0)","v":1},1]
[null,null,null,{"$f":"分類順!A2435","v":0},{"$f":"分類順!B2435","v":0},{"$f":"分類順!C2435","v":0},{"$f":"分類順!D2435","v":0},{"$f":"分類順!E2435","v":0},{"$f":"分類順!F2435","v":0},"00000",1,{"$f":"VLOOKUP(\"*\"&目次加工!$B$2&\"*\",J2436:K2436,2,0)","v":1},{"$f":"VLOOKUP(\"*\"&$A$2&\"*\",J2436:K2436,2,0)","v":1}]
[null,null,null,{"$f":"分類順!A2436","v":0},{"$f":"分類順!B2436","v":0},{"$f":"分類順!C2436","v":0},{"$f":"分類順!D2436","v":0},{"$f":"分類順!E2436","v":0},{"$f":"分類順!F2436","v":0},"00000",1,{"$f":"VLOOKUP(\"*\"&目次加工!$B$2&\"*\",J2437:K2437,2,0)","v":1},1]
[null,null,null,{"$f":"分類順!A2437","v":0},{"$f":"分類順!B2437","v":0},{"$f":"分類順!C2437","v":0},{"$f":"分類順!D2437","v":0},{"$f":"分類順!E2437","v":0},{"$f":"分類順!F2437","v":0},"00000",1,{"$f":"VLOOKUP(\"*\"&目次加工!$B$2&\"*\",J2438:K2438,2,0)","v":1},1]
[null,null,null,{"$f":"分類順!A2438","v":0},{"$f":"分類順!B2438","v":0},{"$f":"分類順!C2438","v":0},{"$f":"分類順!D2438","v":0},{"$f":"分類順!E2438","v":0},{"$f":"分類順!F2438","v":0},"00000",1,{"$f":"VLOOKUP(\"*\"&目次加工!$B$2&\"*\",J2439:K2439,2,0)","v":1},1]
[null,null,null,{"$f":"分類順!A2439","v":0},{"$f":"分類順!B2439","v":0},{"$f":"分類順!C2439","v":0},{"$f":"分類順!D2439","v":0},{"$f":"分類順!E2439","v":0},{"$f":"分類順!F2439","v":0},"00000",1,{"$f":"VLOOKUP(\"*\"&目次加工!$B$2&\"*\",J2440:K2440,2,0)","v":1},1]
[null,null,null,{"$f":"分類順!A2440","v":0},{"$f":"分類順!B2440","v":0},{"$f":"分類順!C2440","v":0},{"$f":"分類順!D2440","v":0},{"$f":"分類順!E2440","v":0},{"$f":"分類順!F2440","v":0},"00000",1,{"$f":"VLOOKUP(\"*\"&目次加工!$B$2&\"*\",J2441:K2441,2,0)","v":1},1]
[null,null,null,{"$f":"分類順!A2441","v":0},{"$f":"分類順!B2441","v":0},{"$f":"分類順!C2441","v":0},{"$f":"分類順!D2441","v":0},{"$f":"分類順!E2441","v":0},{"$f":"分類順!F2441","v":0},"00000",1,{"$f":"VLOOKUP(\"*\"&目次加工!$B$2&\"*\",J2442:K2442,2,0)","v":1},1]
[null,null,null,{"$f":"分類順!A2442","v":0},{"$f":"分類順!B2442","v":0},{"$f":"分類順!C2442","v":0},{"$f":"分類順!D2442","v":0},{"$f":"分類順!E2442","v":0},{"$f":"分類順!F2442","v":0},"00000",1,{"$f":"VLOOKUP(\"*\"&目次加工!$B$2&\"*\",J2443:K2443,2,0)","v":1},1]
[null,null,null,{"$f":"分類順!A2443","v":0},{"$f":"分類順!B2443","v":0},{"$f":"分類順!C2443","v":0},{"$f":"分類順!D2443","v":0},{"$f":"分類順!E2443","v":0},{"$f":"分類順!F2443","v":0},"00000",1,{"$f":"VLOOKUP(\"*\"&目次加工!$B$2&\"*\",J2444:K2444,2,0)","v":1},1]
[null,null,null,{"$f":"分類順!A2444","v":0},{"$f":"分類順!B2444","v":0},{"$f":"分類順!C2444","v":0},{"$f":"分類順!D2444","v":0},{"$f":"分類順!E2444","v":0},{"$f":"分類順!F2444","v":0},"00000",1,{"$f":"VLOOKUP(\"*\"&目次加工!$B$2&\"*\",J2445:K2445,2,0)","v":1},1]
[null,null,null,{"$f":"分類順!A2445","v":0},{"$f":"分類順!B2445","v":0},{"$f":"分類順!C2445","v":0},{"$f":"分類順!D2445","v":0},{"$f":"分類順!E2445","v":0},{"$f":"分類順!F2445","v":0},"00000",1,{"$f":"VLOOKUP(\"*\"&目次加工!$B$2&\"*\",J2446:K2446,2,0)","v":1},1]
[null,null,null,{"$f":"分類順!A2446","v":0},{"$f":"分類順!B2446","v":0},{"$f":"分類順!C2446","v":0},{"$f":"分類順!D2446","v":0},{"$f":"分類順!E2446","v":0},{"$f":"分類順!F2446","v":0},"00000",1,{"$f":"VLOOKUP(\"*\"&目次加工!$B$2&\"*\",J2447:K2447,2,0)","v":1},1]
[null,null,null,{"$f":"分類順!A2447","v":0},{"$f":"分類順!B2447","v":0},{"$f":"分類順!C2447","v":0},{"$f":"分類順!D2447","v":0},{"$f":"分類順!E2447","v":0},{"$f":"分類順!F2447","v":0},"00000",1,{"$f":"VLOOKUP(\"*\"&目次加工!$B$2&\"*\",J2448:K2448,2,0)","v":1},1]
[null,null,null,{"$f":"分類順!A2448","v":0},{"$f":"分類順!B2448","v":0},{"$f":"分類順!C2448","v":0},{"$f":"分類順!D2448","v":0},{"$f":"分類順!E2448","v":0},{"$f":"分類順!F2448","v":0},"00000",1,{"$f":"VLOOKUP(\"*\"&目次加工!$B$2&\"*\",J2449:K2449,2,0)","v":1},1]
[null,null,null,{"$f":"分類順!A2449","v":0},{"$f":"分類順!B2449","v":0},{"$f":"分類順!C2449","v":0},{"$f":"分類順!D2449","v":0},{"$f":"分類順!E2449","v":0},{"$f":"分類順!F2449","v":0},"00000",1,{"$f":"VLOOKUP(\"*\"&目次加工!$B$2&\"*\",J2450:K2450,2,0)","v":1},1]
[null,null,null,{"$f":"分類順!A2450","v":0},{"$f":"分類順!B2450","v":0},{"$f":"分類順!C2450","v":0},{"$f":"分類順!D2450","v":0},{"$f":"分類順!E2450","v":0},{"$f":"分類順!F2450","v":0},{"$f":"D2451&E2451&F2451&G2451&H2451","v":"00000"},1,{"$f":"VLOOKUP(\"*\"&目次加工!$B$2&\"*\",J2451:K2451,2,0)","v":1},1]
[null,null,null,{"$f":"分類順!A2451","v":0},{"$f":"分類順!B2451","v":0},{"$f":"分類順!C2451","v":0},{"$f":"分類順!D2451","v":0},{"$f":"分類順!E2451","v":0},{"$f":"分類順!F2451","v":0},"00000",1,{"$f":"VLOOKUP(\"*\"&目次加工!$B$2&\"*\",J2452:K2452,2,0)","v":1},1]
[null,null,null,{"$f":"分類順!A2452","v":0},{"$f":"分類順!B2452","v":0},{"$f":"分類順!C2452","v":0},{"$f":"分類順!D2452","v":0},{"$f":"分類順!E2452","v":0},{"$f":"分類順!F2452","v":0},"00000",1,{"$f":"VLOOKUP(\"*\"&目次加工!$B$2&\"*\",J2453:K2453,2,0)","v":1},1]
[null,null,null,{"$f":"分類順!A2453","v":0},{"$f":"分類順!B2453","v":0},{"$f":"分類順!C2453","v":0},{"$f":"分類順!D2453","v":0},{"$f":"分類順!E2453","v":0},{"$f":"分類順!F2453","v":0},"00000",1,{"$f":"VLOOKUP(\"*\"&目次加工!$B$2&\"*\",J2454:K2454,2,0)","v":1},1]
[null,null,null,{"$f":"分類順!A2454","v":0},{"$f":"分類順!B2454","v":0},{"$f":"分類順!C2454","v":0},{"$f":"分類順!D2454","v":0},{"$f":"分類順!E2454","v":0},{"$f":"分類順!F2454","v":0},"00000",1,{"$f":"VLOOKUP(\"*\"&目次加工!$B$2&\"*\",J2455:K2455,2,0)","v":1},1]
[null,null,null,{"$f":"分類順!A2455","v":0},{"$f":"分類順!B2455","v":0},{"$f":"分類順!C2455","v":0},{"$f":"分類順!D2455","v":0},{"$f":"分類順!E2455","v":0},{"$f":"分類順!F2455","v":0},"00000",1,{"$f":"VLOOKUP(\"*\"&目次加工!$B$2&\"*\",J2456:K2456,2,0)","v":1},1]
[null,null,null,{"$f":"分類順!A2456","v":0},{"$f":"分類順!B2456","v":0},{"$f":"分類順!C2456","v":0},{"$f":"分類順!D2456","v":0},{"$f":"分類順!E2456","v":0},{"$f":"分類順!F2456","v":0},"00000",1,{"$f":"VLOOKUP(\"*\"&目次加工!$B$2&\"*\",J2457:K2457,2,0)","v":1},1]
[null,null,null,{"$f":"分類順!A2457","v":0},{"$f":"分類順!B2457","v":0},{"$f":"分類順!C2457","v":0},{"$f":"分類順!D2457","v":0},{"$f":"分類順!E2457","v":0},{"$f":"分類順!F2457","v":0},"00000",1,{"$f":"VLOOKUP(\"*\"&目次加工!$B$2&\"*\",J2458:K2458,2,0)","v":1},1]
[null,null,null,{"$f":"分類順!A2458","v":0},{"$f":"分類順!B2458","v":0},{"$f":"分類順!C2458","v":0},{"$f":"分類順!D2458","v":0},{"$f":"分類順!E2458","v":0},{"$f":"分類順!F2458","v":0},"00000",1,{"$f":"VLOOKUP(\"*\"&目次加工!$B$2&\"*\",J2459:K2459,2,0)","v":1},1]
[null,null,null,{"$f":"分類順!A2459","v":0},{"$f":"分類順!B2459","v":0},{"$f":"分類順!C2459","v":0},{"$f":"分類順!D2459","v":0},{"$f":"分類順!E2459","v":0},{"$f":"分類順!F2459","v":0},"00000",1,{"$f":"VLOOKUP(\"*\"&目次加工!$B$2&\"*\",J2460:K2460,2,0)","v":1},1]
[null,null,null,{"$f":"分類順!A2460","v":0},{"$f":"分類順!B2460","v":0},{"$f":"分類順!C2460","v":0},{"$f":"分類順!D2460","v":0},{"$f":"分類順!E2460","v":0},{"$f":"分類順!F2460","v":0},"00000",1,{"$f":"VLOOKUP(\"*\"&目次加工!$B$2&\"*\",J2461:K2461,2,0)","v":1},1]
[null,null,null,{"$f":"分類順!A2461","v":0},{"$f":"分類順!B2461","v":0},{"$f":"分類順!C2461","v":0},{"$f":"分類順!D2461","v":0},{"$f":"分類順!E2461","v":0},{"$f":"分類順!F2461","v":0},"00000",1,{"$f":"VLOOKUP(\"*\"&目次加工!$B$2&\"*\",J2462:K2462,2,0)","v":1},1]
[null,null,null,{"$f":"分類順!A2462","v":0},{"$f":"分類順!B2462","v":0},{"$f":"分類順!C2462","v":0},{"$f":"分類順!D2462","v":0},{"$f":"分類順!E2462","v":0},{"$f":"分類順!F2462","v":0},"00000",1,{"$f":"VLOOKUP(\"*\"&目次加工!$B$2&\"*\",J2463:K2463,2,0)","v":1},1]
[null,null,null,{"$f":"分類順!A2463","v":0},{"$f":"分類順!B2463","v":0},{"$f":"分類順!C2463","v":0},{"$f":"分類順!D2463","v":0},{"$f":"分類順!E2463","v":0},{"$f":"分類順!F2463","v":0},"00000",1,{"$f":"VLOOKUP(\"*\"&目次加工!$B$2&\"*\",J2464:K2464,2,0)","v":1},1]
[null,null,null,{"$f":"分類順!A2464","v":0},{"$f":"分類順!B2464","v":0},{"$f":"分類順!C2464","v":0},{"$f":"分類順!D2464","v":0},{"$f":"分類順!E2464","v":0},{"$f":"分類順!F2464","v":0},"00000",1,{"$f":"VLOOKUP(\"*\"&目次加工!$B$2&\"*\",J2465:K2465,2,0)","v":1},1]
[null,null,null,{"$f":"分類順!A2465","v":0},{"$f":"分類順!B2465","v":0},{"$f":"分類順!C2465","v":0},{"$f":"分類順!D2465","v":0},{"$f":"分類順!E2465","v":0},{"$f":"分類順!F2465","v":0},"00000",1,{"$f":"VLOOKUP(\"*\"&目次加工!$B$2&\"*\",J2466:K2466,2,0)","v":1},1]
[null,null,null,{"$f":"分類順!A2466","v":0},{"$f":"分類順!B2466","v":0},{"$f":"分類順!C2466","v":0},{"$f":"分類順!D2466","v":0},{"$f":"分類順!E2466","v":0},{"$f":"分類順!F2466","v":0},"00000",1,{"$f":"VLOOKUP(\"*\"&目次加工!$B$2&\"*\",J2467:K2467,2,0)","v":1},1]
[null,null,null,{"$f":"分類順!A2467","v":0},{"$f":"分類順!B2467","v":0},{"$f":"分類順!C2467","v":0},{"$f":"分類順!D2467","v":0},{"$f":"分類順!E2467","v":0},{"$f":"分類順!F2467","v":0},"00000",1,{"$f":"VLOOKUP(\"*\"&目次加工!$B$2&\"*\",J2468:K2468,2,0)","v":1},1]
[null,null,null,{"$f":"分類順!A2468","v":0},{"$f":"分類順!B2468","v":0},{"$f":"分類順!C2468","v":0},{"$f":"分類順!D2468","v":0},{"$f":"分類順!E2468","v":0},{"$f":"分類順!F2468","v":0},"00000",1,{"$f":"VLOOKUP(\"*\"&目次加工!$B$2&\"*\",J2469:K2469,2,0)","v":1},1]
[null,null,null,{"$f":"分類順!A2469","v":0},{"$f":"分類順!B2469","v":0},{"$f":"分類順!C2469","v":0},{"$f":"分類順!D2469","v":0},{"$f":"分類順!E2469","v":0},{"$f":"分類順!F2469","v":0},"00000",1,{"$f":"VLOOKUP(\"*\"&目次加工!$B$2&\"*\",J2470:K2470,2,0)","v":1},1]
[null,null,null,{"$f":"分類順!A2470","v":0},{"$f":"分類順!B2470","v":0},{"$f":"分類順!C2470","v":0},{"$f":"分類順!D2470","v":0},{"$f":"分類順!E2470","v":0},{"$f":"分類順!F2470","v":0},"00000",1,{"$f":"VLOOKUP(\"*\"&目次加工!$B$2&\"*\",J2471:K2471,2,0)","v":1},1]
[null,null,null,{"$f":"分類順!A2471","v":0},{"$f":"分類順!B2471","v":0},{"$f":"分類順!C2471","v":0},{"$f":"分類順!D2471","v":0},{"$f":"分類順!E2471","v":0},{"$f":"分類順!F2471","v":0},"00000",1,{"$f":"VLOOKUP(\"*\"&目次加工!$B$2&\"*\",J2472:K2472,2,0)","v":1},1]
[null,null,null,{"$f":"分類順!A2472","v":0},{"$f":"分類順!B2472","v":0},{"$f":"分類順!C2472","v":0},{"$f":"分類順!D2472","v":0},{"$f":"分類順!E2472","v":0},{"$f":"分類順!F2472","v":0},"00000",1,{"$f":"VLOOKUP(\"*\"&目次加工!$B$2&\"*\",J2473:K2473,2,0)","v":1},1]
[null,null,null,{"$f":"分類順!A2473","v":0},{"$f":"分類順!B2473","v":0},{"$f":"分類順!C2473","v":0},{"$f":"分類順!D2473","v":0},{"$f":"分類順!E2473","v":0},{"$f":"分類順!F2473","v":0},"00000",1,{"$f":"VLOOKUP(\"*\"&目次加工!$B$2&\"*\",J2474:K2474,2,0)","v":1},1]
[null,null,null,{"$f":"分類順!A2474","v":0},{"$f":"分類順!B2474","v":0},{"$f":"分類順!C2474","v":0},{"$f":"分類順!D2474","v":0},{"$f":"分類順!E2474","v":0},{"$f":"分類順!F2474","v":0},"00000",1,{"$f":"VLOOKUP(\"*\"&目次加工!$B$2&\"*\",J2475:K2475,2,0)","v":1},1]
[null,null,null,{"$f":"分類順!A2475","v":0},{"$f":"分類順!B2475","v":0},{"$f":"分類順!C2475","v":0},{"$f":"分類順!D2475","v":0},{"$f":"分類順!E2475","v":0},{"$f":"分類順!F2475","v":0},"00000",1,{"$f":"VLOOKUP(\"*\"&目次加工!$B$2&\"*\",J2476:K2476,2,0)","v":1},1]
[null,null,null,{"$f":"分類順!A2476","v":0},{"$f":"分類順!B2476","v":0},{"$f":"分類順!C2476","v":0},{"$f":"分類順!D2476","v":0},{"$f":"分類順!E2476","v":0},{"$f":"分類順!F2476","v":0},"00000",1,{"$f":"VLOOKUP(\"*\"&目次加工!$B$2&\"*\",J2477:K2477,2,0)","v":1},1]
[null,null,null,{"$f":"分類順!A2477","v":0},{"$f":"分類順!B2477","v":0},{"$f":"分類順!C2477","v":0},{"$f":"分類順!D2477","v":0},{"$f":"分類順!E2477","v":0},{"$f":"分類順!F2477","v":0},"00000",1,{"$f":"VLOOKUP(\"*\"&目次加工!$B$2&\"*\",J2478:K2478,2,0)","v":1},1]
[null,null,null,{"$f":"分類順!A2478","v":0},{"$f":"分類順!B2478","v":0},{"$f":"分類順!C2478","v":0},{"$f":"分類順!D2478","v":0},{"$f":"分類順!E2478","v":0},{"$f":"分類順!F2478","v":0},"00000",1,{"$f":"VLOOKUP(\"*\"&目次加工!$B$2&\"*\",J2479:K2479,2,0)","v":1},1]
[null,null,null,{"$f":"分類順!A2479","v":0},{"$f":"分類順!B2479","v":0},{"$f":"分類順!C2479","v":0},{"$f":"分類順!D2479","v":0},{"$f":"分類順!E2479","v":0},{"$f":"分類順!F2479","v":0},"00000",1,{"$f":"VLOOKUP(\"*\"&目次加工!$B$2&\"*\",J2480:K2480,2,0)","v":1},1]
[null,null,null,{"$f":"分類順!A2480","v":0},{"$f":"分類順!B2480","v":0},{"$f":"分類順!C2480","v":0},{"$f":"分類順!D2480","v":0},{"$f":"分類順!E2480","v":0},{"$f":"分類順!F2480","v":0},"00000",1,{"$f":"VLOOKUP(\"*\"&目次加工!$B$2&\"*\",J2481:K2481,2,0)","v":1},1]
[null,null,null,{"$f":"分類順!A2481","v":0},{"$f":"分類順!B2481","v":0},{"$f":"分類順!C2481","v":0},{"$f":"分類順!D2481","v":0},{"$f":"分類順!E2481","v":0},{"$f":"分類順!F2481","v":0},"00000",1,{"$f":"VLOOKUP(\"*\"&目次加工!$B$2&\"*\",J2482:K2482,2,0)","v":1},1]
[null,null,null,{"$f":"分類順!A2482","v":0},{"$f":"分類順!B2482","v":0},{"$f":"分類順!C2482","v":0},{"$f":"分類順!D2482","v":0},{"$f":"分類順!E2482","v":0},{"$f":"分類順!F2482","v":0},"00000",1,{"$f":"VLOOKUP(\"*\"&目次加工!$B$2&\"*\",J2483:K2483,2,0)","v":1},1]
[null,null,null,{"$f":"分類順!A2483","v":0},{"$f":"分類順!B2483","v":0},{"$f":"分類順!C2483","v":0},{"$f":"分類順!D2483","v":0},{"$f":"分類順!E2483","v":0},{"$f":"分類順!F2483","v":0},"00000",1,{"$f":"VLOOKUP(\"*\"&目次加工!$B$2&\"*\",J2484:K2484,2,0)","v":1},1]
[null,null,null,{"$f":"分類順!A2484","v":0},{"$f":"分類順!B2484","v":0},{"$f":"分類順!C2484","v":0},{"$f":"分類順!D2484","v":0},{"$f":"分類順!E2484","v":0},{"$f":"分類順!F2484","v":0},"00000",1,{"$f":"VLOOKUP(\"*\"&目次加工!$B$2&\"*\",J2485:K2485,2,0)","v":1},1]
[null,null,null,{"$f":"分類順!A2485","v":0},{"$f":"分類順!B2485","v":0},{"$f":"分類順!C2485","v":0},{"$f":"分類順!D2485","v":0},{"$f":"分類順!E2485","v":0},{"$f":"分類順!F2485","v":0},"00000",1,{"$f":"VLOOKUP(\"*\"&目次加工!$B$2&\"*\",J2486:K2486,2,0)","v":1},1]
[null,null,null,{"$f":"分類順!A2486","v":0},{"$f":"分類順!B2486","v":0},{"$f":"分類順!C2486","v":0},{"$f":"分類順!D2486","v":0},{"$f":"分類順!E2486","v":0},{"$f":"分類順!F2486","v":0},"00000",1,{"$f":"VLOOKUP(\"*\"&目次加工!$B$2&\"*\",J2487:K2487,2,0)","v":1},1]
[null,null,null,{"$f":"分類順!A2487","v":0},{"$f":"分類順!B2487","v":0},{"$f":"分類順!C2487","v":0},{"$f":"分類順!D2487","v":0},{"$f":"分類順!E2487","v":0},{"$f":"分類順!F2487","v":0},"00000",1,{"$f":"VLOOKUP(\"*\"&目次加工!$B$2&\"*\",J2488:K2488,2,0)","v":1},1]
[null,null,null,{"$f":"分類順!A2488","v":0},{"$f":"分類順!B2488","v":0},{"$f":"分類順!C2488","v":0},{"$f":"分類順!D2488","v":0},{"$f":"分類順!E2488","v":0},{"$f":"分類順!F2488","v":0},"00000",1,{"$f":"VLOOKUP(\"*\"&目次加工!$B$2&\"*\",J2489:K2489,2,0)","v":1},1]
[null,null,null,{"$f":"分類順!A2489","v":0},{"$f":"分類順!B2489","v":0},{"$f":"分類順!C2489","v":0},{"$f":"分類順!D2489","v":0},{"$f":"分類順!E2489","v":0},{"$f":"分類順!F2489","v":0},"00000",1,{"$f":"VLOOKUP(\"*\"&目次加工!$B$2&\"*\",J2490:K2490,2,0)","v":1},1]
[null,null,null,{"$f":"分類順!A2490","v":0},{"$f":"分類順!B2490","v":0},{"$f":"分類順!C2490","v":0},{"$f":"分類順!D2490","v":0},{"$f":"分類順!E2490","v":0},{"$f":"分類順!F2490","v":0},"00000",1,{"$f":"VLOOKUP(\"*\"&目次加工!$B$2&\"*\",J2491:K2491,2,0)","v":1},1]
[null,null,null,{"$f":"分類順!A2491","v":0},{"$f":"分類順!B2491","v":0},{"$f":"分類順!C2491","v":0},{"$f":"分類順!D2491","v":0},{"$f":"分類順!E2491","v":0},{"$f":"分類順!F2491","v":0},"00000",1,{"$f":"VLOOKUP(\"*\"&目次加工!$B$2&\"*\",J2492:K2492,2,0)","v":1},1]
[null,null,null,{"$f":"分類順!A2492","v":0},{"$f":"分類順!B2492","v":0},{"$f":"分類順!C2492","v":0},{"$f":"分類順!D2492","v":0},{"$f":"分類順!E2492","v":0},{"$f":"分類順!F2492","v":0},"00000",1,{"$f":"VLOOKUP(\"*\"&目次加工!$B$2&\"*\",J2493:K2493,2,0)","v":1},1]
[null,null,null,{"$f":"分類順!A2493","v":0},{"$f":"分類順!B2493","v":0},{"$f":"分類順!C2493","v":0},{"$f":"分類順!D2493","v":0},{"$f":"分類順!E2493","v":0},{"$f":"分類順!F2493","v":0},"00000",1,{"$f":"VLOOKUP(\"*\"&目次加工!$B$2&\"*\",J2494:K2494,2,0)","v":1},1]
[null,null,null,{"$f":"分類順!A2494","v":0},{"$f":"分類順!B2494","v":0},{"$f":"分類順!C2494","v":0},{"$f":"分類順!D2494","v":0},{"$f":"分類順!E2494","v":0},{"$f":"分類順!F2494","v":0},"00000",1,{"$f":"VLOOKUP(\"*\"&目次加工!$B$2&\"*\",J2495:K2495,2,0)","v":1},1]
[null,null,null,{"$f":"分類順!A2495","v":0},{"$f":"分類順!B2495","v":0},{"$f":"分類順!C2495","v":0},{"$f":"分類順!D2495","v":0},{"$f":"分類順!E2495","v":0},{"$f":"分類順!F2495","v":0},"00000",1,{"$f":"VLOOKUP(\"*\"&目次加工!$B$2&\"*\",J2496:K2496,2,0)","v":1},1]
[null,null,null,{"$f":"分類順!A2496","v":0},{"$f":"分類順!B2496","v":0},{"$f":"分類順!C2496","v":0},{"$f":"分類順!D2496","v":0},{"$f":"分類順!E2496","v":0},{"$f":"分類順!F2496","v":0},"00000",1,{"$f":"VLOOKUP(\"*\"&目次加工!$B$2&\"*\",J2497:K2497,2,0)","v":1},1]
[null,null,null,{"$f":"分類順!A2497","v":0},{"$f":"分類順!B2497","v":0},{"$f":"分類順!C2497","v":0},{"$f":"分類順!D2497","v":0},{"$f":"分類順!E2497","v":0},{"$f":"分類順!F2497","v":0},"00000",1,{"$f":"VLOOKUP(\"*\"&目次加工!$B$2&\"*\",J2498:K2498,2,0)","v":1},1]
[null,null,null,{"$f":"分類順!A2498","v":0},{"$f":"分類順!B2498","v":0},{"$f":"分類順!C2498","v":0},{"$f":"分類順!D2498","v":0},{"$f":"分類順!E2498","v":0},{"$f":"分類順!F2498","v":0},"00000",1,{"$f":"VLOOKUP(\"*\"&目次加工!$B$2&\"*\",J2499:K2499,2,0)","v":1},1]
[null,null,null,{"$f":"分類順!A2499","v":0},{"$f":"分類順!B2499","v":0},{"$f":"分類順!C2499","v":0},{"$f":"分類順!D2499","v":0},{"$f":"分類順!E2499","v":0},{"$f":"分類順!F2499","v":0},"00000",1,{"$f":"VLOOKUP(\"*\"&目次加工!$B$2&\"*\",J2500:K2500,2,0)","v":1},{"$f":"VLOOKUP(\"*\"&$A$2&\"*\",J2500:K2500,2,0)","v":1}]
[null,null,null,{"$f":"分類順!A2500","v":0},{"$f":"分類順!B2500","v":0},{"$f":"分類順!C2500","v":0},{"$f":"分類順!D2500","v":0},{"$f":"分類順!E2500","v":0},{"$f":"分類順!F2500","v":0},"00000",1,{"$f":"VLOOKUP(\"*\"&目次加工!$B$2&\"*\",J2501:K2501,2,0)","v":1},1]
[null,null,null,{"$f":"分類順!A2501","v":0},{"$f":"分類順!B2501","v":0},{"$f":"分類順!C2501","v":0},{"$f":"分類順!D2501","v":0},{"$f":"分類順!E2501","v":0},{"$f":"分類順!F2501","v":0},"00000",1,{"$f":"VLOOKUP(\"*\"&目次加工!$B$2&\"*\",J2502:K2502,2,0)","v":1},1]
[null,null,null,{"$f":"分類順!A2502","v":0},{"$f":"分類順!B2502","v":0},{"$f":"分類順!C2502","v":0},{"$f":"分類順!D2502","v":0},{"$f":"分類順!E2502","v":0},{"$f":"分類順!F2502","v":0},"00000",1,{"$f":"VLOOKUP(\"*\"&目次加工!$B$2&\"*\",J2503:K2503,2,0)","v":1},1]
[null,null,null,{"$f":"分類順!A2503","v":0},{"$f":"分類順!B2503","v":0},{"$f":"分類順!C2503","v":0},{"$f":"分類順!D2503","v":0},{"$f":"分類順!E2503","v":0},{"$f":"分類順!F2503","v":0},"00000",1,{"$f":"VLOOKUP(\"*\"&目次加工!$B$2&\"*\",J2504:K2504,2,0)","v":1},1]
[null,null,null,{"$f":"分類順!A2504","v":0},{"$f":"分類順!B2504","v":0},{"$f":"分類順!C2504","v":0},{"$f":"分類順!D2504","v":0},{"$f":"分類順!E2504","v":0},{"$f":"分類順!F2504","v":0},"00000",1,{"$f":"VLOOKUP(\"*\"&目次加工!$B$2&\"*\",J2505:K2505,2,0)","v":1},1]
[null,null,null,{"$f":"分類順!A2505","v":0},{"$f":"分類順!B2505","v":0},{"$f":"分類順!C2505","v":0},{"$f":"分類順!D2505","v":0},{"$f":"分類順!E2505","v":0},{"$f":"分類順!F2505","v":0},"00000",1,{"$f":"VLOOKUP(\"*\"&目次加工!$B$2&\"*\",J2506:K2506,2,0)","v":1},1]
[null,null,null,{"$f":"分類順!A2506","v":0},{"$f":"分類順!B2506","v":0},{"$f":"分類順!C2506","v":0},{"$f":"分類順!D2506","v":0},{"$f":"分類順!E2506","v":0},{"$f":"分類順!F2506","v":0},"00000",1,{"$f":"VLOOKUP(\"*\"&目次加工!$B$2&\"*\",J2507:K2507,2,0)","v":1},1]
[null,null,null,{"$f":"分類順!A2507","v":0},{"$f":"分類順!B2507","v":0},{"$f":"分類順!C2507","v":0},{"$f":"分類順!D2507","v":0},{"$f":"分類順!E2507","v":0},{"$f":"分類順!F2507","v":0},"00000",1,{"$f":"VLOOKUP(\"*\"&目次加工!$B$2&\"*\",J2508:K2508,2,0)","v":1},1]
[null,null,null,{"$f":"分類順!A2508","v":0},{"$f":"分類順!B2508","v":0},{"$f":"分類順!C2508","v":0},{"$f":"分類順!D2508","v":0},{"$f":"分類順!E2508","v":0},{"$f":"分類順!F2508","v":0},"00000",1,{"$f":"VLOOKUP(\"*\"&目次加工!$B$2&\"*\",J2509:K2509,2,0)","v":1},1]
[null,null,null,{"$f":"分類順!A2509","v":0},{"$f":"分類順!B2509","v":0},{"$f":"分類順!C2509","v":0},{"$f":"分類順!D2509","v":0},{"$f":"分類順!E2509","v":0},{"$f":"分類順!F2509","v":0},"00000",1,{"$f":"VLOOKUP(\"*\"&目次加工!$B$2&\"*\",J2510:K2510,2,0)","v":1},1]
[null,null,null,{"$f":"分類順!A2510","v":0},{"$f":"分類順!B2510","v":0},{"$f":"分類順!C2510","v":0},{"$f":"分類順!D2510","v":0},{"$f":"分類順!E2510","v":0},{"$f":"分類順!F2510","v":0},"00000",1,{"$f":"VLOOKUP(\"*\"&目次加工!$B$2&\"*\",J2511:K2511,2,0)","v":1},1]
[null,null,null,{"$f":"分類順!A2511","v":0},{"$f":"分類順!B2511","v":0},{"$f":"分類順!C2511","v":0},{"$f":"分類順!D2511","v":0},{"$f":"分類順!E2511","v":0},{"$f":"分類順!F2511","v":0},"00000",1,{"$f":"VLOOKUP(\"*\"&目次加工!$B$2&\"*\",J2512:K2512,2,0)","v":1},1]
[null,null,null,{"$f":"分類順!A2512","v":0},{"$f":"分類順!B2512","v":0},{"$f":"分類順!C2512","v":0},{"$f":"分類順!D2512","v":0},{"$f":"分類順!E2512","v":0},{"$f":"分類順!F2512","v":0},"00000",1,{"$f":"VLOOKUP(\"*\"&目次加工!$B$2&\"*\",J2513:K2513,2,0)","v":1},1]
[null,null,null,{"$f":"分類順!A2513","v":0},{"$f":"分類順!B2513","v":0},{"$f":"分類順!C2513","v":0},{"$f":"分類順!D2513","v":0},{"$f":"分類順!E2513","v":0},{"$f":"分類順!F2513","v":0},"00000",1,{"$f":"VLOOKUP(\"*\"&目次加工!$B$2&\"*\",J2514:K2514,2,0)","v":1},1]
[null,null,null,{"$f":"分類順!A2514","v":0},{"$f":"分類順!B2514","v":0},{"$f":"分類順!C2514","v":0},{"$f":"分類順!D2514","v":0},{"$f":"分類順!E2514","v":0},{"$f":"分類順!F2514","v":0},{"$f":"D2515&E2515&F2515&G2515&H2515","v":"00000"},1,{"$f":"VLOOKUP(\"*\"&目次加工!$B$2&\"*\",J2515:K2515,2,0)","v":1},1]
[null,null,null,{"$f":"分類順!A2515","v":0},{"$f":"分類順!B2515","v":0},{"$f":"分類順!C2515","v":0},{"$f":"分類順!D2515","v":0},{"$f":"分類順!E2515","v":0},{"$f":"分類順!F2515","v":0},"00000",1,{"$f":"VLOOKUP(\"*\"&目次加工!$B$2&\"*\",J2516:K2516,2,0)","v":1},1]
[null,null,null,{"$f":"分類順!A2516","v":0},{"$f":"分類順!B2516","v":0},{"$f":"分類順!C2516","v":0},{"$f":"分類順!D2516","v":0},{"$f":"分類順!E2516","v":0},{"$f":"分類順!F2516","v":0},"00000",1,{"$f":"VLOOKUP(\"*\"&目次加工!$B$2&\"*\",J2517:K2517,2,0)","v":1},1]
[null,null,null,{"$f":"分類順!A2517","v":0},{"$f":"分類順!B2517","v":0},{"$f":"分類順!C2517","v":0},{"$f":"分類順!D2517","v":0},{"$f":"分類順!E2517","v":0},{"$f":"分類順!F2517","v":0},"00000",1,{"$f":"VLOOKUP(\"*\"&目次加工!$B$2&\"*\",J2518:K2518,2,0)","v":1},1]
[null,null,null,{"$f":"分類順!A2518","v":0},{"$f":"分類順!B2518","v":0},{"$f":"分類順!C2518","v":0},{"$f":"分類順!D2518","v":0},{"$f":"分類順!E2518","v":0},{"$f":"分類順!F2518","v":0},"00000",1,{"$f":"VLOOKUP(\"*\"&目次加工!$B$2&\"*\",J2519:K2519,2,0)","v":1},1]
[null,null,null,{"$f":"分類順!A2519","v":0},{"$f":"分類順!B2519","v":0},{"$f":"分類順!C2519","v":0},{"$f":"分類順!D2519","v":0},{"$f":"分類順!E2519","v":0},{"$f":"分類順!F2519","v":0},"00000",1,{"$f":"VLOOKUP(\"*\"&目次加工!$B$2&\"*\",J2520:K2520,2,0)","v":1},1]
[null,null,null,{"$f":"分類順!A2520","v":0},{"$f":"分類順!B2520","v":0},{"$f":"分類順!C2520","v":0},{"$f":"分類順!D2520","v":0},{"$f":"分類順!E2520","v":0},{"$f":"分類順!F2520","v":0},"00000",1,{"$f":"VLOOKUP(\"*\"&目次加工!$B$2&\"*\",J2521:K2521,2,0)","v":1},1]
[null,null,null,{"$f":"分類順!A2521","v":0},{"$f":"分類順!B2521","v":0},{"$f":"分類順!C2521","v":0},{"$f":"分類順!D2521","v":0},{"$f":"分類順!E2521","v":0},{"$f":"分類順!F2521","v":0},"00000",1,{"$f":"VLOOKUP(\"*\"&目次加工!$B$2&\"*\",J2522:K2522,2,0)","v":1},1]
[null,null,null,{"$f":"分類順!A2522","v":0},{"$f":"分類順!B2522","v":0},{"$f":"分類順!C2522","v":0},{"$f":"分類順!D2522","v":0},{"$f":"分類順!E2522","v":0},{"$f":"分類順!F2522","v":0},"00000",1,{"$f":"VLOOKUP(\"*\"&目次加工!$B$2&\"*\",J2523:K2523,2,0)","v":1},1]
[null,null,null,{"$f":"分類順!A2523","v":0},{"$f":"分類順!B2523","v":0},{"$f":"分類順!C2523","v":0},{"$f":"分類順!D2523","v":0},{"$f":"分類順!E2523","v":0},{"$f":"分類順!F2523","v":0},"00000",1,{"$f":"VLOOKUP(\"*\"&目次加工!$B$2&\"*\",J2524:K2524,2,0)","v":1},1]
[null,null,null,{"$f":"分類順!A2524","v":0},{"$f":"分類順!B2524","v":0},{"$f":"分類順!C2524","v":0},{"$f":"分類順!D2524","v":0},{"$f":"分類順!E2524","v":0},{"$f":"分類順!F2524","v":0},"00000",1,{"$f":"VLOOKUP(\"*\"&目次加工!$B$2&\"*\",J2525:K2525,2,0)","v":1},1]
[null,null,null,{"$f":"分類順!A2525","v":0},{"$f":"分類順!B2525","v":0},{"$f":"分類順!C2525","v":0},{"$f":"分類順!D2525","v":0},{"$f":"分類順!E2525","v":0},{"$f":"分類順!F2525","v":0},"00000",1,{"$f":"VLOOKUP(\"*\"&目次加工!$B$2&\"*\",J2526:K2526,2,0)","v":1},1]
[null,null,null,{"$f":"分類順!A2526","v":0},{"$f":"分類順!B2526","v":0},{"$f":"分類順!C2526","v":0},{"$f":"分類順!D2526","v":0},{"$f":"分類順!E2526","v":0},{"$f":"分類順!F2526","v":0},"00000",1,{"$f":"VLOOKUP(\"*\"&目次加工!$B$2&\"*\",J2527:K2527,2,0)","v":1},1]
[null,null,null,{"$f":"分類順!A2527","v":0},{"$f":"分類順!B2527","v":0},{"$f":"分類順!C2527","v":0},{"$f":"分類順!D2527","v":0},{"$f":"分類順!E2527","v":0},{"$f":"分類順!F2527","v":0},"00000",1,{"$f":"VLOOKUP(\"*\"&目次加工!$B$2&\"*\",J2528:K2528,2,0)","v":1},1]
[null,null,null,{"$f":"分類順!A2528","v":0},{"$f":"分類順!B2528","v":0},{"$f":"分類順!C2528","v":0},{"$f":"分類順!D2528","v":0},{"$f":"分類順!E2528","v":0},{"$f":"分類順!F2528","v":0},"00000",1,{"$f":"VLOOKUP(\"*\"&目次加工!$B$2&\"*\",J2529:K2529,2,0)","v":1},1]
[null,null,null,{"$f":"分類順!A2529","v":0},{"$f":"分類順!B2529","v":0},{"$f":"分類順!C2529","v":0},{"$f":"分類順!D2529","v":0},{"$f":"分類順!E2529","v":0},{"$f":"分類順!F2529","v":0},"00000",1,{"$f":"VLOOKUP(\"*\"&目次加工!$B$2&\"*\",J2530:K2530,2,0)","v":1},1]
[null,null,null,{"$f":"分類順!A2530","v":0},{"$f":"分類順!B2530","v":0},{"$f":"分類順!C2530","v":0},{"$f":"分類順!D2530","v":0},{"$f":"分類順!E2530","v":0},{"$f":"分類順!F2530","v":0},"00000",1,{"$f":"VLOOKUP(\"*\"&目次加工!$B$2&\"*\",J2531:K2531,2,0)","v":1},1]
[null,null,null,{"$f":"分類順!A2531","v":0},{"$f":"分類順!B2531","v":0},{"$f":"分類順!C2531","v":0},{"$f":"分類順!D2531","v":0},{"$f":"分類順!E2531","v":0},{"$f":"分類順!F2531","v":0},"00000",1,{"$f":"VLOOKUP(\"*\"&目次加工!$B$2&\"*\",J2532:K2532,2,0)","v":1},1]
[null,null,null,{"$f":"分類順!A2532","v":0},{"$f":"分類順!B2532","v":0},{"$f":"分類順!C2532","v":0},{"$f":"分類順!D2532","v":0},{"$f":"分類順!E2532","v":0},{"$f":"分類順!F2532","v":0},"00000",1,{"$f":"VLOOKUP(\"*\"&目次加工!$B$2&\"*\",J2533:K2533,2,0)","v":1},1]
[null,null,null,{"$f":"分類順!A2533","v":0},{"$f":"分類順!B2533","v":0},{"$f":"分類順!C2533","v":0},{"$f":"分類順!D2533","v":0},{"$f":"分類順!E2533","v":0},{"$f":"分類順!F2533","v":0},"00000",1,{"$f":"VLOOKUP(\"*\"&目次加工!$B$2&\"*\",J2534:K2534,2,0)","v":1},1]
[null,null,null,{"$f":"分類順!A2534","v":0},{"$f":"分類順!B2534","v":0},{"$f":"分類順!C2534","v":0},{"$f":"分類順!D2534","v":0},{"$f":"分類順!E2534","v":0},{"$f":"分類順!F2534","v":0},"00000",1,{"$f":"VLOOKUP(\"*\"&目次加工!$B$2&\"*\",J2535:K2535,2,0)","v":1},1]
[null,null,null,{"$f":"分類順!A2535","v":0},{"$f":"分類順!B2535","v":0},{"$f":"分類順!C2535","v":0},{"$f":"分類順!D2535","v":0},{"$f":"分類順!E2535","v":0},{"$f":"分類順!F2535","v":0},"00000",1,{"$f":"VLOOKUP(\"*\"&目次加工!$B$2&\"*\",J2536:K2536,2,0)","v":1},1]
[null,null,null,{"$f":"分類順!A2536","v":0},{"$f":"分類順!B2536","v":0},{"$f":"分類順!C2536","v":0},{"$f":"分類順!D2536","v":0},{"$f":"分類順!E2536","v":0},{"$f":"分類順!F2536","v":0},"00000",1,{"$f":"VLOOKUP(\"*\"&目次加工!$B$2&\"*\",J2537:K2537,2,0)","v":1},1]
[null,null,null,{"$f":"分類順!A2537","v":0},{"$f":"分類順!B2537","v":0},{"$f":"分類順!C2537","v":0},{"$f":"分類順!D2537","v":0},{"$f":"分類順!E2537","v":0},{"$f":"分類順!F2537","v":0},"00000",1,{"$f":"VLOOKUP(\"*\"&目次加工!$B$2&\"*\",J2538:K2538,2,0)","v":1},1]
[null,null,null,{"$f":"分類順!A2538","v":0},{"$f":"分類順!B2538","v":0},{"$f":"分類順!C2538","v":0},{"$f":"分類順!D2538","v":0},{"$f":"分類順!E2538","v":0},{"$f":"分類順!F2538","v":0},"00000",1,{"$f":"VLOOKUP(\"*\"&目次加工!$B$2&\"*\",J2539:K2539,2,0)","v":1},1]
[null,null,null,{"$f":"分類順!A2539","v":0},{"$f":"分類順!B2539","v":0},{"$f":"分類順!C2539","v":0},{"$f":"分類順!D2539","v":0},{"$f":"分類順!E2539","v":0},{"$f":"分類順!F2539","v":0},"00000",1,{"$f":"VLOOKUP(\"*\"&目次加工!$B$2&\"*\",J2540:K2540,2,0)","v":1},1]
[null,null,null,{"$f":"分類順!A2540","v":0},{"$f":"分類順!B2540","v":0},{"$f":"分類順!C2540","v":0},{"$f":"分類順!D2540","v":0},{"$f":"分類順!E2540","v":0},{"$f":"分類順!F2540","v":0},"00000",1,{"$f":"VLOOKUP(\"*\"&目次加工!$B$2&\"*\",J2541:K2541,2,0)","v":1},1]
[null,null,null,{"$f":"分類順!A2541","v":0},{"$f":"分類順!B2541","v":0},{"$f":"分類順!C2541","v":0},{"$f":"分類順!D2541","v":0},{"$f":"分類順!E2541","v":0},{"$f":"分類順!F2541","v":0},"00000",1,{"$f":"VLOOKUP(\"*\"&目次加工!$B$2&\"*\",J2542:K2542,2,0)","v":1},1]
[null,null,null,{"$f":"分類順!A2542","v":0},{"$f":"分類順!B2542","v":0},{"$f":"分類順!C2542","v":0},{"$f":"分類順!D2542","v":0},{"$f":"分類順!E2542","v":0},{"$f":"分類順!F2542","v":0},"00000",1,{"$f":"VLOOKUP(\"*\"&目次加工!$B$2&\"*\",J2543:K2543,2,0)","v":1},1]
[null,null,null,{"$f":"分類順!A2543","v":0},{"$f":"分類順!B2543","v":0},{"$f":"分類順!C2543","v":0},{"$f":"分類順!D2543","v":0},{"$f":"分類順!E2543","v":0},{"$f":"分類順!F2543","v":0},"00000",1,{"$f":"VLOOKUP(\"*\"&目次加工!$B$2&\"*\",J2544:K2544,2,0)","v":1},1]
[null,null,null,{"$f":"分類順!A2544","v":0},{"$f":"分類順!B2544","v":0},{"$f":"分類順!C2544","v":0},{"$f":"分類順!D2544","v":0},{"$f":"分類順!E2544","v":0},{"$f":"分類順!F2544","v":0},"00000",1,{"$f":"VLOOKUP(\"*\"&目次加工!$B$2&\"*\",J2545:K2545,2,0)","v":1},1]
[null,null,null,{"$f":"分類順!A2545","v":0},{"$f":"分類順!B2545","v":0},{"$f":"分類順!C2545","v":0},{"$f":"分類順!D2545","v":0},{"$f":"分類順!E2545","v":0},{"$f":"分類順!F2545","v":0},"00000",1,{"$f":"VLOOKUP(\"*\"&目次加工!$B$2&\"*\",J2546:K2546,2,0)","v":1},1]
[null,null,null,{"$f":"分類順!A2546","v":0},{"$f":"分類順!B2546","v":0},{"$f":"分類順!C2546","v":0},{"$f":"分類順!D2546","v":0},{"$f":"分類順!E2546","v":0},{"$f":"分類順!F2546","v":0},"00000",1,{"$f":"VLOOKUP(\"*\"&目次加工!$B$2&\"*\",J2547:K2547,2,0)","v":1},1]
[null,null,null,{"$f":"分類順!A2547","v":0},{"$f":"分類順!B2547","v":0},{"$f":"分類順!C2547","v":0},{"$f":"分類順!D2547","v":0},{"$f":"分類順!E2547","v":0},{"$f":"分類順!F2547","v":0},"00000",1,{"$f":"VLOOKUP(\"*\"&目次加工!$B$2&\"*\",J2548:K2548,2,0)","v":1},1]
[null,null,null,{"$f":"分類順!A2548","v":0},{"$f":"分類順!B2548","v":0},{"$f":"分類順!C2548","v":0},{"$f":"分類順!D2548","v":0},{"$f":"分類順!E2548","v":0},{"$f":"分類順!F2548","v":0},"00000",1,{"$f":"VLOOKUP(\"*\"&目次加工!$B$2&\"*\",J2549:K2549,2,0)","v":1},1]
[null,null,null,{"$f":"分類順!A2549","v":0},{"$f":"分類順!B2549","v":0},{"$f":"分類順!C2549","v":0},{"$f":"分類順!D2549","v":0},{"$f":"分類順!E2549","v":0},{"$f":"分類順!F2549","v":0},"00000",1,{"$f":"VLOOKUP(\"*\"&目次加工!$B$2&\"*\",J2550:K2550,2,0)","v":1},1]
[null,null,null,{"$f":"分類順!A2550","v":0},{"$f":"分類順!B2550","v":0},{"$f":"分類順!C2550","v":0},{"$f":"分類順!D2550","v":0},{"$f":"分類順!E2550","v":0},{"$f":"分類順!F2550","v":0},"00000",1,{"$f":"VLOOKUP(\"*\"&目次加工!$B$2&\"*\",J2551:K2551,2,0)","v":1},1]
[null,null,null,{"$f":"分類順!A2551","v":0},{"$f":"分類順!B2551","v":0},{"$f":"分類順!C2551","v":0},{"$f":"分類順!D2551","v":0},{"$f":"分類順!E2551","v":0},{"$f":"分類順!F2551","v":0},"00000",1,{"$f":"VLOOKUP(\"*\"&目次加工!$B$2&\"*\",J2552:K2552,2,0)","v":1},1]
[null,null,null,{"$f":"分類順!A2552","v":0},{"$f":"分類順!B2552","v":0},{"$f":"分類順!C2552","v":0},{"$f":"分類順!D2552","v":0},{"$f":"分類順!E2552","v":0},{"$f":"分類順!F2552","v":0},"00000",1,{"$f":"VLOOKUP(\"*\"&目次加工!$B$2&\"*\",J2553:K2553,2,0)","v":1},1]
[null,null,null,{"$f":"分類順!A2553","v":0},{"$f":"分類順!B2553","v":0},{"$f":"分類順!C2553","v":0},{"$f":"分類順!D2553","v":0},{"$f":"分類順!E2553","v":0},{"$f":"分類順!F2553","v":0},"00000",1,{"$f":"VLOOKUP(\"*\"&目次加工!$B$2&\"*\",J2554:K2554,2,0)","v":1},1]
[null,null,null,{"$f":"分類順!A2554","v":0},{"$f":"分類順!B2554","v":0},{"$f":"分類順!C2554","v":0},{"$f":"分類順!D2554","v":0},{"$f":"分類順!E2554","v":0},{"$f":"分類順!F2554","v":0},"00000",1,{"$f":"VLOOKUP(\"*\"&目次加工!$B$2&\"*\",J2555:K2555,2,0)","v":1},1]
[null,null,null,{"$f":"分類順!A2555","v":0},{"$f":"分類順!B2555","v":0},{"$f":"分類順!C2555","v":0},{"$f":"分類順!D2555","v":0},{"$f":"分類順!E2555","v":0},{"$f":"分類順!F2555","v":0},"00000",1,{"$f":"VLOOKUP(\"*\"&目次加工!$B$2&\"*\",J2556:K2556,2,0)","v":1},1]
[null,null,null,{"$f":"分類順!A2556","v":0},{"$f":"分類順!B2556","v":0},{"$f":"分類順!C2556","v":0},{"$f":"分類順!D2556","v":0},{"$f":"分類順!E2556","v":0},{"$f":"分類順!F2556","v":0},"00000",1,{"$f":"VLOOKUP(\"*\"&目次加工!$B$2&\"*\",J2557:K2557,2,0)","v":1},1]
[null,null,null,{"$f":"分類順!A2557","v":0},{"$f":"分類順!B2557","v":0},{"$f":"分類順!C2557","v":0},{"$f":"分類順!D2557","v":0},{"$f":"分類順!E2557","v":0},{"$f":"分類順!F2557","v":0},"00000",1,{"$f":"VLOOKUP(\"*\"&目次加工!$B$2&\"*\",J2558:K2558,2,0)","v":1},1]
[null,null,null,{"$f":"分類順!A2558","v":0},{"$f":"分類順!B2558","v":0},{"$f":"分類順!C2558","v":0},{"$f":"分類順!D2558","v":0},{"$f":"分類順!E2558","v":0},{"$f":"分類順!F2558","v":0},"00000",1,{"$f":"VLOOKUP(\"*\"&目次加工!$B$2&\"*\",J2559:K2559,2,0)","v":1},1]
[null,null,null,{"$f":"分類順!A2559","v":0},{"$f":"分類順!B2559","v":0},{"$f":"分類順!C2559","v":0},{"$f":"分類順!D2559","v":0},{"$f":"分類順!E2559","v":0},{"$f":"分類順!F2559","v":0},"00000",1,{"$f":"VLOOKUP(\"*\"&目次加工!$B$2&\"*\",J2560:K2560,2,0)","v":1},1]
[null,null,null,{"$f":"分類順!A2560","v":0},{"$f":"分類順!B2560","v":0},{"$f":"分類順!C2560","v":0},{"$f":"分類順!D2560","v":0},{"$f":"分類順!E2560","v":0},{"$f":"分類順!F2560","v":0},"00000",1,{"$f":"VLOOKUP(\"*\"&目次加工!$B$2&\"*\",J2561:K2561,2,0)","v":1},1]
[null,null,null,{"$f":"分類順!A2561","v":0},{"$f":"分類順!B2561","v":0},{"$f":"分類順!C2561","v":0},{"$f":"分類順!D2561","v":0},{"$f":"分類順!E2561","v":0},{"$f":"分類順!F2561","v":0},"00000",1,{"$f":"VLOOKUP(\"*\"&目次加工!$B$2&\"*\",J2562:K2562,2,0)","v":1},1]
[null,null,null,{"$f":"分類順!A2562","v":0},{"$f":"分類順!B2562","v":0},{"$f":"分類順!C2562","v":0},{"$f":"分類順!D2562","v":0},{"$f":"分類順!E2562","v":0},{"$f":"分類順!F2562","v":0},"00000",1,{"$f":"VLOOKUP(\"*\"&目次加工!$B$2&\"*\",J2563:K2563,2,0)","v":1},1]
[null,null,null,{"$f":"分類順!A2563","v":0},{"$f":"分類順!B2563","v":0},{"$f":"分類順!C2563","v":0},{"$f":"分類順!D2563","v":0},{"$f":"分類順!E2563","v":0},{"$f":"分類順!F2563","v":0},"00000",1,{"$f":"VLOOKUP(\"*\"&目次加工!$B$2&\"*\",J2564:K2564,2,0)","v":1},{"$f":"VLOOKUP(\"*\"&$A$2&\"*\",J2564:K2564,2,0)","v":1}]
[null,null,null,{"$f":"分類順!A2564","v":0},{"$f":"分類順!B2564","v":0},{"$f":"分類順!C2564","v":0},{"$f":"分類順!D2564","v":0},{"$f":"分類順!E2564","v":0},{"$f":"分類順!F2564","v":0},"00000",1,{"$f":"VLOOKUP(\"*\"&目次加工!$B$2&\"*\",J2565:K2565,2,0)","v":1},1]
[null,null,null,{"$f":"分類順!A2565","v":0},{"$f":"分類順!B2565","v":0},{"$f":"分類順!C2565","v":0},{"$f":"分類順!D2565","v":0},{"$f":"分類順!E2565","v":0},{"$f":"分類順!F2565","v":0},"00000",1,{"$f":"VLOOKUP(\"*\"&目次加工!$B$2&\"*\",J2566:K2566,2,0)","v":1},1]
[null,null,null,{"$f":"分類順!A2566","v":0},{"$f":"分類順!B2566","v":0},{"$f":"分類順!C2566","v":0},{"$f":"分類順!D2566","v":0},{"$f":"分類順!E2566","v":0},{"$f":"分類順!F2566","v":0},"00000",1,{"$f":"VLOOKUP(\"*\"&目次加工!$B$2&\"*\",J2567:K2567,2,0)","v":1},1]
[null,null,null,{"$f":"分類順!A2567","v":0},{"$f":"分類順!B2567","v":0},{"$f":"分類順!C2567","v":0},{"$f":"分類順!D2567","v":0},{"$f":"分類順!E2567","v":0},{"$f":"分類順!F2567","v":0},"00000",1,{"$f":"VLOOKUP(\"*\"&目次加工!$B$2&\"*\",J2568:K2568,2,0)","v":1},1]
[null,null,null,{"$f":"分類順!A2568","v":0},{"$f":"分類順!B2568","v":0},{"$f":"分類順!C2568","v":0},{"$f":"分類順!D2568","v":0},{"$f":"分類順!E2568","v":0},{"$f":"分類順!F2568","v":0},"00000",1,{"$f":"VLOOKUP(\"*\"&目次加工!$B$2&\"*\",J2569:K2569,2,0)","v":1},1]
[null,null,null,{"$f":"分類順!A2569","v":0},{"$f":"分類順!B2569","v":0},{"$f":"分類順!C2569","v":0},{"$f":"分類順!D2569","v":0},{"$f":"分類順!E2569","v":0},{"$f":"分類順!F2569","v":0},"00000",1,{"$f":"VLOOKUP(\"*\"&目次加工!$B$2&\"*\",J2570:K2570,2,0)","v":1},1]
[null,null,null,{"$f":"分類順!A2570","v":0},{"$f":"分類順!B2570","v":0},{"$f":"分類順!C2570","v":0},{"$f":"分類順!D2570","v":0},{"$f":"分類順!E2570","v":0},{"$f":"分類順!F2570","v":0},"00000",1,{"$f":"VLOOKUP(\"*\"&目次加工!$B$2&\"*\",J2571:K2571,2,0)","v":1},1]
[null,null,null,{"$f":"分類順!A2571","v":0},{"$f":"分類順!B2571","v":0},{"$f":"分類順!C2571","v":0},{"$f":"分類順!D2571","v":0},{"$f":"分類順!E2571","v":0},{"$f":"分類順!F2571","v":0},"00000",1,{"$f":"VLOOKUP(\"*\"&目次加工!$B$2&\"*\",J2572:K2572,2,0)","v":1},1]
[null,null,null,{"$f":"分類順!A2572","v":0},{"$f":"分類順!B2572","v":0},{"$f":"分類順!C2572","v":0},{"$f":"分類順!D2572","v":0},{"$f":"分類順!E2572","v":0},{"$f":"分類順!F2572","v":0},"00000",1,{"$f":"VLOOKUP(\"*\"&目次加工!$B$2&\"*\",J2573:K2573,2,0)","v":1},1]
[null,null,null,{"$f":"分類順!A2573","v":0},{"$f":"分類順!B2573","v":0},{"$f":"分類順!C2573","v":0},{"$f":"分類順!D2573","v":0},{"$f":"分類順!E2573","v":0},{"$f":"分類順!F2573","v":0},"00000",1,{"$f":"VLOOKUP(\"*\"&目次加工!$B$2&\"*\",J2574:K2574,2,0)","v":1},1]
[null,null,null,{"$f":"分類順!A2574","v":0},{"$f":"分類順!B2574","v":0},{"$f":"分類順!C2574","v":0},{"$f":"分類順!D2574","v":0},{"$f":"分類順!E2574","v":0},{"$f":"分類順!F2574","v":0},"00000",1,{"$f":"VLOOKUP(\"*\"&目次加工!$B$2&\"*\",J2575:K2575,2,0)","v":1},1]
[null,null,null,{"$f":"分類順!A2575","v":0},{"$f":"分類順!B2575","v":0},{"$f":"分類順!C2575","v":0},{"$f":"分類順!D2575","v":0},{"$f":"分類順!E2575","v":0},{"$f":"分類順!F2575","v":0},"00000",1,{"$f":"VLOOKUP(\"*\"&目次加工!$B$2&\"*\",J2576:K2576,2,0)","v":1},1]
[null,null,null,{"$f":"分類順!A2576","v":0},{"$f":"分類順!B2576","v":0},{"$f":"分類順!C2576","v":0},{"$f":"分類順!D2576","v":0},{"$f":"分類順!E2576","v":0},{"$f":"分類順!F2576","v":0},"00000",1,{"$f":"VLOOKUP(\"*\"&目次加工!$B$2&\"*\",J2577:K2577,2,0)","v":1},1]
[null,null,null,{"$f":"分類順!A2577","v":0},{"$f":"分類順!B2577","v":0},{"$f":"分類順!C2577","v":0},{"$f":"分類順!D2577","v":0},{"$f":"分類順!E2577","v":0},{"$f":"分類順!F2577","v":0},"00000",1,{"$f":"VLOOKUP(\"*\"&目次加工!$B$2&\"*\",J2578:K2578,2,0)","v":1},1]
[null,null,null,{"$f":"分類順!A2578","v":0},{"$f":"分類順!B2578","v":0},{"$f":"分類順!C2578","v":0},{"$f":"分類順!D2578","v":0},{"$f":"分類順!E2578","v":0},{"$f":"分類順!F2578","v":0},{"$f":"D2579&E2579&F2579&G2579&H2579","v":"00000"},1,{"$f":"VLOOKUP(\"*\"&目次加工!$B$2&\"*\",J2579:K2579,2,0)","v":1},1]
[null,null,null,{"$f":"分類順!A2579","v":0},{"$f":"分類順!B2579","v":0},{"$f":"分類順!C2579","v":0},{"$f":"分類順!D2579","v":0},{"$f":"分類順!E2579","v":0},{"$f":"分類順!F2579","v":0},"00000",1,{"$f":"VLOOKUP(\"*\"&目次加工!$B$2&\"*\",J2580:K2580,2,0)","v":1},1]
[null,null,null,{"$f":"分類順!A2580","v":0},{"$f":"分類順!B2580","v":0},{"$f":"分類順!C2580","v":0},{"$f":"分類順!D2580","v":0},{"$f":"分類順!E2580","v":0},{"$f":"分類順!F2580","v":0},"00000",1,{"$f":"VLOOKUP(\"*\"&目次加工!$B$2&\"*\",J2581:K2581,2,0)","v":1},1]
[null,null,null,{"$f":"分類順!A2581","v":0},{"$f":"分類順!B2581","v":0},{"$f":"分類順!C2581","v":0},{"$f":"分類順!D2581","v":0},{"$f":"分類順!E2581","v":0},{"$f":"分類順!F2581","v":0},"00000",1,{"$f":"VLOOKUP(\"*\"&目次加工!$B$2&\"*\",J2582:K2582,2,0)","v":1},1]
[null,null,null,{"$f":"分類順!A2582","v":0},{"$f":"分類順!B2582","v":0},{"$f":"分類順!C2582","v":0},{"$f":"分類順!D2582","v":0},{"$f":"分類順!E2582","v":0},{"$f":"分類順!F2582","v":0},"00000",1,{"$f":"VLOOKUP(\"*\"&目次加工!$B$2&\"*\",J2583:K2583,2,0)","v":1},1]
[null,null,null,{"$f":"分類順!A2583","v":0},{"$f":"分類順!B2583","v":0},{"$f":"分類順!C2583","v":0},{"$f":"分類順!D2583","v":0},{"$f":"分類順!E2583","v":0},{"$f":"分類順!F2583","v":0},"00000",1,{"$f":"VLOOKUP(\"*\"&目次加工!$B$2&\"*\",J2584:K2584,2,0)","v":1},1]
[null,null,null,{"$f":"分類順!A2584","v":0},{"$f":"分類順!B2584","v":0},{"$f":"分類順!C2584","v":0},{"$f":"分類順!D2584","v":0},{"$f":"分類順!E2584","v":0},{"$f":"分類順!F2584","v":0},"00000",1,{"$f":"VLOOKUP(\"*\"&目次加工!$B$2&\"*\",J2585:K2585,2,0)","v":1},1]
[null,null,null,{"$f":"分類順!A2585","v":0},{"$f":"分類順!B2585","v":0},{"$f":"分類順!C2585","v":0},{"$f":"分類順!D2585","v":0},{"$f":"分類順!E2585","v":0},{"$f":"分類順!F2585","v":0},"00000",1,{"$f":"VLOOKUP(\"*\"&目次加工!$B$2&\"*\",J2586:K2586,2,0)","v":1},1]
[null,null,null,{"$f":"分類順!A2586","v":0},{"$f":"分類順!B2586","v":0},{"$f":"分類順!C2586","v":0},{"$f":"分類順!D2586","v":0},{"$f":"分類順!E2586","v":0},{"$f":"分類順!F2586","v":0},"00000",1,{"$f":"VLOOKUP(\"*\"&目次加工!$B$2&\"*\",J2587:K2587,2,0)","v":1},1]
[null,null,null,{"$f":"分類順!A2587","v":0},{"$f":"分類順!B2587","v":0},{"$f":"分類順!C2587","v":0},{"$f":"分類順!D2587","v":0},{"$f":"分類順!E2587","v":0},{"$f":"分類順!F2587","v":0},"00000",1,{"$f":"VLOOKUP(\"*\"&目次加工!$B$2&\"*\",J2588:K2588,2,0)","v":1},1]
[null,null,null,{"$f":"分類順!A2588","v":0},{"$f":"分類順!B2588","v":0},{"$f":"分類順!C2588","v":0},{"$f":"分類順!D2588","v":0},{"$f":"分類順!E2588","v":0},{"$f":"分類順!F2588","v":0},"00000",1,{"$f":"VLOOKUP(\"*\"&目次加工!$B$2&\"*\",J2589:K2589,2,0)","v":1},1]
[null,null,null,{"$f":"分類順!A2589","v":0},{"$f":"分類順!B2589","v":0},{"$f":"分類順!C2589","v":0},{"$f":"分類順!D2589","v":0},{"$f":"分類順!E2589","v":0},{"$f":"分類順!F2589","v":0},"00000",1,{"$f":"VLOOKUP(\"*\"&目次加工!$B$2&\"*\",J2590:K2590,2,0)","v":1},1]
[null,null,null,{"$f":"分類順!A2590","v":0},{"$f":"分類順!B2590","v":0},{"$f":"分類順!C2590","v":0},{"$f":"分類順!D2590","v":0},{"$f":"分類順!E2590","v":0},{"$f":"分類順!F2590","v":0},"00000",1,{"$f":"VLOOKUP(\"*\"&目次加工!$B$2&\"*\",J2591:K2591,2,0)","v":1},1]
[null,null,null,{"$f":"分類順!A2591","v":0},{"$f":"分類順!B2591","v":0},{"$f":"分類順!C2591","v":0},{"$f":"分類順!D2591","v":0},{"$f":"分類順!E2591","v":0},{"$f":"分類順!F2591","v":0},"00000",1,{"$f":"VLOOKUP(\"*\"&目次加工!$B$2&\"*\",J2592:K2592,2,0)","v":1},1]
[null,null,null,{"$f":"分類順!A2592","v":0},{"$f":"分類順!B2592","v":0},{"$f":"分類順!C2592","v":0},{"$f":"分類順!D2592","v":0},{"$f":"分類順!E2592","v":0},{"$f":"分類順!F2592","v":0},"00000",1,{"$f":"VLOOKUP(\"*\"&目次加工!$B$2&\"*\",J2593:K2593,2,0)","v":1},1]
[null,null,null,{"$f":"分類順!A2593","v":0},{"$f":"分類順!B2593","v":0},{"$f":"分類順!C2593","v":0},{"$f":"分類順!D2593","v":0},{"$f":"分類順!E2593","v":0},{"$f":"分類順!F2593","v":0},"00000",1,{"$f":"VLOOKUP(\"*\"&目次加工!$B$2&\"*\",J2594:K2594,2,0)","v":1},1]
[null,null,null,{"$f":"分類順!A2594","v":0},{"$f":"分類順!B2594","v":0},{"$f":"分類順!C2594","v":0},{"$f":"分類順!D2594","v":0},{"$f":"分類順!E2594","v":0},{"$f":"分類順!F2594","v":0},"00000",1,{"$f":"VLOOKUP(\"*\"&目次加工!$B$2&\"*\",J2595:K2595,2,0)","v":1},1]
[null,null,null,{"$f":"分類順!A2595","v":0},{"$f":"分類順!B2595","v":0},{"$f":"分類順!C2595","v":0},{"$f":"分類順!D2595","v":0},{"$f":"分類順!E2595","v":0},{"$f":"分類順!F2595","v":0},"00000",1,{"$f":"VLOOKUP(\"*\"&目次加工!$B$2&\"*\",J2596:K2596,2,0)","v":1},1]
[null,null,null,{"$f":"分類順!A2596","v":0},{"$f":"分類順!B2596","v":0},{"$f":"分類順!C2596","v":0},{"$f":"分類順!D2596","v":0},{"$f":"分類順!E2596","v":0},{"$f":"分類順!F2596","v":0},"00000",1,{"$f":"VLOOKUP(\"*\"&目次加工!$B$2&\"*\",J2597:K2597,2,0)","v":1},1]
[null,null,null,{"$f":"分類順!A2597","v":0},{"$f":"分類順!B2597","v":0},{"$f":"分類順!C2597","v":0},{"$f":"分類順!D2597","v":0},{"$f":"分類順!E2597","v":0},{"$f":"分類順!F2597","v":0},"00000",1,{"$f":"VLOOKUP(\"*\"&目次加工!$B$2&\"*\",J2598:K2598,2,0)","v":1},1]
[null,null,null,{"$f":"分類順!A2598","v":0},{"$f":"分類順!B2598","v":0},{"$f":"分類順!C2598","v":0},{"$f":"分類順!D2598","v":0},{"$f":"分類順!E2598","v":0},{"$f":"分類順!F2598","v":0},"00000",1,{"$f":"VLOOKUP(\"*\"&目次加工!$B$2&\"*\",J2599:K2599,2,0)","v":1},1]
[null,null,null,{"$f":"分類順!A2599","v":0},{"$f":"分類順!B2599","v":0},{"$f":"分類順!C2599","v":0},{"$f":"分類順!D2599","v":0},{"$f":"分類順!E2599","v":0},{"$f":"分類順!F2599","v":0},"00000",1,{"$f":"VLOOKUP(\"*\"&目次加工!$B$2&\"*\",J2600:K2600,2,0)","v":1},1]
[null,null,null,{"$f":"分類順!A2600","v":0},{"$f":"分類順!B2600","v":0},{"$f":"分類順!C2600","v":0},{"$f":"分類順!D2600","v":0},{"$f":"分類順!E2600","v":0},{"$f":"分類順!F2600","v":0},"00000",1,{"$f":"VLOOKUP(\"*\"&目次加工!$B$2&\"*\",J2601:K2601,2,0)","v":1},1]
[null,null,null,{"$f":"分類順!A2601","v":0},{"$f":"分類順!B2601","v":0},{"$f":"分類順!C2601","v":0},{"$f":"分類順!D2601","v":0},{"$f":"分類順!E2601","v":0},{"$f":"分類順!F2601","v":0},"00000",1,{"$f":"VLOOKUP(\"*\"&目次加工!$B$2&\"*\",J2602:K2602,2,0)","v":1},1]
[null,null,null,{"$f":"分類順!A2602","v":0},{"$f":"分類順!B2602","v":0},{"$f":"分類順!C2602","v":0},{"$f":"分類順!D2602","v":0},{"$f":"分類順!E2602","v":0},{"$f":"分類順!F2602","v":0},"00000",1,{"$f":"VLOOKUP(\"*\"&目次加工!$B$2&\"*\",J2603:K2603,2,0)","v":1},1]
[null,null,null,{"$f":"分類順!A2603","v":0},{"$f":"分類順!B2603","v":0},{"$f":"分類順!C2603","v":0},{"$f":"分類順!D2603","v":0},{"$f":"分類順!E2603","v":0},{"$f":"分類順!F2603","v":0},"00000",1,{"$f":"VLOOKUP(\"*\"&目次加工!$B$2&\"*\",J2604:K2604,2,0)","v":1},1]
[null,null,null,{"$f":"分類順!A2604","v":0},{"$f":"分類順!B2604","v":0},{"$f":"分類順!C2604","v":0},{"$f":"分類順!D2604","v":0},{"$f":"分類順!E2604","v":0},{"$f":"分類順!F2604","v":0},"00000",1,{"$f":"VLOOKUP(\"*\"&目次加工!$B$2&\"*\",J2605:K2605,2,0)","v":1},1]
[null,null,null,{"$f":"分類順!A2605","v":0},{"$f":"分類順!B2605","v":0},{"$f":"分類順!C2605","v":0},{"$f":"分類順!D2605","v":0},{"$f":"分類順!E2605","v":0},{"$f":"分類順!F2605","v":0},"00000",1,{"$f":"VLOOKUP(\"*\"&目次加工!$B$2&\"*\",J2606:K2606,2,0)","v":1},1]
[null,null,null,{"$f":"分類順!A2606","v":0},{"$f":"分類順!B2606","v":0},{"$f":"分類順!C2606","v":0},{"$f":"分類順!D2606","v":0},{"$f":"分類順!E2606","v":0},{"$f":"分類順!F2606","v":0},"00000",1,{"$f":"VLOOKUP(\"*\"&目次加工!$B$2&\"*\",J2607:K2607,2,0)","v":1},1]
[null,null,null,{"$f":"分類順!A2607","v":0},{"$f":"分類順!B2607","v":0},{"$f":"分類順!C2607","v":0},{"$f":"分類順!D2607","v":0},{"$f":"分類順!E2607","v":0},{"$f":"分類順!F2607","v":0},"00000",1,{"$f":"VLOOKUP(\"*\"&目次加工!$B$2&\"*\",J2608:K2608,2,0)","v":1},1]
[null,null,null,{"$f":"分類順!A2608","v":0},{"$f":"分類順!B2608","v":0},{"$f":"分類順!C2608","v":0},{"$f":"分類順!D2608","v":0},{"$f":"分類順!E2608","v":0},{"$f":"分類順!F2608","v":0},"00000",1,{"$f":"VLOOKUP(\"*\"&目次加工!$B$2&\"*\",J2609:K2609,2,0)","v":1},1]
[null,null,null,{"$f":"分類順!A2609","v":0},{"$f":"分類順!B2609","v":0},{"$f":"分類順!C2609","v":0},{"$f":"分類順!D2609","v":0},{"$f":"分類順!E2609","v":0},{"$f":"分類順!F2609","v":0},"00000",1,{"$f":"VLOOKUP(\"*\"&目次加工!$B$2&\"*\",J2610:K2610,2,0)","v":1},1]
[null,null,null,{"$f":"分類順!A2610","v":0},{"$f":"分類順!B2610","v":0},{"$f":"分類順!C2610","v":0},{"$f":"分類順!D2610","v":0},{"$f":"分類順!E2610","v":0},{"$f":"分類順!F2610","v":0},"00000",1,{"$f":"VLOOKUP(\"*\"&目次加工!$B$2&\"*\",J2611:K2611,2,0)","v":1},1]
[null,null,null,{"$f":"分類順!A2611","v":0},{"$f":"分類順!B2611","v":0},{"$f":"分類順!C2611","v":0},{"$f":"分類順!D2611","v":0},{"$f":"分類順!E2611","v":0},{"$f":"分類順!F2611","v":0},"00000",1,{"$f":"VLOOKUP(\"*\"&目次加工!$B$2&\"*\",J2612:K2612,2,0)","v":1},1]
[null,null,null,{"$f":"分類順!A2612","v":0},{"$f":"分類順!B2612","v":0},{"$f":"分類順!C2612","v":0},{"$f":"分類順!D2612","v":0},{"$f":"分類順!E2612","v":0},{"$f":"分類順!F2612","v":0},"00000",1,{"$f":"VLOOKUP(\"*\"&目次加工!$B$2&\"*\",J2613:K2613,2,0)","v":1},1]
[null,null,null,{"$f":"分類順!A2613","v":0},{"$f":"分類順!B2613","v":0},{"$f":"分類順!C2613","v":0},{"$f":"分類順!D2613","v":0},{"$f":"分類順!E2613","v":0},{"$f":"分類順!F2613","v":0},"00000",1,{"$f":"VLOOKUP(\"*\"&目次加工!$B$2&\"*\",J2614:K2614,2,0)","v":1},1]
[null,null,null,{"$f":"分類順!A2614","v":0},{"$f":"分類順!B2614","v":0},{"$f":"分類順!C2614","v":0},{"$f":"分類順!D2614","v":0},{"$f":"分類順!E2614","v":0},{"$f":"分類順!F2614","v":0},"00000",1,{"$f":"VLOOKUP(\"*\"&目次加工!$B$2&\"*\",J2615:K2615,2,0)","v":1},1]
[null,null,null,{"$f":"分類順!A2615","v":0},{"$f":"分類順!B2615","v":0},{"$f":"分類順!C2615","v":0},{"$f":"分類順!D2615","v":0},{"$f":"分類順!E2615","v":0},{"$f":"分類順!F2615","v":0},"00000",1,{"$f":"VLOOKUP(\"*\"&目次加工!$B$2&\"*\",J2616:K2616,2,0)","v":1},1]
[null,null,null,{"$f":"分類順!A2616","v":0},{"$f":"分類順!B2616","v":0},{"$f":"分類順!C2616","v":0},{"$f":"分類順!D2616","v":0},{"$f":"分類順!E2616","v":0},{"$f":"分類順!F2616","v":0},"00000",1,{"$f":"VLOOKUP(\"*\"&目次加工!$B$2&\"*\",J2617:K2617,2,0)","v":1},1]
[null,null,null,{"$f":"分類順!A2617","v":0},{"$f":"分類順!B2617","v":0},{"$f":"分類順!C2617","v":0},{"$f":"分類順!D2617","v":0},{"$f":"分類順!E2617","v":0},{"$f":"分類順!F2617","v":0},"00000",1,{"$f":"VLOOKUP(\"*\"&目次加工!$B$2&\"*\",J2618:K2618,2,0)","v":1},1]
[null,null,null,{"$f":"分類順!A2618","v":0},{"$f":"分類順!B2618","v":0},{"$f":"分類順!C2618","v":0},{"$f":"分類順!D2618","v":0},{"$f":"分類順!E2618","v":0},{"$f":"分類順!F2618","v":0},"00000",1,{"$f":"VLOOKUP(\"*\"&目次加工!$B$2&\"*\",J2619:K2619,2,0)","v":1},1]
[null,null,null,{"$f":"分類順!A2619","v":0},{"$f":"分類順!B2619","v":0},{"$f":"分類順!C2619","v":0},{"$f":"分類順!D2619","v":0},{"$f":"分類順!E2619","v":0},{"$f":"分類順!F2619","v":0},"00000",1,{"$f":"VLOOKUP(\"*\"&目次加工!$B$2&\"*\",J2620:K2620,2,0)","v":1},1]
[null,null,null,{"$f":"分類順!A2620","v":0},{"$f":"分類順!B2620","v":0},{"$f":"分類順!C2620","v":0},{"$f":"分類順!D2620","v":0},{"$f":"分類順!E2620","v":0},{"$f":"分類順!F2620","v":0},"00000",1,{"$f":"VLOOKUP(\"*\"&目次加工!$B$2&\"*\",J2621:K2621,2,0)","v":1},1]
[null,null,null,{"$f":"分類順!A2621","v":0},{"$f":"分類順!B2621","v":0},{"$f":"分類順!C2621","v":0},{"$f":"分類順!D2621","v":0},{"$f":"分類順!E2621","v":0},{"$f":"分類順!F2621","v":0},"00000",1,{"$f":"VLOOKUP(\"*\"&目次加工!$B$2&\"*\",J2622:K2622,2,0)","v":1},1]
[null,null,null,{"$f":"分類順!A2622","v":0},{"$f":"分類順!B2622","v":0},{"$f":"分類順!C2622","v":0},{"$f":"分類順!D2622","v":0},{"$f":"分類順!E2622","v":0},{"$f":"分類順!F2622","v":0},"00000",1,{"$f":"VLOOKUP(\"*\"&目次加工!$B$2&\"*\",J2623:K2623,2,0)","v":1},1]
[null,null,null,{"$f":"分類順!A2623","v":0},{"$f":"分類順!B2623","v":0},{"$f":"分類順!C2623","v":0},{"$f":"分類順!D2623","v":0},{"$f":"分類順!E2623","v":0},{"$f":"分類順!F2623","v":0},"00000",1,{"$f":"VLOOKUP(\"*\"&目次加工!$B$2&\"*\",J2624:K2624,2,0)","v":1},1]
[null,null,null,{"$f":"分類順!A2624","v":0},{"$f":"分類順!B2624","v":0},{"$f":"分類順!C2624","v":0},{"$f":"分類順!D2624","v":0},{"$f":"分類順!E2624","v":0},{"$f":"分類順!F2624","v":0},"00000",1,{"$f":"VLOOKUP(\"*\"&目次加工!$B$2&\"*\",J2625:K2625,2,0)","v":1},1]
[null,null,null,{"$f":"分類順!A2625","v":0},{"$f":"分類順!B2625","v":0},{"$f":"分類順!C2625","v":0},{"$f":"分類順!D2625","v":0},{"$f":"分類順!E2625","v":0},{"$f":"分類順!F2625","v":0},"00000",1,{"$f":"VLOOKUP(\"*\"&目次加工!$B$2&\"*\",J2626:K2626,2,0)","v":1},1]
[null,null,null,{"$f":"分類順!A2626","v":0},{"$f":"分類順!B2626","v":0},{"$f":"分類順!C2626","v":0},{"$f":"分類順!D2626","v":0},{"$f":"分類順!E2626","v":0},{"$f":"分類順!F2626","v":0},"00000",1,{"$f":"VLOOKUP(\"*\"&目次加工!$B$2&\"*\",J2627:K2627,2,0)","v":1},1]
[null,null,null,{"$f":"分類順!A2627","v":0},{"$f":"分類順!B2627","v":0},{"$f":"分類順!C2627","v":0},{"$f":"分類順!D2627","v":0},{"$f":"分類順!E2627","v":0},{"$f":"分類順!F2627","v":0},"00000",1,{"$f":"VLOOKUP(\"*\"&目次加工!$B$2&\"*\",J2628:K2628,2,0)","v":1},{"$f":"VLOOKUP(\"*\"&$A$2&\"*\",J2628:K2628,2,0)","v":1}]
[null,null,null,{"$f":"分類順!A2628","v":0},{"$f":"分類順!B2628","v":0},{"$f":"分類順!C2628","v":0},{"$f":"分類順!D2628","v":0},{"$f":"分類順!E2628","v":0},{"$f":"分類順!F2628","v":0},"00000",1,{"$f":"VLOOKUP(\"*\"&目次加工!$B$2&\"*\",J2629:K2629,2,0)","v":1},1]
[null,null,null,{"$f":"分類順!A2629","v":0},{"$f":"分類順!B2629","v":0},{"$f":"分類順!C2629","v":0},{"$f":"分類順!D2629","v":0},{"$f":"分類順!E2629","v":0},{"$f":"分類順!F2629","v":0},"00000",1,{"$f":"VLOOKUP(\"*\"&目次加工!$B$2&\"*\",J2630:K2630,2,0)","v":1},1]
[null,null,null,{"$f":"分類順!A2630","v":0},{"$f":"分類順!B2630","v":0},{"$f":"分類順!C2630","v":0},{"$f":"分類順!D2630","v":0},{"$f":"分類順!E2630","v":0},{"$f":"分類順!F2630","v":0},"00000",1,{"$f":"VLOOKUP(\"*\"&目次加工!$B$2&\"*\",J2631:K2631,2,0)","v":1},1]
[null,null,null,{"$f":"分類順!A2631","v":0},{"$f":"分類順!B2631","v":0},{"$f":"分類順!C2631","v":0},{"$f":"分類順!D2631","v":0},{"$f":"分類順!E2631","v":0},{"$f":"分類順!F2631","v":0},"00000",1,{"$f":"VLOOKUP(\"*\"&目次加工!$B$2&\"*\",J2632:K2632,2,0)","v":1},1]
[null,null,null,{"$f":"分類順!A2632","v":0},{"$f":"分類順!B2632","v":0},{"$f":"分類順!C2632","v":0},{"$f":"分類順!D2632","v":0},{"$f":"分類順!E2632","v":0},{"$f":"分類順!F2632","v":0},"00000",1,{"$f":"VLOOKUP(\"*\"&目次加工!$B$2&\"*\",J2633:K2633,2,0)","v":1},1]
[null,null,null,{"$f":"分類順!A2633","v":0},{"$f":"分類順!B2633","v":0},{"$f":"分類順!C2633","v":0},{"$f":"分類順!D2633","v":0},{"$f":"分類順!E2633","v":0},{"$f":"分類順!F2633","v":0},"00000",1,{"$f":"VLOOKUP(\"*\"&目次加工!$B$2&\"*\",J2634:K2634,2,0)","v":1},1]
[null,null,null,{"$f":"分類順!A2634","v":0},{"$f":"分類順!B2634","v":0},{"$f":"分類順!C2634","v":0},{"$f":"分類順!D2634","v":0},{"$f":"分類順!E2634","v":0},{"$f":"分類順!F2634","v":0},"00000",1,{"$f":"VLOOKUP(\"*\"&目次加工!$B$2&\"*\",J2635:K2635,2,0)","v":1},1]
[null,null,null,{"$f":"分類順!A2635","v":0},{"$f":"分類順!B2635","v":0},{"$f":"分類順!C2635","v":0},{"$f":"分類順!D2635","v":0},{"$f":"分類順!E2635","v":0},{"$f":"分類順!F2635","v":0},"00000",1,{"$f":"VLOOKUP(\"*\"&目次加工!$B$2&\"*\",J2636:K2636,2,0)","v":1},1]
[null,null,null,{"$f":"分類順!A2636","v":0},{"$f":"分類順!B2636","v":0},{"$f":"分類順!C2636","v":0},{"$f":"分類順!D2636","v":0},{"$f":"分類順!E2636","v":0},{"$f":"分類順!F2636","v":0},"00000",1,{"$f":"VLOOKUP(\"*\"&目次加工!$B$2&\"*\",J2637:K2637,2,0)","v":1},1]
[null,null,null,{"$f":"分類順!A2637","v":0},{"$f":"分類順!B2637","v":0},{"$f":"分類順!C2637","v":0},{"$f":"分類順!D2637","v":0},{"$f":"分類順!E2637","v":0},{"$f":"分類順!F2637","v":0},"00000",1,{"$f":"VLOOKUP(\"*\"&目次加工!$B$2&\"*\",J2638:K2638,2,0)","v":1},1]
[null,null,null,{"$f":"分類順!A2638","v":0},{"$f":"分類順!B2638","v":0},{"$f":"分類順!C2638","v":0},{"$f":"分類順!D2638","v":0},{"$f":"分類順!E2638","v":0},{"$f":"分類順!F2638","v":0},"00000",1,{"$f":"VLOOKUP(\"*\"&目次加工!$B$2&\"*\",J2639:K2639,2,0)","v":1},1]
[null,null,null,{"$f":"分類順!A2639","v":0},{"$f":"分類順!B2639","v":0},{"$f":"分類順!C2639","v":0},{"$f":"分類順!D2639","v":0},{"$f":"分類順!E2639","v":0},{"$f":"分類順!F2639","v":0},"00000",1,{"$f":"VLOOKUP(\"*\"&目次加工!$B$2&\"*\",J2640:K2640,2,0)","v":1},1]
[null,null,null,{"$f":"分類順!A2640","v":0},{"$f":"分類順!B2640","v":0},{"$f":"分類順!C2640","v":0},{"$f":"分類順!D2640","v":0},{"$f":"分類順!E2640","v":0},{"$f":"分類順!F2640","v":0},"00000",1,{"$f":"VLOOKUP(\"*\"&目次加工!$B$2&\"*\",J2641:K2641,2,0)","v":1},1]
[null,null,null,{"$f":"分類順!A2641","v":0},{"$f":"分類順!B2641","v":0},{"$f":"分類順!C2641","v":0},{"$f":"分類順!D2641","v":0},{"$f":"分類順!E2641","v":0},{"$f":"分類順!F2641","v":0},"00000",1,{"$f":"VLOOKUP(\"*\"&目次加工!$B$2&\"*\",J2642:K2642,2,0)","v":1},1]
[null,null,null,{"$f":"分類順!A2642","v":0},{"$f":"分類順!B2642","v":0},{"$f":"分類順!C2642","v":0},{"$f":"分類順!D2642","v":0},{"$f":"分類順!E2642","v":0},{"$f":"分類順!F2642","v":0},{"$f":"D2643&E2643&F2643&G2643&H2643","v":"00000"},1,{"$f":"VLOOKUP(\"*\"&目次加工!$B$2&\"*\",J2643:K2643,2,0)","v":1},1]
[null,null,null,{"$f":"分類順!A2643","v":0},{"$f":"分類順!B2643","v":0},{"$f":"分類順!C2643","v":0},{"$f":"分類順!D2643","v":0},{"$f":"分類順!E2643","v":0},{"$f":"分類順!F2643","v":0},"00000",1,{"$f":"VLOOKUP(\"*\"&目次加工!$B$2&\"*\",J2644:K2644,2,0)","v":1},1]
[null,null,null,{"$f":"分類順!A2644","v":0},{"$f":"分類順!B2644","v":0},{"$f":"分類順!C2644","v":0},{"$f":"分類順!D2644","v":0},{"$f":"分類順!E2644","v":0},{"$f":"分類順!F2644","v":0},"00000",1,{"$f":"VLOOKUP(\"*\"&目次加工!$B$2&\"*\",J2645:K2645,2,0)","v":1},1]
[null,null,null,{"$f":"分類順!A2645","v":0},{"$f":"分類順!B2645","v":0},{"$f":"分類順!C2645","v":0},{"$f":"分類順!D2645","v":0},{"$f":"分類順!E2645","v":0},{"$f":"分類順!F2645","v":0},"00000",1,{"$f":"VLOOKUP(\"*\"&目次加工!$B$2&\"*\",J2646:K2646,2,0)","v":1},1]
[null,null,null,{"$f":"分類順!A2646","v":0},{"$f":"分類順!B2646","v":0},{"$f":"分類順!C2646","v":0},{"$f":"分類順!D2646","v":0},{"$f":"分類順!E2646","v":0},{"$f":"分類順!F2646","v":0},"00000",1,{"$f":"VLOOKUP(\"*\"&目次加工!$B$2&\"*\",J2647:K2647,2,0)","v":1},1]
[null,null,null,{"$f":"分類順!A2647","v":0},{"$f":"分類順!B2647","v":0},{"$f":"分類順!C2647","v":0},{"$f":"分類順!D2647","v":0},{"$f":"分類順!E2647","v":0},{"$f":"分類順!F2647","v":0},"00000",1,{"$f":"VLOOKUP(\"*\"&目次加工!$B$2&\"*\",J2648:K2648,2,0)","v":1},1]
[null,null,null,{"$f":"分類順!A2648","v":0},{"$f":"分類順!B2648","v":0},{"$f":"分類順!C2648","v":0},{"$f":"分類順!D2648","v":0},{"$f":"分類順!E2648","v":0},{"$f":"分類順!F2648","v":0},"00000",1,{"$f":"VLOOKUP(\"*\"&目次加工!$B$2&\"*\",J2649:K2649,2,0)","v":1},1]
[null,null,null,{"$f":"分類順!A2649","v":0},{"$f":"分類順!B2649","v":0},{"$f":"分類順!C2649","v":0},{"$f":"分類順!D2649","v":0},{"$f":"分類順!E2649","v":0},{"$f":"分類順!F2649","v":0},"00000",1,{"$f":"VLOOKUP(\"*\"&目次加工!$B$2&\"*\",J2650:K2650,2,0)","v":1},1]
[null,null,null,{"$f":"分類順!A2650","v":0},{"$f":"分類順!B2650","v":0},{"$f":"分類順!C2650","v":0},{"$f":"分類順!D2650","v":0},{"$f":"分類順!E2650","v":0},{"$f":"分類順!F2650","v":0},"00000",1,{"$f":"VLOOKUP(\"*\"&目次加工!$B$2&\"*\",J2651:K2651,2,0)","v":1},1]
[null,null,null,{"$f":"分類順!A2651","v":0},{"$f":"分類順!B2651","v":0},{"$f":"分類順!C2651","v":0},{"$f":"分類順!D2651","v":0},{"$f":"分類順!E2651","v":0},{"$f":"分類順!F2651","v":0},"00000",1,{"$f":"VLOOKUP(\"*\"&目次加工!$B$2&\"*\",J2652:K2652,2,0)","v":1},1]
[null,null,null,{"$f":"分類順!A2652","v":0},{"$f":"分類順!B2652","v":0},{"$f":"分類順!C2652","v":0},{"$f":"分類順!D2652","v":0},{"$f":"分類順!E2652","v":0},{"$f":"分類順!F2652","v":0},"00000",1,{"$f":"VLOOKUP(\"*\"&目次加工!$B$2&\"*\",J2653:K2653,2,0)","v":1},1]
[null,null,null,{"$f":"分類順!A2653","v":0},{"$f":"分類順!B2653","v":0},{"$f":"分類順!C2653","v":0},{"$f":"分類順!D2653","v":0},{"$f":"分類順!E2653","v":0},{"$f":"分類順!F2653","v":0},"00000",1,{"$f":"VLOOKUP(\"*\"&目次加工!$B$2&\"*\",J2654:K2654,2,0)","v":1},1]
[null,null,null,{"$f":"分類順!A2654","v":0},{"$f":"分類順!B2654","v":0},{"$f":"分類順!C2654","v":0},{"$f":"分類順!D2654","v":0},{"$f":"分類順!E2654","v":0},{"$f":"分類順!F2654","v":0},"00000",1,{"$f":"VLOOKUP(\"*\"&目次加工!$B$2&\"*\",J2655:K2655,2,0)","v":1},1]
[null,null,null,{"$f":"分類順!A2655","v":0},{"$f":"分類順!B2655","v":0},{"$f":"分類順!C2655","v":0},{"$f":"分類順!D2655","v":0},{"$f":"分類順!E2655","v":0},{"$f":"分類順!F2655","v":0},"00000",1,{"$f":"VLOOKUP(\"*\"&目次加工!$B$2&\"*\",J2656:K2656,2,0)","v":1},1]
[null,null,null,{"$f":"分類順!A2656","v":0},{"$f":"分類順!B2656","v":0},{"$f":"分類順!C2656","v":0},{"$f":"分類順!D2656","v":0},{"$f":"分類順!E2656","v":0},{"$f":"分類順!F2656","v":0},"00000",1,{"$f":"VLOOKUP(\"*\"&目次加工!$B$2&\"*\",J2657:K2657,2,0)","v":1},1]
[null,null,null,{"$f":"分類順!A2657","v":0},{"$f":"分類順!B2657","v":0},{"$f":"分類順!C2657","v":0},{"$f":"分類順!D2657","v":0},{"$f":"分類順!E2657","v":0},{"$f":"分類順!F2657","v":0},"00000",1,{"$f":"VLOOKUP(\"*\"&目次加工!$B$2&\"*\",J2658:K2658,2,0)","v":1},1]
[null,null,null,{"$f":"分類順!A2658","v":0},{"$f":"分類順!B2658","v":0},{"$f":"分類順!C2658","v":0},{"$f":"分類順!D2658","v":0},{"$f":"分類順!E2658","v":0},{"$f":"分類順!F2658","v":0},"00000",1,{"$f":"VLOOKUP(\"*\"&目次加工!$B$2&\"*\",J2659:K2659,2,0)","v":1},1]
[null,null,null,{"$f":"分類順!A2659","v":0},{"$f":"分類順!B2659","v":0},{"$f":"分類順!C2659","v":0},{"$f":"分類順!D2659","v":0},{"$f":"分類順!E2659","v":0},{"$f":"分類順!F2659","v":0},"00000",1,{"$f":"VLOOKUP(\"*\"&目次加工!$B$2&\"*\",J2660:K2660,2,0)","v":1},1]
[null,null,null,{"$f":"分類順!A2660","v":0},{"$f":"分類順!B2660","v":0},{"$f":"分類順!C2660","v":0},{"$f":"分類順!D2660","v":0},{"$f":"分類順!E2660","v":0},{"$f":"分類順!F2660","v":0},"00000",1,{"$f":"VLOOKUP(\"*\"&目次加工!$B$2&\"*\",J2661:K2661,2,0)","v":1},1]
[null,null,null,{"$f":"分類順!A2661","v":0},{"$f":"分類順!B2661","v":0},{"$f":"分類順!C2661","v":0},{"$f":"分類順!D2661","v":0},{"$f":"分類順!E2661","v":0},{"$f":"分類順!F2661","v":0},"00000",1,{"$f":"VLOOKUP(\"*\"&目次加工!$B$2&\"*\",J2662:K2662,2,0)","v":1},1]
[null,null,null,{"$f":"分類順!A2662","v":0},{"$f":"分類順!B2662","v":0},{"$f":"分類順!C2662","v":0},{"$f":"分類順!D2662","v":0},{"$f":"分類順!E2662","v":0},{"$f":"分類順!F2662","v":0},"00000",1,{"$f":"VLOOKUP(\"*\"&目次加工!$B$2&\"*\",J2663:K2663,2,0)","v":1},1]
[null,null,null,{"$f":"分類順!A2663","v":0},{"$f":"分類順!B2663","v":0},{"$f":"分類順!C2663","v":0},{"$f":"分類順!D2663","v":0},{"$f":"分類順!E2663","v":0},{"$f":"分類順!F2663","v":0},"00000",1,{"$f":"VLOOKUP(\"*\"&目次加工!$B$2&\"*\",J2664:K2664,2,0)","v":1},1]
[null,null,null,{"$f":"分類順!A2664","v":0},{"$f":"分類順!B2664","v":0},{"$f":"分類順!C2664","v":0},{"$f":"分類順!D2664","v":0},{"$f":"分類順!E2664","v":0},{"$f":"分類順!F2664","v":0},"00000",1,{"$f":"VLOOKUP(\"*\"&目次加工!$B$2&\"*\",J2665:K2665,2,0)","v":1},1]
[null,null,null,{"$f":"分類順!A2665","v":0},{"$f":"分類順!B2665","v":0},{"$f":"分類順!C2665","v":0},{"$f":"分類順!D2665","v":0},{"$f":"分類順!E2665","v":0},{"$f":"分類順!F2665","v":0},"00000",1,{"$f":"VLOOKUP(\"*\"&目次加工!$B$2&\"*\",J2666:K2666,2,0)","v":1},1]
[null,null,null,{"$f":"分類順!A2666","v":0},{"$f":"分類順!B2666","v":0},{"$f":"分類順!C2666","v":0},{"$f":"分類順!D2666","v":0},{"$f":"分類順!E2666","v":0},{"$f":"分類順!F2666","v":0},"00000",1,{"$f":"VLOOKUP(\"*\"&目次加工!$B$2&\"*\",J2667:K2667,2,0)","v":1},1]
[null,null,null,{"$f":"分類順!A2667","v":0},{"$f":"分類順!B2667","v":0},{"$f":"分類順!C2667","v":0},{"$f":"分類順!D2667","v":0},{"$f":"分類順!E2667","v":0},{"$f":"分類順!F2667","v":0},"00000",1,{"$f":"VLOOKUP(\"*\"&目次加工!$B$2&\"*\",J2668:K2668,2,0)","v":1},1]
[null,null,null,{"$f":"分類順!A2668","v":0},{"$f":"分類順!B2668","v":0},{"$f":"分類順!C2668","v":0},{"$f":"分類順!D2668","v":0},{"$f":"分類順!E2668","v":0},{"$f":"分類順!F2668","v":0},"00000",1,{"$f":"VLOOKUP(\"*\"&目次加工!$B$2&\"*\",J2669:K2669,2,0)","v":1},1]
[null,null,null,{"$f":"分類順!A2669","v":0},{"$f":"分類順!B2669","v":0},{"$f":"分類順!C2669","v":0},{"$f":"分類順!D2669","v":0},{"$f":"分類順!E2669","v":0},{"$f":"分類順!F2669","v":0},"00000",1,{"$f":"VLOOKUP(\"*\"&目次加工!$B$2&\"*\",J2670:K2670,2,0)","v":1},1]
[null,null,null,{"$f":"分類順!A2670","v":0},{"$f":"分類順!B2670","v":0},{"$f":"分類順!C2670","v":0},{"$f":"分類順!D2670","v":0},{"$f":"分類順!E2670","v":0},{"$f":"分類順!F2670","v":0},"00000",1,{"$f":"VLOOKUP(\"*\"&目次加工!$B$2&\"*\",J2671:K2671,2,0)","v":1},1]
[null,null,null,{"$f":"分類順!A2671","v":0},{"$f":"分類順!B2671","v":0},{"$f":"分類順!C2671","v":0},{"$f":"分類順!D2671","v":0},{"$f":"分類順!E2671","v":0},{"$f":"分類順!F2671","v":0},"00000",1,{"$f":"VLOOKUP(\"*\"&目次加工!$B$2&\"*\",J2672:K2672,2,0)","v":1},1]
[null,null,null,{"$f":"分類順!A2672","v":0},{"$f":"分類順!B2672","v":0},{"$f":"分類順!C2672","v":0},{"$f":"分類順!D2672","v":0},{"$f":"分類順!E2672","v":0},{"$f":"分類順!F2672","v":0},"00000",1,{"$f":"VLOOKUP(\"*\"&目次加工!$B$2&\"*\",J2673:K2673,2,0)","v":1},1]
[null,null,null,{"$f":"分類順!A2673","v":0},{"$f":"分類順!B2673","v":0},{"$f":"分類順!C2673","v":0},{"$f":"分類順!D2673","v":0},{"$f":"分類順!E2673","v":0},{"$f":"分類順!F2673","v":0},"00000",1,{"$f":"VLOOKUP(\"*\"&目次加工!$B$2&\"*\",J2674:K2674,2,0)","v":1},1]
[null,null,null,{"$f":"分類順!A2674","v":0},{"$f":"分類順!B2674","v":0},{"$f":"分類順!C2674","v":0},{"$f":"分類順!D2674","v":0},{"$f":"分類順!E2674","v":0},{"$f":"分類順!F2674","v":0},"00000",1,{"$f":"VLOOKUP(\"*\"&目次加工!$B$2&\"*\",J2675:K2675,2,0)","v":1},1]
[null,null,null,{"$f":"分類順!A2675","v":0},{"$f":"分類順!B2675","v":0},{"$f":"分類順!C2675","v":0},{"$f":"分類順!D2675","v":0},{"$f":"分類順!E2675","v":0},{"$f":"分類順!F2675","v":0},"00000",1,{"$f":"VLOOKUP(\"*\"&目次加工!$B$2&\"*\",J2676:K2676,2,0)","v":1},1]
[null,null,null,{"$f":"分類順!A2676","v":0},{"$f":"分類順!B2676","v":0},{"$f":"分類順!C2676","v":0},{"$f":"分類順!D2676","v":0},{"$f":"分類順!E2676","v":0},{"$f":"分類順!F2676","v":0},"00000",1,{"$f":"VLOOKUP(\"*\"&目次加工!$B$2&\"*\",J2677:K2677,2,0)","v":1},1]
[null,null,null,{"$f":"分類順!A2677","v":0},{"$f":"分類順!B2677","v":0},{"$f":"分類順!C2677","v":0},{"$f":"分類順!D2677","v":0},{"$f":"分類順!E2677","v":0},{"$f":"分類順!F2677","v":0},"00000",1,{"$f":"VLOOKUP(\"*\"&目次加工!$B$2&\"*\",J2678:K2678,2,0)","v":1},1]
[null,null,null,{"$f":"分類順!A2678","v":0},{"$f":"分類順!B2678","v":0},{"$f":"分類順!C2678","v":0},{"$f":"分類順!D2678","v":0},{"$f":"分類順!E2678","v":0},{"$f":"分類順!F2678","v":0},"00000",1,{"$f":"VLOOKUP(\"*\"&目次加工!$B$2&\"*\",J2679:K2679,2,0)","v":1},1]
[null,null,null,{"$f":"分類順!A2679","v":0},{"$f":"分類順!B2679","v":0},{"$f":"分類順!C2679","v":0},{"$f":"分類順!D2679","v":0},{"$f":"分類順!E2679","v":0},{"$f":"分類順!F2679","v":0},"00000",1,{"$f":"VLOOKUP(\"*\"&目次加工!$B$2&\"*\",J2680:K2680,2,0)","v":1},1]
[null,null,null,{"$f":"分類順!A2680","v":0},{"$f":"分類順!B2680","v":0},{"$f":"分類順!C2680","v":0},{"$f":"分類順!D2680","v":0},{"$f":"分類順!E2680","v":0},{"$f":"分類順!F2680","v":0},"00000",1,{"$f":"VLOOKUP(\"*\"&目次加工!$B$2&\"*\",J2681:K2681,2,0)","v":1},1]
[null,null,null,{"$f":"分類順!A2681","v":0},{"$f":"分類順!B2681","v":0},{"$f":"分類順!C2681","v":0},{"$f":"分類順!D2681","v":0},{"$f":"分類順!E2681","v":0},{"$f":"分類順!F2681","v":0},"00000",1,{"$f":"VLOOKUP(\"*\"&目次加工!$B$2&\"*\",J2682:K2682,2,0)","v":1},1]
[null,null,null,{"$f":"分類順!A2682","v":0},{"$f":"分類順!B2682","v":0},{"$f":"分類順!C2682","v":0},{"$f":"分類順!D2682","v":0},{"$f":"分類順!E2682","v":0},{"$f":"分類順!F2682","v":0},"00000",1,{"$f":"VLOOKUP(\"*\"&目次加工!$B$2&\"*\",J2683:K2683,2,0)","v":1},1]
[null,null,null,{"$f":"分類順!A2683","v":0},{"$f":"分類順!B2683","v":0},{"$f":"分類順!C2683","v":0},{"$f":"分類順!D2683","v":0},{"$f":"分類順!E2683","v":0},{"$f":"分類順!F2683","v":0},"00000",1,{"$f":"VLOOKUP(\"*\"&目次加工!$B$2&\"*\",J2684:K2684,2,0)","v":1},1]
[null,null,null,{"$f":"分類順!A2684","v":0},{"$f":"分類順!B2684","v":0},{"$f":"分類順!C2684","v":0},{"$f":"分類順!D2684","v":0},{"$f":"分類順!E2684","v":0},{"$f":"分類順!F2684","v":0},"00000",1,{"$f":"VLOOKUP(\"*\"&目次加工!$B$2&\"*\",J2685:K2685,2,0)","v":1},1]
[null,null,null,{"$f":"分類順!A2685","v":0},{"$f":"分類順!B2685","v":0},{"$f":"分類順!C2685","v":0},{"$f":"分類順!D2685","v":0},{"$f":"分類順!E2685","v":0},{"$f":"分類順!F2685","v":0},"00000",1,{"$f":"VLOOKUP(\"*\"&目次加工!$B$2&\"*\",J2686:K2686,2,0)","v":1},1]
[null,null,null,{"$f":"分類順!A2686","v":0},{"$f":"分類順!B2686","v":0},{"$f":"分類順!C2686","v":0},{"$f":"分類順!D2686","v":0},{"$f":"分類順!E2686","v":0},{"$f":"分類順!F2686","v":0},"00000",1,{"$f":"VLOOKUP(\"*\"&目次加工!$B$2&\"*\",J2687:K2687,2,0)","v":1},1]
[null,null,null,{"$f":"分類順!A2687","v":0},{"$f":"分類順!B2687","v":0},{"$f":"分類順!C2687","v":0},{"$f":"分類順!D2687","v":0},{"$f":"分類順!E2687","v":0},{"$f":"分類順!F2687","v":0},"00000",1,{"$f":"VLOOKUP(\"*\"&目次加工!$B$2&\"*\",J2688:K2688,2,0)","v":1},1]
[null,null,null,{"$f":"分類順!A2688","v":0},{"$f":"分類順!B2688","v":0},{"$f":"分類順!C2688","v":0},{"$f":"分類順!D2688","v":0},{"$f":"分類順!E2688","v":0},{"$f":"分類順!F2688","v":0},"00000",1,{"$f":"VLOOKUP(\"*\"&目次加工!$B$2&\"*\",J2689:K2689,2,0)","v":1},1]
[null,null,null,{"$f":"分類順!A2689","v":0},{"$f":"分類順!B2689","v":0},{"$f":"分類順!C2689","v":0},{"$f":"分類順!D2689","v":0},{"$f":"分類順!E2689","v":0},{"$f":"分類順!F2689","v":0},"00000",1,{"$f":"VLOOKUP(\"*\"&目次加工!$B$2&\"*\",J2690:K2690,2,0)","v":1},1]
[null,null,null,{"$f":"分類順!A2690","v":0},{"$f":"分類順!B2690","v":0},{"$f":"分類順!C2690","v":0},{"$f":"分類順!D2690","v":0},{"$f":"分類順!E2690","v":0},{"$f":"分類順!F2690","v":0},"00000",1,{"$f":"VLOOKUP(\"*\"&目次加工!$B$2&\"*\",J2691:K2691,2,0)","v":1},1]
[null,null,null,{"$f":"分類順!A2691","v":0},{"$f":"分類順!B2691","v":0},{"$f":"分類順!C2691","v":0},{"$f":"分類順!D2691","v":0},{"$f":"分類順!E2691","v":0},{"$f":"分類順!F2691","v":0},"00000",1,{"$f":"VLOOKUP(\"*\"&目次加工!$B$2&\"*\",J2692:K2692,2,0)","v":1},{"$f":"VLOOKUP(\"*\"&$A$2&\"*\",J2692:K2692,2,0)","v":1}]
[null,null,null,{"$f":"分類順!A2692","v":0},{"$f":"分類順!B2692","v":0},{"$f":"分類順!C2692","v":0},{"$f":"分類順!D2692","v":0},{"$f":"分類順!E2692","v":0},{"$f":"分類順!F2692","v":0},"00000",1,{"$f":"VLOOKUP(\"*\"&目次加工!$B$2&\"*\",J2693:K2693,2,0)","v":1},1]
[null,null,null,{"$f":"分類順!A2693","v":0},{"$f":"分類順!B2693","v":0},{"$f":"分類順!C2693","v":0},{"$f":"分類順!D2693","v":0},{"$f":"分類順!E2693","v":0},{"$f":"分類順!F2693","v":0},"00000",1,{"$f":"VLOOKUP(\"*\"&目次加工!$B$2&\"*\",J2694:K2694,2,0)","v":1},1]
[null,null,null,{"$f":"分類順!A2694","v":0},{"$f":"分類順!B2694","v":0},{"$f":"分類順!C2694","v":0},{"$f":"分類順!D2694","v":0},{"$f":"分類順!E2694","v":0},{"$f":"分類順!F2694","v":0},"00000",1,{"$f":"VLOOKUP(\"*\"&目次加工!$B$2&\"*\",J2695:K2695,2,0)","v":1},1]
[null,null,null,{"$f":"分類順!A2695","v":0},{"$f":"分類順!B2695","v":0},{"$f":"分類順!C2695","v":0},{"$f":"分類順!D2695","v":0},{"$f":"分類順!E2695","v":0},{"$f":"分類順!F2695","v":0},"00000",1,{"$f":"VLOOKUP(\"*\"&目次加工!$B$2&\"*\",J2696:K2696,2,0)","v":1},1]
[null,null,null,{"$f":"分類順!A2696","v":0},{"$f":"分類順!B2696","v":0},{"$f":"分類順!C2696","v":0},{"$f":"分類順!D2696","v":0},{"$f":"分類順!E2696","v":0},{"$f":"分類順!F2696","v":0},"00000",1,{"$f":"VLOOKUP(\"*\"&目次加工!$B$2&\"*\",J2697:K2697,2,0)","v":1},1]
[null,null,null,{"$f":"分類順!A2697","v":0},{"$f":"分類順!B2697","v":0},{"$f":"分類順!C2697","v":0},{"$f":"分類順!D2697","v":0},{"$f":"分類順!E2697","v":0},{"$f":"分類順!F2697","v":0},"00000",1,{"$f":"VLOOKUP(\"*\"&目次加工!$B$2&\"*\",J2698:K2698,2,0)","v":1},1]
[null,null,null,{"$f":"分類順!A2698","v":0},{"$f":"分類順!B2698","v":0},{"$f":"分類順!C2698","v":0},{"$f":"分類順!D2698","v":0},{"$f":"分類順!E2698","v":0},{"$f":"分類順!F2698","v":0},"00000",1,{"$f":"VLOOKUP(\"*\"&目次加工!$B$2&\"*\",J2699:K2699,2,0)","v":1},1]
[null,null,null,{"$f":"分類順!A2699","v":0},{"$f":"分類順!B2699","v":0},{"$f":"分類順!C2699","v":0},{"$f":"分類順!D2699","v":0},{"$f":"分類順!E2699","v":0},{"$f":"分類順!F2699","v":0},"00000",1,{"$f":"VLOOKUP(\"*\"&目次加工!$B$2&\"*\",J2700:K2700,2,0)","v":1},1]
[null,null,null,{"$f":"分類順!A2700","v":0},{"$f":"分類順!B2700","v":0},{"$f":"分類順!C2700","v":0},{"$f":"分類順!D2700","v":0},{"$f":"分類順!E2700","v":0},{"$f":"分類順!F2700","v":0},"00000",1,{"$f":"VLOOKUP(\"*\"&目次加工!$B$2&\"*\",J2701:K2701,2,0)","v":1},1]
[null,null,null,{"$f":"分類順!A2701","v":0},{"$f":"分類順!B2701","v":0},{"$f":"分類順!C2701","v":0},{"$f":"分類順!D2701","v":0},{"$f":"分類順!E2701","v":0},{"$f":"分類順!F2701","v":0},"00000",1,{"$f":"VLOOKUP(\"*\"&目次加工!$B$2&\"*\",J2702:K2702,2,0)","v":1},1]
[null,null,null,{"$f":"分類順!A2702","v":0},{"$f":"分類順!B2702","v":0},{"$f":"分類順!C2702","v":0},{"$f":"分類順!D2702","v":0},{"$f":"分類順!E2702","v":0},{"$f":"分類順!F2702","v":0},"00000",1,{"$f":"VLOOKUP(\"*\"&目次加工!$B$2&\"*\",J2703:K2703,2,0)","v":1},1]
[null,null,null,{"$f":"分類順!A2703","v":0},{"$f":"分類順!B2703","v":0},{"$f":"分類順!C2703","v":0},{"$f":"分類順!D2703","v":0},{"$f":"分類順!E2703","v":0},{"$f":"分類順!F2703","v":0},"00000",1,{"$f":"VLOOKUP(\"*\"&目次加工!$B$2&\"*\",J2704:K2704,2,0)","v":1},1]
[null,null,null,{"$f":"分類順!A2704","v":0},{"$f":"分類順!B2704","v":0},{"$f":"分類順!C2704","v":0},{"$f":"分類順!D2704","v":0},{"$f":"分類順!E2704","v":0},{"$f":"分類順!F2704","v":0},"00000",1,{"$f":"VLOOKUP(\"*\"&目次加工!$B$2&\"*\",J2705:K2705,2,0)","v":1},1]
[null,null,null,{"$f":"分類順!A2705","v":0},{"$f":"分類順!B2705","v":0},{"$f":"分類順!C2705","v":0},{"$f":"分類順!D2705","v":0},{"$f":"分類順!E2705","v":0},{"$f":"分類順!F2705","v":0},"00000",1,{"$f":"VLOOKUP(\"*\"&目次加工!$B$2&\"*\",J2706:K2706,2,0)","v":1},1]
[null,null,null,{"$f":"分類順!A2706","v":0},{"$f":"分類順!B2706","v":0},{"$f":"分類順!C2706","v":0},{"$f":"分類順!D2706","v":0},{"$f":"分類順!E2706","v":0},{"$f":"分類順!F2706","v":0},{"$f":"D2707&E2707&F2707&G2707&H2707","v":"00000"},1,{"$f":"VLOOKUP(\"*\"&目次加工!$B$2&\"*\",J2707:K2707,2,0)","v":1},1]
[null,null,null,{"$f":"分類順!A2707","v":0},{"$f":"分類順!B2707","v":0},{"$f":"分類順!C2707","v":0},{"$f":"分類順!D2707","v":0},{"$f":"分類順!E2707","v":0},{"$f":"分類順!F2707","v":0},"00000",1,{"$f":"VLOOKUP(\"*\"&目次加工!$B$2&\"*\",J2708:K2708,2,0)","v":1},1]
[null,null,null,{"$f":"分類順!A2708","v":0},{"$f":"分類順!B2708","v":0},{"$f":"分類順!C2708","v":0},{"$f":"分類順!D2708","v":0},{"$f":"分類順!E2708","v":0},{"$f":"分類順!F2708","v":0},"00000",1,{"$f":"VLOOKUP(\"*\"&目次加工!$B$2&\"*\",J2709:K2709,2,0)","v":1},1]
[null,null,null,{"$f":"分類順!A2709","v":0},{"$f":"分類順!B2709","v":0},{"$f":"分類順!C2709","v":0},{"$f":"分類順!D2709","v":0},{"$f":"分類順!E2709","v":0},{"$f":"分類順!F2709","v":0},"00000",1,{"$f":"VLOOKUP(\"*\"&目次加工!$B$2&\"*\",J2710:K2710,2,0)","v":1},1]
[null,null,null,{"$f":"分類順!A2710","v":0},{"$f":"分類順!B2710","v":0},{"$f":"分類順!C2710","v":0},{"$f":"分類順!D2710","v":0},{"$f":"分類順!E2710","v":0},{"$f":"分類順!F2710","v":0},"00000",1,{"$f":"VLOOKUP(\"*\"&目次加工!$B$2&\"*\",J2711:K2711,2,0)","v":1},1]
[null,null,null,{"$f":"分類順!A2711","v":0},{"$f":"分類順!B2711","v":0},{"$f":"分類順!C2711","v":0},{"$f":"分類順!D2711","v":0},{"$f":"分類順!E2711","v":0},{"$f":"分類順!F2711","v":0},"00000",1,{"$f":"VLOOKUP(\"*\"&目次加工!$B$2&\"*\",J2712:K2712,2,0)","v":1},1]
[null,null,null,{"$f":"分類順!A2712","v":0},{"$f":"分類順!B2712","v":0},{"$f":"分類順!C2712","v":0},{"$f":"分類順!D2712","v":0},{"$f":"分類順!E2712","v":0},{"$f":"分類順!F2712","v":0},"00000",1,{"$f":"VLOOKUP(\"*\"&目次加工!$B$2&\"*\",J2713:K2713,2,0)","v":1},1]
[null,null,null,{"$f":"分類順!A2713","v":0},{"$f":"分類順!B2713","v":0},{"$f":"分類順!C2713","v":0},{"$f":"分類順!D2713","v":0},{"$f":"分類順!E2713","v":0},{"$f":"分類順!F2713","v":0},"00000",1,{"$f":"VLOOKUP(\"*\"&目次加工!$B$2&\"*\",J2714:K2714,2,0)","v":1},1]
[null,null,null,{"$f":"分類順!A2714","v":0},{"$f":"分類順!B2714","v":0},{"$f":"分類順!C2714","v":0},{"$f":"分類順!D2714","v":0},{"$f":"分類順!E2714","v":0},{"$f":"分類順!F2714","v":0},"00000",1,{"$f":"VLOOKUP(\"*\"&目次加工!$B$2&\"*\",J2715:K2715,2,0)","v":1},1]
[null,null,null,{"$f":"分類順!A2715","v":0},{"$f":"分類順!B2715","v":0},{"$f":"分類順!C2715","v":0},{"$f":"分類順!D2715","v":0},{"$f":"分類順!E2715","v":0},{"$f":"分類順!F2715","v":0},"00000",1,{"$f":"VLOOKUP(\"*\"&目次加工!$B$2&\"*\",J2716:K2716,2,0)","v":1},1]
[null,null,null,{"$f":"分類順!A2716","v":0},{"$f":"分類順!B2716","v":0},{"$f":"分類順!C2716","v":0},{"$f":"分類順!D2716","v":0},{"$f":"分類順!E2716","v":0},{"$f":"分類順!F2716","v":0},"00000",1,{"$f":"VLOOKUP(\"*\"&目次加工!$B$2&\"*\",J2717:K2717,2,0)","v":1},1]
[null,null,null,{"$f":"分類順!A2717","v":0},{"$f":"分類順!B2717","v":0},{"$f":"分類順!C2717","v":0},{"$f":"分類順!D2717","v":0},{"$f":"分類順!E2717","v":0},{"$f":"分類順!F2717","v":0},"00000",1,{"$f":"VLOOKUP(\"*\"&目次加工!$B$2&\"*\",J2718:K2718,2,0)","v":1},1]
[null,null,null,{"$f":"分類順!A2718","v":0},{"$f":"分類順!B2718","v":0},{"$f":"分類順!C2718","v":0},{"$f":"分類順!D2718","v":0},{"$f":"分類順!E2718","v":0},{"$f":"分類順!F2718","v":0},"00000",1,{"$f":"VLOOKUP(\"*\"&目次加工!$B$2&\"*\",J2719:K2719,2,0)","v":1},1]
[null,null,null,{"$f":"分類順!A2719","v":0},{"$f":"分類順!B2719","v":0},{"$f":"分類順!C2719","v":0},{"$f":"分類順!D2719","v":0},{"$f":"分類順!E2719","v":0},{"$f":"分類順!F2719","v":0},"00000",1,{"$f":"VLOOKUP(\"*\"&目次加工!$B$2&\"*\",J2720:K2720,2,0)","v":1},1]
[null,null,null,{"$f":"分類順!A2720","v":0},{"$f":"分類順!B2720","v":0},{"$f":"分類順!C2720","v":0},{"$f":"分類順!D2720","v":0},{"$f":"分類順!E2720","v":0},{"$f":"分類順!F2720","v":0},"00000",1,{"$f":"VLOOKUP(\"*\"&目次加工!$B$2&\"*\",J2721:K2721,2,0)","v":1},1]
[null,null,null,{"$f":"分類順!A2721","v":0},{"$f":"分類順!B2721","v":0},{"$f":"分類順!C2721","v":0},{"$f":"分類順!D2721","v":0},{"$f":"分類順!E2721","v":0},{"$f":"分類順!F2721","v":0},"00000",1,{"$f":"VLOOKUP(\"*\"&目次加工!$B$2&\"*\",J2722:K2722,2,0)","v":1},1]
[null,null,null,{"$f":"分類順!A2722","v":0},{"$f":"分類順!B2722","v":0},{"$f":"分類順!C2722","v":0},{"$f":"分類順!D2722","v":0},{"$f":"分類順!E2722","v":0},{"$f":"分類順!F2722","v":0},"00000",1,{"$f":"VLOOKUP(\"*\"&目次加工!$B$2&\"*\",J2723:K2723,2,0)","v":1},1]
[null,null,null,{"$f":"分類順!A2723","v":0},{"$f":"分類順!B2723","v":0},{"$f":"分類順!C2723","v":0},{"$f":"分類順!D2723","v":0},{"$f":"分類順!E2723","v":0},{"$f":"分類順!F2723","v":0},"00000",1,{"$f":"VLOOKUP(\"*\"&目次加工!$B$2&\"*\",J2724:K2724,2,0)","v":1},1]
[null,null,null,{"$f":"分類順!A2724","v":0},{"$f":"分類順!B2724","v":0},{"$f":"分類順!C2724","v":0},{"$f":"分類順!D2724","v":0},{"$f":"分類順!E2724","v":0},{"$f":"分類順!F2724","v":0},"00000",1,{"$f":"VLOOKUP(\"*\"&目次加工!$B$2&\"*\",J2725:K2725,2,0)","v":1},1]
[null,null,null,{"$f":"分類順!A2725","v":0},{"$f":"分類順!B2725","v":0},{"$f":"分類順!C2725","v":0},{"$f":"分類順!D2725","v":0},{"$f":"分類順!E2725","v":0},{"$f":"分類順!F2725","v":0},"00000",1,{"$f":"VLOOKUP(\"*\"&目次加工!$B$2&\"*\",J2726:K2726,2,0)","v":1},1]
[null,null,null,{"$f":"分類順!A2726","v":0},{"$f":"分類順!B2726","v":0},{"$f":"分類順!C2726","v":0},{"$f":"分類順!D2726","v":0},{"$f":"分類順!E2726","v":0},{"$f":"分類順!F2726","v":0},"00000",1,{"$f":"VLOOKUP(\"*\"&目次加工!$B$2&\"*\",J2727:K2727,2,0)","v":1},1]
[null,null,null,{"$f":"分類順!A2727","v":0},{"$f":"分類順!B2727","v":0},{"$f":"分類順!C2727","v":0},{"$f":"分類順!D2727","v":0},{"$f":"分類順!E2727","v":0},{"$f":"分類順!F2727","v":0},"00000",1,{"$f":"VLOOKUP(\"*\"&目次加工!$B$2&\"*\",J2728:K2728,2,0)","v":1},1]
[null,null,null,{"$f":"分類順!A2728","v":0},{"$f":"分類順!B2728","v":0},{"$f":"分類順!C2728","v":0},{"$f":"分類順!D2728","v":0},{"$f":"分類順!E2728","v":0},{"$f":"分類順!F2728","v":0},"00000",1,{"$f":"VLOOKUP(\"*\"&目次加工!$B$2&\"*\",J2729:K2729,2,0)","v":1},1]
[null,null,null,{"$f":"分類順!A2729","v":0},{"$f":"分類順!B2729","v":0},{"$f":"分類順!C2729","v":0},{"$f":"分類順!D2729","v":0},{"$f":"分類順!E2729","v":0},{"$f":"分類順!F2729","v":0},"00000",1,{"$f":"VLOOKUP(\"*\"&目次加工!$B$2&\"*\",J2730:K2730,2,0)","v":1},1]
[null,null,null,{"$f":"分類順!A2730","v":0},{"$f":"分類順!B2730","v":0},{"$f":"分類順!C2730","v":0},{"$f":"分類順!D2730","v":0},{"$f":"分類順!E2730","v":0},{"$f":"分類順!F2730","v":0},"00000",1,{"$f":"VLOOKUP(\"*\"&目次加工!$B$2&\"*\",J2731:K2731,2,0)","v":1},1]
[null,null,null,{"$f":"分類順!A2731","v":0},{"$f":"分類順!B2731","v":0},{"$f":"分類順!C2731","v":0},{"$f":"分類順!D2731","v":0},{"$f":"分類順!E2731","v":0},{"$f":"分類順!F2731","v":0},"00000",1,{"$f":"VLOOKUP(\"*\"&目次加工!$B$2&\"*\",J2732:K2732,2,0)","v":1},1]
[null,null,null,{"$f":"分類順!A2732","v":0},{"$f":"分類順!B2732","v":0},{"$f":"分類順!C2732","v":0},{"$f":"分類順!D2732","v":0},{"$f":"分類順!E2732","v":0},{"$f":"分類順!F2732","v":0},"00000",1,{"$f":"VLOOKUP(\"*\"&目次加工!$B$2&\"*\",J2733:K2733,2,0)","v":1},1]
[null,null,null,{"$f":"分類順!A2733","v":0},{"$f":"分類順!B2733","v":0},{"$f":"分類順!C2733","v":0},{"$f":"分類順!D2733","v":0},{"$f":"分類順!E2733","v":0},{"$f":"分類順!F2733","v":0},"00000",1,{"$f":"VLOOKUP(\"*\"&目次加工!$B$2&\"*\",J2734:K2734,2,0)","v":1},1]
[null,null,null,{"$f":"分類順!A2734","v":0},{"$f":"分類順!B2734","v":0},{"$f":"分類順!C2734","v":0},{"$f":"分類順!D2734","v":0},{"$f":"分類順!E2734","v":0},{"$f":"分類順!F2734","v":0},"00000",1,{"$f":"VLOOKUP(\"*\"&目次加工!$B$2&\"*\",J2735:K2735,2,0)","v":1},1]
[null,null,null,{"$f":"分類順!A2735","v":0},{"$f":"分類順!B2735","v":0},{"$f":"分類順!C2735","v":0},{"$f":"分類順!D2735","v":0},{"$f":"分類順!E2735","v":0},{"$f":"分類順!F2735","v":0},"00000",1,{"$f":"VLOOKUP(\"*\"&目次加工!$B$2&\"*\",J2736:K2736,2,0)","v":1},1]
[null,null,null,{"$f":"分類順!A2736","v":0},{"$f":"分類順!B2736","v":0},{"$f":"分類順!C2736","v":0},{"$f":"分類順!D2736","v":0},{"$f":"分類順!E2736","v":0},{"$f":"分類順!F2736","v":0},"00000",1,{"$f":"VLOOKUP(\"*\"&目次加工!$B$2&\"*\",J2737:K2737,2,0)","v":1},1]
[null,null,null,{"$f":"分類順!A2737","v":0},{"$f":"分類順!B2737","v":0},{"$f":"分類順!C2737","v":0},{"$f":"分類順!D2737","v":0},{"$f":"分類順!E2737","v":0},{"$f":"分類順!F2737","v":0},"00000",1,{"$f":"VLOOKUP(\"*\"&目次加工!$B$2&\"*\",J2738:K2738,2,0)","v":1},1]
[null,null,null,{"$f":"分類順!A2738","v":0},{"$f":"分類順!B2738","v":0},{"$f":"分類順!C2738","v":0},{"$f":"分類順!D2738","v":0},{"$f":"分類順!E2738","v":0},{"$f":"分類順!F2738","v":0},"00000",1,{"$f":"VLOOKUP(\"*\"&目次加工!$B$2&\"*\",J2739:K2739,2,0)","v":1},1]
[null,null,null,{"$f":"分類順!A2739","v":0},{"$f":"分類順!B2739","v":0},{"$f":"分類順!C2739","v":0},{"$f":"分類順!D2739","v":0},{"$f":"分類順!E2739","v":0},{"$f":"分類順!F2739","v":0},"00000",1,{"$f":"VLOOKUP(\"*\"&目次加工!$B$2&\"*\",J2740:K2740,2,0)","v":1},1]
[null,null,null,{"$f":"分類順!A2740","v":0},{"$f":"分類順!B2740","v":0},{"$f":"分類順!C2740","v":0},{"$f":"分類順!D2740","v":0},{"$f":"分類順!E2740","v":0},{"$f":"分類順!F2740","v":0},"00000",1,{"$f":"VLOOKUP(\"*\"&目次加工!$B$2&\"*\",J2741:K2741,2,0)","v":1},1]
[null,null,null,{"$f":"分類順!A2741","v":0},{"$f":"分類順!B2741","v":0},{"$f":"分類順!C2741","v":0},{"$f":"分類順!D2741","v":0},{"$f":"分類順!E2741","v":0},{"$f":"分類順!F2741","v":0},"00000",1,{"$f":"VLOOKUP(\"*\"&目次加工!$B$2&\"*\",J2742:K2742,2,0)","v":1},1]
[null,null,null,{"$f":"分類順!A2742","v":0},{"$f":"分類順!B2742","v":0},{"$f":"分類順!C2742","v":0},{"$f":"分類順!D2742","v":0},{"$f":"分類順!E2742","v":0},{"$f":"分類順!F2742","v":0},"00000",1,{"$f":"VLOOKUP(\"*\"&目次加工!$B$2&\"*\",J2743:K2743,2,0)","v":1},1]
[null,null,null,{"$f":"分類順!A2743","v":0},{"$f":"分類順!B2743","v":0},{"$f":"分類順!C2743","v":0},{"$f":"分類順!D2743","v":0},{"$f":"分類順!E2743","v":0},{"$f":"分類順!F2743","v":0},"00000",1,{"$f":"VLOOKUP(\"*\"&目次加工!$B$2&\"*\",J2744:K2744,2,0)","v":1},1]
[null,null,null,{"$f":"分類順!A2744","v":0},{"$f":"分類順!B2744","v":0},{"$f":"分類順!C2744","v":0},{"$f":"分類順!D2744","v":0},{"$f":"分類順!E2744","v":0},{"$f":"分類順!F2744","v":0},"00000",1,{"$f":"VLOOKUP(\"*\"&目次加工!$B$2&\"*\",J2745:K2745,2,0)","v":1},1]
[null,null,null,{"$f":"分類順!A2745","v":0},{"$f":"分類順!B2745","v":0},{"$f":"分類順!C2745","v":0},{"$f":"分類順!D2745","v":0},{"$f":"分類順!E2745","v":0},{"$f":"分類順!F2745","v":0},"00000",1,{"$f":"VLOOKUP(\"*\"&目次加工!$B$2&\"*\",J2746:K2746,2,0)","v":1},1]
[null,null,null,{"$f":"分類順!A2746","v":0},{"$f":"分類順!B2746","v":0},{"$f":"分類順!C2746","v":0},{"$f":"分類順!D2746","v":0},{"$f":"分類順!E2746","v":0},{"$f":"分類順!F2746","v":0},"00000",1,{"$f":"VLOOKUP(\"*\"&目次加工!$B$2&\"*\",J2747:K2747,2,0)","v":1},1]
[null,null,null,{"$f":"分類順!A2747","v":0},{"$f":"分類順!B2747","v":0},{"$f":"分類順!C2747","v":0},{"$f":"分類順!D2747","v":0},{"$f":"分類順!E2747","v":0},{"$f":"分類順!F2747","v":0},"00000",1,{"$f":"VLOOKUP(\"*\"&目次加工!$B$2&\"*\",J2748:K2748,2,0)","v":1},1]
[null,null,null,{"$f":"分類順!A2748","v":0},{"$f":"分類順!B2748","v":0},{"$f":"分類順!C2748","v":0},{"$f":"分類順!D2748","v":0},{"$f":"分類順!E2748","v":0},{"$f":"分類順!F2748","v":0},"00000",1,{"$f":"VLOOKUP(\"*\"&目次加工!$B$2&\"*\",J2749:K2749,2,0)","v":1},1]
[null,null,null,{"$f":"分類順!A2749","v":0},{"$f":"分類順!B2749","v":0},{"$f":"分類順!C2749","v":0},{"$f":"分類順!D2749","v":0},{"$f":"分類順!E2749","v":0},{"$f":"分類順!F2749","v":0},"00000",1,{"$f":"VLOOKUP(\"*\"&目次加工!$B$2&\"*\",J2750:K2750,2,0)","v":1},1]
[null,null,null,{"$f":"分類順!A2750","v":0},{"$f":"分類順!B2750","v":0},{"$f":"分類順!C2750","v":0},{"$f":"分類順!D2750","v":0},{"$f":"分類順!E2750","v":0},{"$f":"分類順!F2750","v":0},"00000",1,{"$f":"VLOOKUP(\"*\"&目次加工!$B$2&\"*\",J2751:K2751,2,0)","v":1},1]
[null,null,null,{"$f":"分類順!A2751","v":0},{"$f":"分類順!B2751","v":0},{"$f":"分類順!C2751","v":0},{"$f":"分類順!D2751","v":0},{"$f":"分類順!E2751","v":0},{"$f":"分類順!F2751","v":0},"00000",1,{"$f":"VLOOKUP(\"*\"&目次加工!$B$2&\"*\",J2752:K2752,2,0)","v":1},1]
[null,null,null,{"$f":"分類順!A2752","v":0},{"$f":"分類順!B2752","v":0},{"$f":"分類順!C2752","v":0},{"$f":"分類順!D2752","v":0},{"$f":"分類順!E2752","v":0},{"$f":"分類順!F2752","v":0},"00000",1,{"$f":"VLOOKUP(\"*\"&目次加工!$B$2&\"*\",J2753:K2753,2,0)","v":1},1]
[null,null,null,{"$f":"分類順!A2753","v":0},{"$f":"分類順!B2753","v":0},{"$f":"分類順!C2753","v":0},{"$f":"分類順!D2753","v":0},{"$f":"分類順!E2753","v":0},{"$f":"分類順!F2753","v":0},"00000",1,{"$f":"VLOOKUP(\"*\"&目次加工!$B$2&\"*\",J2754:K2754,2,0)","v":1},1]
[null,null,null,{"$f":"分類順!A2754","v":0},{"$f":"分類順!B2754","v":0},{"$f":"分類順!C2754","v":0},{"$f":"分類順!D2754","v":0},{"$f":"分類順!E2754","v":0},{"$f":"分類順!F2754","v":0},"00000",1,{"$f":"VLOOKUP(\"*\"&目次加工!$B$2&\"*\",J2755:K2755,2,0)","v":1},1]
[null,null,null,{"$f":"分類順!A2755","v":0},{"$f":"分類順!B2755","v":0},{"$f":"分類順!C2755","v":0},{"$f":"分類順!D2755","v":0},{"$f":"分類順!E2755","v":0},{"$f":"分類順!F2755","v":0},"00000",1,{"$f":"VLOOKUP(\"*\"&目次加工!$B$2&\"*\",J2756:K2756,2,0)","v":1},{"$f":"VLOOKUP(\"*\"&$A$2&\"*\",J2756:K2756,2,0)","v":1}]
[null,null,null,{"$f":"分類順!A2756","v":0},{"$f":"分類順!B2756","v":0},{"$f":"分類順!C2756","v":0},{"$f":"分類順!D2756","v":0},{"$f":"分類順!E2756","v":0},{"$f":"分類順!F2756","v":0},"00000",1,{"$f":"VLOOKUP(\"*\"&目次加工!$B$2&\"*\",J2757:K2757,2,0)","v":1},1]
[null,null,null,{"$f":"分類順!A2757","v":0},{"$f":"分類順!B2757","v":0},{"$f":"分類順!C2757","v":0},{"$f":"分類順!D2757","v":0},{"$f":"分類順!E2757","v":0},{"$f":"分類順!F2757","v":0},"00000",1,{"$f":"VLOOKUP(\"*\"&目次加工!$B$2&\"*\",J2758:K2758,2,0)","v":1},1]
[null,null,null,{"$f":"分類順!A2758","v":0},{"$f":"分類順!B2758","v":0},{"$f":"分類順!C2758","v":0},{"$f":"分類順!D2758","v":0},{"$f":"分類順!E2758","v":0},{"$f":"分類順!F2758","v":0},"00000",1,{"$f":"VLOOKUP(\"*\"&目次加工!$B$2&\"*\",J2759:K2759,2,0)","v":1},1]
[null,null,null,{"$f":"分類順!A2759","v":0},{"$f":"分類順!B2759","v":0},{"$f":"分類順!C2759","v":0},{"$f":"分類順!D2759","v":0},{"$f":"分類順!E2759","v":0},{"$f":"分類順!F2759","v":0},"00000",1,{"$f":"VLOOKUP(\"*\"&目次加工!$B$2&\"*\",J2760:K2760,2,0)","v":1},1]
[null,null,null,{"$f":"分類順!A2760","v":0},{"$f":"分類順!B2760","v":0},{"$f":"分類順!C2760","v":0},{"$f":"分類順!D2760","v":0},{"$f":"分類順!E2760","v":0},{"$f":"分類順!F2760","v":0},"00000",1,{"$f":"VLOOKUP(\"*\"&目次加工!$B$2&\"*\",J2761:K2761,2,0)","v":1},1]
[null,null,null,{"$f":"分類順!A2761","v":0},{"$f":"分類順!B2761","v":0},{"$f":"分類順!C2761","v":0},{"$f":"分類順!D2761","v":0},{"$f":"分類順!E2761","v":0},{"$f":"分類順!F2761","v":0},"00000",1,{"$f":"VLOOKUP(\"*\"&目次加工!$B$2&\"*\",J2762:K2762,2,0)","v":1},1]
[null,null,null,{"$f":"分類順!A2762","v":0},{"$f":"分類順!B2762","v":0},{"$f":"分類順!C2762","v":0},{"$f":"分類順!D2762","v":0},{"$f":"分類順!E2762","v":0},{"$f":"分類順!F2762","v":0},"00000",1,{"$f":"VLOOKUP(\"*\"&目次加工!$B$2&\"*\",J2763:K2763,2,0)","v":1},1]
[null,null,null,{"$f":"分類順!A2763","v":0},{"$f":"分類順!B2763","v":0},{"$f":"分類順!C2763","v":0},{"$f":"分類順!D2763","v":0},{"$f":"分類順!E2763","v":0},{"$f":"分類順!F2763","v":0},"00000",1,{"$f":"VLOOKUP(\"*\"&目次加工!$B$2&\"*\",J2764:K2764,2,0)","v":1},1]
[null,null,null,{"$f":"分類順!A2764","v":0},{"$f":"分類順!B2764","v":0},{"$f":"分類順!C2764","v":0},{"$f":"分類順!D2764","v":0},{"$f":"分類順!E2764","v":0},{"$f":"分類順!F2764","v":0},"00000",1,{"$f":"VLOOKUP(\"*\"&目次加工!$B$2&\"*\",J2765:K2765,2,0)","v":1},1]
[null,null,null,{"$f":"分類順!A2765","v":0},{"$f":"分類順!B2765","v":0},{"$f":"分類順!C2765","v":0},{"$f":"分類順!D2765","v":0},{"$f":"分類順!E2765","v":0},{"$f":"分類順!F2765","v":0},"00000",1,{"$f":"VLOOKUP(\"*\"&目次加工!$B$2&\"*\",J2766:K2766,2,0)","v":1},1]
[null,null,null,{"$f":"分類順!A2766","v":0},{"$f":"分類順!B2766","v":0},{"$f":"分類順!C2766","v":0},{"$f":"分類順!D2766","v":0},{"$f":"分類順!E2766","v":0},{"$f":"分類順!F2766","v":0},"00000",1,{"$f":"VLOOKUP(\"*\"&目次加工!$B$2&\"*\",J2767:K2767,2,0)","v":1},1]
[null,null,null,{"$f":"分類順!A2767","v":0},{"$f":"分類順!B2767","v":0},{"$f":"分類順!C2767","v":0},{"$f":"分類順!D2767","v":0},{"$f":"分類順!E2767","v":0},{"$f":"分類順!F2767","v":0},"00000",1,{"$f":"VLOOKUP(\"*\"&目次加工!$B$2&\"*\",J2768:K2768,2,0)","v":1},1]
[null,null,null,{"$f":"分類順!A2768","v":0},{"$f":"分類順!B2768","v":0},{"$f":"分類順!C2768","v":0},{"$f":"分類順!D2768","v":0},{"$f":"分類順!E2768","v":0},{"$f":"分類順!F2768","v":0},"00000",1,{"$f":"VLOOKUP(\"*\"&目次加工!$B$2&\"*\",J2769:K2769,2,0)","v":1},1]
[null,null,null,{"$f":"分類順!A2769","v":0},{"$f":"分類順!B2769","v":0},{"$f":"分類順!C2769","v":0},{"$f":"分類順!D2769","v":0},{"$f":"分類順!E2769","v":0},{"$f":"分類順!F2769","v":0},"00000",1,{"$f":"VLOOKUP(\"*\"&目次加工!$B$2&\"*\",J2770:K2770,2,0)","v":1},1]
[null,null,null,{"$f":"分類順!A2770","v":0},{"$f":"分類順!B2770","v":0},{"$f":"分類順!C2770","v":0},{"$f":"分類順!D2770","v":0},{"$f":"分類順!E2770","v":0},{"$f":"分類順!F2770","v":0},{"$f":"D2771&E2771&F2771&G2771&H2771","v":"00000"},1,{"$f":"VLOOKUP(\"*\"&目次加工!$B$2&\"*\",J2771:K2771,2,0)","v":1},1]
[null,null,null,{"$f":"分類順!A2771","v":0},{"$f":"分類順!B2771","v":0},{"$f":"分類順!C2771","v":0},{"$f":"分類順!D2771","v":0},{"$f":"分類順!E2771","v":0},{"$f":"分類順!F2771","v":0},"00000",1,{"$f":"VLOOKUP(\"*\"&目次加工!$B$2&\"*\",J2772:K2772,2,0)","v":1},1]
[null,null,null,{"$f":"分類順!A2772","v":0},{"$f":"分類順!B2772","v":0},{"$f":"分類順!C2772","v":0},{"$f":"分類順!D2772","v":0},{"$f":"分類順!E2772","v":0},{"$f":"分類順!F2772","v":0},"00000",1,{"$f":"VLOOKUP(\"*\"&目次加工!$B$2&\"*\",J2773:K2773,2,0)","v":1},1]
[null,null,null,{"$f":"分類順!A2773","v":0},{"$f":"分類順!B2773","v":0},{"$f":"分類順!C2773","v":0},{"$f":"分類順!D2773","v":0},{"$f":"分類順!E2773","v":0},{"$f":"分類順!F2773","v":0},"00000",1,{"$f":"VLOOKUP(\"*\"&目次加工!$B$2&\"*\",J2774:K2774,2,0)","v":1},1]
[null,null,null,{"$f":"分類順!A2774","v":0},{"$f":"分類順!B2774","v":0},{"$f":"分類順!C2774","v":0},{"$f":"分類順!D2774","v":0},{"$f":"分類順!E2774","v":0},{"$f":"分類順!F2774","v":0},"00000",1,{"$f":"VLOOKUP(\"*\"&目次加工!$B$2&\"*\",J2775:K2775,2,0)","v":1},1]
[null,null,null,{"$f":"分類順!A2775","v":0},{"$f":"分類順!B2775","v":0},{"$f":"分類順!C2775","v":0},{"$f":"分類順!D2775","v":0},{"$f":"分類順!E2775","v":0},{"$f":"分類順!F2775","v":0},"00000",1,{"$f":"VLOOKUP(\"*\"&目次加工!$B$2&\"*\",J2776:K2776,2,0)","v":1},1]
[null,null,null,{"$f":"分類順!A2776","v":0},{"$f":"分類順!B2776","v":0},{"$f":"分類順!C2776","v":0},{"$f":"分類順!D2776","v":0},{"$f":"分類順!E2776","v":0},{"$f":"分類順!F2776","v":0},"00000",1,{"$f":"VLOOKUP(\"*\"&目次加工!$B$2&\"*\",J2777:K2777,2,0)","v":1},1]
[null,null,null,{"$f":"分類順!A2777","v":0},{"$f":"分類順!B2777","v":0},{"$f":"分類順!C2777","v":0},{"$f":"分類順!D2777","v":0},{"$f":"分類順!E2777","v":0},{"$f":"分類順!F2777","v":0},"00000",1,{"$f":"VLOOKUP(\"*\"&目次加工!$B$2&\"*\",J2778:K2778,2,0)","v":1},1]
[null,null,null,{"$f":"分類順!A2778","v":0},{"$f":"分類順!B2778","v":0},{"$f":"分類順!C2778","v":0},{"$f":"分類順!D2778","v":0},{"$f":"分類順!E2778","v":0},{"$f":"分類順!F2778","v":0},"00000",1,{"$f":"VLOOKUP(\"*\"&目次加工!$B$2&\"*\",J2779:K2779,2,0)","v":1},1]
[null,null,null,{"$f":"分類順!A2779","v":0},{"$f":"分類順!B2779","v":0},{"$f":"分類順!C2779","v":0},{"$f":"分類順!D2779","v":0},{"$f":"分類順!E2779","v":0},{"$f":"分類順!F2779","v":0},"00000",1,{"$f":"VLOOKUP(\"*\"&目次加工!$B$2&\"*\",J2780:K2780,2,0)","v":1},1]
[null,null,null,{"$f":"分類順!A2780","v":0},{"$f":"分類順!B2780","v":0},{"$f":"分類順!C2780","v":0},{"$f":"分類順!D2780","v":0},{"$f":"分類順!E2780","v":0},{"$f":"分類順!F2780","v":0},"00000",1,{"$f":"VLOOKUP(\"*\"&目次加工!$B$2&\"*\",J2781:K2781,2,0)","v":1},1]
[null,null,null,{"$f":"分類順!A2781","v":0},{"$f":"分類順!B2781","v":0},{"$f":"分類順!C2781","v":0},{"$f":"分類順!D2781","v":0},{"$f":"分類順!E2781","v":0},{"$f":"分類順!F2781","v":0},"00000",1,{"$f":"VLOOKUP(\"*\"&目次加工!$B$2&\"*\",J2782:K2782,2,0)","v":1},1]
[null,null,null,{"$f":"分類順!A2782","v":0},{"$f":"分類順!B2782","v":0},{"$f":"分類順!C2782","v":0},{"$f":"分類順!D2782","v":0},{"$f":"分類順!E2782","v":0},{"$f":"分類順!F2782","v":0},"00000",1,{"$f":"VLOOKUP(\"*\"&目次加工!$B$2&\"*\",J2783:K2783,2,0)","v":1},1]
[null,null,null,{"$f":"分類順!A2783","v":0},{"$f":"分類順!B2783","v":0},{"$f":"分類順!C2783","v":0},{"$f":"分類順!D2783","v":0},{"$f":"分類順!E2783","v":0},{"$f":"分類順!F2783","v":0},"00000",1,{"$f":"VLOOKUP(\"*\"&目次加工!$B$2&\"*\",J2784:K2784,2,0)","v":1},1]
[null,null,null,{"$f":"分類順!A2784","v":0},{"$f":"分類順!B2784","v":0},{"$f":"分類順!C2784","v":0},{"$f":"分類順!D2784","v":0},{"$f":"分類順!E2784","v":0},{"$f":"分類順!F2784","v":0},"00000",1,{"$f":"VLOOKUP(\"*\"&目次加工!$B$2&\"*\",J2785:K2785,2,0)","v":1},1]
[null,null,null,{"$f":"分類順!A2785","v":0},{"$f":"分類順!B2785","v":0},{"$f":"分類順!C2785","v":0},{"$f":"分類順!D2785","v":0},{"$f":"分類順!E2785","v":0},{"$f":"分類順!F2785","v":0},"00000",1,{"$f":"VLOOKUP(\"*\"&目次加工!$B$2&\"*\",J2786:K2786,2,0)","v":1},1]
[null,null,null,{"$f":"分類順!A2786","v":0},{"$f":"分類順!B2786","v":0},{"$f":"分類順!C2786","v":0},{"$f":"分類順!D2786","v":0},{"$f":"分類順!E2786","v":0},{"$f":"分類順!F2786","v":0},"00000",1,{"$f":"VLOOKUP(\"*\"&目次加工!$B$2&\"*\",J2787:K2787,2,0)","v":1},1]
[null,null,null,{"$f":"分類順!A2787","v":0},{"$f":"分類順!B2787","v":0},{"$f":"分類順!C2787","v":0},{"$f":"分類順!D2787","v":0},{"$f":"分類順!E2787","v":0},{"$f":"分類順!F2787","v":0},"00000",1,{"$f":"VLOOKUP(\"*\"&目次加工!$B$2&\"*\",J2788:K2788,2,0)","v":1},1]
[null,null,null,{"$f":"分類順!A2788","v":0},{"$f":"分類順!B2788","v":0},{"$f":"分類順!C2788","v":0},{"$f":"分類順!D2788","v":0},{"$f":"分類順!E2788","v":0},{"$f":"分類順!F2788","v":0},"00000",1,{"$f":"VLOOKUP(\"*\"&目次加工!$B$2&\"*\",J2789:K2789,2,0)","v":1},1]
[null,null,null,{"$f":"分類順!A2789","v":0},{"$f":"分類順!B2789","v":0},{"$f":"分類順!C2789","v":0},{"$f":"分類順!D2789","v":0},{"$f":"分類順!E2789","v":0},{"$f":"分類順!F2789","v":0},"00000",1,{"$f":"VLOOKUP(\"*\"&目次加工!$B$2&\"*\",J2790:K2790,2,0)","v":1},1]
[null,null,null,{"$f":"分類順!A2790","v":0},{"$f":"分類順!B2790","v":0},{"$f":"分類順!C2790","v":0},{"$f":"分類順!D2790","v":0},{"$f":"分類順!E2790","v":0},{"$f":"分類順!F2790","v":0},"00000",1,{"$f":"VLOOKUP(\"*\"&目次加工!$B$2&\"*\",J2791:K2791,2,0)","v":1},1]
[null,null,null,{"$f":"分類順!A2791","v":0},{"$f":"分類順!B2791","v":0},{"$f":"分類順!C2791","v":0},{"$f":"分類順!D2791","v":0},{"$f":"分類順!E2791","v":0},{"$f":"分類順!F2791","v":0},"00000",1,{"$f":"VLOOKUP(\"*\"&目次加工!$B$2&\"*\",J2792:K2792,2,0)","v":1},1]
[null,null,null,{"$f":"分類順!A2792","v":0},{"$f":"分類順!B2792","v":0},{"$f":"分類順!C2792","v":0},{"$f":"分類順!D2792","v":0},{"$f":"分類順!E2792","v":0},{"$f":"分類順!F2792","v":0},"00000",1,{"$f":"VLOOKUP(\"*\"&目次加工!$B$2&\"*\",J2793:K2793,2,0)","v":1},1]
[null,null,null,{"$f":"分類順!A2793","v":0},{"$f":"分類順!B2793","v":0},{"$f":"分類順!C2793","v":0},{"$f":"分類順!D2793","v":0},{"$f":"分類順!E2793","v":0},{"$f":"分類順!F2793","v":0},"00000",1,{"$f":"VLOOKUP(\"*\"&目次加工!$B$2&\"*\",J2794:K2794,2,0)","v":1},1]
[null,null,null,{"$f":"分類順!A2794","v":0},{"$f":"分類順!B2794","v":0},{"$f":"分類順!C2794","v":0},{"$f":"分類順!D2794","v":0},{"$f":"分類順!E2794","v":0},{"$f":"分類順!F2794","v":0},"00000",1,{"$f":"VLOOKUP(\"*\"&目次加工!$B$2&\"*\",J2795:K2795,2,0)","v":1},1]
[null,null,null,{"$f":"分類順!A2795","v":0},{"$f":"分類順!B2795","v":0},{"$f":"分類順!C2795","v":0},{"$f":"分類順!D2795","v":0},{"$f":"分類順!E2795","v":0},{"$f":"分類順!F2795","v":0},"00000",1,{"$f":"VLOOKUP(\"*\"&目次加工!$B$2&\"*\",J2796:K2796,2,0)","v":1},1]
[null,null,null,{"$f":"分類順!A2796","v":0},{"$f":"分類順!B2796","v":0},{"$f":"分類順!C2796","v":0},{"$f":"分類順!D2796","v":0},{"$f":"分類順!E2796","v":0},{"$f":"分類順!F2796","v":0},"00000",1,{"$f":"VLOOKUP(\"*\"&目次加工!$B$2&\"*\",J2797:K2797,2,0)","v":1},1]
[null,null,null,{"$f":"分類順!A2797","v":0},{"$f":"分類順!B2797","v":0},{"$f":"分類順!C2797","v":0},{"$f":"分類順!D2797","v":0},{"$f":"分類順!E2797","v":0},{"$f":"分類順!F2797","v":0},"00000",1,{"$f":"VLOOKUP(\"*\"&目次加工!$B$2&\"*\",J2798:K2798,2,0)","v":1},1]
[null,null,null,{"$f":"分類順!A2798","v":0},{"$f":"分類順!B2798","v":0},{"$f":"分類順!C2798","v":0},{"$f":"分類順!D2798","v":0},{"$f":"分類順!E2798","v":0},{"$f":"分類順!F2798","v":0},"00000",1,{"$f":"VLOOKUP(\"*\"&目次加工!$B$2&\"*\",J2799:K2799,2,0)","v":1},1]
[null,null,null,{"$f":"分類順!A2799","v":0},{"$f":"分類順!B2799","v":0},{"$f":"分類順!C2799","v":0},{"$f":"分類順!D2799","v":0},{"$f":"分類順!E2799","v":0},{"$f":"分類順!F2799","v":0},"00000",1,{"$f":"VLOOKUP(\"*\"&目次加工!$B$2&\"*\",J2800:K2800,2,0)","v":1},1]
[null,null,null,{"$f":"分類順!A2800","v":0},{"$f":"分類順!B2800","v":0},{"$f":"分類順!C2800","v":0},{"$f":"分類順!D2800","v":0},{"$f":"分類順!E2800","v":0},{"$f":"分類順!F2800","v":0},"00000",1,{"$f":"VLOOKUP(\"*\"&目次加工!$B$2&\"*\",J2801:K2801,2,0)","v":1},1]
[null,null,null,{"$f":"分類順!A2801","v":0},{"$f":"分類順!B2801","v":0},{"$f":"分類順!C2801","v":0},{"$f":"分類順!D2801","v":0},{"$f":"分類順!E2801","v":0},{"$f":"分類順!F2801","v":0},"00000",1,{"$f":"VLOOKUP(\"*\"&目次加工!$B$2&\"*\",J2802:K2802,2,0)","v":1},1]
[null,null,null,{"$f":"分類順!A2802","v":0},{"$f":"分類順!B2802","v":0},{"$f":"分類順!C2802","v":0},{"$f":"分類順!D2802","v":0},{"$f":"分類順!E2802","v":0},{"$f":"分類順!F2802","v":0},"00000",1,{"$f":"VLOOKUP(\"*\"&目次加工!$B$2&\"*\",J2803:K2803,2,0)","v":1},1]
[null,null,null,{"$f":"分類順!A2803","v":0},{"$f":"分類順!B2803","v":0},{"$f":"分類順!C2803","v":0},{"$f":"分類順!D2803","v":0},{"$f":"分類順!E2803","v":0},{"$f":"分類順!F2803","v":0},"00000",1,{"$f":"VLOOKUP(\"*\"&目次加工!$B$2&\"*\",J2804:K2804,2,0)","v":1},1]
[null,null,null,{"$f":"分類順!A2804","v":0},{"$f":"分類順!B2804","v":0},{"$f":"分類順!C2804","v":0},{"$f":"分類順!D2804","v":0},{"$f":"分類順!E2804","v":0},{"$f":"分類順!F2804","v":0},"00000",1,{"$f":"VLOOKUP(\"*\"&目次加工!$B$2&\"*\",J2805:K2805,2,0)","v":1},1]
[null,null,null,{"$f":"分類順!A2805","v":0},{"$f":"分類順!B2805","v":0},{"$f":"分類順!C2805","v":0},{"$f":"分類順!D2805","v":0},{"$f":"分類順!E2805","v":0},{"$f":"分類順!F2805","v":0},"00000",1,{"$f":"VLOOKUP(\"*\"&目次加工!$B$2&\"*\",J2806:K2806,2,0)","v":1},1]
[null,null,null,{"$f":"分類順!A2806","v":0},{"$f":"分類順!B2806","v":0},{"$f":"分類順!C2806","v":0},{"$f":"分類順!D2806","v":0},{"$f":"分類順!E2806","v":0},{"$f":"分類順!F2806","v":0},"00000",1,{"$f":"VLOOKUP(\"*\"&目次加工!$B$2&\"*\",J2807:K2807,2,0)","v":1},1]
[null,null,null,{"$f":"分類順!A2807","v":0},{"$f":"分類順!B2807","v":0},{"$f":"分類順!C2807","v":0},{"$f":"分類順!D2807","v":0},{"$f":"分類順!E2807","v":0},{"$f":"分類順!F2807","v":0},"00000",1,{"$f":"VLOOKUP(\"*\"&目次加工!$B$2&\"*\",J2808:K2808,2,0)","v":1},1]
[null,null,null,{"$f":"分類順!A2808","v":0},{"$f":"分類順!B2808","v":0},{"$f":"分類順!C2808","v":0},{"$f":"分類順!D2808","v":0},{"$f":"分類順!E2808","v":0},{"$f":"分類順!F2808","v":0},"00000",1,{"$f":"VLOOKUP(\"*\"&目次加工!$B$2&\"*\",J2809:K2809,2,0)","v":1},1]
[null,null,null,{"$f":"分類順!A2809","v":0},{"$f":"分類順!B2809","v":0},{"$f":"分類順!C2809","v":0},{"$f":"分類順!D2809","v":0},{"$f":"分類順!E2809","v":0},{"$f":"分類順!F2809","v":0},"00000",1,{"$f":"VLOOKUP(\"*\"&目次加工!$B$2&\"*\",J2810:K2810,2,0)","v":1},1]
[null,null,null,{"$f":"分類順!A2810","v":0},{"$f":"分類順!B2810","v":0},{"$f":"分類順!C2810","v":0},{"$f":"分類順!D2810","v":0},{"$f":"分類順!E2810","v":0},{"$f":"分類順!F2810","v":0},"00000",1,{"$f":"VLOOKUP(\"*\"&目次加工!$B$2&\"*\",J2811:K2811,2,0)","v":1},1]
[null,null,null,{"$f":"分類順!A2811","v":0},{"$f":"分類順!B2811","v":0},{"$f":"分類順!C2811","v":0},{"$f":"分類順!D2811","v":0},{"$f":"分類順!E2811","v":0},{"$f":"分類順!F2811","v":0},"00000",1,{"$f":"VLOOKUP(\"*\"&目次加工!$B$2&\"*\",J2812:K2812,2,0)","v":1},1]
[null,null,null,{"$f":"分類順!A2812","v":0},{"$f":"分類順!B2812","v":0},{"$f":"分類順!C2812","v":0},{"$f":"分類順!D2812","v":0},{"$f":"分類順!E2812","v":0},{"$f":"分類順!F2812","v":0},"00000",1,{"$f":"VLOOKUP(\"*\"&目次加工!$B$2&\"*\",J2813:K2813,2,0)","v":1},1]
[null,null,null,{"$f":"分類順!A2813","v":0},{"$f":"分類順!B2813","v":0},{"$f":"分類順!C2813","v":0},{"$f":"分類順!D2813","v":0},{"$f":"分類順!E2813","v":0},{"$f":"分類順!F2813","v":0},"00000",1,{"$f":"VLOOKUP(\"*\"&目次加工!$B$2&\"*\",J2814:K2814,2,0)","v":1},1]
[null,null,null,{"$f":"分類順!A2814","v":0},{"$f":"分類順!B2814","v":0},{"$f":"分類順!C2814","v":0},{"$f":"分類順!D2814","v":0},{"$f":"分類順!E2814","v":0},{"$f":"分類順!F2814","v":0},"00000",1,{"$f":"VLOOKUP(\"*\"&目次加工!$B$2&\"*\",J2815:K2815,2,0)","v":1},1]
[null,null,null,{"$f":"分類順!A2815","v":0},{"$f":"分類順!B2815","v":0},{"$f":"分類順!C2815","v":0},{"$f":"分類順!D2815","v":0},{"$f":"分類順!E2815","v":0},{"$f":"分類順!F2815","v":0},"00000",1,{"$f":"VLOOKUP(\"*\"&目次加工!$B$2&\"*\",J2816:K2816,2,0)","v":1},1]
[null,null,null,{"$f":"分類順!A2816","v":0},{"$f":"分類順!B2816","v":0},{"$f":"分類順!C2816","v":0},{"$f":"分類順!D2816","v":0},{"$f":"分類順!E2816","v":0},{"$f":"分類順!F2816","v":0},"00000",1,{"$f":"VLOOKUP(\"*\"&目次加工!$B$2&\"*\",J2817:K2817,2,0)","v":1},1]
[null,null,null,{"$f":"分類順!A2817","v":0},{"$f":"分類順!B2817","v":0},{"$f":"分類順!C2817","v":0},{"$f":"分類順!D2817","v":0},{"$f":"分類順!E2817","v":0},{"$f":"分類順!F2817","v":0},"00000",1,{"$f":"VLOOKUP(\"*\"&目次加工!$B$2&\"*\",J2818:K2818,2,0)","v":1},1]
[null,null,null,{"$f":"分類順!A2818","v":0},{"$f":"分類順!B2818","v":0},{"$f":"分類順!C2818","v":0},{"$f":"分類順!D2818","v":0},{"$f":"分類順!E2818","v":0},{"$f":"分類順!F2818","v":0},"00000",1,{"$f":"VLOOKUP(\"*\"&目次加工!$B$2&\"*\",J2819:K2819,2,0)","v":1},1]
[null,null,null,{"$f":"分類順!A2819","v":0},{"$f":"分類順!B2819","v":0},{"$f":"分類順!C2819","v":0},{"$f":"分類順!D2819","v":0},{"$f":"分類順!E2819","v":0},{"$f":"分類順!F2819","v":0},"00000",1,{"$f":"VLOOKUP(\"*\"&目次加工!$B$2&\"*\",J2820:K2820,2,0)","v":1},{"$f":"VLOOKUP(\"*\"&$A$2&\"*\",J2820:K2820,2,0)","v":1}]
[null,null,null,{"$f":"分類順!A2820","v":0},{"$f":"分類順!B2820","v":0},{"$f":"分類順!C2820","v":0},{"$f":"分類順!D2820","v":0},{"$f":"分類順!E2820","v":0},{"$f":"分類順!F2820","v":0},"00000",1,{"$f":"VLOOKUP(\"*\"&目次加工!$B$2&\"*\",J2821:K2821,2,0)","v":1},1]
[null,null,null,{"$f":"分類順!A2821","v":0},{"$f":"分類順!B2821","v":0},{"$f":"分類順!C2821","v":0},{"$f":"分類順!D2821","v":0},{"$f":"分類順!E2821","v":0},{"$f":"分類順!F2821","v":0},"00000",1,{"$f":"VLOOKUP(\"*\"&目次加工!$B$2&\"*\",J2822:K2822,2,0)","v":1},1]
[null,null,null,{"$f":"分類順!A2822","v":0},{"$f":"分類順!B2822","v":0},{"$f":"分類順!C2822","v":0},{"$f":"分類順!D2822","v":0},{"$f":"分類順!E2822","v":0},{"$f":"分類順!F2822","v":0},"00000",1,{"$f":"VLOOKUP(\"*\"&目次加工!$B$2&\"*\",J2823:K2823,2,0)","v":1},1]
[null,null,null,{"$f":"分類順!A2823","v":0},{"$f":"分類順!B2823","v":0},{"$f":"分類順!C2823","v":0},{"$f":"分類順!D2823","v":0},{"$f":"分類順!E2823","v":0},{"$f":"分類順!F2823","v":0},"00000",1,{"$f":"VLOOKUP(\"*\"&目次加工!$B$2&\"*\",J2824:K2824,2,0)","v":1},1]
[null,null,null,{"$f":"分類順!A2824","v":0},{"$f":"分類順!B2824","v":0},{"$f":"分類順!C2824","v":0},{"$f":"分類順!D2824","v":0},{"$f":"分類順!E2824","v":0},{"$f":"分類順!F2824","v":0},"00000",1,{"$f":"VLOOKUP(\"*\"&目次加工!$B$2&\"*\",J2825:K2825,2,0)","v":1},1]
[null,null,null,{"$f":"分類順!A2825","v":0},{"$f":"分類順!B2825","v":0},{"$f":"分類順!C2825","v":0},{"$f":"分類順!D2825","v":0},{"$f":"分類順!E2825","v":0},{"$f":"分類順!F2825","v":0},"00000",1,{"$f":"VLOOKUP(\"*\"&目次加工!$B$2&\"*\",J2826:K2826,2,0)","v":1},1]
[null,null,null,{"$f":"分類順!A2826","v":0},{"$f":"分類順!B2826","v":0},{"$f":"分類順!C2826","v":0},{"$f":"分類順!D2826","v":0},{"$f":"分類順!E2826","v":0},{"$f":"分類順!F2826","v":0},"00000",1,{"$f":"VLOOKUP(\"*\"&目次加工!$B$2&\"*\",J2827:K2827,2,0)","v":1},1]
[null,null,null,{"$f":"分類順!A2827","v":0},{"$f":"分類順!B2827","v":0},{"$f":"分類順!C2827","v":0},{"$f":"分類順!D2827","v":0},{"$f":"分類順!E2827","v":0},{"$f":"分類順!F2827","v":0},"00000",1,{"$f":"VLOOKUP(\"*\"&目次加工!$B$2&\"*\",J2828:K2828,2,0)","v":1},1]
[null,null,null,{"$f":"分類順!A2828","v":0},{"$f":"分類順!B2828","v":0},{"$f":"分類順!C2828","v":0},{"$f":"分類順!D2828","v":0},{"$f":"分類順!E2828","v":0},{"$f":"分類順!F2828","v":0},"00000",1,{"$f":"VLOOKUP(\"*\"&目次加工!$B$2&\"*\",J2829:K2829,2,0)","v":1},1]
[null,null,null,{"$f":"分類順!A2829","v":0},{"$f":"分類順!B2829","v":0},{"$f":"分類順!C2829","v":0},{"$f":"分類順!D2829","v":0},{"$f":"分類順!E2829","v":0},{"$f":"分類順!F2829","v":0},"00000",1,{"$f":"VLOOKUP(\"*\"&目次加工!$B$2&\"*\",J2830:K2830,2,0)","v":1},1]
[null,null,null,{"$f":"分類順!A2830","v":0},{"$f":"分類順!B2830","v":0},{"$f":"分類順!C2830","v":0},{"$f":"分類順!D2830","v":0},{"$f":"分類順!E2830","v":0},{"$f":"分類順!F2830","v":0},"00000",1,{"$f":"VLOOKUP(\"*\"&目次加工!$B$2&\"*\",J2831:K2831,2,0)","v":1},1]
[null,null,null,{"$f":"分類順!A2831","v":0},{"$f":"分類順!B2831","v":0},{"$f":"分類順!C2831","v":0},{"$f":"分類順!D2831","v":0},{"$f":"分類順!E2831","v":0},{"$f":"分類順!F2831","v":0},"00000",1,{"$f":"VLOOKUP(\"*\"&目次加工!$B$2&\"*\",J2832:K2832,2,0)","v":1},1]
[null,null,null,{"$f":"分類順!A2832","v":0},{"$f":"分類順!B2832","v":0},{"$f":"分類順!C2832","v":0},{"$f":"分類順!D2832","v":0},{"$f":"分類順!E2832","v":0},{"$f":"分類順!F2832","v":0},"00000",1,{"$f":"VLOOKUP(\"*\"&目次加工!$B$2&\"*\",J2833:K2833,2,0)","v":1},1]
[null,null,null,{"$f":"分類順!A2833","v":0},{"$f":"分類順!B2833","v":0},{"$f":"分類順!C2833","v":0},{"$f":"分類順!D2833","v":0},{"$f":"分類順!E2833","v":0},{"$f":"分類順!F2833","v":0},"00000",1,{"$f":"VLOOKUP(\"*\"&目次加工!$B$2&\"*\",J2834:K2834,2,0)","v":1},1]
[null,null,null,{"$f":"分類順!A2834","v":0},{"$f":"分類順!B2834","v":0},{"$f":"分類順!C2834","v":0},{"$f":"分類順!D2834","v":0},{"$f":"分類順!E2834","v":0},{"$f":"分類順!F2834","v":0},{"$f":"D2835&E2835&F2835&G2835&H2835","v":"00000"},1,{"$f":"VLOOKUP(\"*\"&目次加工!$B$2&\"*\",J2835:K2835,2,0)","v":1},1]
[null,null,null,{"$f":"分類順!A2835","v":0},{"$f":"分類順!B2835","v":0},{"$f":"分類順!C2835","v":0},{"$f":"分類順!D2835","v":0},{"$f":"分類順!E2835","v":0},{"$f":"分類順!F2835","v":0},"00000",1,{"$f":"VLOOKUP(\"*\"&目次加工!$B$2&\"*\",J2836:K2836,2,0)","v":1},1]
[null,null,null,{"$f":"分類順!A2836","v":0},{"$f":"分類順!B2836","v":0},{"$f":"分類順!C2836","v":0},{"$f":"分類順!D2836","v":0},{"$f":"分類順!E2836","v":0},{"$f":"分類順!F2836","v":0},"00000",1,{"$f":"VLOOKUP(\"*\"&目次加工!$B$2&\"*\",J2837:K2837,2,0)","v":1},1]
[null,null,null,{"$f":"分類順!A2837","v":0},{"$f":"分類順!B2837","v":0},{"$f":"分類順!C2837","v":0},{"$f":"分類順!D2837","v":0},{"$f":"分類順!E2837","v":0},{"$f":"分類順!F2837","v":0},"00000",1,{"$f":"VLOOKUP(\"*\"&目次加工!$B$2&\"*\",J2838:K2838,2,0)","v":1},1]
[null,null,null,{"$f":"分類順!A2838","v":0},{"$f":"分類順!B2838","v":0},{"$f":"分類順!C2838","v":0},{"$f":"分類順!D2838","v":0},{"$f":"分類順!E2838","v":0},{"$f":"分類順!F2838","v":0},"00000",1,{"$f":"VLOOKUP(\"*\"&目次加工!$B$2&\"*\",J2839:K2839,2,0)","v":1},1]
[null,null,null,{"$f":"分類順!A2839","v":0},{"$f":"分類順!B2839","v":0},{"$f":"分類順!C2839","v":0},{"$f":"分類順!D2839","v":0},{"$f":"分類順!E2839","v":0},{"$f":"分類順!F2839","v":0},"00000",1,{"$f":"VLOOKUP(\"*\"&目次加工!$B$2&\"*\",J2840:K2840,2,0)","v":1},1]
[null,null,null,{"$f":"分類順!A2840","v":0},{"$f":"分類順!B2840","v":0},{"$f":"分類順!C2840","v":0},{"$f":"分類順!D2840","v":0},{"$f":"分類順!E2840","v":0},{"$f":"分類順!F2840","v":0},"00000",1,{"$f":"VLOOKUP(\"*\"&目次加工!$B$2&\"*\",J2841:K2841,2,0)","v":1},1]
[null,null,null,{"$f":"分類順!A2841","v":0},{"$f":"分類順!B2841","v":0},{"$f":"分類順!C2841","v":0},{"$f":"分類順!D2841","v":0},{"$f":"分類順!E2841","v":0},{"$f":"分類順!F2841","v":0},"00000",1,{"$f":"VLOOKUP(\"*\"&目次加工!$B$2&\"*\",J2842:K2842,2,0)","v":1},1]
[null,null,null,{"$f":"分類順!A2842","v":0},{"$f":"分類順!B2842","v":0},{"$f":"分類順!C2842","v":0},{"$f":"分類順!D2842","v":0},{"$f":"分類順!E2842","v":0},{"$f":"分類順!F2842","v":0},"00000",1,{"$f":"VLOOKUP(\"*\"&目次加工!$B$2&\"*\",J2843:K2843,2,0)","v":1},1]
[null,null,null,{"$f":"分類順!A2843","v":0},{"$f":"分類順!B2843","v":0},{"$f":"分類順!C2843","v":0},{"$f":"分類順!D2843","v":0},{"$f":"分類順!E2843","v":0},{"$f":"分類順!F2843","v":0},"00000",1,{"$f":"VLOOKUP(\"*\"&目次加工!$B$2&\"*\",J2844:K2844,2,0)","v":1},1]
[null,null,null,{"$f":"分類順!A2844","v":0},{"$f":"分類順!B2844","v":0},{"$f":"分類順!C2844","v":0},{"$f":"分類順!D2844","v":0},{"$f":"分類順!E2844","v":0},{"$f":"分類順!F2844","v":0},"00000",1,{"$f":"VLOOKUP(\"*\"&目次加工!$B$2&\"*\",J2845:K2845,2,0)","v":1},1]
[null,null,null,{"$f":"分類順!A2845","v":0},{"$f":"分類順!B2845","v":0},{"$f":"分類順!C2845","v":0},{"$f":"分類順!D2845","v":0},{"$f":"分類順!E2845","v":0},{"$f":"分類順!F2845","v":0},"00000",1,{"$f":"VLOOKUP(\"*\"&目次加工!$B$2&\"*\",J2846:K2846,2,0)","v":1},1]
[null,null,null,{"$f":"分類順!A2846","v":0},{"$f":"分類順!B2846","v":0},{"$f":"分類順!C2846","v":0},{"$f":"分類順!D2846","v":0},{"$f":"分類順!E2846","v":0},{"$f":"分類順!F2846","v":0},"00000",1,{"$f":"VLOOKUP(\"*\"&目次加工!$B$2&\"*\",J2847:K2847,2,0)","v":1},1]
[null,null,null,{"$f":"分類順!A2847","v":0},{"$f":"分類順!B2847","v":0},{"$f":"分類順!C2847","v":0},{"$f":"分類順!D2847","v":0},{"$f":"分類順!E2847","v":0},{"$f":"分類順!F2847","v":0},"00000",1,{"$f":"VLOOKUP(\"*\"&目次加工!$B$2&\"*\",J2848:K2848,2,0)","v":1},1]
[null,null,null,{"$f":"分類順!A2848","v":0},{"$f":"分類順!B2848","v":0},{"$f":"分類順!C2848","v":0},{"$f":"分類順!D2848","v":0},{"$f":"分類順!E2848","v":0},{"$f":"分類順!F2848","v":0},"00000",1,{"$f":"VLOOKUP(\"*\"&目次加工!$B$2&\"*\",J2849:K2849,2,0)","v":1},1]
[null,null,null,{"$f":"分類順!A2849","v":0},{"$f":"分類順!B2849","v":0},{"$f":"分類順!C2849","v":0},{"$f":"分類順!D2849","v":0},{"$f":"分類順!E2849","v":0},{"$f":"分類順!F2849","v":0},"00000",1,{"$f":"VLOOKUP(\"*\"&目次加工!$B$2&\"*\",J2850:K2850,2,0)","v":1},1]
[null,null,null,{"$f":"分類順!A2850","v":0},{"$f":"分類順!B2850","v":0},{"$f":"分類順!C2850","v":0},{"$f":"分類順!D2850","v":0},{"$f":"分類順!E2850","v":0},{"$f":"分類順!F2850","v":0},"00000",1,{"$f":"VLOOKUP(\"*\"&目次加工!$B$2&\"*\",J2851:K2851,2,0)","v":1},1]
[null,null,null,{"$f":"分類順!A2851","v":0},{"$f":"分類順!B2851","v":0},{"$f":"分類順!C2851","v":0},{"$f":"分類順!D2851","v":0},{"$f":"分類順!E2851","v":0},{"$f":"分類順!F2851","v":0},"00000",1,{"$f":"VLOOKUP(\"*\"&目次加工!$B$2&\"*\",J2852:K2852,2,0)","v":1},1]
[null,null,null,{"$f":"分類順!A2852","v":0},{"$f":"分類順!B2852","v":0},{"$f":"分類順!C2852","v":0},{"$f":"分類順!D2852","v":0},{"$f":"分類順!E2852","v":0},{"$f":"分類順!F2852","v":0},"00000",1,{"$f":"VLOOKUP(\"*\"&目次加工!$B$2&\"*\",J2853:K2853,2,0)","v":1},1]
[null,null,null,{"$f":"分類順!A2853","v":0},{"$f":"分類順!B2853","v":0},{"$f":"分類順!C2853","v":0},{"$f":"分類順!D2853","v":0},{"$f":"分類順!E2853","v":0},{"$f":"分類順!F2853","v":0},"00000",1,{"$f":"VLOOKUP(\"*\"&目次加工!$B$2&\"*\",J2854:K2854,2,0)","v":1},1]
[null,null,null,{"$f":"分類順!A2854","v":0},{"$f":"分類順!B2854","v":0},{"$f":"分類順!C2854","v":0},{"$f":"分類順!D2854","v":0},{"$f":"分類順!E2854","v":0},{"$f":"分類順!F2854","v":0},"00000",1,{"$f":"VLOOKUP(\"*\"&目次加工!$B$2&\"*\",J2855:K2855,2,0)","v":1},1]
[null,null,null,{"$f":"分類順!A2855","v":0},{"$f":"分類順!B2855","v":0},{"$f":"分類順!C2855","v":0},{"$f":"分類順!D2855","v":0},{"$f":"分類順!E2855","v":0},{"$f":"分類順!F2855","v":0},"00000",1,{"$f":"VLOOKUP(\"*\"&目次加工!$B$2&\"*\",J2856:K2856,2,0)","v":1},1]
[null,null,null,{"$f":"分類順!A2856","v":0},{"$f":"分類順!B2856","v":0},{"$f":"分類順!C2856","v":0},{"$f":"分類順!D2856","v":0},{"$f":"分類順!E2856","v":0},{"$f":"分類順!F2856","v":0},"00000",1,{"$f":"VLOOKUP(\"*\"&目次加工!$B$2&\"*\",J2857:K2857,2,0)","v":1},1]
[null,null,null,{"$f":"分類順!A2857","v":0},{"$f":"分類順!B2857","v":0},{"$f":"分類順!C2857","v":0},{"$f":"分類順!D2857","v":0},{"$f":"分類順!E2857","v":0},{"$f":"分類順!F2857","v":0},"00000",1,{"$f":"VLOOKUP(\"*\"&目次加工!$B$2&\"*\",J2858:K2858,2,0)","v":1},1]
[null,null,null,{"$f":"分類順!A2858","v":0},{"$f":"分類順!B2858","v":0},{"$f":"分類順!C2858","v":0},{"$f":"分類順!D2858","v":0},{"$f":"分類順!E2858","v":0},{"$f":"分類順!F2858","v":0},"00000",1,{"$f":"VLOOKUP(\"*\"&目次加工!$B$2&\"*\",J2859:K2859,2,0)","v":1},1]
[null,null,null,{"$f":"分類順!A2859","v":0},{"$f":"分類順!B2859","v":0},{"$f":"分類順!C2859","v":0},{"$f":"分類順!D2859","v":0},{"$f":"分類順!E2859","v":0},{"$f":"分類順!F2859","v":0},"00000",1,{"$f":"VLOOKUP(\"*\"&目次加工!$B$2&\"*\",J2860:K2860,2,0)","v":1},1]
[null,null,null,{"$f":"分類順!A2860","v":0},{"$f":"分類順!B2860","v":0},{"$f":"分類順!C2860","v":0},{"$f":"分類順!D2860","v":0},{"$f":"分類順!E2860","v":0},{"$f":"分類順!F2860","v":0},"00000",1,{"$f":"VLOOKUP(\"*\"&目次加工!$B$2&\"*\",J2861:K2861,2,0)","v":1},1]
[null,null,null,{"$f":"分類順!A2861","v":0},{"$f":"分類順!B2861","v":0},{"$f":"分類順!C2861","v":0},{"$f":"分類順!D2861","v":0},{"$f":"分類順!E2861","v":0},{"$f":"分類順!F2861","v":0},"00000",1,{"$f":"VLOOKUP(\"*\"&目次加工!$B$2&\"*\",J2862:K2862,2,0)","v":1},1]
[null,null,null,{"$f":"分類順!A2862","v":0},{"$f":"分類順!B2862","v":0},{"$f":"分類順!C2862","v":0},{"$f":"分類順!D2862","v":0},{"$f":"分類順!E2862","v":0},{"$f":"分類順!F2862","v":0},"00000",1,{"$f":"VLOOKUP(\"*\"&目次加工!$B$2&\"*\",J2863:K2863,2,0)","v":1},1]
[null,null,null,{"$f":"分類順!A2863","v":0},{"$f":"分類順!B2863","v":0},{"$f":"分類順!C2863","v":0},{"$f":"分類順!D2863","v":0},{"$f":"分類順!E2863","v":0},{"$f":"分類順!F2863","v":0},"00000",1,{"$f":"VLOOKUP(\"*\"&目次加工!$B$2&\"*\",J2864:K2864,2,0)","v":1},1]
[null,null,null,{"$f":"分類順!A2864","v":0},{"$f":"分類順!B2864","v":0},{"$f":"分類順!C2864","v":0},{"$f":"分類順!D2864","v":0},{"$f":"分類順!E2864","v":0},{"$f":"分類順!F2864","v":0},"00000",1,{"$f":"VLOOKUP(\"*\"&目次加工!$B$2&\"*\",J2865:K2865,2,0)","v":1},1]
[null,null,null,{"$f":"分類順!A2865","v":0},{"$f":"分類順!B2865","v":0},{"$f":"分類順!C2865","v":0},{"$f":"分類順!D2865","v":0},{"$f":"分類順!E2865","v":0},{"$f":"分類順!F2865","v":0},"00000",1,{"$f":"VLOOKUP(\"*\"&目次加工!$B$2&\"*\",J2866:K2866,2,0)","v":1},1]
[null,null,null,{"$f":"分類順!A2866","v":0},{"$f":"分類順!B2866","v":0},{"$f":"分類順!C2866","v":0},{"$f":"分類順!D2866","v":0},{"$f":"分類順!E2866","v":0},{"$f":"分類順!F2866","v":0},"00000",1,{"$f":"VLOOKUP(\"*\"&目次加工!$B$2&\"*\",J2867:K2867,2,0)","v":1},1]
[null,null,null,{"$f":"分類順!A2867","v":0},{"$f":"分類順!B2867","v":0},{"$f":"分類順!C2867","v":0},{"$f":"分類順!D2867","v":0},{"$f":"分類順!E2867","v":0},{"$f":"分類順!F2867","v":0},"00000",1,{"$f":"VLOOKUP(\"*\"&目次加工!$B$2&\"*\",J2868:K2868,2,0)","v":1},1]
[null,null,null,{"$f":"分類順!A2868","v":0},{"$f":"分類順!B2868","v":0},{"$f":"分類順!C2868","v":0},{"$f":"分類順!D2868","v":0},{"$f":"分類順!E2868","v":0},{"$f":"分類順!F2868","v":0},"00000",1,{"$f":"VLOOKUP(\"*\"&目次加工!$B$2&\"*\",J2869:K2869,2,0)","v":1},1]
[null,null,null,{"$f":"分類順!A2869","v":0},{"$f":"分類順!B2869","v":0},{"$f":"分類順!C2869","v":0},{"$f":"分類順!D2869","v":0},{"$f":"分類順!E2869","v":0},{"$f":"分類順!F2869","v":0},"00000",1,{"$f":"VLOOKUP(\"*\"&目次加工!$B$2&\"*\",J2870:K2870,2,0)","v":1},1]
[null,null,null,{"$f":"分類順!A2870","v":0},{"$f":"分類順!B2870","v":0},{"$f":"分類順!C2870","v":0},{"$f":"分類順!D2870","v":0},{"$f":"分類順!E2870","v":0},{"$f":"分類順!F2870","v":0},"00000",1,{"$f":"VLOOKUP(\"*\"&目次加工!$B$2&\"*\",J2871:K2871,2,0)","v":1},1]
[null,null,null,{"$f":"分類順!A2871","v":0},{"$f":"分類順!B2871","v":0},{"$f":"分類順!C2871","v":0},{"$f":"分類順!D2871","v":0},{"$f":"分類順!E2871","v":0},{"$f":"分類順!F2871","v":0},"00000",1,{"$f":"VLOOKUP(\"*\"&目次加工!$B$2&\"*\",J2872:K2872,2,0)","v":1},1]
[null,null,null,{"$f":"分類順!A2872","v":0},{"$f":"分類順!B2872","v":0},{"$f":"分類順!C2872","v":0},{"$f":"分類順!D2872","v":0},{"$f":"分類順!E2872","v":0},{"$f":"分類順!F2872","v":0},"00000",1,{"$f":"VLOOKUP(\"*\"&目次加工!$B$2&\"*\",J2873:K2873,2,0)","v":1},1]
[null,null,null,{"$f":"分類順!A2873","v":0},{"$f":"分類順!B2873","v":0},{"$f":"分類順!C2873","v":0},{"$f":"分類順!D2873","v":0},{"$f":"分類順!E2873","v":0},{"$f":"分類順!F2873","v":0},"00000",1,{"$f":"VLOOKUP(\"*\"&目次加工!$B$2&\"*\",J2874:K2874,2,0)","v":1},1]
[null,null,null,{"$f":"分類順!A2874","v":0},{"$f":"分類順!B2874","v":0},{"$f":"分類順!C2874","v":0},{"$f":"分類順!D2874","v":0},{"$f":"分類順!E2874","v":0},{"$f":"分類順!F2874","v":0},"00000",1,{"$f":"VLOOKUP(\"*\"&目次加工!$B$2&\"*\",J2875:K2875,2,0)","v":1},1]
[null,null,null,{"$f":"分類順!A2875","v":0},{"$f":"分類順!B2875","v":0},{"$f":"分類順!C2875","v":0},{"$f":"分類順!D2875","v":0},{"$f":"分類順!E2875","v":0},{"$f":"分類順!F2875","v":0},"00000",1,{"$f":"VLOOKUP(\"*\"&目次加工!$B$2&\"*\",J2876:K2876,2,0)","v":1},1]
[null,null,null,{"$f":"分類順!A2876","v":0},{"$f":"分類順!B2876","v":0},{"$f":"分類順!C2876","v":0},{"$f":"分類順!D2876","v":0},{"$f":"分類順!E2876","v":0},{"$f":"分類順!F2876","v":0},"00000",1,{"$f":"VLOOKUP(\"*\"&目次加工!$B$2&\"*\",J2877:K2877,2,0)","v":1},1]
[null,null,null,{"$f":"分類順!A2877","v":0},{"$f":"分類順!B2877","v":0},{"$f":"分類順!C2877","v":0},{"$f":"分類順!D2877","v":0},{"$f":"分類順!E2877","v":0},{"$f":"分類順!F2877","v":0},"00000",1,{"$f":"VLOOKUP(\"*\"&目次加工!$B$2&\"*\",J2878:K2878,2,0)","v":1},1]
[null,null,null,{"$f":"分類順!A2878","v":0},{"$f":"分類順!B2878","v":0},{"$f":"分類順!C2878","v":0},{"$f":"分類順!D2878","v":0},{"$f":"分類順!E2878","v":0},{"$f":"分類順!F2878","v":0},"00000",1,{"$f":"VLOOKUP(\"*\"&目次加工!$B$2&\"*\",J2879:K2879,2,0)","v":1},1]
[null,null,null,{"$f":"分類順!A2879","v":0},{"$f":"分類順!B2879","v":0},{"$f":"分類順!C2879","v":0},{"$f":"分類順!D2879","v":0},{"$f":"分類順!E2879","v":0},{"$f":"分類順!F2879","v":0},"00000",1,{"$f":"VLOOKUP(\"*\"&目次加工!$B$2&\"*\",J2880:K2880,2,0)","v":1},1]
[null,null,null,{"$f":"分類順!A2880","v":0},{"$f":"分類順!B2880","v":0},{"$f":"分類順!C2880","v":0},{"$f":"分類順!D2880","v":0},{"$f":"分類順!E2880","v":0},{"$f":"分類順!F2880","v":0},"00000",1,{"$f":"VLOOKUP(\"*\"&目次加工!$B$2&\"*\",J2881:K2881,2,0)","v":1},1]
[null,null,null,{"$f":"分類順!A2881","v":0},{"$f":"分類順!B2881","v":0},{"$f":"分類順!C2881","v":0},{"$f":"分類順!D2881","v":0},{"$f":"分類順!E2881","v":0},{"$f":"分類順!F2881","v":0},"00000",1,{"$f":"VLOOKUP(\"*\"&目次加工!$B$2&\"*\",J2882:K2882,2,0)","v":1},1]
[null,null,null,{"$f":"分類順!A2882","v":0},{"$f":"分類順!B2882","v":0},{"$f":"分類順!C2882","v":0},{"$f":"分類順!D2882","v":0},{"$f":"分類順!E2882","v":0},{"$f":"分類順!F2882","v":0},"00000",1,{"$f":"VLOOKUP(\"*\"&目次加工!$B$2&\"*\",J2883:K2883,2,0)","v":1},1]
[null,null,null,{"$f":"分類順!A2883","v":0},{"$f":"分類順!B2883","v":0},{"$f":"分類順!C2883","v":0},{"$f":"分類順!D2883","v":0},{"$f":"分類順!E2883","v":0},{"$f":"分類順!F2883","v":0},"00000",1,{"$f":"VLOOKUP(\"*\"&目次加工!$B$2&\"*\",J2884:K2884,2,0)","v":1},{"$f":"VLOOKUP(\"*\"&$A$2&\"*\",J2884:K2884,2,0)","v":1}]
[null,null,null,{"$f":"分類順!A2884","v":0},{"$f":"分類順!B2884","v":0},{"$f":"分類順!C2884","v":0},{"$f":"分類順!D2884","v":0},{"$f":"分類順!E2884","v":0},{"$f":"分類順!F2884","v":0},"00000",1,{"$f":"VLOOKUP(\"*\"&目次加工!$B$2&\"*\",J2885:K2885,2,0)","v":1},1]
[null,null,null,{"$f":"分類順!A2885","v":0},{"$f":"分類順!B2885","v":0},{"$f":"分類順!C2885","v":0},{"$f":"分類順!D2885","v":0},{"$f":"分類順!E2885","v":0},{"$f":"分類順!F2885","v":0},"00000",1,{"$f":"VLOOKUP(\"*\"&目次加工!$B$2&\"*\",J2886:K2886,2,0)","v":1},1]
[null,null,null,{"$f":"分類順!A2886","v":0},{"$f":"分類順!B2886","v":0},{"$f":"分類順!C2886","v":0},{"$f":"分類順!D2886","v":0},{"$f":"分類順!E2886","v":0},{"$f":"分類順!F2886","v":0},"00000",1,{"$f":"VLOOKUP(\"*\"&目次加工!$B$2&\"*\",J2887:K2887,2,0)","v":1},1]
[null,null,null,{"$f":"分類順!A2887","v":0},{"$f":"分類順!B2887","v":0},{"$f":"分類順!C2887","v":0},{"$f":"分類順!D2887","v":0},{"$f":"分類順!E2887","v":0},{"$f":"分類順!F2887","v":0},"00000",1,{"$f":"VLOOKUP(\"*\"&目次加工!$B$2&\"*\",J2888:K2888,2,0)","v":1},1]
[null,null,null,{"$f":"分類順!A2888","v":0},{"$f":"分類順!B2888","v":0},{"$f":"分類順!C2888","v":0},{"$f":"分類順!D2888","v":0},{"$f":"分類順!E2888","v":0},{"$f":"分類順!F2888","v":0},"00000",1,{"$f":"VLOOKUP(\"*\"&目次加工!$B$2&\"*\",J2889:K2889,2,0)","v":1},1]
[null,null,null,{"$f":"分類順!A2889","v":0},{"$f":"分類順!B2889","v":0},{"$f":"分類順!C2889","v":0},{"$f":"分類順!D2889","v":0},{"$f":"分類順!E2889","v":0},{"$f":"分類順!F2889","v":0},"00000",1,{"$f":"VLOOKUP(\"*\"&目次加工!$B$2&\"*\",J2890:K2890,2,0)","v":1},1]
[null,null,null,{"$f":"分類順!A2890","v":0},{"$f":"分類順!B2890","v":0},{"$f":"分類順!C2890","v":0},{"$f":"分類順!D2890","v":0},{"$f":"分類順!E2890","v":0},{"$f":"分類順!F2890","v":0},"00000",1,{"$f":"VLOOKUP(\"*\"&目次加工!$B$2&\"*\",J2891:K2891,2,0)","v":1},1]
[null,null,null,{"$f":"分類順!A2891","v":0},{"$f":"分類順!B2891","v":0},{"$f":"分類順!C2891","v":0},{"$f":"分類順!D2891","v":0},{"$f":"分類順!E2891","v":0},{"$f":"分類順!F2891","v":0},"00000",1,{"$f":"VLOOKUP(\"*\"&目次加工!$B$2&\"*\",J2892:K2892,2,0)","v":1},1]
[null,null,null,{"$f":"分類順!A2892","v":0},{"$f":"分類順!B2892","v":0},{"$f":"分類順!C2892","v":0},{"$f":"分類順!D2892","v":0},{"$f":"分類順!E2892","v":0},{"$f":"分類順!F2892","v":0},"00000",1,{"$f":"VLOOKUP(\"*\"&目次加工!$B$2&\"*\",J2893:K2893,2,0)","v":1},1]
[null,null,null,{"$f":"分類順!A2893","v":0},{"$f":"分類順!B2893","v":0},{"$f":"分類順!C2893","v":0},{"$f":"分類順!D2893","v":0},{"$f":"分類順!E2893","v":0},{"$f":"分類順!F2893","v":0},"00000",1,{"$f":"VLOOKUP(\"*\"&目次加工!$B$2&\"*\",J2894:K2894,2,0)","v":1},1]
[null,null,null,{"$f":"分類順!A2894","v":0},{"$f":"分類順!B2894","v":0},{"$f":"分類順!C2894","v":0},{"$f":"分類順!D2894","v":0},{"$f":"分類順!E2894","v":0},{"$f":"分類順!F2894","v":0},"00000",1,{"$f":"VLOOKUP(\"*\"&目次加工!$B$2&\"*\",J2895:K2895,2,0)","v":1},1]
[null,null,null,{"$f":"分類順!A2895","v":0},{"$f":"分類順!B2895","v":0},{"$f":"分類順!C2895","v":0},{"$f":"分類順!D2895","v":0},{"$f":"分類順!E2895","v":0},{"$f":"分類順!F2895","v":0},"00000",1,{"$f":"VLOOKUP(\"*\"&目次加工!$B$2&\"*\",J2896:K2896,2,0)","v":1},1]
[null,null,null,{"$f":"分類順!A2896","v":0},{"$f":"分類順!B2896","v":0},{"$f":"分類順!C2896","v":0},{"$f":"分類順!D2896","v":0},{"$f":"分類順!E2896","v":0},{"$f":"分類順!F2896","v":0},"00000",1,{"$f":"VLOOKUP(\"*\"&目次加工!$B$2&\"*\",J2897:K2897,2,0)","v":1},1]
[null,null,null,{"$f":"分類順!A2897","v":0},{"$f":"分類順!B2897","v":0},{"$f":"分類順!C2897","v":0},{"$f":"分類順!D2897","v":0},{"$f":"分類順!E2897","v":0},{"$f":"分類順!F2897","v":0},"00000",1,{"$f":"VLOOKUP(\"*\"&目次加工!$B$2&\"*\",J2898:K2898,2,0)","v":1},1]
[null,null,null,{"$f":"分類順!A2898","v":0},{"$f":"分類順!B2898","v":0},{"$f":"分類順!C2898","v":0},{"$f":"分類順!D2898","v":0},{"$f":"分類順!E2898","v":0},{"$f":"分類順!F2898","v":0},{"$f":"D2899&E2899&F2899&G2899&H2899","v":"00000"},1,{"$f":"VLOOKUP(\"*\"&目次加工!$B$2&\"*\",J2899:K2899,2,0)","v":1},1]
[null,null,null,{"$f":"分類順!A2899","v":0},{"$f":"分類順!B2899","v":0},{"$f":"分類順!C2899","v":0},{"$f":"分類順!D2899","v":0},{"$f":"分類順!E2899","v":0},{"$f":"分類順!F2899","v":0},"00000",1,{"$f":"VLOOKUP(\"*\"&目次加工!$B$2&\"*\",J2900:K2900,2,0)","v":1},1]
[null,null,null,{"$f":"分類順!A2900","v":0},{"$f":"分類順!B2900","v":0},{"$f":"分類順!C2900","v":0},{"$f":"分類順!D2900","v":0},{"$f":"分類順!E2900","v":0},{"$f":"分類順!F2900","v":0},"00000",1,{"$f":"VLOOKUP(\"*\"&目次加工!$B$2&\"*\",J2901:K2901,2,0)","v":1},1]
[null,null,null,{"$f":"分類順!A2901","v":0},{"$f":"分類順!B2901","v":0},{"$f":"分類順!C2901","v":0},{"$f":"分類順!D2901","v":0},{"$f":"分類順!E2901","v":0},{"$f":"分類順!F2901","v":0},"00000",1,{"$f":"VLOOKUP(\"*\"&目次加工!$B$2&\"*\",J2902:K2902,2,0)","v":1},1]
[null,null,null,{"$f":"分類順!A2902","v":0},{"$f":"分類順!B2902","v":0},{"$f":"分類順!C2902","v":0},{"$f":"分類順!D2902","v":0},{"$f":"分類順!E2902","v":0},{"$f":"分類順!F2902","v":0},"00000",1,{"$f":"VLOOKUP(\"*\"&目次加工!$B$2&\"*\",J2903:K2903,2,0)","v":1},1]
[null,null,null,{"$f":"分類順!A2903","v":0},{"$f":"分類順!B2903","v":0},{"$f":"分類順!C2903","v":0},{"$f":"分類順!D2903","v":0},{"$f":"分類順!E2903","v":0},{"$f":"分類順!F2903","v":0},"00000",1,{"$f":"VLOOKUP(\"*\"&目次加工!$B$2&\"*\",J2904:K2904,2,0)","v":1},1]
[null,null,null,{"$f":"分類順!A2904","v":0},{"$f":"分類順!B2904","v":0},{"$f":"分類順!C2904","v":0},{"$f":"分類順!D2904","v":0},{"$f":"分類順!E2904","v":0},{"$f":"分類順!F2904","v":0},"00000",1,{"$f":"VLOOKUP(\"*\"&目次加工!$B$2&\"*\",J2905:K2905,2,0)","v":1},1]
[null,null,null,{"$f":"分類順!A2905","v":0},{"$f":"分類順!B2905","v":0},{"$f":"分類順!C2905","v":0},{"$f":"分類順!D2905","v":0},{"$f":"分類順!E2905","v":0},{"$f":"分類順!F2905","v":0},"00000",1,{"$f":"VLOOKUP(\"*\"&目次加工!$B$2&\"*\",J2906:K2906,2,0)","v":1},1]
[null,null,null,{"$f":"分類順!A2906","v":0},{"$f":"分類順!B2906","v":0},{"$f":"分類順!C2906","v":0},{"$f":"分類順!D2906","v":0},{"$f":"分類順!E2906","v":0},{"$f":"分類順!F2906","v":0},"00000",1,{"$f":"VLOOKUP(\"*\"&目次加工!$B$2&\"*\",J2907:K2907,2,0)","v":1},1]
[null,null,null,{"$f":"分類順!A2907","v":0},{"$f":"分類順!B2907","v":0},{"$f":"分類順!C2907","v":0},{"$f":"分類順!D2907","v":0},{"$f":"分類順!E2907","v":0},{"$f":"分類順!F2907","v":0},"00000",1,{"$f":"VLOOKUP(\"*\"&目次加工!$B$2&\"*\",J2908:K2908,2,0)","v":1},1]
[null,null,null,{"$f":"分類順!A2908","v":0},{"$f":"分類順!B2908","v":0},{"$f":"分類順!C2908","v":0},{"$f":"分類順!D2908","v":0},{"$f":"分類順!E2908","v":0},{"$f":"分類順!F2908","v":0},"00000",1,{"$f":"VLOOKUP(\"*\"&目次加工!$B$2&\"*\",J2909:K2909,2,0)","v":1},1]
[null,null,null,{"$f":"分類順!A2909","v":0},{"$f":"分類順!B2909","v":0},{"$f":"分類順!C2909","v":0},{"$f":"分類順!D2909","v":0},{"$f":"分類順!E2909","v":0},{"$f":"分類順!F2909","v":0},"00000",1,{"$f":"VLOOKUP(\"*\"&目次加工!$B$2&\"*\",J2910:K2910,2,0)","v":1},1]
[null,null,null,{"$f":"分類順!A2910","v":0},{"$f":"分類順!B2910","v":0},{"$f":"分類順!C2910","v":0},{"$f":"分類順!D2910","v":0},{"$f":"分類順!E2910","v":0},{"$f":"分類順!F2910","v":0},"00000",1,{"$f":"VLOOKUP(\"*\"&目次加工!$B$2&\"*\",J2911:K2911,2,0)","v":1},1]
[null,null,null,{"$f":"分類順!A2911","v":0},{"$f":"分類順!B2911","v":0},{"$f":"分類順!C2911","v":0},{"$f":"分類順!D2911","v":0},{"$f":"分類順!E2911","v":0},{"$f":"分類順!F2911","v":0},"00000",1,{"$f":"VLOOKUP(\"*\"&目次加工!$B$2&\"*\",J2912:K2912,2,0)","v":1},1]
[null,null,null,{"$f":"分類順!A2912","v":0},{"$f":"分類順!B2912","v":0},{"$f":"分類順!C2912","v":0},{"$f":"分類順!D2912","v":0},{"$f":"分類順!E2912","v":0},{"$f":"分類順!F2912","v":0},"00000",1,{"$f":"VLOOKUP(\"*\"&目次加工!$B$2&\"*\",J2913:K2913,2,0)","v":1},1]
[null,null,null,{"$f":"分類順!A2913","v":0},{"$f":"分類順!B2913","v":0},{"$f":"分類順!C2913","v":0},{"$f":"分類順!D2913","v":0},{"$f":"分類順!E2913","v":0},{"$f":"分類順!F2913","v":0},"00000",1,{"$f":"VLOOKUP(\"*\"&目次加工!$B$2&\"*\",J2914:K2914,2,0)","v":1},1]
[null,null,null,{"$f":"分類順!A2914","v":0},{"$f":"分類順!B2914","v":0},{"$f":"分類順!C2914","v":0},{"$f":"分類順!D2914","v":0},{"$f":"分類順!E2914","v":0},{"$f":"分類順!F2914","v":0},"00000",1,{"$f":"VLOOKUP(\"*\"&目次加工!$B$2&\"*\",J2915:K2915,2,0)","v":1},1]
[null,null,null,{"$f":"分類順!A2915","v":0},{"$f":"分類順!B2915","v":0},{"$f":"分類順!C2915","v":0},{"$f":"分類順!D2915","v":0},{"$f":"分類順!E2915","v":0},{"$f":"分類順!F2915","v":0},"00000",1,{"$f":"VLOOKUP(\"*\"&目次加工!$B$2&\"*\",J2916:K2916,2,0)","v":1},1]
[null,null,null,{"$f":"分類順!A2916","v":0},{"$f":"分類順!B2916","v":0},{"$f":"分類順!C2916","v":0},{"$f":"分類順!D2916","v":0},{"$f":"分類順!E2916","v":0},{"$f":"分類順!F2916","v":0},"00000",1,{"$f":"VLOOKUP(\"*\"&目次加工!$B$2&\"*\",J2917:K2917,2,0)","v":1},1]
[null,null,null,{"$f":"分類順!A2917","v":0},{"$f":"分類順!B2917","v":0},{"$f":"分類順!C2917","v":0},{"$f":"分類順!D2917","v":0},{"$f":"分類順!E2917","v":0},{"$f":"分類順!F2917","v":0},"00000",1,{"$f":"VLOOKUP(\"*\"&目次加工!$B$2&\"*\",J2918:K2918,2,0)","v":1},1]
[null,null,null,{"$f":"分類順!A2918","v":0},{"$f":"分類順!B2918","v":0},{"$f":"分類順!C2918","v":0},{"$f":"分類順!D2918","v":0},{"$f":"分類順!E2918","v":0},{"$f":"分類順!F2918","v":0},"00000",1,{"$f":"VLOOKUP(\"*\"&目次加工!$B$2&\"*\",J2919:K2919,2,0)","v":1},1]
[null,null,null,{"$f":"分類順!A2919","v":0},{"$f":"分類順!B2919","v":0},{"$f":"分類順!C2919","v":0},{"$f":"分類順!D2919","v":0},{"$f":"分類順!E2919","v":0},{"$f":"分類順!F2919","v":0},"00000",1,{"$f":"VLOOKUP(\"*\"&目次加工!$B$2&\"*\",J2920:K2920,2,0)","v":1},1]
[null,null,null,{"$f":"分類順!A2920","v":0},{"$f":"分類順!B2920","v":0},{"$f":"分類順!C2920","v":0},{"$f":"分類順!D2920","v":0},{"$f":"分類順!E2920","v":0},{"$f":"分類順!F2920","v":0},"00000",1,{"$f":"VLOOKUP(\"*\"&目次加工!$B$2&\"*\",J2921:K2921,2,0)","v":1},1]
[null,null,null,{"$f":"分類順!A2921","v":0},{"$f":"分類順!B2921","v":0},{"$f":"分類順!C2921","v":0},{"$f":"分類順!D2921","v":0},{"$f":"分類順!E2921","v":0},{"$f":"分類順!F2921","v":0},"00000",1,{"$f":"VLOOKUP(\"*\"&目次加工!$B$2&\"*\",J2922:K2922,2,0)","v":1},1]
[null,null,null,{"$f":"分類順!A2922","v":0},{"$f":"分類順!B2922","v":0},{"$f":"分類順!C2922","v":0},{"$f":"分類順!D2922","v":0},{"$f":"分類順!E2922","v":0},{"$f":"分類順!F2922","v":0},"00000",1,{"$f":"VLOOKUP(\"*\"&目次加工!$B$2&\"*\",J2923:K2923,2,0)","v":1},1]
[null,null,null,{"$f":"分類順!A2923","v":0},{"$f":"分類順!B2923","v":0},{"$f":"分類順!C2923","v":0},{"$f":"分類順!D2923","v":0},{"$f":"分類順!E2923","v":0},{"$f":"分類順!F2923","v":0},"00000",1,{"$f":"VLOOKUP(\"*\"&目次加工!$B$2&\"*\",J2924:K2924,2,0)","v":1},1]
[null,null,null,{"$f":"分類順!A2924","v":0},{"$f":"分類順!B2924","v":0},{"$f":"分類順!C2924","v":0},{"$f":"分類順!D2924","v":0},{"$f":"分類順!E2924","v":0},{"$f":"分類順!F2924","v":0},"00000",1,{"$f":"VLOOKUP(\"*\"&目次加工!$B$2&\"*\",J2925:K2925,2,0)","v":1},1]
[null,null,null,{"$f":"分類順!A2925","v":0},{"$f":"分類順!B2925","v":0},{"$f":"分類順!C2925","v":0},{"$f":"分類順!D2925","v":0},{"$f":"分類順!E2925","v":0},{"$f":"分類順!F2925","v":0},"00000",1,{"$f":"VLOOKUP(\"*\"&目次加工!$B$2&\"*\",J2926:K2926,2,0)","v":1},1]
[null,null,null,{"$f":"分類順!A2926","v":0},{"$f":"分類順!B2926","v":0},{"$f":"分類順!C2926","v":0},{"$f":"分類順!D2926","v":0},{"$f":"分類順!E2926","v":0},{"$f":"分類順!F2926","v":0},"00000",1,{"$f":"VLOOKUP(\"*\"&目次加工!$B$2&\"*\",J2927:K2927,2,0)","v":1},1]
[null,null,null,{"$f":"分類順!A2927","v":0},{"$f":"分類順!B2927","v":0},{"$f":"分類順!C2927","v":0},{"$f":"分類順!D2927","v":0},{"$f":"分類順!E2927","v":0},{"$f":"分類順!F2927","v":0},"00000",1,{"$f":"VLOOKUP(\"*\"&目次加工!$B$2&\"*\",J2928:K2928,2,0)","v":1},1]
[null,null,null,{"$f":"分類順!A2928","v":0},{"$f":"分類順!B2928","v":0},{"$f":"分類順!C2928","v":0},{"$f":"分類順!D2928","v":0},{"$f":"分類順!E2928","v":0},{"$f":"分類順!F2928","v":0},"00000",1,{"$f":"VLOOKUP(\"*\"&目次加工!$B$2&\"*\",J2929:K2929,2,0)","v":1},1]
[null,null,null,{"$f":"分類順!A2929","v":0},{"$f":"分類順!B2929","v":0},{"$f":"分類順!C2929","v":0},{"$f":"分類順!D2929","v":0},{"$f":"分類順!E2929","v":0},{"$f":"分類順!F2929","v":0},"00000",1,{"$f":"VLOOKUP(\"*\"&目次加工!$B$2&\"*\",J2930:K2930,2,0)","v":1},1]
[null,null,null,{"$f":"分類順!A2930","v":0},{"$f":"分類順!B2930","v":0},{"$f":"分類順!C2930","v":0},{"$f":"分類順!D2930","v":0},{"$f":"分類順!E2930","v":0},{"$f":"分類順!F2930","v":0},"00000",1,{"$f":"VLOOKUP(\"*\"&目次加工!$B$2&\"*\",J2931:K2931,2,0)","v":1},1]
[null,null,null,{"$f":"分類順!A2931","v":0},{"$f":"分類順!B2931","v":0},{"$f":"分類順!C2931","v":0},{"$f":"分類順!D2931","v":0},{"$f":"分類順!E2931","v":0},{"$f":"分類順!F2931","v":0},"00000",1,{"$f":"VLOOKUP(\"*\"&目次加工!$B$2&\"*\",J2932:K2932,2,0)","v":1},1]
[null,null,null,{"$f":"分類順!A2932","v":0},{"$f":"分類順!B2932","v":0},{"$f":"分類順!C2932","v":0},{"$f":"分類順!D2932","v":0},{"$f":"分類順!E2932","v":0},{"$f":"分類順!F2932","v":0},"00000",1,{"$f":"VLOOKUP(\"*\"&目次加工!$B$2&\"*\",J2933:K2933,2,0)","v":1},1]
[null,null,null,{"$f":"分類順!A2933","v":0},{"$f":"分類順!B2933","v":0},{"$f":"分類順!C2933","v":0},{"$f":"分類順!D2933","v":0},{"$f":"分類順!E2933","v":0},{"$f":"分類順!F2933","v":0},"00000",1,{"$f":"VLOOKUP(\"*\"&目次加工!$B$2&\"*\",J2934:K2934,2,0)","v":1},1]
[null,null,null,{"$f":"分類順!A2934","v":0},{"$f":"分類順!B2934","v":0},{"$f":"分類順!C2934","v":0},{"$f":"分類順!D2934","v":0},{"$f":"分類順!E2934","v":0},{"$f":"分類順!F2934","v":0},"00000",1,{"$f":"VLOOKUP(\"*\"&目次加工!$B$2&\"*\",J2935:K2935,2,0)","v":1},1]
[null,null,null,{"$f":"分類順!A2935","v":0},{"$f":"分類順!B2935","v":0},{"$f":"分類順!C2935","v":0},{"$f":"分類順!D2935","v":0},{"$f":"分類順!E2935","v":0},{"$f":"分類順!F2935","v":0},"00000",1,{"$f":"VLOOKUP(\"*\"&目次加工!$B$2&\"*\",J2936:K2936,2,0)","v":1},1]
[null,null,null,{"$f":"分類順!A2936","v":0},{"$f":"分類順!B2936","v":0},{"$f":"分類順!C2936","v":0},{"$f":"分類順!D2936","v":0},{"$f":"分類順!E2936","v":0},{"$f":"分類順!F2936","v":0},"00000",1,{"$f":"VLOOKUP(\"*\"&目次加工!$B$2&\"*\",J2937:K2937,2,0)","v":1},1]
[null,null,null,{"$f":"分類順!A2937","v":0},{"$f":"分類順!B2937","v":0},{"$f":"分類順!C2937","v":0},{"$f":"分類順!D2937","v":0},{"$f":"分類順!E2937","v":0},{"$f":"分類順!F2937","v":0},"00000",1,{"$f":"VLOOKUP(\"*\"&目次加工!$B$2&\"*\",J2938:K2938,2,0)","v":1},1]
[null,null,null,{"$f":"分類順!A2938","v":0},{"$f":"分類順!B2938","v":0},{"$f":"分類順!C2938","v":0},{"$f":"分類順!D2938","v":0},{"$f":"分類順!E2938","v":0},{"$f":"分類順!F2938","v":0},"00000",1,{"$f":"VLOOKUP(\"*\"&目次加工!$B$2&\"*\",J2939:K2939,2,0)","v":1},1]
[null,null,null,{"$f":"分類順!A2939","v":0},{"$f":"分類順!B2939","v":0},{"$f":"分類順!C2939","v":0},{"$f":"分類順!D2939","v":0},{"$f":"分類順!E2939","v":0},{"$f":"分類順!F2939","v":0},"00000",1,{"$f":"VLOOKUP(\"*\"&目次加工!$B$2&\"*\",J2940:K2940,2,0)","v":1},1]
[null,null,null,{"$f":"分類順!A2940","v":0},{"$f":"分類順!B2940","v":0},{"$f":"分類順!C2940","v":0},{"$f":"分類順!D2940","v":0},{"$f":"分類順!E2940","v":0},{"$f":"分類順!F2940","v":0},"00000",1,{"$f":"VLOOKUP(\"*\"&目次加工!$B$2&\"*\",J2941:K2941,2,0)","v":1},1]
[null,null,null,{"$f":"分類順!A2941","v":0},{"$f":"分類順!B2941","v":0},{"$f":"分類順!C2941","v":0},{"$f":"分類順!D2941","v":0},{"$f":"分類順!E2941","v":0},{"$f":"分類順!F2941","v":0},"00000",1,{"$f":"VLOOKUP(\"*\"&目次加工!$B$2&\"*\",J2942:K2942,2,0)","v":1},1]
[null,null,null,{"$f":"分類順!A2942","v":0},{"$f":"分類順!B2942","v":0},{"$f":"分類順!C2942","v":0},{"$f":"分類順!D2942","v":0},{"$f":"分類順!E2942","v":0},{"$f":"分類順!F2942","v":0},"00000",1,{"$f":"VLOOKUP(\"*\"&目次加工!$B$2&\"*\",J2943:K2943,2,0)","v":1},1]
[null,null,null,{"$f":"分類順!A2943","v":0},{"$f":"分類順!B2943","v":0},{"$f":"分類順!C2943","v":0},{"$f":"分類順!D2943","v":0},{"$f":"分類順!E2943","v":0},{"$f":"分類順!F2943","v":0},"00000",1,{"$f":"VLOOKUP(\"*\"&目次加工!$B$2&\"*\",J2944:K2944,2,0)","v":1},1]
[null,null,null,{"$f":"分類順!A2944","v":0},{"$f":"分類順!B2944","v":0},{"$f":"分類順!C2944","v":0},{"$f":"分類順!D2944","v":0},{"$f":"分類順!E2944","v":0},{"$f":"分類順!F2944","v":0},"00000",1,{"$f":"VLOOKUP(\"*\"&目次加工!$B$2&\"*\",J2945:K2945,2,0)","v":1},1]
[null,null,null,{"$f":"分類順!A2945","v":0},{"$f":"分類順!B2945","v":0},{"$f":"分類順!C2945","v":0},{"$f":"分類順!D2945","v":0},{"$f":"分類順!E2945","v":0},{"$f":"分類順!F2945","v":0},"00000",1,{"$f":"VLOOKUP(\"*\"&目次加工!$B$2&\"*\",J2946:K2946,2,0)","v":1},1]
[null,null,null,{"$f":"分類順!A2946","v":0},{"$f":"分類順!B2946","v":0},{"$f":"分類順!C2946","v":0},{"$f":"分類順!D2946","v":0},{"$f":"分類順!E2946","v":0},{"$f":"分類順!F2946","v":0},"00000",1,{"$f":"VLOOKUP(\"*\"&目次加工!$B$2&\"*\",J2947:K2947,2,0)","v":1},1]
[null,null,null,{"$f":"分類順!A2947","v":0},{"$f":"分類順!B2947","v":0},{"$f":"分類順!C2947","v":0},{"$f":"分類順!D2947","v":0},{"$f":"分類順!E2947","v":0},{"$f":"分類順!F2947","v":0},"00000",1,{"$f":"VLOOKUP(\"*\"&目次加工!$B$2&\"*\",J2948:K2948,2,0)","v":1},{"$f":"VLOOKUP(\"*\"&$A$2&\"*\",J2948:K2948,2,0)","v":1}]
[null,null,null,{"$f":"分類順!A2948","v":0},{"$f":"分類順!B2948","v":0},{"$f":"分類順!C2948","v":0},{"$f":"分類順!D2948","v":0},{"$f":"分類順!E2948","v":0},{"$f":"分類順!F2948","v":0},"00000",1,{"$f":"VLOOKUP(\"*\"&目次加工!$B$2&\"*\",J2949:K2949,2,0)","v":1},1]
[null,null,null,{"$f":"分類順!A2949","v":0},{"$f":"分類順!B2949","v":0},{"$f":"分類順!C2949","v":0},{"$f":"分類順!D2949","v":0},{"$f":"分類順!E2949","v":0},{"$f":"分類順!F2949","v":0},"00000",1,{"$f":"VLOOKUP(\"*\"&目次加工!$B$2&\"*\",J2950:K2950,2,0)","v":1},1]
[null,null,null,{"$f":"分類順!A2950","v":0},{"$f":"分類順!B2950","v":0},{"$f":"分類順!C2950","v":0},{"$f":"分類順!D2950","v":0},{"$f":"分類順!E2950","v":0},{"$f":"分類順!F2950","v":0},"00000",1,{"$f":"VLOOKUP(\"*\"&目次加工!$B$2&\"*\",J2951:K2951,2,0)","v":1},1]
[null,null,null,{"$f":"分類順!A2951","v":0},{"$f":"分類順!B2951","v":0},{"$f":"分類順!C2951","v":0},{"$f":"分類順!D2951","v":0},{"$f":"分類順!E2951","v":0},{"$f":"分類順!F2951","v":0},"00000",1,{"$f":"VLOOKUP(\"*\"&目次加工!$B$2&\"*\",J2952:K2952,2,0)","v":1},1]
[null,null,null,{"$f":"分類順!A2952","v":0},{"$f":"分類順!B2952","v":0},{"$f":"分類順!C2952","v":0},{"$f":"分類順!D2952","v":0},{"$f":"分類順!E2952","v":0},{"$f":"分類順!F2952","v":0},"00000",1,{"$f":"VLOOKUP(\"*\"&目次加工!$B$2&\"*\",J2953:K2953,2,0)","v":1},1]
[null,null,null,{"$f":"分類順!A2953","v":0},{"$f":"分類順!B2953","v":0},{"$f":"分類順!C2953","v":0},{"$f":"分類順!D2953","v":0},{"$f":"分類順!E2953","v":0},{"$f":"分類順!F2953","v":0},"00000",1,{"$f":"VLOOKUP(\"*\"&目次加工!$B$2&\"*\",J2954:K2954,2,0)","v":1},1]
[null,null,null,{"$f":"分類順!A2954","v":0},{"$f":"分類順!B2954","v":0},{"$f":"分類順!C2954","v":0},{"$f":"分類順!D2954","v":0},{"$f":"分類順!E2954","v":0},{"$f":"分類順!F2954","v":0},"00000",1,{"$f":"VLOOKUP(\"*\"&目次加工!$B$2&\"*\",J2955:K2955,2,0)","v":1},1]
[null,null,null,{"$f":"分類順!A2955","v":0},{"$f":"分類順!B2955","v":0},{"$f":"分類順!C2955","v":0},{"$f":"分類順!D2955","v":0},{"$f":"分類順!E2955","v":0},{"$f":"分類順!F2955","v":0},"00000",1,{"$f":"VLOOKUP(\"*\"&目次加工!$B$2&\"*\",J2956:K2956,2,0)","v":1},1]
[null,null,null,{"$f":"分類順!A2956","v":0},{"$f":"分類順!B2956","v":0},{"$f":"分類順!C2956","v":0},{"$f":"分類順!D2956","v":0},{"$f":"分類順!E2956","v":0},{"$f":"分類順!F2956","v":0},"00000",1,{"$f":"VLOOKUP(\"*\"&目次加工!$B$2&\"*\",J2957:K2957,2,0)","v":1},1]
[null,null,null,{"$f":"分類順!A2957","v":0},{"$f":"分類順!B2957","v":0},{"$f":"分類順!C2957","v":0},{"$f":"分類順!D2957","v":0},{"$f":"分類順!E2957","v":0},{"$f":"分類順!F2957","v":0},"00000",1,{"$f":"VLOOKUP(\"*\"&目次加工!$B$2&\"*\",J2958:K2958,2,0)","v":1},1]
[null,null,null,{"$f":"分類順!A2958","v":0},{"$f":"分類順!B2958","v":0},{"$f":"分類順!C2958","v":0},{"$f":"分類順!D2958","v":0},{"$f":"分類順!E2958","v":0},{"$f":"分類順!F2958","v":0},"00000",1,{"$f":"VLOOKUP(\"*\"&目次加工!$B$2&\"*\",J2959:K2959,2,0)","v":1},1]
[null,null,null,{"$f":"分類順!A2959","v":0},{"$f":"分類順!B2959","v":0},{"$f":"分類順!C2959","v":0},{"$f":"分類順!D2959","v":0},{"$f":"分類順!E2959","v":0},{"$f":"分類順!F2959","v":0},"00000",1,{"$f":"VLOOKUP(\"*\"&目次加工!$B$2&\"*\",J2960:K2960,2,0)","v":1},1]
[null,null,null,{"$f":"分類順!A2960","v":0},{"$f":"分類順!B2960","v":0},{"$f":"分類順!C2960","v":0},{"$f":"分類順!D2960","v":0},{"$f":"分類順!E2960","v":0},{"$f":"分類順!F2960","v":0},"00000",1,{"$f":"VLOOKUP(\"*\"&目次加工!$B$2&\"*\",J2961:K2961,2,0)","v":1},1]
[null,null,null,{"$f":"分類順!A2961","v":0},{"$f":"分類順!B2961","v":0},{"$f":"分類順!C2961","v":0},{"$f":"分類順!D2961","v":0},{"$f":"分類順!E2961","v":0},{"$f":"分類順!F2961","v":0},"00000",1,{"$f":"VLOOKUP(\"*\"&目次加工!$B$2&\"*\",J2962:K2962,2,0)","v":1},1]
[null,null,null,{"$f":"分類順!A2962","v":0},{"$f":"分類順!B2962","v":0},{"$f":"分類順!C2962","v":0},{"$f":"分類順!D2962","v":0},{"$f":"分類順!E2962","v":0},{"$f":"分類順!F2962","v":0},{"$f":"D2963&E2963&F2963&G2963&H2963","v":"00000"},1,{"$f":"VLOOKUP(\"*\"&目次加工!$B$2&\"*\",J2963:K2963,2,0)","v":1},1]
[null,null,null,{"$f":"分類順!A2963","v":0},{"$f":"分類順!B2963","v":0},{"$f":"分類順!C2963","v":0},{"$f":"分類順!D2963","v":0},{"$f":"分類順!E2963","v":0},{"$f":"分類順!F2963","v":0},"00000",1,{"$f":"VLOOKUP(\"*\"&目次加工!$B$2&\"*\",J2964:K2964,2,0)","v":1},1]
[null,null,null,{"$f":"分類順!A2964","v":0},{"$f":"分類順!B2964","v":0},{"$f":"分類順!C2964","v":0},{"$f":"分類順!D2964","v":0},{"$f":"分類順!E2964","v":0},{"$f":"分類順!F2964","v":0},"00000",1,{"$f":"VLOOKUP(\"*\"&目次加工!$B$2&\"*\",J2965:K2965,2,0)","v":1},1]
[null,null,null,{"$f":"分類順!A2965","v":0},{"$f":"分類順!B2965","v":0},{"$f":"分類順!C2965","v":0},{"$f":"分類順!D2965","v":0},{"$f":"分類順!E2965","v":0},{"$f":"分類順!F2965","v":0},"00000",1,{"$f":"VLOOKUP(\"*\"&目次加工!$B$2&\"*\",J2966:K2966,2,0)","v":1},1]
[null,null,null,{"$f":"分類順!A2966","v":0},{"$f":"分類順!B2966","v":0},{"$f":"分類順!C2966","v":0},{"$f":"分類順!D2966","v":0},{"$f":"分類順!E2966","v":0},{"$f":"分類順!F2966","v":0},"00000",1,{"$f":"VLOOKUP(\"*\"&目次加工!$B$2&\"*\",J2967:K2967,2,0)","v":1},1]
[null,null,null,{"$f":"分類順!A2967","v":0},{"$f":"分類順!B2967","v":0},{"$f":"分類順!C2967","v":0},{"$f":"分類順!D2967","v":0},{"$f":"分類順!E2967","v":0},{"$f":"分類順!F2967","v":0},"00000",1,{"$f":"VLOOKUP(\"*\"&目次加工!$B$2&\"*\",J2968:K2968,2,0)","v":1},1]
[null,null,null,{"$f":"分類順!A2968","v":0},{"$f":"分類順!B2968","v":0},{"$f":"分類順!C2968","v":0},{"$f":"分類順!D2968","v":0},{"$f":"分類順!E2968","v":0},{"$f":"分類順!F2968","v":0},"00000",1,{"$f":"VLOOKUP(\"*\"&目次加工!$B$2&\"*\",J2969:K2969,2,0)","v":1},1]
[null,null,null,{"$f":"分類順!A2969","v":0},{"$f":"分類順!B2969","v":0},{"$f":"分類順!C2969","v":0},{"$f":"分類順!D2969","v":0},{"$f":"分類順!E2969","v":0},{"$f":"分類順!F2969","v":0},"00000",1,{"$f":"VLOOKUP(\"*\"&目次加工!$B$2&\"*\",J2970:K2970,2,0)","v":1},1]
[null,null,null,{"$f":"分類順!A2970","v":0},{"$f":"分類順!B2970","v":0},{"$f":"分類順!C2970","v":0},{"$f":"分類順!D2970","v":0},{"$f":"分類順!E2970","v":0},{"$f":"分類順!F2970","v":0},"00000",1,{"$f":"VLOOKUP(\"*\"&目次加工!$B$2&\"*\",J2971:K2971,2,0)","v":1},1]
[null,null,null,{"$f":"分類順!A2971","v":0},{"$f":"分類順!B2971","v":0},{"$f":"分類順!C2971","v":0},{"$f":"分類順!D2971","v":0},{"$f":"分類順!E2971","v":0},{"$f":"分類順!F2971","v":0},"00000",1,{"$f":"VLOOKUP(\"*\"&目次加工!$B$2&\"*\",J2972:K2972,2,0)","v":1},1]
[null,null,null,{"$f":"分類順!A2972","v":0},{"$f":"分類順!B2972","v":0},{"$f":"分類順!C2972","v":0},{"$f":"分類順!D2972","v":0},{"$f":"分類順!E2972","v":0},{"$f":"分類順!F2972","v":0},"00000",1,{"$f":"VLOOKUP(\"*\"&目次加工!$B$2&\"*\",J2973:K2973,2,0)","v":1},1]
[null,null,null,{"$f":"分類順!A2973","v":0},{"$f":"分類順!B2973","v":0},{"$f":"分類順!C2973","v":0},{"$f":"分類順!D2973","v":0},{"$f":"分類順!E2973","v":0},{"$f":"分類順!F2973","v":0},"00000",1,{"$f":"VLOOKUP(\"*\"&目次加工!$B$2&\"*\",J2974:K2974,2,0)","v":1},1]
[null,null,null,{"$f":"分類順!A2974","v":0},{"$f":"分類順!B2974","v":0},{"$f":"分類順!C2974","v":0},{"$f":"分類順!D2974","v":0},{"$f":"分類順!E2974","v":0},{"$f":"分類順!F2974","v":0},"00000",1,{"$f":"VLOOKUP(\"*\"&目次加工!$B$2&\"*\",J2975:K2975,2,0)","v":1},1]
[null,null,null,{"$f":"分類順!A2975","v":0},{"$f":"分類順!B2975","v":0},{"$f":"分類順!C2975","v":0},{"$f":"分類順!D2975","v":0},{"$f":"分類順!E2975","v":0},{"$f":"分類順!F2975","v":0},"00000",1,{"$f":"VLOOKUP(\"*\"&目次加工!$B$2&\"*\",J2976:K2976,2,0)","v":1},1]
[null,null,null,{"$f":"分類順!A2976","v":0},{"$f":"分類順!B2976","v":0},{"$f":"分類順!C2976","v":0},{"$f":"分類順!D2976","v":0},{"$f":"分類順!E2976","v":0},{"$f":"分類順!F2976","v":0},"00000",1,{"$f":"VLOOKUP(\"*\"&目次加工!$B$2&\"*\",J2977:K2977,2,0)","v":1},1]
[null,null,null,{"$f":"分類順!A2977","v":0},{"$f":"分類順!B2977","v":0},{"$f":"分類順!C2977","v":0},{"$f":"分類順!D2977","v":0},{"$f":"分類順!E2977","v":0},{"$f":"分類順!F2977","v":0},"00000",1,{"$f":"VLOOKUP(\"*\"&目次加工!$B$2&\"*\",J2978:K2978,2,0)","v":1},1]
[null,null,null,{"$f":"分類順!A2978","v":0},{"$f":"分類順!B2978","v":0},{"$f":"分類順!C2978","v":0},{"$f":"分類順!D2978","v":0},{"$f":"分類順!E2978","v":0},{"$f":"分類順!F2978","v":0},"00000",1,{"$f":"VLOOKUP(\"*\"&目次加工!$B$2&\"*\",J2979:K2979,2,0)","v":1},1]
[null,null,null,{"$f":"分類順!A2979","v":0},{"$f":"分類順!B2979","v":0},{"$f":"分類順!C2979","v":0},{"$f":"分類順!D2979","v":0},{"$f":"分類順!E2979","v":0},{"$f":"分類順!F2979","v":0},"00000",1,{"$f":"VLOOKUP(\"*\"&目次加工!$B$2&\"*\",J2980:K2980,2,0)","v":1},1]
[null,null,null,{"$f":"分類順!A2980","v":0},{"$f":"分類順!B2980","v":0},{"$f":"分類順!C2980","v":0},{"$f":"分類順!D2980","v":0},{"$f":"分類順!E2980","v":0},{"$f":"分類順!F2980","v":0},"00000",1,{"$f":"VLOOKUP(\"*\"&目次加工!$B$2&\"*\",J2981:K2981,2,0)","v":1},1]
[null,null,null,{"$f":"分類順!A2981","v":0},{"$f":"分類順!B2981","v":0},{"$f":"分類順!C2981","v":0},{"$f":"分類順!D2981","v":0},{"$f":"分類順!E2981","v":0},{"$f":"分類順!F2981","v":0},"00000",1,{"$f":"VLOOKUP(\"*\"&目次加工!$B$2&\"*\",J2982:K2982,2,0)","v":1},1]
[null,null,null,{"$f":"分類順!A2982","v":0},{"$f":"分類順!B2982","v":0},{"$f":"分類順!C2982","v":0},{"$f":"分類順!D2982","v":0},{"$f":"分類順!E2982","v":0},{"$f":"分類順!F2982","v":0},"00000",1,{"$f":"VLOOKUP(\"*\"&目次加工!$B$2&\"*\",J2983:K2983,2,0)","v":1},1]
[null,null,null,{"$f":"分類順!A2983","v":0},{"$f":"分類順!B2983","v":0},{"$f":"分類順!C2983","v":0},{"$f":"分類順!D2983","v":0},{"$f":"分類順!E2983","v":0},{"$f":"分類順!F2983","v":0},"00000",1,{"$f":"VLOOKUP(\"*\"&目次加工!$B$2&\"*\",J2984:K2984,2,0)","v":1},1]
[null,null,null,{"$f":"分類順!A2984","v":0},{"$f":"分類順!B2984","v":0},{"$f":"分類順!C2984","v":0},{"$f":"分類順!D2984","v":0},{"$f":"分類順!E2984","v":0},{"$f":"分類順!F2984","v":0},"00000",1,{"$f":"VLOOKUP(\"*\"&目次加工!$B$2&\"*\",J2985:K2985,2,0)","v":1},1]
[null,null,null,{"$f":"分類順!A2985","v":0},{"$f":"分類順!B2985","v":0},{"$f":"分類順!C2985","v":0},{"$f":"分類順!D2985","v":0},{"$f":"分類順!E2985","v":0},{"$f":"分類順!F2985","v":0},"00000",1,{"$f":"VLOOKUP(\"*\"&目次加工!$B$2&\"*\",J2986:K2986,2,0)","v":1},1]
[null,null,null,{"$f":"分類順!A2986","v":0},{"$f":"分類順!B2986","v":0},{"$f":"分類順!C2986","v":0},{"$f":"分類順!D2986","v":0},{"$f":"分類順!E2986","v":0},{"$f":"分類順!F2986","v":0},"00000",1,{"$f":"VLOOKUP(\"*\"&目次加工!$B$2&\"*\",J2987:K2987,2,0)","v":1},1]
[null,null,null,{"$f":"分類順!A2987","v":0},{"$f":"分類順!B2987","v":0},{"$f":"分類順!C2987","v":0},{"$f":"分類順!D2987","v":0},{"$f":"分類順!E2987","v":0},{"$f":"分類順!F2987","v":0},"00000",1,{"$f":"VLOOKUP(\"*\"&目次加工!$B$2&\"*\",J2988:K2988,2,0)","v":1},1]
[null,null,null,{"$f":"分類順!A2988","v":0},{"$f":"分類順!B2988","v":0},{"$f":"分類順!C2988","v":0},{"$f":"分類順!D2988","v":0},{"$f":"分類順!E2988","v":0},{"$f":"分類順!F2988","v":0},"00000",1,{"$f":"VLOOKUP(\"*\"&目次加工!$B$2&\"*\",J2989:K2989,2,0)","v":1},1]
[null,null,null,{"$f":"分類順!A2989","v":0},{"$f":"分類順!B2989","v":0},{"$f":"分類順!C2989","v":0},{"$f":"分類順!D2989","v":0},{"$f":"分類順!E2989","v":0},{"$f":"分類順!F2989","v":0},"00000",1,{"$f":"VLOOKUP(\"*\"&目次加工!$B$2&\"*\",J2990:K2990,2,0)","v":1},1]
[null,null,null,{"$f":"分類順!A2990","v":0},{"$f":"分類順!B2990","v":0},{"$f":"分類順!C2990","v":0},{"$f":"分類順!D2990","v":0},{"$f":"分類順!E2990","v":0},{"$f":"分類順!F2990","v":0},"00000",1,{"$f":"VLOOKUP(\"*\"&目次加工!$B$2&\"*\",J2991:K2991,2,0)","v":1},1]
[null,null,null,{"$f":"分類順!A2991","v":0},{"$f":"分類順!B2991","v":0},{"$f":"分類順!C2991","v":0},{"$f":"分類順!D2991","v":0},{"$f":"分類順!E2991","v":0},{"$f":"分類順!F2991","v":0},"00000",1,{"$f":"VLOOKUP(\"*\"&目次加工!$B$2&\"*\",J2992:K2992,2,0)","v":1},1]
[null,null,null,{"$f":"分類順!A2992","v":0},{"$f":"分類順!B2992","v":0},{"$f":"分類順!C2992","v":0},{"$f":"分類順!D2992","v":0},{"$f":"分類順!E2992","v":0},{"$f":"分類順!F2992","v":0},"00000",1,{"$f":"VLOOKUP(\"*\"&目次加工!$B$2&\"*\",J2993:K2993,2,0)","v":1},1]
[null,null,null,{"$f":"分類順!A2993","v":0},{"$f":"分類順!B2993","v":0},{"$f":"分類順!C2993","v":0},{"$f":"分類順!D2993","v":0},{"$f":"分類順!E2993","v":0},{"$f":"分類順!F2993","v":0},"00000",1,{"$f":"VLOOKUP(\"*\"&目次加工!$B$2&\"*\",J2994:K2994,2,0)","v":1},1]
[null,null,null,{"$f":"分類順!A2994","v":0},{"$f":"分類順!B2994","v":0},{"$f":"分類順!C2994","v":0},{"$f":"分類順!D2994","v":0},{"$f":"分類順!E2994","v":0},{"$f":"分類順!F2994","v":0},"00000",1,{"$f":"VLOOKUP(\"*\"&目次加工!$B$2&\"*\",J2995:K2995,2,0)","v":1},1]
[null,null,null,{"$f":"分類順!A2995","v":0},{"$f":"分類順!B2995","v":0},{"$f":"分類順!C2995","v":0},{"$f":"分類順!D2995","v":0},{"$f":"分類順!E2995","v":0},{"$f":"分類順!F2995","v":0},"00000",1,{"$f":"VLOOKUP(\"*\"&目次加工!$B$2&\"*\",J2996:K2996,2,0)","v":1},1]
[null,null,null,{"$f":"分類順!A2996","v":0},{"$f":"分類順!B2996","v":0},{"$f":"分類順!C2996","v":0},{"$f":"分類順!D2996","v":0},{"$f":"分類順!E2996","v":0},{"$f":"分類順!F2996","v":0},"00000",1,{"$f":"VLOOKUP(\"*\"&目次加工!$B$2&\"*\",J2997:K2997,2,0)","v":1},1]
[null,null,null,{"$f":"分類順!A2997","v":0},{"$f":"分類順!B2997","v":0},{"$f":"分類順!C2997","v":0},{"$f":"分類順!D2997","v":0},{"$f":"分類順!E2997","v":0},{"$f":"分類順!F2997","v":0},"00000",1,{"$f":"VLOOKUP(\"*\"&目次加工!$B$2&\"*\",J2998:K2998,2,0)","v":1},1]
[null,null,null,{"$f":"分類順!A2998","v":0},{"$f":"分類順!B2998","v":0},{"$f":"分類順!C2998","v":0},{"$f":"分類順!D2998","v":0},{"$f":"分類順!E2998","v":0},{"$f":"分類順!F2998","v":0},"00000",1,{"$f":"VLOOKUP(\"*\"&目次加工!$B$2&\"*\",J2999:K2999,2,0)","v":1},1]
[null,null,null,{"$f":"分類順!A2999","v":0},{"$f":"分類順!B2999","v":0},{"$f":"分類順!C2999","v":0},{"$f":"分類順!D2999","v":0},{"$f":"分類順!E2999","v":0},{"$f":"分類順!F2999","v":0},"00000",1,{"$f":"VLOOKUP(\"*\"&目次加工!$B$2&\"*\",J3000:K3000,2,0)","v":1},1]
[null,null,null,{"$f":"分類順!A3000","v":0},{"$f":"分類順!B3000","v":0},{"$f":"分類順!C3000","v":0},{"$f":"分類順!D3000","v":0},{"$f":"分類順!E3000","v":0},{"$f":"分類順!F3000","v":0},"00000",1,{"$f":"VLOOKUP(\"*\"&目次加工!$B$2&\"*\",J3001:K3001,2,0)","v":1},1]
[null,null,null,{"$f":"分類順!A3001","v":0},{"$f":"分類順!B3001","v":0},{"$f":"分類順!C3001","v":0},{"$f":"分類順!D3001","v":0},{"$f":"分類順!E3001","v":0},{"$f":"分類順!F3001","v":0},"00000",1,{"$f":"VLOOKUP(\"*\"&目次加工!$B$2&\"*\",J3002:K3002,2,0)","v":1},1]
[null,null,null,{"$f":"分類順!A3002","v":0},{"$f":"分類順!B3002","v":0},{"$f":"分類順!C3002","v":0},{"$f":"分類順!D3002","v":0},{"$f":"分類順!E3002","v":0},{"$f":"分類順!F3002","v":0},"00000",1,{"$f":"VLOOKUP(\"*\"&目次加工!$B$2&\"*\",J3003:K3003,2,0)","v":1},1]
[null,null,null,{"$f":"分類順!A3003","v":0},{"$f":"分類順!B3003","v":0},{"$f":"分類順!C3003","v":0},{"$f":"分類順!D3003","v":0},{"$f":"分類順!E3003","v":0},{"$f":"分類順!F3003","v":0},"00000",1,{"$f":"VLOOKUP(\"*\"&目次加工!$B$2&\"*\",J3004:K3004,2,0)","v":1},1]
[null,null,null,{"$f":"分類順!A3004","v":0},{"$f":"分類順!B3004","v":0},{"$f":"分類順!C3004","v":0},{"$f":"分類順!D3004","v":0},{"$f":"分類順!E3004","v":0},{"$f":"分類順!F3004","v":0},"00000",1,{"$f":"VLOOKUP(\"*\"&目次加工!$B$2&\"*\",J3005:K3005,2,0)","v":1},1]
[null,null,null,{"$f":"分類順!A3005","v":0},{"$f":"分類順!B3005","v":0},{"$f":"分類順!C3005","v":0},{"$f":"分類順!D3005","v":0},{"$f":"分類順!E3005","v":0},{"$f":"分類順!F3005","v":0},"00000",1,{"$f":"VLOOKUP(\"*\"&目次加工!$B$2&\"*\",J3006:K3006,2,0)","v":1},1]
[null,null,null,{"$f":"分類順!A3006","v":0},{"$f":"分類順!B3006","v":0},{"$f":"分類順!C3006","v":0},{"$f":"分類順!D3006","v":0},{"$f":"分類順!E3006","v":0},{"$f":"分類順!F3006","v":0},"00000",1,{"$f":"VLOOKUP(\"*\"&目次加工!$B$2&\"*\",J3007:K3007,2,0)","v":1},1]
[null,null,null,{"$f":"分類順!A3007","v":0},{"$f":"分類順!B3007","v":0},{"$f":"分類順!C3007","v":0},{"$f":"分類順!D3007","v":0},{"$f":"分類順!E3007","v":0},{"$f":"分類順!F3007","v":0},"00000",1,{"$f":"VLOOKUP(\"*\"&目次加工!$B$2&\"*\",J3008:K3008,2,0)","v":1},1]
[null,null,null,{"$f":"分類順!A3008","v":0},{"$f":"分類順!B3008","v":0},{"$f":"分類順!C3008","v":0},{"$f":"分類順!D3008","v":0},{"$f":"分類順!E3008","v":0},{"$f":"分類順!F3008","v":0},"00000",1,{"$f":"VLOOKUP(\"*\"&目次加工!$B$2&\"*\",J3009:K3009,2,0)","v":1},1]
[null,null,null,{"$f":"分類順!A3009","v":0},{"$f":"分類順!B3009","v":0},{"$f":"分類順!C3009","v":0},{"$f":"分類順!D3009","v":0},{"$f":"分類順!E3009","v":0},{"$f":"分類順!F3009","v":0},"00000",1,{"$f":"VLOOKUP(\"*\"&目次加工!$B$2&\"*\",J3010:K3010,2,0)","v":1},1]
[null,null,null,{"$f":"分類順!A3010","v":0},{"$f":"分類順!B3010","v":0},{"$f":"分類順!C3010","v":0},{"$f":"分類順!D3010","v":0},{"$f":"分類順!E3010","v":0},{"$f":"分類順!F3010","v":0},"00000",1,{"$f":"VLOOKUP(\"*\"&目次加工!$B$2&\"*\",J3011:K3011,2,0)","v":1},1]
[null,null,null,{"$f":"分類順!A3011","v":0},{"$f":"分類順!B3011","v":0},{"$f":"分類順!C3011","v":0},{"$f":"分類順!D3011","v":0},{"$f":"分類順!E3011","v":0},{"$f":"分類順!F3011","v":0},"00000",1,{"$f":"VLOOKUP(\"*\"&目次加工!$B$2&\"*\",J3012:K3012,2,0)","v":1},{"$f":"VLOOKUP(\"*\"&$A$2&\"*\",J3012:K3012,2,0)","v":1}]
[null,null,null,{"$f":"分類順!A3012","v":0},{"$f":"分類順!B3012","v":0},{"$f":"分類順!C3012","v":0},{"$f":"分類順!D3012","v":0},{"$f":"分類順!E3012","v":0},{"$f":"分類順!F3012","v":0},"00000",1,{"$f":"VLOOKUP(\"*\"&目次加工!$B$2&\"*\",J3013:K3013,2,0)","v":1},1]
[null,null,null,{"$f":"分類順!A3013","v":0},{"$f":"分類順!B3013","v":0},{"$f":"分類順!C3013","v":0},{"$f":"分類順!D3013","v":0},{"$f":"分類順!E3013","v":0},{"$f":"分類順!F3013","v":0},"00000",1,{"$f":"VLOOKUP(\"*\"&目次加工!$B$2&\"*\",J3014:K3014,2,0)","v":1},1]
[null,null,null,{"$f":"分類順!A3014","v":0},{"$f":"分類順!B3014","v":0},{"$f":"分類順!C3014","v":0},{"$f":"分類順!D3014","v":0},{"$f":"分類順!E3014","v":0},{"$f":"分類順!F3014","v":0},"00000",1,{"$f":"VLOOKUP(\"*\"&目次加工!$B$2&\"*\",J3015:K3015,2,0)","v":1},1]
[null,null,null,{"$f":"分類順!A3015","v":0},{"$f":"分類順!B3015","v":0},{"$f":"分類順!C3015","v":0},{"$f":"分類順!D3015","v":0},{"$f":"分類順!E3015","v":0},{"$f":"分類順!F3015","v":0},"00000",1,{"$f":"VLOOKUP(\"*\"&目次加工!$B$2&\"*\",J3016:K3016,2,0)","v":1},1]
[null,null,null,{"$f":"分類順!A3016","v":0},{"$f":"分類順!B3016","v":0},{"$f":"分類順!C3016","v":0},{"$f":"分類順!D3016","v":0},{"$f":"分類順!E3016","v":0},{"$f":"分類順!F3016","v":0},"00000",1,{"$f":"VLOOKUP(\"*\"&目次加工!$B$2&\"*\",J3017:K3017,2,0)","v":1},1]
[null,null,null,{"$f":"分類順!A3017","v":0},{"$f":"分類順!B3017","v":0},{"$f":"分類順!C3017","v":0},{"$f":"分類順!D3017","v":0},{"$f":"分類順!E3017","v":0},{"$f":"分類順!F3017","v":0},"00000",1,{"$f":"VLOOKUP(\"*\"&目次加工!$B$2&\"*\",J3018:K3018,2,0)","v":1},1]
[null,null,null,{"$f":"分類順!A3018","v":0},{"$f":"分類順!B3018","v":0},{"$f":"分類順!C3018","v":0},{"$f":"分類順!D3018","v":0},{"$f":"分類順!E3018","v":0},{"$f":"分類順!F3018","v":0},"00000",1,{"$f":"VLOOKUP(\"*\"&目次加工!$B$2&\"*\",J3019:K3019,2,0)","v":1},1]
[null,null,null,{"$f":"分類順!A3019","v":0},{"$f":"分類順!B3019","v":0},{"$f":"分類順!C3019","v":0},{"$f":"分類順!D3019","v":0},{"$f":"分類順!E3019","v":0},{"$f":"分類順!F3019","v":0},"00000",1,{"$f":"VLOOKUP(\"*\"&目次加工!$B$2&\"*\",J3020:K3020,2,0)","v":1},1]
[null,null,null,{"$f":"分類順!A3020","v":0},{"$f":"分類順!B3020","v":0},{"$f":"分類順!C3020","v":0},{"$f":"分類順!D3020","v":0},{"$f":"分類順!E3020","v":0},{"$f":"分類順!F3020","v":0},"00000",1,{"$f":"VLOOKUP(\"*\"&目次加工!$B$2&\"*\",J3021:K3021,2,0)","v":1},1]
[null,null,null,{"$f":"分類順!A3021","v":0},{"$f":"分類順!B3021","v":0},{"$f":"分類順!C3021","v":0},{"$f":"分類順!D3021","v":0},{"$f":"分類順!E3021","v":0},{"$f":"分類順!F3021","v":0},"00000",1,{"$f":"VLOOKUP(\"*\"&目次加工!$B$2&\"*\",J3022:K3022,2,0)","v":1},1]
[null,null,null,{"$f":"分類順!A3022","v":0},{"$f":"分類順!B3022","v":0},{"$f":"分類順!C3022","v":0},{"$f":"分類順!D3022","v":0},{"$f":"分類順!E3022","v":0},{"$f":"分類順!F3022","v":0},"00000",1,{"$f":"VLOOKUP(\"*\"&目次加工!$B$2&\"*\",J3023:K3023,2,0)","v":1},1]
[null,null,null,{"$f":"分類順!A3023","v":0},{"$f":"分類順!B3023","v":0},{"$f":"分類順!C3023","v":0},{"$f":"分類順!D3023","v":0},{"$f":"分類順!E3023","v":0},{"$f":"分類順!F3023","v":0},"00000",1,{"$f":"VLOOKUP(\"*\"&目次加工!$B$2&\"*\",J3024:K3024,2,0)","v":1},1]
[null,null,null,{"$f":"分類順!A3024","v":0},{"$f":"分類順!B3024","v":0},{"$f":"分類順!C3024","v":0},{"$f":"分類順!D3024","v":0},{"$f":"分類順!E3024","v":0},{"$f":"分類順!F3024","v":0},"00000",1,{"$f":"VLOOKUP(\"*\"&目次加工!$B$2&\"*\",J3025:K3025,2,0)","v":1},1]
[null,null,null,{"$f":"分類順!A3025","v":0},{"$f":"分類順!B3025","v":0},{"$f":"分類順!C3025","v":0},{"$f":"分類順!D3025","v":0},{"$f":"分類順!E3025","v":0},{"$f":"分類順!F3025","v":0},"00000",1,{"$f":"VLOOKUP(\"*\"&目次加工!$B$2&\"*\",J3026:K3026,2,0)","v":1},1]
[null,null,null,{"$f":"分類順!A3026","v":0},{"$f":"分類順!B3026","v":0},{"$f":"分類順!C3026","v":0},{"$f":"分類順!D3026","v":0},{"$f":"分類順!E3026","v":0},{"$f":"分類順!F3026","v":0},{"$f":"D3027&E3027&F3027&G3027&H3027","v":"00000"},1,{"$f":"VLOOKUP(\"*\"&目次加工!$B$2&\"*\",J3027:K3027,2,0)","v":1},1]
[null,null,null,{"$f":"分類順!A3027","v":0},{"$f":"分類順!B3027","v":0},{"$f":"分類順!C3027","v":0},{"$f":"分類順!D3027","v":0},{"$f":"分類順!E3027","v":0},{"$f":"分類順!F3027","v":0},"00000",1,{"$f":"VLOOKUP(\"*\"&目次加工!$B$2&\"*\",J3028:K3028,2,0)","v":1},1]
[null,null,null,{"$f":"分類順!A3028","v":0},{"$f":"分類順!B3028","v":0},{"$f":"分類順!C3028","v":0},{"$f":"分類順!D3028","v":0},{"$f":"分類順!E3028","v":0},{"$f":"分類順!F3028","v":0},"00000",1,{"$f":"VLOOKUP(\"*\"&目次加工!$B$2&\"*\",J3029:K3029,2,0)","v":1},1]
[null,null,null,{"$f":"分類順!A3029","v":0},{"$f":"分類順!B3029","v":0},{"$f":"分類順!C3029","v":0},{"$f":"分類順!D3029","v":0},{"$f":"分類順!E3029","v":0},{"$f":"分類順!F3029","v":0},"00000",1,{"$f":"VLOOKUP(\"*\"&目次加工!$B$2&\"*\",J3030:K3030,2,0)","v":1},1]
[null,null,null,{"$f":"分類順!A3030","v":0},{"$f":"分類順!B3030","v":0},{"$f":"分類順!C3030","v":0},{"$f":"分類順!D3030","v":0},{"$f":"分類順!E3030","v":0},{"$f":"分類順!F3030","v":0},"00000",1,{"$f":"VLOOKUP(\"*\"&目次加工!$B$2&\"*\",J3031:K3031,2,0)","v":1},1]
[null,null,null,{"$f":"分類順!A3031","v":0},{"$f":"分類順!B3031","v":0},{"$f":"分類順!C3031","v":0},{"$f":"分類順!D3031","v":0},{"$f":"分類順!E3031","v":0},{"$f":"分類順!F3031","v":0},"00000",1,{"$f":"VLOOKUP(\"*\"&目次加工!$B$2&\"*\",J3032:K3032,2,0)","v":1},1]
[null,null,null,{"$f":"分類順!A3032","v":0},{"$f":"分類順!B3032","v":0},{"$f":"分類順!C3032","v":0},{"$f":"分類順!D3032","v":0},{"$f":"分類順!E3032","v":0},{"$f":"分類順!F3032","v":0},"00000",1,{"$f":"VLOOKUP(\"*\"&目次加工!$B$2&\"*\",J3033:K3033,2,0)","v":1},1]
[null,null,null,{"$f":"分類順!A3033","v":0},{"$f":"分類順!B3033","v":0},{"$f":"分類順!C3033","v":0},{"$f":"分類順!D3033","v":0},{"$f":"分類順!E3033","v":0},{"$f":"分類順!F3033","v":0},"00000",1,{"$f":"VLOOKUP(\"*\"&目次加工!$B$2&\"*\",J3034:K3034,2,0)","v":1},1]
[null,null,null,{"$f":"分類順!A3034","v":0},{"$f":"分類順!B3034","v":0},{"$f":"分類順!C3034","v":0},{"$f":"分類順!D3034","v":0},{"$f":"分類順!E3034","v":0},{"$f":"分類順!F3034","v":0},"00000",1,{"$f":"VLOOKUP(\"*\"&目次加工!$B$2&\"*\",J3035:K3035,2,0)","v":1},1]
[null,null,null,{"$f":"分類順!A3035","v":0},{"$f":"分類順!B3035","v":0},{"$f":"分類順!C3035","v":0},{"$f":"分類順!D3035","v":0},{"$f":"分類順!E3035","v":0},{"$f":"分類順!F3035","v":0},"00000",1,{"$f":"VLOOKUP(\"*\"&目次加工!$B$2&\"*\",J3036:K3036,2,0)","v":1},1]
[null,null,null,{"$f":"分類順!A3036","v":0},{"$f":"分類順!B3036","v":0},{"$f":"分類順!C3036","v":0},{"$f":"分類順!D3036","v":0},{"$f":"分類順!E3036","v":0},{"$f":"分類順!F3036","v":0},"00000",1,{"$f":"VLOOKUP(\"*\"&目次加工!$B$2&\"*\",J3037:K3037,2,0)","v":1},1]
[null,null,null,{"$f":"分類順!A3037","v":0},{"$f":"分類順!B3037","v":0},{"$f":"分類順!C3037","v":0},{"$f":"分類順!D3037","v":0},{"$f":"分類順!E3037","v":0},{"$f":"分類順!F3037","v":0},"00000",1,{"$f":"VLOOKUP(\"*\"&目次加工!$B$2&\"*\",J3038:K3038,2,0)","v":1},1]
[null,null,null,{"$f":"分類順!A3038","v":0},{"$f":"分類順!B3038","v":0},{"$f":"分類順!C3038","v":0},{"$f":"分類順!D3038","v":0},{"$f":"分類順!E3038","v":0},{"$f":"分類順!F3038","v":0},"00000",1,{"$f":"VLOOKUP(\"*\"&目次加工!$B$2&\"*\",J3039:K3039,2,0)","v":1},1]
[null,null,null,{"$f":"分類順!A3039","v":0},{"$f":"分類順!B3039","v":0},{"$f":"分類順!C3039","v":0},{"$f":"分類順!D3039","v":0},{"$f":"分類順!E3039","v":0},{"$f":"分類順!F3039","v":0},"00000",1,{"$f":"VLOOKUP(\"*\"&目次加工!$B$2&\"*\",J3040:K3040,2,0)","v":1},1]
[null,null,null,{"$f":"分類順!A3040","v":0},{"$f":"分類順!B3040","v":0},{"$f":"分類順!C3040","v":0},{"$f":"分類順!D3040","v":0},{"$f":"分類順!E3040","v":0},{"$f":"分類順!F3040","v":0},"00000",1,{"$f":"VLOOKUP(\"*\"&目次加工!$B$2&\"*\",J3041:K3041,2,0)","v":1},1]
[null,null,null,{"$f":"分類順!A3041","v":0},{"$f":"分類順!B3041","v":0},{"$f":"分類順!C3041","v":0},{"$f":"分類順!D3041","v":0},{"$f":"分類順!E3041","v":0},{"$f":"分類順!F3041","v":0},"00000",1,{"$f":"VLOOKUP(\"*\"&目次加工!$B$2&\"*\",J3042:K3042,2,0)","v":1},1]
[null,null,null,{"$f":"分類順!A3042","v":0},{"$f":"分類順!B3042","v":0},{"$f":"分類順!C3042","v":0},{"$f":"分類順!D3042","v":0},{"$f":"分類順!E3042","v":0},{"$f":"分類順!F3042","v":0},"00000",1,{"$f":"VLOOKUP(\"*\"&目次加工!$B$2&\"*\",J3043:K3043,2,0)","v":1},1]
[null,null,null,{"$f":"分類順!A3043","v":0},{"$f":"分類順!B3043","v":0},{"$f":"分類順!C3043","v":0},{"$f":"分類順!D3043","v":0},{"$f":"分類順!E3043","v":0},{"$f":"分類順!F3043","v":0},"00000",1,{"$f":"VLOOKUP(\"*\"&目次加工!$B$2&\"*\",J3044:K3044,2,0)","v":1},1]
[null,null,null,{"$f":"分類順!A3044","v":0},{"$f":"分類順!B3044","v":0},{"$f":"分類順!C3044","v":0},{"$f":"分類順!D3044","v":0},{"$f":"分類順!E3044","v":0},{"$f":"分類順!F3044","v":0},"00000",1,{"$f":"VLOOKUP(\"*\"&目次加工!$B$2&\"*\",J3045:K3045,2,0)","v":1},1]
[null,null,null,{"$f":"分類順!A3045","v":0},{"$f":"分類順!B3045","v":0},{"$f":"分類順!C3045","v":0},{"$f":"分類順!D3045","v":0},{"$f":"分類順!E3045","v":0},{"$f":"分類順!F3045","v":0},"00000",1,{"$f":"VLOOKUP(\"*\"&目次加工!$B$2&\"*\",J3046:K3046,2,0)","v":1},1]
[null,null,null,{"$f":"分類順!A3046","v":0},{"$f":"分類順!B3046","v":0},{"$f":"分類順!C3046","v":0},{"$f":"分類順!D3046","v":0},{"$f":"分類順!E3046","v":0},{"$f":"分類順!F3046","v":0},"00000",1,{"$f":"VLOOKUP(\"*\"&目次加工!$B$2&\"*\",J3047:K3047,2,0)","v":1},1]
[null,null,null,{"$f":"分類順!A3047","v":0},{"$f":"分類順!B3047","v":0},{"$f":"分類順!C3047","v":0},{"$f":"分類順!D3047","v":0},{"$f":"分類順!E3047","v":0},{"$f":"分類順!F3047","v":0},"00000",1,{"$f":"VLOOKUP(\"*\"&目次加工!$B$2&\"*\",J3048:K3048,2,0)","v":1},1]
[null,null,null,{"$f":"分類順!A3048","v":0},{"$f":"分類順!B3048","v":0},{"$f":"分類順!C3048","v":0},{"$f":"分類順!D3048","v":0},{"$f":"分類順!E3048","v":0},{"$f":"分類順!F3048","v":0},"00000",1,{"$f":"VLOOKUP(\"*\"&目次加工!$B$2&\"*\",J3049:K3049,2,0)","v":1},1]
[null,null,null,{"$f":"分類順!A3049","v":0},{"$f":"分類順!B3049","v":0},{"$f":"分類順!C3049","v":0},{"$f":"分類順!D3049","v":0},{"$f":"分類順!E3049","v":0},{"$f":"分類順!F3049","v":0},"00000",1,{"$f":"VLOOKUP(\"*\"&目次加工!$B$2&\"*\",J3050:K3050,2,0)","v":1},1]
[null,null,null,{"$f":"分類順!A3050","v":0},{"$f":"分類順!B3050","v":0},{"$f":"分類順!C3050","v":0},{"$f":"分類順!D3050","v":0},{"$f":"分類順!E3050","v":0},{"$f":"分類順!F3050","v":0},"00000",1,{"$f":"VLOOKUP(\"*\"&目次加工!$B$2&\"*\",J3051:K3051,2,0)","v":1},1]
[null,null,null,{"$f":"分類順!A3051","v":0},{"$f":"分類順!B3051","v":0},{"$f":"分類順!C3051","v":0},{"$f":"分類順!D3051","v":0},{"$f":"分類順!E3051","v":0},{"$f":"分類順!F3051","v":0},"00000",1,{"$f":"VLOOKUP(\"*\"&目次加工!$B$2&\"*\",J3052:K3052,2,0)","v":1},1]
[null,null,null,{"$f":"分類順!A3052","v":0},{"$f":"分類順!B3052","v":0},{"$f":"分類順!C3052","v":0},{"$f":"分類順!D3052","v":0},{"$f":"分類順!E3052","v":0},{"$f":"分類順!F3052","v":0},"00000",1,{"$f":"VLOOKUP(\"*\"&目次加工!$B$2&\"*\",J3053:K3053,2,0)","v":1},1]
[null,null,null,{"$f":"分類順!A3053","v":0},{"$f":"分類順!B3053","v":0},{"$f":"分類順!C3053","v":0},{"$f":"分類順!D3053","v":0},{"$f":"分類順!E3053","v":0},{"$f":"分類順!F3053","v":0},"00000",1,{"$f":"VLOOKUP(\"*\"&目次加工!$B$2&\"*\",J3054:K3054,2,0)","v":1},1]
[null,null,null,{"$f":"分類順!A3054","v":0},{"$f":"分類順!B3054","v":0},{"$f":"分類順!C3054","v":0},{"$f":"分類順!D3054","v":0},{"$f":"分類順!E3054","v":0},{"$f":"分類順!F3054","v":0},"00000",1,{"$f":"VLOOKUP(\"*\"&目次加工!$B$2&\"*\",J3055:K3055,2,0)","v":1},1]
[null,null,null,{"$f":"分類順!A3055","v":0},{"$f":"分類順!B3055","v":0},{"$f":"分類順!C3055","v":0},{"$f":"分類順!D3055","v":0},{"$f":"分類順!E3055","v":0},{"$f":"分類順!F3055","v":0},"00000",1,{"$f":"VLOOKUP(\"*\"&目次加工!$B$2&\"*\",J3056:K3056,2,0)","v":1},1]
[null,null,null,{"$f":"分類順!A3056","v":0},{"$f":"分類順!B3056","v":0},{"$f":"分類順!C3056","v":0},{"$f":"分類順!D3056","v":0},{"$f":"分類順!E3056","v":0},{"$f":"分類順!F3056","v":0},"00000",1,{"$f":"VLOOKUP(\"*\"&目次加工!$B$2&\"*\",J3057:K3057,2,0)","v":1},1]
[null,null,null,{"$f":"分類順!A3057","v":0},{"$f":"分類順!B3057","v":0},{"$f":"分類順!C3057","v":0},{"$f":"分類順!D3057","v":0},{"$f":"分類順!E3057","v":0},{"$f":"分類順!F3057","v":0},"00000",1,{"$f":"VLOOKUP(\"*\"&目次加工!$B$2&\"*\",J3058:K3058,2,0)","v":1},1]
[null,null,null,{"$f":"分類順!A3058","v":0},{"$f":"分類順!B3058","v":0},{"$f":"分類順!C3058","v":0},{"$f":"分類順!D3058","v":0},{"$f":"分類順!E3058","v":0},{"$f":"分類順!F3058","v":0},"00000",1,{"$f":"VLOOKUP(\"*\"&目次加工!$B$2&\"*\",J3059:K3059,2,0)","v":1},1]
[null,null,null,{"$f":"分類順!A3059","v":0},{"$f":"分類順!B3059","v":0},{"$f":"分類順!C3059","v":0},{"$f":"分類順!D3059","v":0},{"$f":"分類順!E3059","v":0},{"$f":"分類順!F3059","v":0},"00000",1,{"$f":"VLOOKUP(\"*\"&目次加工!$B$2&\"*\",J3060:K3060,2,0)","v":1},1]
[null,null,null,{"$f":"分類順!A3060","v":0},{"$f":"分類順!B3060","v":0},{"$f":"分類順!C3060","v":0},{"$f":"分類順!D3060","v":0},{"$f":"分類順!E3060","v":0},{"$f":"分類順!F3060","v":0},"00000",1,{"$f":"VLOOKUP(\"*\"&目次加工!$B$2&\"*\",J3061:K3061,2,0)","v":1},1]
[null,null,null,{"$f":"分類順!A3061","v":0},{"$f":"分類順!B3061","v":0},{"$f":"分類順!C3061","v":0},{"$f":"分類順!D3061","v":0},{"$f":"分類順!E3061","v":0},{"$f":"分類順!F3061","v":0},"00000",1,{"$f":"VLOOKUP(\"*\"&目次加工!$B$2&\"*\",J3062:K3062,2,0)","v":1},1]
[null,null,null,{"$f":"分類順!A3062","v":0},{"$f":"分類順!B3062","v":0},{"$f":"分類順!C3062","v":0},{"$f":"分類順!D3062","v":0},{"$f":"分類順!E3062","v":0},{"$f":"分類順!F3062","v":0},"00000",1,{"$f":"VLOOKUP(\"*\"&目次加工!$B$2&\"*\",J3063:K3063,2,0)","v":1},1]
[null,null,null,{"$f":"分類順!A3063","v":0},{"$f":"分類順!B3063","v":0},{"$f":"分類順!C3063","v":0},{"$f":"分類順!D3063","v":0},{"$f":"分類順!E3063","v":0},{"$f":"分類順!F3063","v":0},"00000",1,{"$f":"VLOOKUP(\"*\"&目次加工!$B$2&\"*\",J3064:K3064,2,0)","v":1},1]
[null,null,null,{"$f":"分類順!A3064","v":0},{"$f":"分類順!B3064","v":0},{"$f":"分類順!C3064","v":0},{"$f":"分類順!D3064","v":0},{"$f":"分類順!E3064","v":0},{"$f":"分類順!F3064","v":0},"00000",1,{"$f":"VLOOKUP(\"*\"&目次加工!$B$2&\"*\",J3065:K3065,2,0)","v":1},1]
[null,null,null,{"$f":"分類順!A3065","v":0},{"$f":"分類順!B3065","v":0},{"$f":"分類順!C3065","v":0},{"$f":"分類順!D3065","v":0},{"$f":"分類順!E3065","v":0},{"$f":"分類順!F3065","v":0},"00000",1,{"$f":"VLOOKUP(\"*\"&目次加工!$B$2&\"*\",J3066:K3066,2,0)","v":1},1]
[null,null,null,{"$f":"分類順!A3066","v":0},{"$f":"分類順!B3066","v":0},{"$f":"分類順!C3066","v":0},{"$f":"分類順!D3066","v":0},{"$f":"分類順!E3066","v":0},{"$f":"分類順!F3066","v":0},"00000",1,{"$f":"VLOOKUP(\"*\"&目次加工!$B$2&\"*\",J3067:K3067,2,0)","v":1},1]
[null,null,null,{"$f":"分類順!A3067","v":0},{"$f":"分類順!B3067","v":0},{"$f":"分類順!C3067","v":0},{"$f":"分類順!D3067","v":0},{"$f":"分類順!E3067","v":0},{"$f":"分類順!F3067","v":0},"00000",1,{"$f":"VLOOKUP(\"*\"&目次加工!$B$2&\"*\",J3068:K3068,2,0)","v":1},1]
[null,null,null,{"$f":"分類順!A3068","v":0},{"$f":"分類順!B3068","v":0},{"$f":"分類順!C3068","v":0},{"$f":"分類順!D3068","v":0},{"$f":"分類順!E3068","v":0},{"$f":"分類順!F3068","v":0},"00000",1,{"$f":"VLOOKUP(\"*\"&目次加工!$B$2&\"*\",J3069:K3069,2,0)","v":1},1]
[null,null,null,{"$f":"分類順!A3069","v":0},{"$f":"分類順!B3069","v":0},{"$f":"分類順!C3069","v":0},{"$f":"分類順!D3069","v":0},{"$f":"分類順!E3069","v":0},{"$f":"分類順!F3069","v":0},"00000",1,{"$f":"VLOOKUP(\"*\"&目次加工!$B$2&\"*\",J3070:K3070,2,0)","v":1},1]
[null,null,null,{"$f":"分類順!A3070","v":0},{"$f":"分類順!B3070","v":0},{"$f":"分類順!C3070","v":0},{"$f":"分類順!D3070","v":0},{"$f":"分類順!E3070","v":0},{"$f":"分類順!F3070","v":0},"00000",1,{"$f":"VLOOKUP(\"*\"&目次加工!$B$2&\"*\",J3071:K3071,2,0)","v":1},1]
[null,null,null,{"$f":"分類順!A3071","v":0},{"$f":"分類順!B3071","v":0},{"$f":"分類順!C3071","v":0},{"$f":"分類順!D3071","v":0},{"$f":"分類順!E3071","v":0},{"$f":"分類順!F3071","v":0},"00000",1,{"$f":"VLOOKUP(\"*\"&目次加工!$B$2&\"*\",J3072:K3072,2,0)","v":1},1]
[null,null,null,{"$f":"分類順!A3072","v":0},{"$f":"分類順!B3072","v":0},{"$f":"分類順!C3072","v":0},{"$f":"分類順!D3072","v":0},{"$f":"分類順!E3072","v":0},{"$f":"分類順!F3072","v":0},"00000",1,{"$f":"VLOOKUP(\"*\"&目次加工!$B$2&\"*\",J3073:K3073,2,0)","v":1},1]
[null,null,null,{"$f":"分類順!A3073","v":0},{"$f":"分類順!B3073","v":0},{"$f":"分類順!C3073","v":0},{"$f":"分類順!D3073","v":0},{"$f":"分類順!E3073","v":0},{"$f":"分類順!F3073","v":0},"00000",1,{"$f":"VLOOKUP(\"*\"&目次加工!$B$2&\"*\",J3074:K3074,2,0)","v":1},1]
[null,null,null,{"$f":"分類順!A3074","v":0},{"$f":"分類順!B3074","v":0},{"$f":"分類順!C3074","v":0},{"$f":"分類順!D3074","v":0},{"$f":"分類順!E3074","v":0},{"$f":"分類順!F3074","v":0},"00000",1,{"$f":"VLOOKUP(\"*\"&目次加工!$B$2&\"*\",J3075:K3075,2,0)","v":1},1]
[null,null,null,{"$f":"分類順!A3075","v":0},{"$f":"分類順!B3075","v":0},{"$f":"分類順!C3075","v":0},{"$f":"分類順!D3075","v":0},{"$f":"分類順!E3075","v":0},{"$f":"分類順!F3075","v":0},"00000",1,{"$f":"VLOOKUP(\"*\"&目次加工!$B$2&\"*\",J3076:K3076,2,0)","v":1},{"$f":"VLOOKUP(\"*\"&$A$2&\"*\",J3076:K3076,2,0)","v":1}]
[null,null,null,{"$f":"分類順!A3076","v":0},{"$f":"分類順!B3076","v":0},{"$f":"分類順!C3076","v":0},{"$f":"分類順!D3076","v":0},{"$f":"分類順!E3076","v":0},{"$f":"分類順!F3076","v":0},"00000",1,{"$f":"VLOOKUP(\"*\"&目次加工!$B$2&\"*\",J3077:K3077,2,0)","v":1},1]
[null,null,null,{"$f":"分類順!A3077","v":0},{"$f":"分類順!B3077","v":0},{"$f":"分類順!C3077","v":0},{"$f":"分類順!D3077","v":0},{"$f":"分類順!E3077","v":0},{"$f":"分類順!F3077","v":0},"00000",1,{"$f":"VLOOKUP(\"*\"&目次加工!$B$2&\"*\",J3078:K3078,2,0)","v":1},1]
[null,null,null,{"$f":"分類順!A3078","v":0},{"$f":"分類順!B3078","v":0},{"$f":"分類順!C3078","v":0},{"$f":"分類順!D3078","v":0},{"$f":"分類順!E3078","v":0},{"$f":"分類順!F3078","v":0},"00000",1,{"$f":"VLOOKUP(\"*\"&目次加工!$B$2&\"*\",J3079:K3079,2,0)","v":1},1]
[null,null,null,{"$f":"分類順!A3079","v":0},{"$f":"分類順!B3079","v":0},{"$f":"分類順!C3079","v":0},{"$f":"分類順!D3079","v":0},{"$f":"分類順!E3079","v":0},{"$f":"分類順!F3079","v":0},"00000",1,{"$f":"VLOOKUP(\"*\"&目次加工!$B$2&\"*\",J3080:K3080,2,0)","v":1},1]
[null,null,null,{"$f":"分類順!A3080","v":0},{"$f":"分類順!B3080","v":0},{"$f":"分類順!C3080","v":0},{"$f":"分類順!D3080","v":0},{"$f":"分類順!E3080","v":0},{"$f":"分類順!F3080","v":0},"00000",1,{"$f":"VLOOKUP(\"*\"&目次加工!$B$2&\"*\",J3081:K3081,2,0)","v":1},1]
[null,null,null,{"$f":"分類順!A3081","v":0},{"$f":"分類順!B3081","v":0},{"$f":"分類順!C3081","v":0},{"$f":"分類順!D3081","v":0},{"$f":"分類順!E3081","v":0},{"$f":"分類順!F3081","v":0},"00000",1,{"$f":"VLOOKUP(\"*\"&目次加工!$B$2&\"*\",J3082:K3082,2,0)","v":1},1]
[null,null,null,{"$f":"分類順!A3082","v":0},{"$f":"分類順!B3082","v":0},{"$f":"分類順!C3082","v":0},{"$f":"分類順!D3082","v":0},{"$f":"分類順!E3082","v":0},{"$f":"分類順!F3082","v":0},"00000",1,{"$f":"VLOOKUP(\"*\"&目次加工!$B$2&\"*\",J3083:K3083,2,0)","v":1},1]
[null,null,null,{"$f":"分類順!A3083","v":0},{"$f":"分類順!B3083","v":0},{"$f":"分類順!C3083","v":0},{"$f":"分類順!D3083","v":0},{"$f":"分類順!E3083","v":0},{"$f":"分類順!F3083","v":0},"00000",1,{"$f":"VLOOKUP(\"*\"&目次加工!$B$2&\"*\",J3084:K3084,2,0)","v":1},1]
[null,null,null,{"$f":"分類順!A3084","v":0},{"$f":"分類順!B3084","v":0},{"$f":"分類順!C3084","v":0},{"$f":"分類順!D3084","v":0},{"$f":"分類順!E3084","v":0},{"$f":"分類順!F3084","v":0},"00000",1,{"$f":"VLOOKUP(\"*\"&目次加工!$B$2&\"*\",J3085:K3085,2,0)","v":1},1]
[null,null,null,{"$f":"分類順!A3085","v":0},{"$f":"分類順!B3085","v":0},{"$f":"分類順!C3085","v":0},{"$f":"分類順!D3085","v":0},{"$f":"分類順!E3085","v":0},{"$f":"分類順!F3085","v":0},"00000",1,{"$f":"VLOOKUP(\"*\"&目次加工!$B$2&\"*\",J3086:K3086,2,0)","v":1},1]
[null,null,null,{"$f":"分類順!A3086","v":0},{"$f":"分類順!B3086","v":0},{"$f":"分類順!C3086","v":0},{"$f":"分類順!D3086","v":0},{"$f":"分類順!E3086","v":0},{"$f":"分類順!F3086","v":0},"00000",1,{"$f":"VLOOKUP(\"*\"&目次加工!$B$2&\"*\",J3087:K3087,2,0)","v":1},1]
[null,null,null,{"$f":"分類順!A3087","v":0},{"$f":"分類順!B3087","v":0},{"$f":"分類順!C3087","v":0},{"$f":"分類順!D3087","v":0},{"$f":"分類順!E3087","v":0},{"$f":"分類順!F3087","v":0},"00000",1,{"$f":"VLOOKUP(\"*\"&目次加工!$B$2&\"*\",J3088:K3088,2,0)","v":1},1]
[null,null,null,{"$f":"分類順!A3088","v":0},{"$f":"分類順!B3088","v":0},{"$f":"分類順!C3088","v":0},{"$f":"分類順!D3088","v":0},{"$f":"分類順!E3088","v":0},{"$f":"分類順!F3088","v":0},"00000",1,{"$f":"VLOOKUP(\"*\"&目次加工!$B$2&\"*\",J3089:K3089,2,0)","v":1},1]
[null,null,null,{"$f":"分類順!A3089","v":0},{"$f":"分類順!B3089","v":0},{"$f":"分類順!C3089","v":0},{"$f":"分類順!D3089","v":0},{"$f":"分類順!E3089","v":0},{"$f":"分類順!F3089","v":0},"00000",1,{"$f":"VLOOKUP(\"*\"&目次加工!$B$2&\"*\",J3090:K3090,2,0)","v":1},1]
[null,null,null,{"$f":"分類順!A3090","v":0},{"$f":"分類順!B3090","v":0},{"$f":"分類順!C3090","v":0},{"$f":"分類順!D3090","v":0},{"$f":"分類順!E3090","v":0},{"$f":"分類順!F3090","v":0},{"$f":"D3091&E3091&F3091&G3091&H3091","v":"00000"},1,{"$f":"VLOOKUP(\"*\"&目次加工!$B$2&\"*\",J3091:K3091,2,0)","v":1},1]
[null,null,null,{"$f":"分類順!A3091","v":0},{"$f":"分類順!B3091","v":0},{"$f":"分類順!C3091","v":0},{"$f":"分類順!D3091","v":0},{"$f":"分類順!E3091","v":0},{"$f":"分類順!F3091","v":0},"00000",1,{"$f":"VLOOKUP(\"*\"&目次加工!$B$2&\"*\",J3092:K3092,2,0)","v":1},1]
[null,null,null,{"$f":"分類順!A3092","v":0},{"$f":"分類順!B3092","v":0},{"$f":"分類順!C3092","v":0},{"$f":"分類順!D3092","v":0},{"$f":"分類順!E3092","v":0},{"$f":"分類順!F3092","v":0},"00000",1,{"$f":"VLOOKUP(\"*\"&目次加工!$B$2&\"*\",J3093:K3093,2,0)","v":1},1]
[null,null,null,{"$f":"分類順!A3093","v":0},{"$f":"分類順!B3093","v":0},{"$f":"分類順!C3093","v":0},{"$f":"分類順!D3093","v":0},{"$f":"分類順!E3093","v":0},{"$f":"分類順!F3093","v":0},"00000",1,{"$f":"VLOOKUP(\"*\"&目次加工!$B$2&\"*\",J3094:K3094,2,0)","v":1},1]
[null,null,null,{"$f":"分類順!A3094","v":0},{"$f":"分類順!B3094","v":0},{"$f":"分類順!C3094","v":0},{"$f":"分類順!D3094","v":0},{"$f":"分類順!E3094","v":0},{"$f":"分類順!F3094","v":0},"00000",1,{"$f":"VLOOKUP(\"*\"&目次加工!$B$2&\"*\",J3095:K3095,2,0)","v":1},1]
[null,null,null,{"$f":"分類順!A3095","v":0},{"$f":"分類順!B3095","v":0},{"$f":"分類順!C3095","v":0},{"$f":"分類順!D3095","v":0},{"$f":"分類順!E3095","v":0},{"$f":"分類順!F3095","v":0},"00000",1,{"$f":"VLOOKUP(\"*\"&目次加工!$B$2&\"*\",J3096:K3096,2,0)","v":1},1]
[null,null,null,{"$f":"分類順!A3096","v":0},{"$f":"分類順!B3096","v":0},{"$f":"分類順!C3096","v":0},{"$f":"分類順!D3096","v":0},{"$f":"分類順!E3096","v":0},{"$f":"分類順!F3096","v":0},"00000",1,{"$f":"VLOOKUP(\"*\"&目次加工!$B$2&\"*\",J3097:K3097,2,0)","v":1},1]
[null,null,null,{"$f":"分類順!A3097","v":0},{"$f":"分類順!B3097","v":0},{"$f":"分類順!C3097","v":0},{"$f":"分類順!D3097","v":0},{"$f":"分類順!E3097","v":0},{"$f":"分類順!F3097","v":0},"00000",1,{"$f":"VLOOKUP(\"*\"&目次加工!$B$2&\"*\",J3098:K3098,2,0)","v":1},1]
[null,null,null,{"$f":"分類順!A3098","v":0},{"$f":"分類順!B3098","v":0},{"$f":"分類順!C3098","v":0},{"$f":"分類順!D3098","v":0},{"$f":"分類順!E3098","v":0},{"$f":"分類順!F3098","v":0},"00000",1,{"$f":"VLOOKUP(\"*\"&目次加工!$B$2&\"*\",J3099:K3099,2,0)","v":1},1]
[null,null,null,{"$f":"分類順!A3099","v":0},{"$f":"分類順!B3099","v":0},{"$f":"分類順!C3099","v":0},{"$f":"分類順!D3099","v":0},{"$f":"分類順!E3099","v":0},{"$f":"分類順!F3099","v":0},"00000",1,{"$f":"VLOOKUP(\"*\"&目次加工!$B$2&\"*\",J3100:K3100,2,0)","v":1},1]
[null,null,null,{"$f":"分類順!A3100","v":0},{"$f":"分類順!B3100","v":0},{"$f":"分類順!C3100","v":0},{"$f":"分類順!D3100","v":0},{"$f":"分類順!E3100","v":0},{"$f":"分類順!F3100","v":0},"00000",1,{"$f":"VLOOKUP(\"*\"&目次加工!$B$2&\"*\",J3101:K3101,2,0)","v":1},1]
[null,null,null,{"$f":"分類順!A3101","v":0},{"$f":"分類順!B3101","v":0},{"$f":"分類順!C3101","v":0},{"$f":"分類順!D3101","v":0},{"$f":"分類順!E3101","v":0},{"$f":"分類順!F3101","v":0},"00000",1,{"$f":"VLOOKUP(\"*\"&目次加工!$B$2&\"*\",J3102:K3102,2,0)","v":1},1]
[null,null,null,{"$f":"分類順!A3102","v":0},{"$f":"分類順!B3102","v":0},{"$f":"分類順!C3102","v":0},{"$f":"分類順!D3102","v":0},{"$f":"分類順!E3102","v":0},{"$f":"分類順!F3102","v":0},"00000",1,{"$f":"VLOOKUP(\"*\"&目次加工!$B$2&\"*\",J3103:K3103,2,0)","v":1},1]
[null,null,null,{"$f":"分類順!A3103","v":0},{"$f":"分類順!B3103","v":0},{"$f":"分類順!C3103","v":0},{"$f":"分類順!D3103","v":0},{"$f":"分類順!E3103","v":0},{"$f":"分類順!F3103","v":0},"00000",1,{"$f":"VLOOKUP(\"*\"&目次加工!$B$2&\"*\",J3104:K3104,2,0)","v":1},1]
[null,null,null,{"$f":"分類順!A3104","v":0},{"$f":"分類順!B3104","v":0},{"$f":"分類順!C3104","v":0},{"$f":"分類順!D3104","v":0},{"$f":"分類順!E3104","v":0},{"$f":"分類順!F3104","v":0},"00000",1,{"$f":"VLOOKUP(\"*\"&目次加工!$B$2&\"*\",J3105:K3105,2,0)","v":1},1]
[null,null,null,{"$f":"分類順!A3105","v":0},{"$f":"分類順!B3105","v":0},{"$f":"分類順!C3105","v":0},{"$f":"分類順!D3105","v":0},{"$f":"分類順!E3105","v":0},{"$f":"分類順!F3105","v":0},"00000",1,{"$f":"VLOOKUP(\"*\"&目次加工!$B$2&\"*\",J3106:K3106,2,0)","v":1},1]
[null,null,null,{"$f":"分類順!A3106","v":0},{"$f":"分類順!B3106","v":0},{"$f":"分類順!C3106","v":0},{"$f":"分類順!D3106","v":0},{"$f":"分類順!E3106","v":0},{"$f":"分類順!F3106","v":0},"00000",1,{"$f":"VLOOKUP(\"*\"&目次加工!$B$2&\"*\",J3107:K3107,2,0)","v":1},1]
[null,null,null,{"$f":"分類順!A3107","v":0},{"$f":"分類順!B3107","v":0},{"$f":"分類順!C3107","v":0},{"$f":"分類順!D3107","v":0},{"$f":"分類順!E3107","v":0},{"$f":"分類順!F3107","v":0},"00000",1,{"$f":"VLOOKUP(\"*\"&目次加工!$B$2&\"*\",J3108:K3108,2,0)","v":1},1]
[null,null,null,{"$f":"分類順!A3108","v":0},{"$f":"分類順!B3108","v":0},{"$f":"分類順!C3108","v":0},{"$f":"分類順!D3108","v":0},{"$f":"分類順!E3108","v":0},{"$f":"分類順!F3108","v":0},"00000",1,{"$f":"VLOOKUP(\"*\"&目次加工!$B$2&\"*\",J3109:K3109,2,0)","v":1},1]
[null,null,null,{"$f":"分類順!A3109","v":0},{"$f":"分類順!B3109","v":0},{"$f":"分類順!C3109","v":0},{"$f":"分類順!D3109","v":0},{"$f":"分類順!E3109","v":0},{"$f":"分類順!F3109","v":0},"00000",1,{"$f":"VLOOKUP(\"*\"&目次加工!$B$2&\"*\",J3110:K3110,2,0)","v":1},1]
[null,null,null,{"$f":"分類順!A3110","v":0},{"$f":"分類順!B3110","v":0},{"$f":"分類順!C3110","v":0},{"$f":"分類順!D3110","v":0},{"$f":"分類順!E3110","v":0},{"$f":"分類順!F3110","v":0},"00000",1,{"$f":"VLOOKUP(\"*\"&目次加工!$B$2&\"*\",J3111:K3111,2,0)","v":1},1]
[null,null,null,{"$f":"分類順!A3111","v":0},{"$f":"分類順!B3111","v":0},{"$f":"分類順!C3111","v":0},{"$f":"分類順!D3111","v":0},{"$f":"分類順!E3111","v":0},{"$f":"分類順!F3111","v":0},"00000",1,{"$f":"VLOOKUP(\"*\"&目次加工!$B$2&\"*\",J3112:K3112,2,0)","v":1},1]
[null,null,null,{"$f":"分類順!A3112","v":0},{"$f":"分類順!B3112","v":0},{"$f":"分類順!C3112","v":0},{"$f":"分類順!D3112","v":0},{"$f":"分類順!E3112","v":0},{"$f":"分類順!F3112","v":0},"00000",1,{"$f":"VLOOKUP(\"*\"&目次加工!$B$2&\"*\",J3113:K3113,2,0)","v":1},1]
[null,null,null,{"$f":"分類順!A3113","v":0},{"$f":"分類順!B3113","v":0},{"$f":"分類順!C3113","v":0},{"$f":"分類順!D3113","v":0},{"$f":"分類順!E3113","v":0},{"$f":"分類順!F3113","v":0},"00000",1,{"$f":"VLOOKUP(\"*\"&目次加工!$B$2&\"*\",J3114:K3114,2,0)","v":1},1]
[null,null,null,{"$f":"分類順!A3114","v":0},{"$f":"分類順!B3114","v":0},{"$f":"分類順!C3114","v":0},{"$f":"分類順!D3114","v":0},{"$f":"分類順!E3114","v":0},{"$f":"分類順!F3114","v":0},"00000",1,{"$f":"VLOOKUP(\"*\"&目次加工!$B$2&\"*\",J3115:K3115,2,0)","v":1},1]
[null,null,null,{"$f":"分類順!A3115","v":0},{"$f":"分類順!B3115","v":0},{"$f":"分類順!C3115","v":0},{"$f":"分類順!D3115","v":0},{"$f":"分類順!E3115","v":0},{"$f":"分類順!F3115","v":0},"00000",1,{"$f":"VLOOKUP(\"*\"&目次加工!$B$2&\"*\",J3116:K3116,2,0)","v":1},1]
[null,null,null,{"$f":"分類順!A3116","v":0},{"$f":"分類順!B3116","v":0},{"$f":"分類順!C3116","v":0},{"$f":"分類順!D3116","v":0},{"$f":"分類順!E3116","v":0},{"$f":"分類順!F3116","v":0},"00000",1,{"$f":"VLOOKUP(\"*\"&目次加工!$B$2&\"*\",J3117:K3117,2,0)","v":1},1]
[null,null,null,{"$f":"分類順!A3117","v":0},{"$f":"分類順!B3117","v":0},{"$f":"分類順!C3117","v":0},{"$f":"分類順!D3117","v":0},{"$f":"分類順!E3117","v":0},{"$f":"分類順!F3117","v":0},"00000",1,{"$f":"VLOOKUP(\"*\"&目次加工!$B$2&\"*\",J3118:K3118,2,0)","v":1},1]
[null,null,null,{"$f":"分類順!A3118","v":0},{"$f":"分類順!B3118","v":0},{"$f":"分類順!C3118","v":0},{"$f":"分類順!D3118","v":0},{"$f":"分類順!E3118","v":0},{"$f":"分類順!F3118","v":0},"00000",1,{"$f":"VLOOKUP(\"*\"&目次加工!$B$2&\"*\",J3119:K3119,2,0)","v":1},1]
[null,null,null,{"$f":"分類順!A3119","v":0},{"$f":"分類順!B3119","v":0},{"$f":"分類順!C3119","v":0},{"$f":"分類順!D3119","v":0},{"$f":"分類順!E3119","v":0},{"$f":"分類順!F3119","v":0},"00000",1,{"$f":"VLOOKUP(\"*\"&目次加工!$B$2&\"*\",J3120:K3120,2,0)","v":1},1]
[null,null,null,{"$f":"分類順!A3120","v":0},{"$f":"分類順!B3120","v":0},{"$f":"分類順!C3120","v":0},{"$f":"分類順!D3120","v":0},{"$f":"分類順!E3120","v":0},{"$f":"分類順!F3120","v":0},"00000",1,{"$f":"VLOOKUP(\"*\"&目次加工!$B$2&\"*\",J3121:K3121,2,0)","v":1},1]
[null,null,null,{"$f":"分類順!A3121","v":0},{"$f":"分類順!B3121","v":0},{"$f":"分類順!C3121","v":0},{"$f":"分類順!D3121","v":0},{"$f":"分類順!E3121","v":0},{"$f":"分類順!F3121","v":0},"00000",1,{"$f":"VLOOKUP(\"*\"&目次加工!$B$2&\"*\",J3122:K3122,2,0)","v":1},1]
[null,null,null,{"$f":"分類順!A3122","v":0},{"$f":"分類順!B3122","v":0},{"$f":"分類順!C3122","v":0},{"$f":"分類順!D3122","v":0},{"$f":"分類順!E3122","v":0},{"$f":"分類順!F3122","v":0},"00000",1,{"$f":"VLOOKUP(\"*\"&目次加工!$B$2&\"*\",J3123:K3123,2,0)","v":1},1]
[null,null,null,{"$f":"分類順!A3123","v":0},{"$f":"分類順!B3123","v":0},{"$f":"分類順!C3123","v":0},{"$f":"分類順!D3123","v":0},{"$f":"分類順!E3123","v":0},{"$f":"分類順!F3123","v":0},"00000",1,{"$f":"VLOOKUP(\"*\"&目次加工!$B$2&\"*\",J3124:K3124,2,0)","v":1},1]
[null,null,null,{"$f":"分類順!A3124","v":0},{"$f":"分類順!B3124","v":0},{"$f":"分類順!C3124","v":0},{"$f":"分類順!D3124","v":0},{"$f":"分類順!E3124","v":0},{"$f":"分類順!F3124","v":0},"00000",1,{"$f":"VLOOKUP(\"*\"&目次加工!$B$2&\"*\",J3125:K3125,2,0)","v":1},1]
[null,null,null,{"$f":"分類順!A3125","v":0},{"$f":"分類順!B3125","v":0},{"$f":"分類順!C3125","v":0},{"$f":"分類順!D3125","v":0},{"$f":"分類順!E3125","v":0},{"$f":"分類順!F3125","v":0},"00000",1,{"$f":"VLOOKUP(\"*\"&目次加工!$B$2&\"*\",J3126:K3126,2,0)","v":1},1]
[null,null,null,{"$f":"分類順!A3126","v":0},{"$f":"分類順!B3126","v":0},{"$f":"分類順!C3126","v":0},{"$f":"分類順!D3126","v":0},{"$f":"分類順!E3126","v":0},{"$f":"分類順!F3126","v":0},"00000",1,{"$f":"VLOOKUP(\"*\"&目次加工!$B$2&\"*\",J3127:K3127,2,0)","v":1},1]
[null,null,null,{"$f":"分類順!A3127","v":0},{"$f":"分類順!B3127","v":0},{"$f":"分類順!C3127","v":0},{"$f":"分類順!D3127","v":0},{"$f":"分類順!E3127","v":0},{"$f":"分類順!F3127","v":0},"00000",1,{"$f":"VLOOKUP(\"*\"&目次加工!$B$2&\"*\",J3128:K3128,2,0)","v":1},1]
[null,null,null,{"$f":"分類順!A3128","v":0},{"$f":"分類順!B3128","v":0},{"$f":"分類順!C3128","v":0},{"$f":"分類順!D3128","v":0},{"$f":"分類順!E3128","v":0},{"$f":"分類順!F3128","v":0},"00000",1,{"$f":"VLOOKUP(\"*\"&目次加工!$B$2&\"*\",J3129:K3129,2,0)","v":1},1]
[null,null,null,{"$f":"分類順!A3129","v":0},{"$f":"分類順!B3129","v":0},{"$f":"分類順!C3129","v":0},{"$f":"分類順!D3129","v":0},{"$f":"分類順!E3129","v":0},{"$f":"分類順!F3129","v":0},"00000",1,{"$f":"VLOOKUP(\"*\"&目次加工!$B$2&\"*\",J3130:K3130,2,0)","v":1},1]
[null,null,null,{"$f":"分類順!A3130","v":0},{"$f":"分類順!B3130","v":0},{"$f":"分類順!C3130","v":0},{"$f":"分類順!D3130","v":0},{"$f":"分類順!E3130","v":0},{"$f":"分類順!F3130","v":0},"00000",1,{"$f":"VLOOKUP(\"*\"&目次加工!$B$2&\"*\",J3131:K3131,2,0)","v":1},1]
[null,null,null,{"$f":"分類順!A3131","v":0},{"$f":"分類順!B3131","v":0},{"$f":"分類順!C3131","v":0},{"$f":"分類順!D3131","v":0},{"$f":"分類順!E3131","v":0},{"$f":"分類順!F3131","v":0},"00000",1,{"$f":"VLOOKUP(\"*\"&目次加工!$B$2&\"*\",J3132:K3132,2,0)","v":1},1]
[null,null,null,{"$f":"分類順!A3132","v":0},{"$f":"分類順!B3132","v":0},{"$f":"分類順!C3132","v":0},{"$f":"分類順!D3132","v":0},{"$f":"分類順!E3132","v":0},{"$f":"分類順!F3132","v":0},"00000",1,{"$f":"VLOOKUP(\"*\"&目次加工!$B$2&\"*\",J3133:K3133,2,0)","v":1},1]
[null,null,null,{"$f":"分類順!A3133","v":0},{"$f":"分類順!B3133","v":0},{"$f":"分類順!C3133","v":0},{"$f":"分類順!D3133","v":0},{"$f":"分類順!E3133","v":0},{"$f":"分類順!F3133","v":0},"00000",1,{"$f":"VLOOKUP(\"*\"&目次加工!$B$2&\"*\",J3134:K3134,2,0)","v":1},1]
[null,null,null,{"$f":"分類順!A3134","v":0},{"$f":"分類順!B3134","v":0},{"$f":"分類順!C3134","v":0},{"$f":"分類順!D3134","v":0},{"$f":"分類順!E3134","v":0},{"$f":"分類順!F3134","v":0},"00000",1,{"$f":"VLOOKUP(\"*\"&目次加工!$B$2&\"*\",J3135:K3135,2,0)","v":1},1]
[null,null,null,{"$f":"分類順!A3135","v":0},{"$f":"分類順!B3135","v":0},{"$f":"分類順!C3135","v":0},{"$f":"分類順!D3135","v":0},{"$f":"分類順!E3135","v":0},{"$f":"分類順!F3135","v":0},"00000",1,{"$f":"VLOOKUP(\"*\"&目次加工!$B$2&\"*\",J3136:K3136,2,0)","v":1},1]
[null,null,null,{"$f":"分類順!A3136","v":0},{"$f":"分類順!B3136","v":0},{"$f":"分類順!C3136","v":0},{"$f":"分類順!D3136","v":0},{"$f":"分類順!E3136","v":0},{"$f":"分類順!F3136","v":0},"00000",1,{"$f":"VLOOKUP(\"*\"&目次加工!$B$2&\"*\",J3137:K3137,2,0)","v":1},1]
[null,null,null,{"$f":"分類順!A3137","v":0},{"$f":"分類順!B3137","v":0},{"$f":"分類順!C3137","v":0},{"$f":"分類順!D3137","v":0},{"$f":"分類順!E3137","v":0},{"$f":"分類順!F3137","v":0},"00000",1,{"$f":"VLOOKUP(\"*\"&目次加工!$B$2&\"*\",J3138:K3138,2,0)","v":1},1]
[null,null,null,{"$f":"分類順!A3138","v":0},{"$f":"分類順!B3138","v":0},{"$f":"分類順!C3138","v":0},{"$f":"分類順!D3138","v":0},{"$f":"分類順!E3138","v":0},{"$f":"分類順!F3138","v":0},"00000",1,{"$f":"VLOOKUP(\"*\"&目次加工!$B$2&\"*\",J3139:K3139,2,0)","v":1},1]
[null,null,null,{"$f":"分類順!A3139","v":0},{"$f":"分類順!B3139","v":0},{"$f":"分類順!C3139","v":0},{"$f":"分類順!D3139","v":0},{"$f":"分類順!E3139","v":0},{"$f":"分類順!F3139","v":0},"00000",1,{"$f":"VLOOKUP(\"*\"&目次加工!$B$2&\"*\",J3140:K3140,2,0)","v":1},{"$f":"VLOOKUP(\"*\"&$A$2&\"*\",J3140:K3140,2,0)","v":1}]
[null,null,null,{"$f":"分類順!A3140","v":0},{"$f":"分類順!B3140","v":0},{"$f":"分類順!C3140","v":0},{"$f":"分類順!D3140","v":0},{"$f":"分類順!E3140","v":0},{"$f":"分類順!F3140","v":0},"00000",1,{"$f":"VLOOKUP(\"*\"&目次加工!$B$2&\"*\",J3141:K3141,2,0)","v":1},1]
[null,null,null,{"$f":"分類順!A3141","v":0},{"$f":"分類順!B3141","v":0},{"$f":"分類順!C3141","v":0},{"$f":"分類順!D3141","v":0},{"$f":"分類順!E3141","v":0},{"$f":"分類順!F3141","v":0},"00000",1,{"$f":"VLOOKUP(\"*\"&目次加工!$B$2&\"*\",J3142:K3142,2,0)","v":1},1]
[null,null,null,{"$f":"分類順!A3142","v":0},{"$f":"分類順!B3142","v":0},{"$f":"分類順!C3142","v":0},{"$f":"分類順!D3142","v":0},{"$f":"分類順!E3142","v":0},{"$f":"分類順!F3142","v":0},"00000",1,{"$f":"VLOOKUP(\"*\"&目次加工!$B$2&\"*\",J3143:K3143,2,0)","v":1},1]
[null,null,null,{"$f":"分類順!A3143","v":0},{"$f":"分類順!B3143","v":0},{"$f":"分類順!C3143","v":0},{"$f":"分類順!D3143","v":0},{"$f":"分類順!E3143","v":0},{"$f":"分類順!F3143","v":0},"00000",1,{"$f":"VLOOKUP(\"*\"&目次加工!$B$2&\"*\",J3144:K3144,2,0)","v":1},1]
[null,null,null,{"$f":"分類順!A3144","v":0},{"$f":"分類順!B3144","v":0},{"$f":"分類順!C3144","v":0},{"$f":"分類順!D3144","v":0},{"$f":"分類順!E3144","v":0},{"$f":"分類順!F3144","v":0},"00000",1,{"$f":"VLOOKUP(\"*\"&目次加工!$B$2&\"*\",J3145:K3145,2,0)","v":1},1]
[null,null,null,{"$f":"分類順!A3145","v":0},{"$f":"分類順!B3145","v":0},{"$f":"分類順!C3145","v":0},{"$f":"分類順!D3145","v":0},{"$f":"分類順!E3145","v":0},{"$f":"分類順!F3145","v":0},"00000",1,{"$f":"VLOOKUP(\"*\"&目次加工!$B$2&\"*\",J3146:K3146,2,0)","v":1},1]
[null,null,null,{"$f":"分類順!A3146","v":0},{"$f":"分類順!B3146","v":0},{"$f":"分類順!C3146","v":0},{"$f":"分類順!D3146","v":0},{"$f":"分類順!E3146","v":0},{"$f":"分類順!F3146","v":0},"00000",1,{"$f":"VLOOKUP(\"*\"&目次加工!$B$2&\"*\",J3147:K3147,2,0)","v":1},1]
[null,null,null,{"$f":"分類順!A3147","v":0},{"$f":"分類順!B3147","v":0},{"$f":"分類順!C3147","v":0},{"$f":"分類順!D3147","v":0},{"$f":"分類順!E3147","v":0},{"$f":"分類順!F3147","v":0},"00000",1,{"$f":"VLOOKUP(\"*\"&目次加工!$B$2&\"*\",J3148:K3148,2,0)","v":1},1]
[null,null,null,{"$f":"分類順!A3148","v":0},{"$f":"分類順!B3148","v":0},{"$f":"分類順!C3148","v":0},{"$f":"分類順!D3148","v":0},{"$f":"分類順!E3148","v":0},{"$f":"分類順!F3148","v":0},"00000",1,{"$f":"VLOOKUP(\"*\"&目次加工!$B$2&\"*\",J3149:K3149,2,0)","v":1},1]
[null,null,null,{"$f":"分類順!A3149","v":0},{"$f":"分類順!B3149","v":0},{"$f":"分類順!C3149","v":0},{"$f":"分類順!D3149","v":0},{"$f":"分類順!E3149","v":0},{"$f":"分類順!F3149","v":0},"00000",1,{"$f":"VLOOKUP(\"*\"&目次加工!$B$2&\"*\",J3150:K3150,2,0)","v":1},1]
[null,null,null,{"$f":"分類順!A3150","v":0},{"$f":"分類順!B3150","v":0},{"$f":"分類順!C3150","v":0},{"$f":"分類順!D3150","v":0},{"$f":"分類順!E3150","v":0},{"$f":"分類順!F3150","v":0},"00000",1,{"$f":"VLOOKUP(\"*\"&目次加工!$B$2&\"*\",J3151:K3151,2,0)","v":1},1]
[null,null,null,{"$f":"分類順!A3151","v":0},{"$f":"分類順!B3151","v":0},{"$f":"分類順!C3151","v":0},{"$f":"分類順!D3151","v":0},{"$f":"分類順!E3151","v":0},{"$f":"分類順!F3151","v":0},"00000",1,{"$f":"VLOOKUP(\"*\"&目次加工!$B$2&\"*\",J3152:K3152,2,0)","v":1},1]
[null,null,null,{"$f":"分類順!A3152","v":0},{"$f":"分類順!B3152","v":0},{"$f":"分類順!C3152","v":0},{"$f":"分類順!D3152","v":0},{"$f":"分類順!E3152","v":0},{"$f":"分類順!F3152","v":0},"00000",1,{"$f":"VLOOKUP(\"*\"&目次加工!$B$2&\"*\",J3153:K3153,2,0)","v":1},1]
[null,null,null,{"$f":"分類順!A3153","v":0},{"$f":"分類順!B3153","v":0},{"$f":"分類順!C3153","v":0},{"$f":"分類順!D3153","v":0},{"$f":"分類順!E3153","v":0},{"$f":"分類順!F3153","v":0},"00000",1,{"$f":"VLOOKUP(\"*\"&目次加工!$B$2&\"*\",J3154:K3154,2,0)","v":1},1]
[null,null,null,{"$f":"分類順!A3154","v":0},{"$f":"分類順!B3154","v":0},{"$f":"分類順!C3154","v":0},{"$f":"分類順!D3154","v":0},{"$f":"分類順!E3154","v":0},{"$f":"分類順!F3154","v":0},{"$f":"D3155&E3155&F3155&G3155&H3155","v":"00000"},1,{"$f":"VLOOKUP(\"*\"&目次加工!$B$2&\"*\",J3155:K3155,2,0)","v":1},1]
[null,null,null,{"$f":"分類順!A3155","v":0},{"$f":"分類順!B3155","v":0},{"$f":"分類順!C3155","v":0},{"$f":"分類順!D3155","v":0},{"$f":"分類順!E3155","v":0},{"$f":"分類順!F3155","v":0},"00000",1,{"$f":"VLOOKUP(\"*\"&目次加工!$B$2&\"*\",J3156:K3156,2,0)","v":1},1]
[null,null,null,{"$f":"分類順!A3156","v":0},{"$f":"分類順!B3156","v":0},{"$f":"分類順!C3156","v":0},{"$f":"分類順!D3156","v":0},{"$f":"分類順!E3156","v":0},{"$f":"分類順!F3156","v":0},"00000",1,{"$f":"VLOOKUP(\"*\"&目次加工!$B$2&\"*\",J3157:K3157,2,0)","v":1},1]
[null,null,null,{"$f":"分類順!A3157","v":0},{"$f":"分類順!B3157","v":0},{"$f":"分類順!C3157","v":0},{"$f":"分類順!D3157","v":0},{"$f":"分類順!E3157","v":0},{"$f":"分類順!F3157","v":0},"00000",1,{"$f":"VLOOKUP(\"*\"&目次加工!$B$2&\"*\",J3158:K3158,2,0)","v":1},1]
[null,null,null,{"$f":"分類順!A3158","v":0},{"$f":"分類順!B3158","v":0},{"$f":"分類順!C3158","v":0},{"$f":"分類順!D3158","v":0},{"$f":"分類順!E3158","v":0},{"$f":"分類順!F3158","v":0},"00000",1,{"$f":"VLOOKUP(\"*\"&目次加工!$B$2&\"*\",J3159:K3159,2,0)","v":1},1]
[null,null,null,{"$f":"分類順!A3159","v":0},{"$f":"分類順!B3159","v":0},{"$f":"分類順!C3159","v":0},{"$f":"分類順!D3159","v":0},{"$f":"分類順!E3159","v":0},{"$f":"分類順!F3159","v":0},"00000",1,{"$f":"VLOOKUP(\"*\"&目次加工!$B$2&\"*\",J3160:K3160,2,0)","v":1},1]
[null,null,null,{"$f":"分類順!A3160","v":0},{"$f":"分類順!B3160","v":0},{"$f":"分類順!C3160","v":0},{"$f":"分類順!D3160","v":0},{"$f":"分類順!E3160","v":0},{"$f":"分類順!F3160","v":0},"00000",1,{"$f":"VLOOKUP(\"*\"&目次加工!$B$2&\"*\",J3161:K3161,2,0)","v":1},1]
[null,null,null,{"$f":"分類順!A3161","v":0},{"$f":"分類順!B3161","v":0},{"$f":"分類順!C3161","v":0},{"$f":"分類順!D3161","v":0},{"$f":"分類順!E3161","v":0},{"$f":"分類順!F3161","v":0},"00000",1,{"$f":"VLOOKUP(\"*\"&目次加工!$B$2&\"*\",J3162:K3162,2,0)","v":1},1]
[null,null,null,{"$f":"分類順!A3162","v":0},{"$f":"分類順!B3162","v":0},{"$f":"分類順!C3162","v":0},{"$f":"分類順!D3162","v":0},{"$f":"分類順!E3162","v":0},{"$f":"分類順!F3162","v":0},"00000",1,{"$f":"VLOOKUP(\"*\"&目次加工!$B$2&\"*\",J3163:K3163,2,0)","v":1},1]
[null,null,null,{"$f":"分類順!A3163","v":0},{"$f":"分類順!B3163","v":0},{"$f":"分類順!C3163","v":0},{"$f":"分類順!D3163","v":0},{"$f":"分類順!E3163","v":0},{"$f":"分類順!F3163","v":0},"00000",1,{"$f":"VLOOKUP(\"*\"&目次加工!$B$2&\"*\",J3164:K3164,2,0)","v":1},1]
[null,null,null,{"$f":"分類順!A3164","v":0},{"$f":"分類順!B3164","v":0},{"$f":"分類順!C3164","v":0},{"$f":"分類順!D3164","v":0},{"$f":"分類順!E3164","v":0},{"$f":"分類順!F3164","v":0},"00000",1,{"$f":"VLOOKUP(\"*\"&目次加工!$B$2&\"*\",J3165:K3165,2,0)","v":1},1]
[null,null,null,{"$f":"分類順!A3165","v":0},{"$f":"分類順!B3165","v":0},{"$f":"分類順!C3165","v":0},{"$f":"分類順!D3165","v":0},{"$f":"分類順!E3165","v":0},{"$f":"分類順!F3165","v":0},"00000",1,{"$f":"VLOOKUP(\"*\"&目次加工!$B$2&\"*\",J3166:K3166,2,0)","v":1},1]
[null,null,null,{"$f":"分類順!A3166","v":0},{"$f":"分類順!B3166","v":0},{"$f":"分類順!C3166","v":0},{"$f":"分類順!D3166","v":0},{"$f":"分類順!E3166","v":0},{"$f":"分類順!F3166","v":0},"00000",1,{"$f":"VLOOKUP(\"*\"&目次加工!$B$2&\"*\",J3167:K3167,2,0)","v":1},1]
[null,null,null,{"$f":"分類順!A3167","v":0},{"$f":"分類順!B3167","v":0},{"$f":"分類順!C3167","v":0},{"$f":"分類順!D3167","v":0},{"$f":"分類順!E3167","v":0},{"$f":"分類順!F3167","v":0},"00000",1,{"$f":"VLOOKUP(\"*\"&目次加工!$B$2&\"*\",J3168:K3168,2,0)","v":1},1]
[null,null,null,{"$f":"分類順!A3168","v":0},{"$f":"分類順!B3168","v":0},{"$f":"分類順!C3168","v":0},{"$f":"分類順!D3168","v":0},{"$f":"分類順!E3168","v":0},{"$f":"分類順!F3168","v":0},"00000",1,{"$f":"VLOOKUP(\"*\"&目次加工!$B$2&\"*\",J3169:K3169,2,0)","v":1},1]
[null,null,null,{"$f":"分類順!A3169","v":0},{"$f":"分類順!B3169","v":0},{"$f":"分類順!C3169","v":0},{"$f":"分類順!D3169","v":0},{"$f":"分類順!E3169","v":0},{"$f":"分類順!F3169","v":0},"00000",1,{"$f":"VLOOKUP(\"*\"&目次加工!$B$2&\"*\",J3170:K3170,2,0)","v":1},1]
[null,null,null,{"$f":"分類順!A3170","v":0},{"$f":"分類順!B3170","v":0},{"$f":"分類順!C3170","v":0},{"$f":"分類順!D3170","v":0},{"$f":"分類順!E3170","v":0},{"$f":"分類順!F3170","v":0},"00000",1,{"$f":"VLOOKUP(\"*\"&目次加工!$B$2&\"*\",J3171:K3171,2,0)","v":1},1]
[null,null,null,{"$f":"分類順!A3171","v":0},{"$f":"分類順!B3171","v":0},{"$f":"分類順!C3171","v":0},{"$f":"分類順!D3171","v":0},{"$f":"分類順!E3171","v":0},{"$f":"分類順!F3171","v":0},"00000",1,{"$f":"VLOOKUP(\"*\"&目次加工!$B$2&\"*\",J3172:K3172,2,0)","v":1},1]
[null,null,null,{"$f":"分類順!A3172","v":0},{"$f":"分類順!B3172","v":0},{"$f":"分類順!C3172","v":0},{"$f":"分類順!D3172","v":0},{"$f":"分類順!E3172","v":0},{"$f":"分類順!F3172","v":0},"00000",1,{"$f":"VLOOKUP(\"*\"&目次加工!$B$2&\"*\",J3173:K3173,2,0)","v":1},1]
[null,null,null,{"$f":"分類順!A3173","v":0},{"$f":"分類順!B3173","v":0},{"$f":"分類順!C3173","v":0},{"$f":"分類順!D3173","v":0},{"$f":"分類順!E3173","v":0},{"$f":"分類順!F3173","v":0},"00000",1,{"$f":"VLOOKUP(\"*\"&目次加工!$B$2&\"*\",J3174:K3174,2,0)","v":1},1]
[null,null,null,{"$f":"分類順!A3174","v":0},{"$f":"分類順!B3174","v":0},{"$f":"分類順!C3174","v":0},{"$f":"分類順!D3174","v":0},{"$f":"分類順!E3174","v":0},{"$f":"分類順!F3174","v":0},"00000",1,{"$f":"VLOOKUP(\"*\"&目次加工!$B$2&\"*\",J3175:K3175,2,0)","v":1},1]
[null,null,null,{"$f":"分類順!A3175","v":0},{"$f":"分類順!B3175","v":0},{"$f":"分類順!C3175","v":0},{"$f":"分類順!D3175","v":0},{"$f":"分類順!E3175","v":0},{"$f":"分類順!F3175","v":0},"00000",1,{"$f":"VLOOKUP(\"*\"&目次加工!$B$2&\"*\",J3176:K3176,2,0)","v":1},1]
[null,null,null,{"$f":"分類順!A3176","v":0},{"$f":"分類順!B3176","v":0},{"$f":"分類順!C3176","v":0},{"$f":"分類順!D3176","v":0},{"$f":"分類順!E3176","v":0},{"$f":"分類順!F3176","v":0},"00000",1,{"$f":"VLOOKUP(\"*\"&目次加工!$B$2&\"*\",J3177:K3177,2,0)","v":1},1]
[null,null,null,{"$f":"分類順!A3177","v":0},{"$f":"分類順!B3177","v":0},{"$f":"分類順!C3177","v":0},{"$f":"分類順!D3177","v":0},{"$f":"分類順!E3177","v":0},{"$f":"分類順!F3177","v":0},"00000",1,{"$f":"VLOOKUP(\"*\"&目次加工!$B$2&\"*\",J3178:K3178,2,0)","v":1},1]
[null,null,null,{"$f":"分類順!A3178","v":0},{"$f":"分類順!B3178","v":0},{"$f":"分類順!C3178","v":0},{"$f":"分類順!D3178","v":0},{"$f":"分類順!E3178","v":0},{"$f":"分類順!F3178","v":0},"00000",1,{"$f":"VLOOKUP(\"*\"&目次加工!$B$2&\"*\",J3179:K3179,2,0)","v":1},1]
[null,null,null,{"$f":"分類順!A3179","v":0},{"$f":"分類順!B3179","v":0},{"$f":"分類順!C3179","v":0},{"$f":"分類順!D3179","v":0},{"$f":"分類順!E3179","v":0},{"$f":"分類順!F3179","v":0},"00000",1,{"$f":"VLOOKUP(\"*\"&目次加工!$B$2&\"*\",J3180:K3180,2,0)","v":1},1]
[null,null,null,{"$f":"分類順!A3180","v":0},{"$f":"分類順!B3180","v":0},{"$f":"分類順!C3180","v":0},{"$f":"分類順!D3180","v":0},{"$f":"分類順!E3180","v":0},{"$f":"分類順!F3180","v":0},"00000",1,{"$f":"VLOOKUP(\"*\"&目次加工!$B$2&\"*\",J3181:K3181,2,0)","v":1},1]
[null,null,null,{"$f":"分類順!A3181","v":0},{"$f":"分類順!B3181","v":0},{"$f":"分類順!C3181","v":0},{"$f":"分類順!D3181","v":0},{"$f":"分類順!E3181","v":0},{"$f":"分類順!F3181","v":0},"00000",1,{"$f":"VLOOKUP(\"*\"&目次加工!$B$2&\"*\",J3182:K3182,2,0)","v":1},1]
[null,null,null,{"$f":"分類順!A3182","v":0},{"$f":"分類順!B3182","v":0},{"$f":"分類順!C3182","v":0},{"$f":"分類順!D3182","v":0},{"$f":"分類順!E3182","v":0},{"$f":"分類順!F3182","v":0},"00000",1,{"$f":"VLOOKUP(\"*\"&目次加工!$B$2&\"*\",J3183:K3183,2,0)","v":1},1]
[null,null,null,{"$f":"分類順!A3183","v":0},{"$f":"分類順!B3183","v":0},{"$f":"分類順!C3183","v":0},{"$f":"分類順!D3183","v":0},{"$f":"分類順!E3183","v":0},{"$f":"分類順!F3183","v":0},"00000",1,{"$f":"VLOOKUP(\"*\"&目次加工!$B$2&\"*\",J3184:K3184,2,0)","v":1},1]
[null,null,null,{"$f":"分類順!A3184","v":0},{"$f":"分類順!B3184","v":0},{"$f":"分類順!C3184","v":0},{"$f":"分類順!D3184","v":0},{"$f":"分類順!E3184","v":0},{"$f":"分類順!F3184","v":0},"00000",1,{"$f":"VLOOKUP(\"*\"&目次加工!$B$2&\"*\",J3185:K3185,2,0)","v":1},1]
[null,null,null,{"$f":"分類順!A3185","v":0},{"$f":"分類順!B3185","v":0},{"$f":"分類順!C3185","v":0},{"$f":"分類順!D3185","v":0},{"$f":"分類順!E3185","v":0},{"$f":"分類順!F3185","v":0},"00000",1,{"$f":"VLOOKUP(\"*\"&目次加工!$B$2&\"*\",J3186:K3186,2,0)","v":1},1]
[null,null,null,{"$f":"分類順!A3186","v":0},{"$f":"分類順!B3186","v":0},{"$f":"分類順!C3186","v":0},{"$f":"分類順!D3186","v":0},{"$f":"分類順!E3186","v":0},{"$f":"分類順!F3186","v":0},"00000",1,{"$f":"VLOOKUP(\"*\"&目次加工!$B$2&\"*\",J3187:K3187,2,0)","v":1},1]
[null,null,null,{"$f":"分類順!A3187","v":0},{"$f":"分類順!B3187","v":0},{"$f":"分類順!C3187","v":0},{"$f":"分類順!D3187","v":0},{"$f":"分類順!E3187","v":0},{"$f":"分類順!F3187","v":0},"00000",1,{"$f":"VLOOKUP(\"*\"&目次加工!$B$2&\"*\",J3188:K3188,2,0)","v":1},1]
[null,null,null,{"$f":"分類順!A3188","v":0},{"$f":"分類順!B3188","v":0},{"$f":"分類順!C3188","v":0},{"$f":"分類順!D3188","v":0},{"$f":"分類順!E3188","v":0},{"$f":"分類順!F3188","v":0},"00000",1,{"$f":"VLOOKUP(\"*\"&目次加工!$B$2&\"*\",J3189:K3189,2,0)","v":1},1]
[null,null,null,{"$f":"分類順!A3189","v":0},{"$f":"分類順!B3189","v":0},{"$f":"分類順!C3189","v":0},{"$f":"分類順!D3189","v":0},{"$f":"分類順!E3189","v":0},{"$f":"分類順!F3189","v":0},"00000",1,{"$f":"VLOOKUP(\"*\"&目次加工!$B$2&\"*\",J3190:K3190,2,0)","v":1},1]
[null,null,null,{"$f":"分類順!A3190","v":0},{"$f":"分類順!B3190","v":0},{"$f":"分類順!C3190","v":0},{"$f":"分類順!D3190","v":0},{"$f":"分類順!E3190","v":0},{"$f":"分類順!F3190","v":0},"00000",1,{"$f":"VLOOKUP(\"*\"&目次加工!$B$2&\"*\",J3191:K3191,2,0)","v":1},1]
[null,null,null,{"$f":"分類順!A3191","v":0},{"$f":"分類順!B3191","v":0},{"$f":"分類順!C3191","v":0},{"$f":"分類順!D3191","v":0},{"$f":"分類順!E3191","v":0},{"$f":"分類順!F3191","v":0},"00000",1,{"$f":"VLOOKUP(\"*\"&目次加工!$B$2&\"*\",J3192:K3192,2,0)","v":1},1]
[null,null,null,{"$f":"分類順!A3192","v":0},{"$f":"分類順!B3192","v":0},{"$f":"分類順!C3192","v":0},{"$f":"分類順!D3192","v":0},{"$f":"分類順!E3192","v":0},{"$f":"分類順!F3192","v":0},"00000",1,{"$f":"VLOOKUP(\"*\"&目次加工!$B$2&\"*\",J3193:K3193,2,0)","v":1},1]
[null,null,null,{"$f":"分類順!A3193","v":0},{"$f":"分類順!B3193","v":0},{"$f":"分類順!C3193","v":0},{"$f":"分類順!D3193","v":0},{"$f":"分類順!E3193","v":0},{"$f":"分類順!F3193","v":0},"00000",1,{"$f":"VLOOKUP(\"*\"&目次加工!$B$2&\"*\",J3194:K3194,2,0)","v":1},1]
[null,null,null,{"$f":"分類順!A3194","v":0},{"$f":"分類順!B3194","v":0},{"$f":"分類順!C3194","v":0},{"$f":"分類順!D3194","v":0},{"$f":"分類順!E3194","v":0},{"$f":"分類順!F3194","v":0},"00000",1,{"$f":"VLOOKUP(\"*\"&目次加工!$B$2&\"*\",J3195:K3195,2,0)","v":1},1]
[null,null,null,{"$f":"分類順!A3195","v":0},{"$f":"分類順!B3195","v":0},{"$f":"分類順!C3195","v":0},{"$f":"分類順!D3195","v":0},{"$f":"分類順!E3195","v":0},{"$f":"分類順!F3195","v":0},"00000",1,{"$f":"VLOOKUP(\"*\"&目次加工!$B$2&\"*\",J3196:K3196,2,0)","v":1},1]
[null,null,null,{"$f":"分類順!A3196","v":0},{"$f":"分類順!B3196","v":0},{"$f":"分類順!C3196","v":0},{"$f":"分類順!D3196","v":0},{"$f":"分類順!E3196","v":0},{"$f":"分類順!F3196","v":0},"00000",1,{"$f":"VLOOKUP(\"*\"&目次加工!$B$2&\"*\",J3197:K3197,2,0)","v":1},1]
[null,null,null,{"$f":"分類順!A3197","v":0},{"$f":"分類順!B3197","v":0},{"$f":"分類順!C3197","v":0},{"$f":"分類順!D3197","v":0},{"$f":"分類順!E3197","v":0},{"$f":"分類順!F3197","v":0},"00000",1,{"$f":"VLOOKUP(\"*\"&目次加工!$B$2&\"*\",J3198:K3198,2,0)","v":1},1]
[null,null,null,{"$f":"分類順!A3198","v":0},{"$f":"分類順!B3198","v":0},{"$f":"分類順!C3198","v":0},{"$f":"分類順!D3198","v":0},{"$f":"分類順!E3198","v":0},{"$f":"分類順!F3198","v":0},"00000",1,{"$f":"VLOOKUP(\"*\"&目次加工!$B$2&\"*\",J3199:K3199,2,0)","v":1},1]
[null,null,null,{"$f":"分類順!A3199","v":0},{"$f":"分類順!B3199","v":0},{"$f":"分類順!C3199","v":0},{"$f":"分類順!D3199","v":0},{"$f":"分類順!E3199","v":0},{"$f":"分類順!F3199","v":0},"00000",1,{"$f":"VLOOKUP(\"*\"&目次加工!$B$2&\"*\",J3200:K3200,2,0)","v":1},1]
[null,null,null,{"$f":"分類順!A3200","v":0},{"$f":"分類順!B3200","v":0},{"$f":"分類順!C3200","v":0},{"$f":"分類順!D3200","v":0},{"$f":"分類順!E3200","v":0},{"$f":"分類順!F3200","v":0},"00000",1,{"$f":"VLOOKUP(\"*\"&目次加工!$B$2&\"*\",J3201:K3201,2,0)","v":1},1]
[null,null,null,{"$f":"分類順!A3201","v":0},{"$f":"分類順!B3201","v":0},{"$f":"分類順!C3201","v":0},{"$f":"分類順!D3201","v":0},{"$f":"分類順!E3201","v":0},{"$f":"分類順!F3201","v":0},"00000",1,{"$f":"VLOOKUP(\"*\"&目次加工!$B$2&\"*\",J3202:K3202,2,0)","v":1},1]
[null,null,null,{"$f":"分類順!A3202","v":0},{"$f":"分類順!B3202","v":0},{"$f":"分類順!C3202","v":0},{"$f":"分類順!D3202","v":0},{"$f":"分類順!E3202","v":0},{"$f":"分類順!F3202","v":0},"00000",1,{"$f":"VLOOKUP(\"*\"&目次加工!$B$2&\"*\",J3203:K3203,2,0)","v":1},1]
[null,null,null,{"$f":"分類順!A3203","v":0},{"$f":"分類順!B3203","v":0},{"$f":"分類順!C3203","v":0},{"$f":"分類順!D3203","v":0},{"$f":"分類順!E3203","v":0},{"$f":"分類順!F3203","v":0},"00000",1,{"$f":"VLOOKUP(\"*\"&目次加工!$B$2&\"*\",J3204:K3204,2,0)","v":1},{"$f":"VLOOKUP(\"*\"&$A$2&\"*\",J3204:K3204,2,0)","v":1}]
[null,null,null,{"$f":"分類順!A3204","v":0},{"$f":"分類順!B3204","v":0},{"$f":"分類順!C3204","v":0},{"$f":"分類順!D3204","v":0},{"$f":"分類順!E3204","v":0},{"$f":"分類順!F3204","v":0},"00000",1,{"$f":"VLOOKUP(\"*\"&目次加工!$B$2&\"*\",J3205:K3205,2,0)","v":1},1]
[null,null,null,{"$f":"分類順!A3205","v":0},{"$f":"分類順!B3205","v":0},{"$f":"分類順!C3205","v":0},{"$f":"分類順!D3205","v":0},{"$f":"分類順!E3205","v":0},{"$f":"分類順!F3205","v":0},"00000",1,{"$f":"VLOOKUP(\"*\"&目次加工!$B$2&\"*\",J3206:K3206,2,0)","v":1},1]
[null,null,null,{"$f":"分類順!A3206","v":0},{"$f":"分類順!B3206","v":0},{"$f":"分類順!C3206","v":0},{"$f":"分類順!D3206","v":0},{"$f":"分類順!E3206","v":0},{"$f":"分類順!F3206","v":0},"00000",1,{"$f":"VLOOKUP(\"*\"&目次加工!$B$2&\"*\",J3207:K3207,2,0)","v":1},1]
[null,null,null,{"$f":"分類順!A3207","v":0},{"$f":"分類順!B3207","v":0},{"$f":"分類順!C3207","v":0},{"$f":"分類順!D3207","v":0},{"$f":"分類順!E3207","v":0},{"$f":"分類順!F3207","v":0},"00000",1,{"$f":"VLOOKUP(\"*\"&目次加工!$B$2&\"*\",J3208:K3208,2,0)","v":1},1]
[null,null,null,{"$f":"分類順!A3208","v":0},{"$f":"分類順!B3208","v":0},{"$f":"分類順!C3208","v":0},{"$f":"分類順!D3208","v":0},{"$f":"分類順!E3208","v":0},{"$f":"分類順!F3208","v":0},"00000",1,{"$f":"VLOOKUP(\"*\"&目次加工!$B$2&\"*\",J3209:K3209,2,0)","v":1},1]
[null,null,null,{"$f":"分類順!A3209","v":0},{"$f":"分類順!B3209","v":0},{"$f":"分類順!C3209","v":0},{"$f":"分類順!D3209","v":0},{"$f":"分類順!E3209","v":0},{"$f":"分類順!F3209","v":0},"00000",1,{"$f":"VLOOKUP(\"*\"&目次加工!$B$2&\"*\",J3210:K3210,2,0)","v":1},1]
[null,null,null,{"$f":"分類順!A3210","v":0},{"$f":"分類順!B3210","v":0},{"$f":"分類順!C3210","v":0},{"$f":"分類順!D3210","v":0},{"$f":"分類順!E3210","v":0},{"$f":"分類順!F3210","v":0},"00000",1,{"$f":"VLOOKUP(\"*\"&目次加工!$B$2&\"*\",J3211:K3211,2,0)","v":1},1]
[null,null,null,{"$f":"分類順!A3211","v":0},{"$f":"分類順!B3211","v":0},{"$f":"分類順!C3211","v":0},{"$f":"分類順!D3211","v":0},{"$f":"分類順!E3211","v":0},{"$f":"分類順!F3211","v":0},"00000",1,{"$f":"VLOOKUP(\"*\"&目次加工!$B$2&\"*\",J3212:K3212,2,0)","v":1},1]
[null,null,null,{"$f":"分類順!A3212","v":0},{"$f":"分類順!B3212","v":0},{"$f":"分類順!C3212","v":0},{"$f":"分類順!D3212","v":0},{"$f":"分類順!E3212","v":0},{"$f":"分類順!F3212","v":0},"00000",1,{"$f":"VLOOKUP(\"*\"&目次加工!$B$2&\"*\",J3213:K3213,2,0)","v":1},1]
[null,null,null,{"$f":"分類順!A3213","v":0},{"$f":"分類順!B3213","v":0},{"$f":"分類順!C3213","v":0},{"$f":"分類順!D3213","v":0},{"$f":"分類順!E3213","v":0},{"$f":"分類順!F3213","v":0},"00000",1,{"$f":"VLOOKUP(\"*\"&目次加工!$B$2&\"*\",J3214:K3214,2,0)","v":1},1]
[null,null,null,{"$f":"分類順!A3214","v":0},{"$f":"分類順!B3214","v":0},{"$f":"分類順!C3214","v":0},{"$f":"分類順!D3214","v":0},{"$f":"分類順!E3214","v":0},{"$f":"分類順!F3214","v":0},"00000",1,{"$f":"VLOOKUP(\"*\"&目次加工!$B$2&\"*\",J3215:K3215,2,0)","v":1},1]
[null,null,null,{"$f":"分類順!A3215","v":0},{"$f":"分類順!B3215","v":0},{"$f":"分類順!C3215","v":0},{"$f":"分類順!D3215","v":0},{"$f":"分類順!E3215","v":0},{"$f":"分類順!F3215","v":0},"00000",1,{"$f":"VLOOKUP(\"*\"&目次加工!$B$2&\"*\",J3216:K3216,2,0)","v":1},1]
[null,null,null,{"$f":"分類順!A3216","v":0},{"$f":"分類順!B3216","v":0},{"$f":"分類順!C3216","v":0},{"$f":"分類順!D3216","v":0},{"$f":"分類順!E3216","v":0},{"$f":"分類順!F3216","v":0},"00000",1,{"$f":"VLOOKUP(\"*\"&目次加工!$B$2&\"*\",J3217:K3217,2,0)","v":1},1]
[null,null,null,{"$f":"分類順!A3217","v":0},{"$f":"分類順!B3217","v":0},{"$f":"分類順!C3217","v":0},{"$f":"分類順!D3217","v":0},{"$f":"分類順!E3217","v":0},{"$f":"分類順!F3217","v":0},"00000",1,{"$f":"VLOOKUP(\"*\"&目次加工!$B$2&\"*\",J3218:K3218,2,0)","v":1},1]
[null,null,null,{"$f":"分類順!A3218","v":0},{"$f":"分類順!B3218","v":0},{"$f":"分類順!C3218","v":0},{"$f":"分類順!D3218","v":0},{"$f":"分類順!E3218","v":0},{"$f":"分類順!F3218","v":0},{"$f":"D3219&E3219&F3219&G3219&H3219","v":"00000"},1,{"$f":"VLOOKUP(\"*\"&目次加工!$B$2&\"*\",J3219:K3219,2,0)","v":1},1]
[null,null,null,{"$f":"分類順!A3219","v":0},{"$f":"分類順!B3219","v":0},{"$f":"分類順!C3219","v":0},{"$f":"分類順!D3219","v":0},{"$f":"分類順!E3219","v":0},{"$f":"分類順!F3219","v":0},"00000",1,{"$f":"VLOOKUP(\"*\"&目次加工!$B$2&\"*\",J3220:K3220,2,0)","v":1},1]
[null,null,null,{"$f":"分類順!A3220","v":0},{"$f":"分類順!B3220","v":0},{"$f":"分類順!C3220","v":0},{"$f":"分類順!D3220","v":0},{"$f":"分類順!E3220","v":0},{"$f":"分類順!F3220","v":0},"00000",1,{"$f":"VLOOKUP(\"*\"&目次加工!$B$2&\"*\",J3221:K3221,2,0)","v":1},1]
[null,null,null,{"$f":"分類順!A3221","v":0},{"$f":"分類順!B3221","v":0},{"$f":"分類順!C3221","v":0},{"$f":"分類順!D3221","v":0},{"$f":"分類順!E3221","v":0},{"$f":"分類順!F3221","v":0},"00000",1,{"$f":"VLOOKUP(\"*\"&目次加工!$B$2&\"*\",J3222:K3222,2,0)","v":1},1]
[null,null,null,{"$f":"分類順!A3222","v":0},{"$f":"分類順!B3222","v":0},{"$f":"分類順!C3222","v":0},{"$f":"分類順!D3222","v":0},{"$f":"分類順!E3222","v":0},{"$f":"分類順!F3222","v":0},"00000",1,{"$f":"VLOOKUP(\"*\"&目次加工!$B$2&\"*\",J3223:K3223,2,0)","v":1},1]
[null,null,null,{"$f":"分類順!A3223","v":0},{"$f":"分類順!B3223","v":0},{"$f":"分類順!C3223","v":0},{"$f":"分類順!D3223","v":0},{"$f":"分類順!E3223","v":0},{"$f":"分類順!F3223","v":0},"00000",1,{"$f":"VLOOKUP(\"*\"&目次加工!$B$2&\"*\",J3224:K3224,2,0)","v":1},1]
[null,null,null,{"$f":"分類順!A3224","v":0},{"$f":"分類順!B3224","v":0},{"$f":"分類順!C3224","v":0},{"$f":"分類順!D3224","v":0},{"$f":"分類順!E3224","v":0},{"$f":"分類順!F3224","v":0},"00000",1,{"$f":"VLOOKUP(\"*\"&目次加工!$B$2&\"*\",J3225:K3225,2,0)","v":1},1]
[null,null,null,{"$f":"分類順!A3225","v":0},{"$f":"分類順!B3225","v":0},{"$f":"分類順!C3225","v":0},{"$f":"分類順!D3225","v":0},{"$f":"分類順!E3225","v":0},{"$f":"分類順!F3225","v":0},"00000",1,{"$f":"VLOOKUP(\"*\"&目次加工!$B$2&\"*\",J3226:K3226,2,0)","v":1},1]
[null,null,null,{"$f":"分類順!A3226","v":0},{"$f":"分類順!B3226","v":0},{"$f":"分類順!C3226","v":0},{"$f":"分類順!D3226","v":0},{"$f":"分類順!E3226","v":0},{"$f":"分類順!F3226","v":0},"00000",1,{"$f":"VLOOKUP(\"*\"&目次加工!$B$2&\"*\",J3227:K3227,2,0)","v":1},1]
[null,null,null,{"$f":"分類順!A3227","v":0},{"$f":"分類順!B3227","v":0},{"$f":"分類順!C3227","v":0},{"$f":"分類順!D3227","v":0},{"$f":"分類順!E3227","v":0},{"$f":"分類順!F3227","v":0},"00000",1,{"$f":"VLOOKUP(\"*\"&目次加工!$B$2&\"*\",J3228:K3228,2,0)","v":1},1]
[null,null,null,{"$f":"分類順!A3228","v":0},{"$f":"分類順!B3228","v":0},{"$f":"分類順!C3228","v":0},{"$f":"分類順!D3228","v":0},{"$f":"分類順!E3228","v":0},{"$f":"分類順!F3228","v":0},"00000",1,{"$f":"VLOOKUP(\"*\"&目次加工!$B$2&\"*\",J3229:K3229,2,0)","v":1},1]
[null,null,null,{"$f":"分類順!A3229","v":0},{"$f":"分類順!B3229","v":0},{"$f":"分類順!C3229","v":0},{"$f":"分類順!D3229","v":0},{"$f":"分類順!E3229","v":0},{"$f":"分類順!F3229","v":0},"00000",1,{"$f":"VLOOKUP(\"*\"&目次加工!$B$2&\"*\",J3230:K3230,2,0)","v":1},1]
[null,null,null,{"$f":"分類順!A3230","v":0},{"$f":"分類順!B3230","v":0},{"$f":"分類順!C3230","v":0},{"$f":"分類順!D3230","v":0},{"$f":"分類順!E3230","v":0},{"$f":"分類順!F3230","v":0},"00000",1,{"$f":"VLOOKUP(\"*\"&目次加工!$B$2&\"*\",J3231:K3231,2,0)","v":1},1]
[null,null,null,{"$f":"分類順!A3231","v":0},{"$f":"分類順!B3231","v":0},{"$f":"分類順!C3231","v":0},{"$f":"分類順!D3231","v":0},{"$f":"分類順!E3231","v":0},{"$f":"分類順!F3231","v":0},"00000",1,{"$f":"VLOOKUP(\"*\"&目次加工!$B$2&\"*\",J3232:K3232,2,0)","v":1},1]
[null,null,null,{"$f":"分類順!A3232","v":0},{"$f":"分類順!B3232","v":0},{"$f":"分類順!C3232","v":0},{"$f":"分類順!D3232","v":0},{"$f":"分類順!E3232","v":0},{"$f":"分類順!F3232","v":0},"00000",1,{"$f":"VLOOKUP(\"*\"&目次加工!$B$2&\"*\",J3233:K3233,2,0)","v":1},1]
[null,null,null,{"$f":"分類順!A3233","v":0},{"$f":"分類順!B3233","v":0},{"$f":"分類順!C3233","v":0},{"$f":"分類順!D3233","v":0},{"$f":"分類順!E3233","v":0},{"$f":"分類順!F3233","v":0},"00000",1,{"$f":"VLOOKUP(\"*\"&目次加工!$B$2&\"*\",J3234:K3234,2,0)","v":1},1]
[null,null,null,{"$f":"分類順!A3234","v":0},{"$f":"分類順!B3234","v":0},{"$f":"分類順!C3234","v":0},{"$f":"分類順!D3234","v":0},{"$f":"分類順!E3234","v":0},{"$f":"分類順!F3234","v":0},"00000",1,{"$f":"VLOOKUP(\"*\"&目次加工!$B$2&\"*\",J3235:K3235,2,0)","v":1},1]
[null,null,null,{"$f":"分類順!A3235","v":0},{"$f":"分類順!B3235","v":0},{"$f":"分類順!C3235","v":0},{"$f":"分類順!D3235","v":0},{"$f":"分類順!E3235","v":0},{"$f":"分類順!F3235","v":0},"00000",1,{"$f":"VLOOKUP(\"*\"&目次加工!$B$2&\"*\",J3236:K3236,2,0)","v":1},1]
[null,null,null,{"$f":"分類順!A3236","v":0},{"$f":"分類順!B3236","v":0},{"$f":"分類順!C3236","v":0},{"$f":"分類順!D3236","v":0},{"$f":"分類順!E3236","v":0},{"$f":"分類順!F3236","v":0},"00000",1,{"$f":"VLOOKUP(\"*\"&目次加工!$B$2&\"*\",J3237:K3237,2,0)","v":1},1]
[null,null,null,{"$f":"分類順!A3237","v":0},{"$f":"分類順!B3237","v":0},{"$f":"分類順!C3237","v":0},{"$f":"分類順!D3237","v":0},{"$f":"分類順!E3237","v":0},{"$f":"分類順!F3237","v":0},"00000",1,{"$f":"VLOOKUP(\"*\"&目次加工!$B$2&\"*\",J3238:K3238,2,0)","v":1},1]
[null,null,null,{"$f":"分類順!A3238","v":0},{"$f":"分類順!B3238","v":0},{"$f":"分類順!C3238","v":0},{"$f":"分類順!D3238","v":0},{"$f":"分類順!E3238","v":0},{"$f":"分類順!F3238","v":0},"00000",1,{"$f":"VLOOKUP(\"*\"&目次加工!$B$2&\"*\",J3239:K3239,2,0)","v":1},1]
[null,null,null,{"$f":"分類順!A3239","v":0},{"$f":"分類順!B3239","v":0},{"$f":"分類順!C3239","v":0},{"$f":"分類順!D3239","v":0},{"$f":"分類順!E3239","v":0},{"$f":"分類順!F3239","v":0},"00000",1,{"$f":"VLOOKUP(\"*\"&目次加工!$B$2&\"*\",J3240:K3240,2,0)","v":1},1]
[null,null,null,{"$f":"分類順!A3240","v":0},{"$f":"分類順!B3240","v":0},{"$f":"分類順!C3240","v":0},{"$f":"分類順!D3240","v":0},{"$f":"分類順!E3240","v":0},{"$f":"分類順!F3240","v":0},"00000",1,{"$f":"VLOOKUP(\"*\"&目次加工!$B$2&\"*\",J3241:K3241,2,0)","v":1},1]
[null,null,null,{"$f":"分類順!A3241","v":0},{"$f":"分類順!B3241","v":0},{"$f":"分類順!C3241","v":0},{"$f":"分類順!D3241","v":0},{"$f":"分類順!E3241","v":0},{"$f":"分類順!F3241","v":0},"00000",1,{"$f":"VLOOKUP(\"*\"&目次加工!$B$2&\"*\",J3242:K3242,2,0)","v":1},1]
[null,null,null,{"$f":"分類順!A3242","v":0},{"$f":"分類順!B3242","v":0},{"$f":"分類順!C3242","v":0},{"$f":"分類順!D3242","v":0},{"$f":"分類順!E3242","v":0},{"$f":"分類順!F3242","v":0},"00000",1,{"$f":"VLOOKUP(\"*\"&目次加工!$B$2&\"*\",J3243:K3243,2,0)","v":1},1]
[null,null,null,{"$f":"分類順!A3243","v":0},{"$f":"分類順!B3243","v":0},{"$f":"分類順!C3243","v":0},{"$f":"分類順!D3243","v":0},{"$f":"分類順!E3243","v":0},{"$f":"分類順!F3243","v":0},"00000",1,{"$f":"VLOOKUP(\"*\"&目次加工!$B$2&\"*\",J3244:K3244,2,0)","v":1},1]
[null,null,null,{"$f":"分類順!A3244","v":0},{"$f":"分類順!B3244","v":0},{"$f":"分類順!C3244","v":0},{"$f":"分類順!D3244","v":0},{"$f":"分類順!E3244","v":0},{"$f":"分類順!F3244","v":0},"00000",1,{"$f":"VLOOKUP(\"*\"&目次加工!$B$2&\"*\",J3245:K3245,2,0)","v":1},1]
[null,null,null,{"$f":"分類順!A3245","v":0},{"$f":"分類順!B3245","v":0},{"$f":"分類順!C3245","v":0},{"$f":"分類順!D3245","v":0},{"$f":"分類順!E3245","v":0},{"$f":"分類順!F3245","v":0},"00000",1,{"$f":"VLOOKUP(\"*\"&目次加工!$B$2&\"*\",J3246:K3246,2,0)","v":1},1]
[null,null,null,{"$f":"分類順!A3246","v":0},{"$f":"分類順!B3246","v":0},{"$f":"分類順!C3246","v":0},{"$f":"分類順!D3246","v":0},{"$f":"分類順!E3246","v":0},{"$f":"分類順!F3246","v":0},"00000",1,{"$f":"VLOOKUP(\"*\"&目次加工!$B$2&\"*\",J3247:K3247,2,0)","v":1},1]
[null,null,null,{"$f":"分類順!A3247","v":0},{"$f":"分類順!B3247","v":0},{"$f":"分類順!C3247","v":0},{"$f":"分類順!D3247","v":0},{"$f":"分類順!E3247","v":0},{"$f":"分類順!F3247","v":0},"00000",1,{"$f":"VLOOKUP(\"*\"&目次加工!$B$2&\"*\",J3248:K3248,2,0)","v":1},1]
[null,null,null,{"$f":"分類順!A3248","v":0},{"$f":"分類順!B3248","v":0},{"$f":"分類順!C3248","v":0},{"$f":"分類順!D3248","v":0},{"$f":"分類順!E3248","v":0},{"$f":"分類順!F3248","v":0},"00000",1,{"$f":"VLOOKUP(\"*\"&目次加工!$B$2&\"*\",J3249:K3249,2,0)","v":1},1]
[null,null,null,{"$f":"分類順!A3249","v":0},{"$f":"分類順!B3249","v":0},{"$f":"分類順!C3249","v":0},{"$f":"分類順!D3249","v":0},{"$f":"分類順!E3249","v":0},{"$f":"分類順!F3249","v":0},"00000",1,{"$f":"VLOOKUP(\"*\"&目次加工!$B$2&\"*\",J3250:K3250,2,0)","v":1},1]
[null,null,null,{"$f":"分類順!A3250","v":0},{"$f":"分類順!B3250","v":0},{"$f":"分類順!C3250","v":0},{"$f":"分類順!D3250","v":0},{"$f":"分類順!E3250","v":0},{"$f":"分類順!F3250","v":0},"00000",1,{"$f":"VLOOKUP(\"*\"&目次加工!$B$2&\"*\",J3251:K3251,2,0)","v":1},1]
[null,null,null,{"$f":"分類順!A3251","v":0},{"$f":"分類順!B3251","v":0},{"$f":"分類順!C3251","v":0},{"$f":"分類順!D3251","v":0},{"$f":"分類順!E3251","v":0},{"$f":"分類順!F3251","v":0},"00000",1,{"$f":"VLOOKUP(\"*\"&目次加工!$B$2&\"*\",J3252:K3252,2,0)","v":1},1]
[null,null,null,{"$f":"分類順!A3252","v":0},{"$f":"分類順!B3252","v":0},{"$f":"分類順!C3252","v":0},{"$f":"分類順!D3252","v":0},{"$f":"分類順!E3252","v":0},{"$f":"分類順!F3252","v":0},"00000",1,{"$f":"VLOOKUP(\"*\"&目次加工!$B$2&\"*\",J3253:K3253,2,0)","v":1},1]
[null,null,null,{"$f":"分類順!A3253","v":0},{"$f":"分類順!B3253","v":0},{"$f":"分類順!C3253","v":0},{"$f":"分類順!D3253","v":0},{"$f":"分類順!E3253","v":0},{"$f":"分類順!F3253","v":0},"00000",1,{"$f":"VLOOKUP(\"*\"&目次加工!$B$2&\"*\",J3254:K3254,2,0)","v":1},1]
[null,null,null,{"$f":"分類順!A3254","v":0},{"$f":"分類順!B3254","v":0},{"$f":"分類順!C3254","v":0},{"$f":"分類順!D3254","v":0},{"$f":"分類順!E3254","v":0},{"$f":"分類順!F3254","v":0},"00000",1,{"$f":"VLOOKUP(\"*\"&目次加工!$B$2&\"*\",J3255:K3255,2,0)","v":1},1]
[null,null,null,{"$f":"分類順!A3255","v":0},{"$f":"分類順!B3255","v":0},{"$f":"分類順!C3255","v":0},{"$f":"分類順!D3255","v":0},{"$f":"分類順!E3255","v":0},{"$f":"分類順!F3255","v":0},"00000",1,{"$f":"VLOOKUP(\"*\"&目次加工!$B$2&\"*\",J3256:K3256,2,0)","v":1},1]
[null,null,null,{"$f":"分類順!A3256","v":0},{"$f":"分類順!B3256","v":0},{"$f":"分類順!C3256","v":0},{"$f":"分類順!D3256","v":0},{"$f":"分類順!E3256","v":0},{"$f":"分類順!F3256","v":0},"00000",1,{"$f":"VLOOKUP(\"*\"&目次加工!$B$2&\"*\",J3257:K3257,2,0)","v":1},1]
[null,null,null,{"$f":"分類順!A3257","v":0},{"$f":"分類順!B3257","v":0},{"$f":"分類順!C3257","v":0},{"$f":"分類順!D3257","v":0},{"$f":"分類順!E3257","v":0},{"$f":"分類順!F3257","v":0},"00000",1,{"$f":"VLOOKUP(\"*\"&目次加工!$B$2&\"*\",J3258:K3258,2,0)","v":1},1]
[null,null,null,{"$f":"分類順!A3258","v":0},{"$f":"分類順!B3258","v":0},{"$f":"分類順!C3258","v":0},{"$f":"分類順!D3258","v":0},{"$f":"分類順!E3258","v":0},{"$f":"分類順!F3258","v":0},"00000",1,{"$f":"VLOOKUP(\"*\"&目次加工!$B$2&\"*\",J3259:K3259,2,0)","v":1},1]
[null,null,null,{"$f":"分類順!A3259","v":0},{"$f":"分類順!B3259","v":0},{"$f":"分類順!C3259","v":0},{"$f":"分類順!D3259","v":0},{"$f":"分類順!E3259","v":0},{"$f":"分類順!F3259","v":0},"00000",1,{"$f":"VLOOKUP(\"*\"&目次加工!$B$2&\"*\",J3260:K3260,2,0)","v":1},1]
[null,null,null,{"$f":"分類順!A3260","v":0},{"$f":"分類順!B3260","v":0},{"$f":"分類順!C3260","v":0},{"$f":"分類順!D3260","v":0},{"$f":"分類順!E3260","v":0},{"$f":"分類順!F3260","v":0},"00000",1,{"$f":"VLOOKUP(\"*\"&目次加工!$B$2&\"*\",J3261:K3261,2,0)","v":1},1]
[null,null,null,{"$f":"分類順!A3261","v":0},{"$f":"分類順!B3261","v":0},{"$f":"分類順!C3261","v":0},{"$f":"分類順!D3261","v":0},{"$f":"分類順!E3261","v":0},{"$f":"分類順!F3261","v":0},"00000",1,{"$f":"VLOOKUP(\"*\"&目次加工!$B$2&\"*\",J3262:K3262,2,0)","v":1},1]
[null,null,null,{"$f":"分類順!A3262","v":0},{"$f":"分類順!B3262","v":0},{"$f":"分類順!C3262","v":0},{"$f":"分類順!D3262","v":0},{"$f":"分類順!E3262","v":0},{"$f":"分類順!F3262","v":0},"00000",1,{"$f":"VLOOKUP(\"*\"&目次加工!$B$2&\"*\",J3263:K3263,2,0)","v":1},1]
[null,null,null,{"$f":"分類順!A3263","v":0},{"$f":"分類順!B3263","v":0},{"$f":"分類順!C3263","v":0},{"$f":"分類順!D3263","v":0},{"$f":"分類順!E3263","v":0},{"$f":"分類順!F3263","v":0},"00000",1,{"$f":"VLOOKUP(\"*\"&目次加工!$B$2&\"*\",J3264:K3264,2,0)","v":1},1]
[null,null,null,{"$f":"分類順!A3264","v":0},{"$f":"分類順!B3264","v":0},{"$f":"分類順!C3264","v":0},{"$f":"分類順!D3264","v":0},{"$f":"分類順!E3264","v":0},{"$f":"分類順!F3264","v":0},"00000",1,{"$f":"VLOOKUP(\"*\"&目次加工!$B$2&\"*\",J3265:K3265,2,0)","v":1},1]
[null,null,null,{"$f":"分類順!A3265","v":0},{"$f":"分類順!B3265","v":0},{"$f":"分類順!C3265","v":0},{"$f":"分類順!D3265","v":0},{"$f":"分類順!E3265","v":0},{"$f":"分類順!F3265","v":0},"00000",1,{"$f":"VLOOKUP(\"*\"&目次加工!$B$2&\"*\",J3266:K3266,2,0)","v":1},1]
[null,null,null,{"$f":"分類順!A3266","v":0},{"$f":"分類順!B3266","v":0},{"$f":"分類順!C3266","v":0},{"$f":"分類順!D3266","v":0},{"$f":"分類順!E3266","v":0},{"$f":"分類順!F3266","v":0},"00000",1,{"$f":"VLOOKUP(\"*\"&目次加工!$B$2&\"*\",J3267:K3267,2,0)","v":1},1]
[null,null,null,{"$f":"分類順!A3267","v":0},{"$f":"分類順!B3267","v":0},{"$f":"分類順!C3267","v":0},{"$f":"分類順!D3267","v":0},{"$f":"分類順!E3267","v":0},{"$f":"分類順!F3267","v":0},"00000",1,{"$f":"VLOOKUP(\"*\"&目次加工!$B$2&\"*\",J3268:K3268,2,0)","v":1},{"$f":"VLOOKUP(\"*\"&$A$2&\"*\",J3268:K3268,2,0)","v":1}]
[null,null,null,{"$f":"分類順!A3268","v":0},{"$f":"分類順!B3268","v":0},{"$f":"分類順!C3268","v":0},{"$f":"分類順!D3268","v":0},{"$f":"分類順!E3268","v":0},{"$f":"分類順!F3268","v":0},"00000",1,{"$f":"VLOOKUP(\"*\"&目次加工!$B$2&\"*\",J3269:K3269,2,0)","v":1},1]
[null,null,null,{"$f":"分類順!A3269","v":0},{"$f":"分類順!B3269","v":0},{"$f":"分類順!C3269","v":0},{"$f":"分類順!D3269","v":0},{"$f":"分類順!E3269","v":0},{"$f":"分類順!F3269","v":0},"00000",1,{"$f":"VLOOKUP(\"*\"&目次加工!$B$2&\"*\",J3270:K3270,2,0)","v":1},1]
[null,null,null,{"$f":"分類順!A3270","v":0},{"$f":"分類順!B3270","v":0},{"$f":"分類順!C3270","v":0},{"$f":"分類順!D3270","v":0},{"$f":"分類順!E3270","v":0},{"$f":"分類順!F3270","v":0},"00000",1,{"$f":"VLOOKUP(\"*\"&目次加工!$B$2&\"*\",J3271:K3271,2,0)","v":1},1]
[null,null,null,{"$f":"分類順!A3271","v":0},{"$f":"分類順!B3271","v":0},{"$f":"分類順!C3271","v":0},{"$f":"分類順!D3271","v":0},{"$f":"分類順!E3271","v":0},{"$f":"分類順!F3271","v":0},"00000",1,{"$f":"VLOOKUP(\"*\"&目次加工!$B$2&\"*\",J3272:K3272,2,0)","v":1},1]
[null,null,null,{"$f":"分類順!A3272","v":0},{"$f":"分類順!B3272","v":0},{"$f":"分類順!C3272","v":0},{"$f":"分類順!D3272","v":0},{"$f":"分類順!E3272","v":0},{"$f":"分類順!F3272","v":0},"00000",1,{"$f":"VLOOKUP(\"*\"&目次加工!$B$2&\"*\",J3273:K3273,2,0)","v":1},1]
[null,null,null,{"$f":"分類順!A3273","v":0},{"$f":"分類順!B3273","v":0},{"$f":"分類順!C3273","v":0},{"$f":"分類順!D3273","v":0},{"$f":"分類順!E3273","v":0},{"$f":"分類順!F3273","v":0},"00000",1,{"$f":"VLOOKUP(\"*\"&目次加工!$B$2&\"*\",J3274:K3274,2,0)","v":1},1]
[null,null,null,{"$f":"分類順!A3274","v":0},{"$f":"分類順!B3274","v":0},{"$f":"分類順!C3274","v":0},{"$f":"分類順!D3274","v":0},{"$f":"分類順!E3274","v":0},{"$f":"分類順!F3274","v":0},"00000",1,{"$f":"VLOOKUP(\"*\"&目次加工!$B$2&\"*\",J3275:K3275,2,0)","v":1},1]
[null,null,null,{"$f":"分類順!A3275","v":0},{"$f":"分類順!B3275","v":0},{"$f":"分類順!C3275","v":0},{"$f":"分類順!D3275","v":0},{"$f":"分類順!E3275","v":0},{"$f":"分類順!F3275","v":0},"00000",1,{"$f":"VLOOKUP(\"*\"&目次加工!$B$2&\"*\",J3276:K3276,2,0)","v":1},1]
[null,null,null,{"$f":"分類順!A3276","v":0},{"$f":"分類順!B3276","v":0},{"$f":"分類順!C3276","v":0},{"$f":"分類順!D3276","v":0},{"$f":"分類順!E3276","v":0},{"$f":"分類順!F3276","v":0},"00000",1,{"$f":"VLOOKUP(\"*\"&目次加工!$B$2&\"*\",J3277:K3277,2,0)","v":1},1]
[null,null,null,{"$f":"分類順!A3277","v":0},{"$f":"分類順!B3277","v":0},{"$f":"分類順!C3277","v":0},{"$f":"分類順!D3277","v":0},{"$f":"分類順!E3277","v":0},{"$f":"分類順!F3277","v":0},"00000",1,{"$f":"VLOOKUP(\"*\"&目次加工!$B$2&\"*\",J3278:K3278,2,0)","v":1},1]
[null,null,null,{"$f":"分類順!A3278","v":0},{"$f":"分類順!B3278","v":0},{"$f":"分類順!C3278","v":0},{"$f":"分類順!D3278","v":0},{"$f":"分類順!E3278","v":0},{"$f":"分類順!F3278","v":0},"00000",1,{"$f":"VLOOKUP(\"*\"&目次加工!$B$2&\"*\",J3279:K3279,2,0)","v":1},1]
[null,null,null,{"$f":"分類順!A3279","v":0},{"$f":"分類順!B3279","v":0},{"$f":"分類順!C3279","v":0},{"$f":"分類順!D3279","v":0},{"$f":"分類順!E3279","v":0},{"$f":"分類順!F3279","v":0},"00000",1,{"$f":"VLOOKUP(\"*\"&目次加工!$B$2&\"*\",J3280:K3280,2,0)","v":1},1]
[null,null,null,{"$f":"分類順!A3280","v":0},{"$f":"分類順!B3280","v":0},{"$f":"分類順!C3280","v":0},{"$f":"分類順!D3280","v":0},{"$f":"分類順!E3280","v":0},{"$f":"分類順!F3280","v":0},"00000",1,{"$f":"VLOOKUP(\"*\"&目次加工!$B$2&\"*\",J3281:K3281,2,0)","v":1},1]
[null,null,null,{"$f":"分類順!A3281","v":0},{"$f":"分類順!B3281","v":0},{"$f":"分類順!C3281","v":0},{"$f":"分類順!D3281","v":0},{"$f":"分類順!E3281","v":0},{"$f":"分類順!F3281","v":0},"00000",1,{"$f":"VLOOKUP(\"*\"&目次加工!$B$2&\"*\",J3282:K3282,2,0)","v":1},1]
[null,null,null,{"$f":"分類順!A3282","v":0},{"$f":"分類順!B3282","v":0},{"$f":"分類順!C3282","v":0},{"$f":"分類順!D3282","v":0},{"$f":"分類順!E3282","v":0},{"$f":"分類順!F3282","v":0},{"$f":"D3283&E3283&F3283&G3283&H3283","v":"00000"},1,{"$f":"VLOOKUP(\"*\"&目次加工!$B$2&\"*\",J3283:K3283,2,0)","v":1},1]
[null,null,null,{"$f":"分類順!A3283","v":0},{"$f":"分類順!B3283","v":0},{"$f":"分類順!C3283","v":0},{"$f":"分類順!D3283","v":0},{"$f":"分類順!E3283","v":0},{"$f":"分類順!F3283","v":0},"00000",1,{"$f":"VLOOKUP(\"*\"&目次加工!$B$2&\"*\",J3284:K3284,2,0)","v":1},1]
[null,null,null,{"$f":"分類順!A3284","v":0},{"$f":"分類順!B3284","v":0},{"$f":"分類順!C3284","v":0},{"$f":"分類順!D3284","v":0},{"$f":"分類順!E3284","v":0},{"$f":"分類順!F3284","v":0},"00000",1,{"$f":"VLOOKUP(\"*\"&目次加工!$B$2&\"*\",J3285:K3285,2,0)","v":1},1]
[null,null,null,{"$f":"分類順!A3285","v":0},{"$f":"分類順!B3285","v":0},{"$f":"分類順!C3285","v":0},{"$f":"分類順!D3285","v":0},{"$f":"分類順!E3285","v":0},{"$f":"分類順!F3285","v":0},"00000",1,{"$f":"VLOOKUP(\"*\"&目次加工!$B$2&\"*\",J3286:K3286,2,0)","v":1},1]
[null,null,null,{"$f":"分類順!A3286","v":0},{"$f":"分類順!B3286","v":0},{"$f":"分類順!C3286","v":0},{"$f":"分類順!D3286","v":0},{"$f":"分類順!E3286","v":0},{"$f":"分類順!F3286","v":0},"00000",1,{"$f":"VLOOKUP(\"*\"&目次加工!$B$2&\"*\",J3287:K3287,2,0)","v":1},1]
[null,null,null,{"$f":"分類順!A3287","v":0},{"$f":"分類順!B3287","v":0},{"$f":"分類順!C3287","v":0},{"$f":"分類順!D3287","v":0},{"$f":"分類順!E3287","v":0},{"$f":"分類順!F3287","v":0},"00000",1,{"$f":"VLOOKUP(\"*\"&目次加工!$B$2&\"*\",J3288:K3288,2,0)","v":1},1]
[null,null,null,{"$f":"分類順!A3288","v":0},{"$f":"分類順!B3288","v":0},{"$f":"分類順!C3288","v":0},{"$f":"分類順!D3288","v":0},{"$f":"分類順!E3288","v":0},{"$f":"分類順!F3288","v":0},"00000",1,{"$f":"VLOOKUP(\"*\"&目次加工!$B$2&\"*\",J3289:K3289,2,0)","v":1},1]
[null,null,null,{"$f":"分類順!A3289","v":0},{"$f":"分類順!B3289","v":0},{"$f":"分類順!C3289","v":0},{"$f":"分類順!D3289","v":0},{"$f":"分類順!E3289","v":0},{"$f":"分類順!F3289","v":0},"00000",1,{"$f":"VLOOKUP(\"*\"&目次加工!$B$2&\"*\",J3290:K3290,2,0)","v":1},1]
[null,null,null,{"$f":"分類順!A3290","v":0},{"$f":"分類順!B3290","v":0},{"$f":"分類順!C3290","v":0},{"$f":"分類順!D3290","v":0},{"$f":"分類順!E3290","v":0},{"$f":"分類順!F3290","v":0},"00000",1,{"$f":"VLOOKUP(\"*\"&目次加工!$B$2&\"*\",J3291:K3291,2,0)","v":1},1]
[null,null,null,{"$f":"分類順!A3291","v":0},{"$f":"分類順!B3291","v":0},{"$f":"分類順!C3291","v":0},{"$f":"分類順!D3291","v":0},{"$f":"分類順!E3291","v":0},{"$f":"分類順!F3291","v":0},"00000",1,{"$f":"VLOOKUP(\"*\"&目次加工!$B$2&\"*\",J3292:K3292,2,0)","v":1},1]
[null,null,null,{"$f":"分類順!A3292","v":0},{"$f":"分類順!B3292","v":0},{"$f":"分類順!C3292","v":0},{"$f":"分類順!D3292","v":0},{"$f":"分類順!E3292","v":0},{"$f":"分類順!F3292","v":0},"00000",1,{"$f":"VLOOKUP(\"*\"&目次加工!$B$2&\"*\",J3293:K3293,2,0)","v":1},1]
[null,null,null,{"$f":"分類順!A3293","v":0},{"$f":"分類順!B3293","v":0},{"$f":"分類順!C3293","v":0},{"$f":"分類順!D3293","v":0},{"$f":"分類順!E3293","v":0},{"$f":"分類順!F3293","v":0},"00000",1,{"$f":"VLOOKUP(\"*\"&目次加工!$B$2&\"*\",J3294:K3294,2,0)","v":1},1]
[null,null,null,{"$f":"分類順!A3294","v":0},{"$f":"分類順!B3294","v":0},{"$f":"分類順!C3294","v":0},{"$f":"分類順!D3294","v":0},{"$f":"分類順!E3294","v":0},{"$f":"分類順!F3294","v":0},"00000",1,{"$f":"VLOOKUP(\"*\"&目次加工!$B$2&\"*\",J3295:K3295,2,0)","v":1},1]
[null,null,null,{"$f":"分類順!A3295","v":0},{"$f":"分類順!B3295","v":0},{"$f":"分類順!C3295","v":0},{"$f":"分類順!D3295","v":0},{"$f":"分類順!E3295","v":0},{"$f":"分類順!F3295","v":0},"00000",1,{"$f":"VLOOKUP(\"*\"&目次加工!$B$2&\"*\",J3296:K3296,2,0)","v":1},1]
[null,null,null,{"$f":"分類順!A3296","v":0},{"$f":"分類順!B3296","v":0},{"$f":"分類順!C3296","v":0},{"$f":"分類順!D3296","v":0},{"$f":"分類順!E3296","v":0},{"$f":"分類順!F3296","v":0},"00000",1,{"$f":"VLOOKUP(\"*\"&目次加工!$B$2&\"*\",J3297:K3297,2,0)","v":1},1]
[null,null,null,{"$f":"分類順!A3297","v":0},{"$f":"分類順!B3297","v":0},{"$f":"分類順!C3297","v":0},{"$f":"分類順!D3297","v":0},{"$f":"分類順!E3297","v":0},{"$f":"分類順!F3297","v":0},"00000",1,{"$f":"VLOOKUP(\"*\"&目次加工!$B$2&\"*\",J3298:K3298,2,0)","v":1},1]
[null,null,null,{"$f":"分類順!A3298","v":0},{"$f":"分類順!B3298","v":0},{"$f":"分類順!C3298","v":0},{"$f":"分類順!D3298","v":0},{"$f":"分類順!E3298","v":0},{"$f":"分類順!F3298","v":0},"00000",1,{"$f":"VLOOKUP(\"*\"&目次加工!$B$2&\"*\",J3299:K3299,2,0)","v":1},1]
[null,null,null,{"$f":"分類順!A3299","v":0},{"$f":"分類順!B3299","v":0},{"$f":"分類順!C3299","v":0},{"$f":"分類順!D3299","v":0},{"$f":"分類順!E3299","v":0},{"$f":"分類順!F3299","v":0},"00000",1,{"$f":"VLOOKUP(\"*\"&目次加工!$B$2&\"*\",J3300:K3300,2,0)","v":1},1]
[null,null,null,{"$f":"分類順!A3300","v":0},{"$f":"分類順!B3300","v":0},{"$f":"分類順!C3300","v":0},{"$f":"分類順!D3300","v":0},{"$f":"分類順!E3300","v":0},{"$f":"分類順!F3300","v":0},"00000",1,{"$f":"VLOOKUP(\"*\"&目次加工!$B$2&\"*\",J3301:K3301,2,0)","v":1},1]
[null,null,null,{"$f":"分類順!A3301","v":0},{"$f":"分類順!B3301","v":0},{"$f":"分類順!C3301","v":0},{"$f":"分類順!D3301","v":0},{"$f":"分類順!E3301","v":0},{"$f":"分類順!F3301","v":0},"00000",1,{"$f":"VLOOKUP(\"*\"&目次加工!$B$2&\"*\",J3302:K3302,2,0)","v":1},1]
[null,null,null,{"$f":"分類順!A3302","v":0},{"$f":"分類順!B3302","v":0},{"$f":"分類順!C3302","v":0},{"$f":"分類順!D3302","v":0},{"$f":"分類順!E3302","v":0},{"$f":"分類順!F3302","v":0},"00000",1,{"$f":"VLOOKUP(\"*\"&目次加工!$B$2&\"*\",J3303:K3303,2,0)","v":1},1]
[null,null,null,{"$f":"分類順!A3303","v":0},{"$f":"分類順!B3303","v":0},{"$f":"分類順!C3303","v":0},{"$f":"分類順!D3303","v":0},{"$f":"分類順!E3303","v":0},{"$f":"分類順!F3303","v":0},"00000",1,{"$f":"VLOOKUP(\"*\"&目次加工!$B$2&\"*\",J3304:K3304,2,0)","v":1},1]
[null,null,null,{"$f":"分類順!A3304","v":0},{"$f":"分類順!B3304","v":0},{"$f":"分類順!C3304","v":0},{"$f":"分類順!D3304","v":0},{"$f":"分類順!E3304","v":0},{"$f":"分類順!F3304","v":0},"00000",1,{"$f":"VLOOKUP(\"*\"&目次加工!$B$2&\"*\",J3305:K3305,2,0)","v":1},1]
[null,null,null,{"$f":"分類順!A3305","v":0},{"$f":"分類順!B3305","v":0},{"$f":"分類順!C3305","v":0},{"$f":"分類順!D3305","v":0},{"$f":"分類順!E3305","v":0},{"$f":"分類順!F3305","v":0},"00000",1,{"$f":"VLOOKUP(\"*\"&目次加工!$B$2&\"*\",J3306:K3306,2,0)","v":1},1]
[null,null,null,{"$f":"分類順!A3306","v":0},{"$f":"分類順!B3306","v":0},{"$f":"分類順!C3306","v":0},{"$f":"分類順!D3306","v":0},{"$f":"分類順!E3306","v":0},{"$f":"分類順!F3306","v":0},"00000",1,{"$f":"VLOOKUP(\"*\"&目次加工!$B$2&\"*\",J3307:K3307,2,0)","v":1},1]
[null,null,null,{"$f":"分類順!A3307","v":0},{"$f":"分類順!B3307","v":0},{"$f":"分類順!C3307","v":0},{"$f":"分類順!D3307","v":0},{"$f":"分類順!E3307","v":0},{"$f":"分類順!F3307","v":0},"00000",1,{"$f":"VLOOKUP(\"*\"&目次加工!$B$2&\"*\",J3308:K3308,2,0)","v":1},1]
[null,null,null,{"$f":"分類順!A3308","v":0},{"$f":"分類順!B3308","v":0},{"$f":"分類順!C3308","v":0},{"$f":"分類順!D3308","v":0},{"$f":"分類順!E3308","v":0},{"$f":"分類順!F3308","v":0},"00000",1,{"$f":"VLOOKUP(\"*\"&目次加工!$B$2&\"*\",J3309:K3309,2,0)","v":1},1]
[null,null,null,{"$f":"分類順!A3309","v":0},{"$f":"分類順!B3309","v":0},{"$f":"分類順!C3309","v":0},{"$f":"分類順!D3309","v":0},{"$f":"分類順!E3309","v":0},{"$f":"分類順!F3309","v":0},"00000",1,{"$f":"VLOOKUP(\"*\"&目次加工!$B$2&\"*\",J3310:K3310,2,0)","v":1},1]
[null,null,null,{"$f":"分類順!A3310","v":0},{"$f":"分類順!B3310","v":0},{"$f":"分類順!C3310","v":0},{"$f":"分類順!D3310","v":0},{"$f":"分類順!E3310","v":0},{"$f":"分類順!F3310","v":0},"00000",1,{"$f":"VLOOKUP(\"*\"&目次加工!$B$2&\"*\",J3311:K3311,2,0)","v":1},1]
[null,null,null,{"$f":"分類順!A3311","v":0},{"$f":"分類順!B3311","v":0},{"$f":"分類順!C3311","v":0},{"$f":"分類順!D3311","v":0},{"$f":"分類順!E3311","v":0},{"$f":"分類順!F3311","v":0},"00000",1,{"$f":"VLOOKUP(\"*\"&目次加工!$B$2&\"*\",J3312:K3312,2,0)","v":1},1]
[null,null,null,{"$f":"分類順!A3312","v":0},{"$f":"分類順!B3312","v":0},{"$f":"分類順!C3312","v":0},{"$f":"分類順!D3312","v":0},{"$f":"分類順!E3312","v":0},{"$f":"分類順!F3312","v":0},"00000",1,{"$f":"VLOOKUP(\"*\"&目次加工!$B$2&\"*\",J3313:K3313,2,0)","v":1},1]
[null,null,null,{"$f":"分類順!A3313","v":0},{"$f":"分類順!B3313","v":0},{"$f":"分類順!C3313","v":0},{"$f":"分類順!D3313","v":0},{"$f":"分類順!E3313","v":0},{"$f":"分類順!F3313","v":0},"00000",1,{"$f":"VLOOKUP(\"*\"&目次加工!$B$2&\"*\",J3314:K3314,2,0)","v":1},1]
[null,null,null,{"$f":"分類順!A3314","v":0},{"$f":"分類順!B3314","v":0},{"$f":"分類順!C3314","v":0},{"$f":"分類順!D3314","v":0},{"$f":"分類順!E3314","v":0},{"$f":"分類順!F3314","v":0},"00000",1,{"$f":"VLOOKUP(\"*\"&目次加工!$B$2&\"*\",J3315:K3315,2,0)","v":1},1]
[null,null,null,{"$f":"分類順!A3315","v":0},{"$f":"分類順!B3315","v":0},{"$f":"分類順!C3315","v":0},{"$f":"分類順!D3315","v":0},{"$f":"分類順!E3315","v":0},{"$f":"分類順!F3315","v":0},"00000",1,{"$f":"VLOOKUP(\"*\"&目次加工!$B$2&\"*\",J3316:K3316,2,0)","v":1},1]
[null,null,null,{"$f":"分類順!A3316","v":0},{"$f":"分類順!B3316","v":0},{"$f":"分類順!C3316","v":0},{"$f":"分類順!D3316","v":0},{"$f":"分類順!E3316","v":0},{"$f":"分類順!F3316","v":0},"00000",1,{"$f":"VLOOKUP(\"*\"&目次加工!$B$2&\"*\",J3317:K3317,2,0)","v":1},1]
[null,null,null,{"$f":"分類順!A3317","v":0},{"$f":"分類順!B3317","v":0},{"$f":"分類順!C3317","v":0},{"$f":"分類順!D3317","v":0},{"$f":"分類順!E3317","v":0},{"$f":"分類順!F3317","v":0},"00000",1,{"$f":"VLOOKUP(\"*\"&目次加工!$B$2&\"*\",J3318:K3318,2,0)","v":1},1]
[null,null,null,{"$f":"分類順!A3318","v":0},{"$f":"分類順!B3318","v":0},{"$f":"分類順!C3318","v":0},{"$f":"分類順!D3318","v":0},{"$f":"分類順!E3318","v":0},{"$f":"分類順!F3318","v":0},"00000",1,{"$f":"VLOOKUP(\"*\"&目次加工!$B$2&\"*\",J3319:K3319,2,0)","v":1},1]
[null,null,null,{"$f":"分類順!A3319","v":0},{"$f":"分類順!B3319","v":0},{"$f":"分類順!C3319","v":0},{"$f":"分類順!D3319","v":0},{"$f":"分類順!E3319","v":0},{"$f":"分類順!F3319","v":0},"00000",1,{"$f":"VLOOKUP(\"*\"&目次加工!$B$2&\"*\",J3320:K3320,2,0)","v":1},1]
[null,null,null,{"$f":"分類順!A3320","v":0},{"$f":"分類順!B3320","v":0},{"$f":"分類順!C3320","v":0},{"$f":"分類順!D3320","v":0},{"$f":"分類順!E3320","v":0},{"$f":"分類順!F3320","v":0},"00000",1,{"$f":"VLOOKUP(\"*\"&目次加工!$B$2&\"*\",J3321:K3321,2,0)","v":1},1]
[null,null,null,{"$f":"分類順!A3321","v":0},{"$f":"分類順!B3321","v":0},{"$f":"分類順!C3321","v":0},{"$f":"分類順!D3321","v":0},{"$f":"分類順!E3321","v":0},{"$f":"分類順!F3321","v":0},"00000",1,{"$f":"VLOOKUP(\"*\"&目次加工!$B$2&\"*\",J3322:K3322,2,0)","v":1},1]
[null,null,null,{"$f":"分類順!A3322","v":0},{"$f":"分類順!B3322","v":0},{"$f":"分類順!C3322","v":0},{"$f":"分類順!D3322","v":0},{"$f":"分類順!E3322","v":0},{"$f":"分類順!F3322","v":0},"00000",1,{"$f":"VLOOKUP(\"*\"&目次加工!$B$2&\"*\",J3323:K3323,2,0)","v":1},1]
[null,null,null,{"$f":"分類順!A3323","v":0},{"$f":"分類順!B3323","v":0},{"$f":"分類順!C3323","v":0},{"$f":"分類順!D3323","v":0},{"$f":"分類順!E3323","v":0},{"$f":"分類順!F3323","v":0},"00000",1,{"$f":"VLOOKUP(\"*\"&目次加工!$B$2&\"*\",J3324:K3324,2,0)","v":1},1]
[null,null,null,{"$f":"分類順!A3324","v":0},{"$f":"分類順!B3324","v":0},{"$f":"分類順!C3324","v":0},{"$f":"分類順!D3324","v":0},{"$f":"分類順!E3324","v":0},{"$f":"分類順!F3324","v":0},"00000",1,{"$f":"VLOOKUP(\"*\"&目次加工!$B$2&\"*\",J3325:K3325,2,0)","v":1},1]
[null,null,null,{"$f":"分類順!A3325","v":0},{"$f":"分類順!B3325","v":0},{"$f":"分類順!C3325","v":0},{"$f":"分類順!D3325","v":0},{"$f":"分類順!E3325","v":0},{"$f":"分類順!F3325","v":0},"00000",1,{"$f":"VLOOKUP(\"*\"&目次加工!$B$2&\"*\",J3326:K3326,2,0)","v":1},1]
[null,null,null,{"$f":"分類順!A3326","v":0},{"$f":"分類順!B3326","v":0},{"$f":"分類順!C3326","v":0},{"$f":"分類順!D3326","v":0},{"$f":"分類順!E3326","v":0},{"$f":"分類順!F3326","v":0},"00000",1,{"$f":"VLOOKUP(\"*\"&目次加工!$B$2&\"*\",J3327:K3327,2,0)","v":1},1]
[null,null,null,{"$f":"分類順!A3327","v":0},{"$f":"分類順!B3327","v":0},{"$f":"分類順!C3327","v":0},{"$f":"分類順!D3327","v":0},{"$f":"分類順!E3327","v":0},{"$f":"分類順!F3327","v":0},"00000",1,{"$f":"VLOOKUP(\"*\"&目次加工!$B$2&\"*\",J3328:K3328,2,0)","v":1},1]
[null,null,null,{"$f":"分類順!A3328","v":0},{"$f":"分類順!B3328","v":0},{"$f":"分類順!C3328","v":0},{"$f":"分類順!D3328","v":0},{"$f":"分類順!E3328","v":0},{"$f":"分類順!F3328","v":0},"00000",1,{"$f":"VLOOKUP(\"*\"&目次加工!$B$2&\"*\",J3329:K3329,2,0)","v":1},1]
[null,null,null,{"$f":"分類順!A3329","v":0},{"$f":"分類順!B3329","v":0},{"$f":"分類順!C3329","v":0},{"$f":"分類順!D3329","v":0},{"$f":"分類順!E3329","v":0},{"$f":"分類順!F3329","v":0},"00000",1,{"$f":"VLOOKUP(\"*\"&目次加工!$B$2&\"*\",J3330:K3330,2,0)","v":1},1]
[null,null,null,{"$f":"分類順!A3330","v":0},{"$f":"分類順!B3330","v":0},{"$f":"分類順!C3330","v":0},{"$f":"分類順!D3330","v":0},{"$f":"分類順!E3330","v":0},{"$f":"分類順!F3330","v":0},"00000",1,{"$f":"VLOOKUP(\"*\"&目次加工!$B$2&\"*\",J3331:K3331,2,0)","v":1},1]
[null,null,null,{"$f":"分類順!A3331","v":0},{"$f":"分類順!B3331","v":0},{"$f":"分類順!C3331","v":0},{"$f":"分類順!D3331","v":0},{"$f":"分類順!E3331","v":0},{"$f":"分類順!F3331","v":0},"00000",1,{"$f":"VLOOKUP(\"*\"&目次加工!$B$2&\"*\",J3332:K3332,2,0)","v":1},{"$f":"VLOOKUP(\"*\"&$A$2&\"*\",J3332:K3332,2,0)","v":1}]
[null,null,null,{"$f":"分類順!A3332","v":0},{"$f":"分類順!B3332","v":0},{"$f":"分類順!C3332","v":0},{"$f":"分類順!D3332","v":0},{"$f":"分類順!E3332","v":0},{"$f":"分類順!F3332","v":0},"00000",1,{"$f":"VLOOKUP(\"*\"&目次加工!$B$2&\"*\",J3333:K3333,2,0)","v":1},1]
[null,null,null,{"$f":"分類順!A3333","v":0},{"$f":"分類順!B3333","v":0},{"$f":"分類順!C3333","v":0},{"$f":"分類順!D3333","v":0},{"$f":"分類順!E3333","v":0},{"$f":"分類順!F3333","v":0},"00000",1,{"$f":"VLOOKUP(\"*\"&目次加工!$B$2&\"*\",J3334:K3334,2,0)","v":1},1]
[null,null,null,{"$f":"分類順!A3334","v":0},{"$f":"分類順!B3334","v":0},{"$f":"分類順!C3334","v":0},{"$f":"分類順!D3334","v":0},{"$f":"分類順!E3334","v":0},{"$f":"分類順!F3334","v":0},"00000",1,{"$f":"VLOOKUP(\"*\"&目次加工!$B$2&\"*\",J3335:K3335,2,0)","v":1},1]
[null,null,null,{"$f":"分類順!A3335","v":0},{"$f":"分類順!B3335","v":0},{"$f":"分類順!C3335","v":0},{"$f":"分類順!D3335","v":0},{"$f":"分類順!E3335","v":0},{"$f":"分類順!F3335","v":0},"00000",1,{"$f":"VLOOKUP(\"*\"&目次加工!$B$2&\"*\",J3336:K3336,2,0)","v":1},1]
[null,null,null,{"$f":"分類順!A3336","v":0},{"$f":"分類順!B3336","v":0},{"$f":"分類順!C3336","v":0},{"$f":"分類順!D3336","v":0},{"$f":"分類順!E3336","v":0},{"$f":"分類順!F3336","v":0},"00000",1,{"$f":"VLOOKUP(\"*\"&目次加工!$B$2&\"*\",J3337:K3337,2,0)","v":1},1]
[null,null,null,{"$f":"分類順!A3337","v":0},{"$f":"分類順!B3337","v":0},{"$f":"分類順!C3337","v":0},{"$f":"分類順!D3337","v":0},{"$f":"分類順!E3337","v":0},{"$f":"分類順!F3337","v":0},"00000",1,{"$f":"VLOOKUP(\"*\"&目次加工!$B$2&\"*\",J3338:K3338,2,0)","v":1},1]
[null,null,null,{"$f":"分類順!A3338","v":0},{"$f":"分類順!B3338","v":0},{"$f":"分類順!C3338","v":0},{"$f":"分類順!D3338","v":0},{"$f":"分類順!E3338","v":0},{"$f":"分類順!F3338","v":0},"00000",1,{"$f":"VLOOKUP(\"*\"&目次加工!$B$2&\"*\",J3339:K3339,2,0)","v":1},1]
[null,null,null,{"$f":"分類順!A3339","v":0},{"$f":"分類順!B3339","v":0},{"$f":"分類順!C3339","v":0},{"$f":"分類順!D3339","v":0},{"$f":"分類順!E3339","v":0},{"$f":"分類順!F3339","v":0},"00000",1,{"$f":"VLOOKUP(\"*\"&目次加工!$B$2&\"*\",J3340:K3340,2,0)","v":1},1]
[null,null,null,{"$f":"分類順!A3340","v":0},{"$f":"分類順!B3340","v":0},{"$f":"分類順!C3340","v":0},{"$f":"分類順!D3340","v":0},{"$f":"分類順!E3340","v":0},{"$f":"分類順!F3340","v":0},"00000",1,{"$f":"VLOOKUP(\"*\"&目次加工!$B$2&\"*\",J3341:K3341,2,0)","v":1},1]
[null,null,null,{"$f":"分類順!A3341","v":0},{"$f":"分類順!B3341","v":0},{"$f":"分類順!C3341","v":0},{"$f":"分類順!D3341","v":0},{"$f":"分類順!E3341","v":0},{"$f":"分類順!F3341","v":0},"00000",1,{"$f":"VLOOKUP(\"*\"&目次加工!$B$2&\"*\",J3342:K3342,2,0)","v":1},1]
[null,null,null,{"$f":"分類順!A3342","v":0},{"$f":"分類順!B3342","v":0},{"$f":"分類順!C3342","v":0},{"$f":"分類順!D3342","v":0},{"$f":"分類順!E3342","v":0},{"$f":"分類順!F3342","v":0},"00000",1,{"$f":"VLOOKUP(\"*\"&目次加工!$B$2&\"*\",J3343:K3343,2,0)","v":1},1]
[null,null,null,{"$f":"分類順!A3343","v":0},{"$f":"分類順!B3343","v":0},{"$f":"分類順!C3343","v":0},{"$f":"分類順!D3343","v":0},{"$f":"分類順!E3343","v":0},{"$f":"分類順!F3343","v":0},"00000",1,{"$f":"VLOOKUP(\"*\"&目次加工!$B$2&\"*\",J3344:K3344,2,0)","v":1},1]
[null,null,null,{"$f":"分類順!A3344","v":0},{"$f":"分類順!B3344","v":0},{"$f":"分類順!C3344","v":0},{"$f":"分類順!D3344","v":0},{"$f":"分類順!E3344","v":0},{"$f":"分類順!F3344","v":0},"00000",1,{"$f":"VLOOKUP(\"*\"&目次加工!$B$2&\"*\",J3345:K3345,2,0)","v":1},1]
[null,null,null,{"$f":"分類順!A3345","v":0},{"$f":"分類順!B3345","v":0},{"$f":"分類順!C3345","v":0},{"$f":"分類順!D3345","v":0},{"$f":"分類順!E3345","v":0},{"$f":"分類順!F3345","v":0},"00000",1,{"$f":"VLOOKUP(\"*\"&目次加工!$B$2&\"*\",J3346:K3346,2,0)","v":1},1]
[null,null,null,{"$f":"分類順!A3346","v":0},{"$f":"分類順!B3346","v":0},{"$f":"分類順!C3346","v":0},{"$f":"分類順!D3346","v":0},{"$f":"分類順!E3346","v":0},{"$f":"分類順!F3346","v":0},{"$f":"D3347&E3347&F3347&G3347&H3347","v":"00000"},1,{"$f":"VLOOKUP(\"*\"&目次加工!$B$2&\"*\",J3347:K3347,2,0)","v":1},1]
[null,null,null,{"$f":"分類順!A3347","v":0},{"$f":"分類順!B3347","v":0},{"$f":"分類順!C3347","v":0},{"$f":"分類順!D3347","v":0},{"$f":"分類順!E3347","v":0},{"$f":"分類順!F3347","v":0},"00000",1,{"$f":"VLOOKUP(\"*\"&目次加工!$B$2&\"*\",J3348:K3348,2,0)","v":1},1]
[null,null,null,{"$f":"分類順!A3348","v":0},{"$f":"分類順!B3348","v":0},{"$f":"分類順!C3348","v":0},{"$f":"分類順!D3348","v":0},{"$f":"分類順!E3348","v":0},{"$f":"分類順!F3348","v":0},"00000",1,{"$f":"VLOOKUP(\"*\"&目次加工!$B$2&\"*\",J3349:K3349,2,0)","v":1},1]
[null,null,null,{"$f":"分類順!A3349","v":0},{"$f":"分類順!B3349","v":0},{"$f":"分類順!C3349","v":0},{"$f":"分類順!D3349","v":0},{"$f":"分類順!E3349","v":0},{"$f":"分類順!F3349","v":0},"00000",1,{"$f":"VLOOKUP(\"*\"&目次加工!$B$2&\"*\",J3350:K3350,2,0)","v":1},1]
[null,null,null,{"$f":"分類順!A3350","v":0},{"$f":"分類順!B3350","v":0},{"$f":"分類順!C3350","v":0},{"$f":"分類順!D3350","v":0},{"$f":"分類順!E3350","v":0},{"$f":"分類順!F3350","v":0},"00000",1,{"$f":"VLOOKUP(\"*\"&目次加工!$B$2&\"*\",J3351:K3351,2,0)","v":1},1]
[null,null,null,{"$f":"分類順!A3351","v":0},{"$f":"分類順!B3351","v":0},{"$f":"分類順!C3351","v":0},{"$f":"分類順!D3351","v":0},{"$f":"分類順!E3351","v":0},{"$f":"分類順!F3351","v":0},"00000",1,{"$f":"VLOOKUP(\"*\"&目次加工!$B$2&\"*\",J3352:K3352,2,0)","v":1},1]
[null,null,null,{"$f":"分類順!A3352","v":0},{"$f":"分類順!B3352","v":0},{"$f":"分類順!C3352","v":0},{"$f":"分類順!D3352","v":0},{"$f":"分類順!E3352","v":0},{"$f":"分類順!F3352","v":0},"00000",1,{"$f":"VLOOKUP(\"*\"&目次加工!$B$2&\"*\",J3353:K3353,2,0)","v":1},1]
[null,null,null,{"$f":"分類順!A3353","v":0},{"$f":"分類順!B3353","v":0},{"$f":"分類順!C3353","v":0},{"$f":"分類順!D3353","v":0},{"$f":"分類順!E3353","v":0},{"$f":"分類順!F3353","v":0},"00000",1,{"$f":"VLOOKUP(\"*\"&目次加工!$B$2&\"*\",J3354:K3354,2,0)","v":1},1]
[null,null,null,{"$f":"分類順!A3354","v":0},{"$f":"分類順!B3354","v":0},{"$f":"分類順!C3354","v":0},{"$f":"分類順!D3354","v":0},{"$f":"分類順!E3354","v":0},{"$f":"分類順!F3354","v":0},"00000",1,{"$f":"VLOOKUP(\"*\"&目次加工!$B$2&\"*\",J3355:K3355,2,0)","v":1},1]
[null,null,null,{"$f":"分類順!A3355","v":0},{"$f":"分類順!B3355","v":0},{"$f":"分類順!C3355","v":0},{"$f":"分類順!D3355","v":0},{"$f":"分類順!E3355","v":0},{"$f":"分類順!F3355","v":0},"00000",1,{"$f":"VLOOKUP(\"*\"&目次加工!$B$2&\"*\",J3356:K3356,2,0)","v":1},1]
[null,null,null,{"$f":"分類順!A3356","v":0},{"$f":"分類順!B3356","v":0},{"$f":"分類順!C3356","v":0},{"$f":"分類順!D3356","v":0},{"$f":"分類順!E3356","v":0},{"$f":"分類順!F3356","v":0},"00000",1,{"$f":"VLOOKUP(\"*\"&目次加工!$B$2&\"*\",J3357:K3357,2,0)","v":1},1]
[null,null,null,{"$f":"分類順!A3357","v":0},{"$f":"分類順!B3357","v":0},{"$f":"分類順!C3357","v":0},{"$f":"分類順!D3357","v":0},{"$f":"分類順!E3357","v":0},{"$f":"分類順!F3357","v":0},"00000",1,{"$f":"VLOOKUP(\"*\"&目次加工!$B$2&\"*\",J3358:K3358,2,0)","v":1},1]
[null,null,null,{"$f":"分類順!A3358","v":0},{"$f":"分類順!B3358","v":0},{"$f":"分類順!C3358","v":0},{"$f":"分類順!D3358","v":0},{"$f":"分類順!E3358","v":0},{"$f":"分類順!F3358","v":0},"00000",1,{"$f":"VLOOKUP(\"*\"&目次加工!$B$2&\"*\",J3359:K3359,2,0)","v":1},1]
[null,null,null,{"$f":"分類順!A3359","v":0},{"$f":"分類順!B3359","v":0},{"$f":"分類順!C3359","v":0},{"$f":"分類順!D3359","v":0},{"$f":"分類順!E3359","v":0},{"$f":"分類順!F3359","v":0},"00000",1,{"$f":"VLOOKUP(\"*\"&目次加工!$B$2&\"*\",J3360:K3360,2,0)","v":1},1]
[null,null,null,{"$f":"分類順!A3360","v":0},{"$f":"分類順!B3360","v":0},{"$f":"分類順!C3360","v":0},{"$f":"分類順!D3360","v":0},{"$f":"分類順!E3360","v":0},{"$f":"分類順!F3360","v":0},"00000",1,{"$f":"VLOOKUP(\"*\"&目次加工!$B$2&\"*\",J3361:K3361,2,0)","v":1},1]
[null,null,null,{"$f":"分類順!A3361","v":0},{"$f":"分類順!B3361","v":0},{"$f":"分類順!C3361","v":0},{"$f":"分類順!D3361","v":0},{"$f":"分類順!E3361","v":0},{"$f":"分類順!F3361","v":0},"00000",1,{"$f":"VLOOKUP(\"*\"&目次加工!$B$2&\"*\",J3362:K3362,2,0)","v":1},1]
[null,null,null,{"$f":"分類順!A3362","v":0},{"$f":"分類順!B3362","v":0},{"$f":"分類順!C3362","v":0},{"$f":"分類順!D3362","v":0},{"$f":"分類順!E3362","v":0},{"$f":"分類順!F3362","v":0},"00000",1,{"$f":"VLOOKUP(\"*\"&目次加工!$B$2&\"*\",J3363:K3363,2,0)","v":1},1]
[null,null,null,{"$f":"分類順!A3363","v":0},{"$f":"分類順!B3363","v":0},{"$f":"分類順!C3363","v":0},{"$f":"分類順!D3363","v":0},{"$f":"分類順!E3363","v":0},{"$f":"分類順!F3363","v":0},"00000",1,{"$f":"VLOOKUP(\"*\"&目次加工!$B$2&\"*\",J3364:K3364,2,0)","v":1},1]
[null,null,null,{"$f":"分類順!A3364","v":0},{"$f":"分類順!B3364","v":0},{"$f":"分類順!C3364","v":0},{"$f":"分類順!D3364","v":0},{"$f":"分類順!E3364","v":0},{"$f":"分類順!F3364","v":0},"00000",1,{"$f":"VLOOKUP(\"*\"&目次加工!$B$2&\"*\",J3365:K3365,2,0)","v":1},1]
[null,null,null,{"$f":"分類順!A3365","v":0},{"$f":"分類順!B3365","v":0},{"$f":"分類順!C3365","v":0},{"$f":"分類順!D3365","v":0},{"$f":"分類順!E3365","v":0},{"$f":"分類順!F3365","v":0},"00000",1,{"$f":"VLOOKUP(\"*\"&目次加工!$B$2&\"*\",J3366:K3366,2,0)","v":1},1]
[null,null,null,{"$f":"分類順!A3366","v":0},{"$f":"分類順!B3366","v":0},{"$f":"分類順!C3366","v":0},{"$f":"分類順!D3366","v":0},{"$f":"分類順!E3366","v":0},{"$f":"分類順!F3366","v":0},"00000",1,{"$f":"VLOOKUP(\"*\"&目次加工!$B$2&\"*\",J3367:K3367,2,0)","v":1},1]
[null,null,null,{"$f":"分類順!A3367","v":0},{"$f":"分類順!B3367","v":0},{"$f":"分類順!C3367","v":0},{"$f":"分類順!D3367","v":0},{"$f":"分類順!E3367","v":0},{"$f":"分類順!F3367","v":0},"00000",1,{"$f":"VLOOKUP(\"*\"&目次加工!$B$2&\"*\",J3368:K3368,2,0)","v":1},1]
[null,null,null,{"$f":"分類順!A3368","v":0},{"$f":"分類順!B3368","v":0},{"$f":"分類順!C3368","v":0},{"$f":"分類順!D3368","v":0},{"$f":"分類順!E3368","v":0},{"$f":"分類順!F3368","v":0},"00000",1,{"$f":"VLOOKUP(\"*\"&目次加工!$B$2&\"*\",J3369:K3369,2,0)","v":1},1]
[null,null,null,{"$f":"分類順!A3369","v":0},{"$f":"分類順!B3369","v":0},{"$f":"分類順!C3369","v":0},{"$f":"分類順!D3369","v":0},{"$f":"分類順!E3369","v":0},{"$f":"分類順!F3369","v":0},"00000",1,{"$f":"VLOOKUP(\"*\"&目次加工!$B$2&\"*\",J3370:K3370,2,0)","v":1},1]
[null,null,null,{"$f":"分類順!A3370","v":0},{"$f":"分類順!B3370","v":0},{"$f":"分類順!C3370","v":0},{"$f":"分類順!D3370","v":0},{"$f":"分類順!E3370","v":0},{"$f":"分類順!F3370","v":0},"00000",1,{"$f":"VLOOKUP(\"*\"&目次加工!$B$2&\"*\",J3371:K3371,2,0)","v":1},1]
[null,null,null,{"$f":"分類順!A3371","v":0},{"$f":"分類順!B3371","v":0},{"$f":"分類順!C3371","v":0},{"$f":"分類順!D3371","v":0},{"$f":"分類順!E3371","v":0},{"$f":"分類順!F3371","v":0},"00000",1,{"$f":"VLOOKUP(\"*\"&目次加工!$B$2&\"*\",J3372:K3372,2,0)","v":1},1]
[null,null,null,{"$f":"分類順!A3372","v":0},{"$f":"分類順!B3372","v":0},{"$f":"分類順!C3372","v":0},{"$f":"分類順!D3372","v":0},{"$f":"分類順!E3372","v":0},{"$f":"分類順!F3372","v":0},"00000",1,{"$f":"VLOOKUP(\"*\"&目次加工!$B$2&\"*\",J3373:K3373,2,0)","v":1},1]
[null,null,null,{"$f":"分類順!A3373","v":0},{"$f":"分類順!B3373","v":0},{"$f":"分類順!C3373","v":0},{"$f":"分類順!D3373","v":0},{"$f":"分類順!E3373","v":0},{"$f":"分類順!F3373","v":0},"00000",1,{"$f":"VLOOKUP(\"*\"&目次加工!$B$2&\"*\",J3374:K3374,2,0)","v":1},1]
[null,null,null,{"$f":"分類順!A3374","v":0},{"$f":"分類順!B3374","v":0},{"$f":"分類順!C3374","v":0},{"$f":"分類順!D3374","v":0},{"$f":"分類順!E3374","v":0},{"$f":"分類順!F3374","v":0},"00000",1,{"$f":"VLOOKUP(\"*\"&目次加工!$B$2&\"*\",J3375:K3375,2,0)","v":1},1]
[null,null,null,{"$f":"分類順!A3375","v":0},{"$f":"分類順!B3375","v":0},{"$f":"分類順!C3375","v":0},{"$f":"分類順!D3375","v":0},{"$f":"分類順!E3375","v":0},{"$f":"分類順!F3375","v":0},"00000",1,{"$f":"VLOOKUP(\"*\"&目次加工!$B$2&\"*\",J3376:K3376,2,0)","v":1},1]
[null,null,null,{"$f":"分類順!A3376","v":0},{"$f":"分類順!B3376","v":0},{"$f":"分類順!C3376","v":0},{"$f":"分類順!D3376","v":0},{"$f":"分類順!E3376","v":0},{"$f":"分類順!F3376","v":0},"00000",1,{"$f":"VLOOKUP(\"*\"&目次加工!$B$2&\"*\",J3377:K3377,2,0)","v":1},1]
[null,null,null,{"$f":"分類順!A3377","v":0},{"$f":"分類順!B3377","v":0},{"$f":"分類順!C3377","v":0},{"$f":"分類順!D3377","v":0},{"$f":"分類順!E3377","v":0},{"$f":"分類順!F3377","v":0},"00000",1,{"$f":"VLOOKUP(\"*\"&目次加工!$B$2&\"*\",J3378:K3378,2,0)","v":1},1]
[null,null,null,{"$f":"分類順!A3378","v":0},{"$f":"分類順!B3378","v":0},{"$f":"分類順!C3378","v":0},{"$f":"分類順!D3378","v":0},{"$f":"分類順!E3378","v":0},{"$f":"分類順!F3378","v":0},"00000",1,{"$f":"VLOOKUP(\"*\"&目次加工!$B$2&\"*\",J3379:K3379,2,0)","v":1},1]
[null,null,null,{"$f":"分類順!A3379","v":0},{"$f":"分類順!B3379","v":0},{"$f":"分類順!C3379","v":0},{"$f":"分類順!D3379","v":0},{"$f":"分類順!E3379","v":0},{"$f":"分類順!F3379","v":0},"00000",1,{"$f":"VLOOKUP(\"*\"&目次加工!$B$2&\"*\",J3380:K3380,2,0)","v":1},1]
[null,null,null,{"$f":"分類順!A3380","v":0},{"$f":"分類順!B3380","v":0},{"$f":"分類順!C3380","v":0},{"$f":"分類順!D3380","v":0},{"$f":"分類順!E3380","v":0},{"$f":"分類順!F3380","v":0},"00000",1,{"$f":"VLOOKUP(\"*\"&目次加工!$B$2&\"*\",J3381:K3381,2,0)","v":1},1]
[null,null,null,{"$f":"分類順!A3381","v":0},{"$f":"分類順!B3381","v":0},{"$f":"分類順!C3381","v":0},{"$f":"分類順!D3381","v":0},{"$f":"分類順!E3381","v":0},{"$f":"分類順!F3381","v":0},"00000",1,{"$f":"VLOOKUP(\"*\"&目次加工!$B$2&\"*\",J3382:K3382,2,0)","v":1},1]
[null,null,null,{"$f":"分類順!A3382","v":0},{"$f":"分類順!B3382","v":0},{"$f":"分類順!C3382","v":0},{"$f":"分類順!D3382","v":0},{"$f":"分類順!E3382","v":0},{"$f":"分類順!F3382","v":0},"00000",1,{"$f":"VLOOKUP(\"*\"&目次加工!$B$2&\"*\",J3383:K3383,2,0)","v":1},1]
[null,null,null,{"$f":"分類順!A3383","v":0},{"$f":"分類順!B3383","v":0},{"$f":"分類順!C3383","v":0},{"$f":"分類順!D3383","v":0},{"$f":"分類順!E3383","v":0},{"$f":"分類順!F3383","v":0},"00000",1,{"$f":"VLOOKUP(\"*\"&目次加工!$B$2&\"*\",J3384:K3384,2,0)","v":1},1]
[null,null,null,{"$f":"分類順!A3384","v":0},{"$f":"分類順!B3384","v":0},{"$f":"分類順!C3384","v":0},{"$f":"分類順!D3384","v":0},{"$f":"分類順!E3384","v":0},{"$f":"分類順!F3384","v":0},"00000",1,{"$f":"VLOOKUP(\"*\"&目次加工!$B$2&\"*\",J3385:K3385,2,0)","v":1},1]
[null,null,null,{"$f":"分類順!A3385","v":0},{"$f":"分類順!B3385","v":0},{"$f":"分類順!C3385","v":0},{"$f":"分類順!D3385","v":0},{"$f":"分類順!E3385","v":0},{"$f":"分類順!F3385","v":0},"00000",1,{"$f":"VLOOKUP(\"*\"&目次加工!$B$2&\"*\",J3386:K3386,2,0)","v":1},1]
[null,null,null,{"$f":"分類順!A3386","v":0},{"$f":"分類順!B3386","v":0},{"$f":"分類順!C3386","v":0},{"$f":"分類順!D3386","v":0},{"$f":"分類順!E3386","v":0},{"$f":"分類順!F3386","v":0},"00000",1,{"$f":"VLOOKUP(\"*\"&目次加工!$B$2&\"*\",J3387:K3387,2,0)","v":1},1]
[null,null,null,{"$f":"分類順!A3387","v":0},{"$f":"分類順!B3387","v":0},{"$f":"分類順!C3387","v":0},{"$f":"分類順!D3387","v":0},{"$f":"分類順!E3387","v":0},{"$f":"分類順!F3387","v":0},"00000",1,{"$f":"VLOOKUP(\"*\"&目次加工!$B$2&\"*\",J3388:K3388,2,0)","v":1},1]
[null,null,null,{"$f":"分類順!A3388","v":0},{"$f":"分類順!B3388","v":0},{"$f":"分類順!C3388","v":0},{"$f":"分類順!D3388","v":0},{"$f":"分類順!E3388","v":0},{"$f":"分類順!F3388","v":0},"00000",1,{"$f":"VLOOKUP(\"*\"&目次加工!$B$2&\"*\",J3389:K3389,2,0)","v":1},1]
[null,null,null,{"$f":"分類順!A3389","v":0},{"$f":"分類順!B3389","v":0},{"$f":"分類順!C3389","v":0},{"$f":"分類順!D3389","v":0},{"$f":"分類順!E3389","v":0},{"$f":"分類順!F3389","v":0},"00000",1,{"$f":"VLOOKUP(\"*\"&目次加工!$B$2&\"*\",J3390:K3390,2,0)","v":1},1]
[null,null,null,{"$f":"分類順!A3390","v":0},{"$f":"分類順!B3390","v":0},{"$f":"分類順!C3390","v":0},{"$f":"分類順!D3390","v":0},{"$f":"分類順!E3390","v":0},{"$f":"分類順!F3390","v":0},"00000",1,{"$f":"VLOOKUP(\"*\"&目次加工!$B$2&\"*\",J3391:K3391,2,0)","v":1},1]
[null,null,null,{"$f":"分類順!A3391","v":0},{"$f":"分類順!B3391","v":0},{"$f":"分類順!C3391","v":0},{"$f":"分類順!D3391","v":0},{"$f":"分類順!E3391","v":0},{"$f":"分類順!F3391","v":0},"00000",1,{"$f":"VLOOKUP(\"*\"&目次加工!$B$2&\"*\",J3392:K3392,2,0)","v":1},1]
[null,null,null,{"$f":"分類順!A3392","v":0},{"$f":"分類順!B3392","v":0},{"$f":"分類順!C3392","v":0},{"$f":"分類順!D3392","v":0},{"$f":"分類順!E3392","v":0},{"$f":"分類順!F3392","v":0},"00000",1,{"$f":"VLOOKUP(\"*\"&目次加工!$B$2&\"*\",J3393:K3393,2,0)","v":1},1]
[null,null,null,{"$f":"分類順!A3393","v":0},{"$f":"分類順!B3393","v":0},{"$f":"分類順!C3393","v":0},{"$f":"分類順!D3393","v":0},{"$f":"分類順!E3393","v":0},{"$f":"分類順!F3393","v":0},"00000",1,{"$f":"VLOOKUP(\"*\"&目次加工!$B$2&\"*\",J3394:K3394,2,0)","v":1},1]
[null,null,null,{"$f":"分類順!A3394","v":0},{"$f":"分類順!B3394","v":0},{"$f":"分類順!C3394","v":0},{"$f":"分類順!D3394","v":0},{"$f":"分類順!E3394","v":0},{"$f":"分類順!F3394","v":0},"00000",1,{"$f":"VLOOKUP(\"*\"&目次加工!$B$2&\"*\",J3395:K3395,2,0)","v":1},1]
[null,null,null,{"$f":"分類順!A3395","v":0},{"$f":"分類順!B3395","v":0},{"$f":"分類順!C3395","v":0},{"$f":"分類順!D3395","v":0},{"$f":"分類順!E3395","v":0},{"$f":"分類順!F3395","v":0},"00000",1,{"$f":"VLOOKUP(\"*\"&目次加工!$B$2&\"*\",J3396:K3396,2,0)","v":1},{"$f":"VLOOKUP(\"*\"&$A$2&\"*\",J3396:K3396,2,0)","v":1}]
[null,null,null,{"$f":"分類順!A3396","v":0},{"$f":"分類順!B3396","v":0},{"$f":"分類順!C3396","v":0},{"$f":"分類順!D3396","v":0},{"$f":"分類順!E3396","v":0},{"$f":"分類順!F3396","v":0},"00000",1,{"$f":"VLOOKUP(\"*\"&目次加工!$B$2&\"*\",J3397:K3397,2,0)","v":1},1]
[null,null,null,{"$f":"分類順!A3397","v":0},{"$f":"分類順!B3397","v":0},{"$f":"分類順!C3397","v":0},{"$f":"分類順!D3397","v":0},{"$f":"分類順!E3397","v":0},{"$f":"分類順!F3397","v":0},"00000",1,{"$f":"VLOOKUP(\"*\"&目次加工!$B$2&\"*\",J3398:K3398,2,0)","v":1},1]
[null,null,null,{"$f":"分類順!A3398","v":0},{"$f":"分類順!B3398","v":0},{"$f":"分類順!C3398","v":0},{"$f":"分類順!D3398","v":0},{"$f":"分類順!E3398","v":0},{"$f":"分類順!F3398","v":0},"00000",1,{"$f":"VLOOKUP(\"*\"&目次加工!$B$2&\"*\",J3399:K3399,2,0)","v":1},1]
[null,null,null,{"$f":"分類順!A3399","v":0},{"$f":"分類順!B3399","v":0},{"$f":"分類順!C3399","v":0},{"$f":"分類順!D3399","v":0},{"$f":"分類順!E3399","v":0},{"$f":"分類順!F3399","v":0},"00000",1,{"$f":"VLOOKUP(\"*\"&目次加工!$B$2&\"*\",J3400:K3400,2,0)","v":1},1]
[null,null,null,{"$f":"分類順!A3400","v":0},{"$f":"分類順!B3400","v":0},{"$f":"分類順!C3400","v":0},{"$f":"分類順!D3400","v":0},{"$f":"分類順!E3400","v":0},{"$f":"分類順!F3400","v":0},"00000",1,{"$f":"VLOOKUP(\"*\"&目次加工!$B$2&\"*\",J3401:K3401,2,0)","v":1},1]
[null,null,null,{"$f":"分類順!A3401","v":0},{"$f":"分類順!B3401","v":0},{"$f":"分類順!C3401","v":0},{"$f":"分類順!D3401","v":0},{"$f":"分類順!E3401","v":0},{"$f":"分類順!F3401","v":0},"00000",1,{"$f":"VLOOKUP(\"*\"&目次加工!$B$2&\"*\",J3402:K3402,2,0)","v":1},1]
[null,null,null,{"$f":"分類順!A3402","v":0},{"$f":"分類順!B3402","v":0},{"$f":"分類順!C3402","v":0},{"$f":"分類順!D3402","v":0},{"$f":"分類順!E3402","v":0},{"$f":"分類順!F3402","v":0},"00000",1,{"$f":"VLOOKUP(\"*\"&目次加工!$B$2&\"*\",J3403:K3403,2,0)","v":1},1]
[null,null,null,{"$f":"分類順!A3403","v":0},{"$f":"分類順!B3403","v":0},{"$f":"分類順!C3403","v":0},{"$f":"分類順!D3403","v":0},{"$f":"分類順!E3403","v":0},{"$f":"分類順!F3403","v":0},"00000",1,{"$f":"VLOOKUP(\"*\"&目次加工!$B$2&\"*\",J3404:K3404,2,0)","v":1},1]
[null,null,null,{"$f":"分類順!A3404","v":0},{"$f":"分類順!B3404","v":0},{"$f":"分類順!C3404","v":0},{"$f":"分類順!D3404","v":0},{"$f":"分類順!E3404","v":0},{"$f":"分類順!F3404","v":0},"00000",1,{"$f":"VLOOKUP(\"*\"&目次加工!$B$2&\"*\",J3405:K3405,2,0)","v":1},1]
[null,null,null,{"$f":"分類順!A3405","v":0},{"$f":"分類順!B3405","v":0},{"$f":"分類順!C3405","v":0},{"$f":"分類順!D3405","v":0},{"$f":"分類順!E3405","v":0},{"$f":"分類順!F3405","v":0},"00000",1,{"$f":"VLOOKUP(\"*\"&目次加工!$B$2&\"*\",J3406:K3406,2,0)","v":1},1]
[null,null,null,{"$f":"分類順!A3406","v":0},{"$f":"分類順!B3406","v":0},{"$f":"分類順!C3406","v":0},{"$f":"分類順!D3406","v":0},{"$f":"分類順!E3406","v":0},{"$f":"分類順!F3406","v":0},"00000",1,{"$f":"VLOOKUP(\"*\"&目次加工!$B$2&\"*\",J3407:K3407,2,0)","v":1},1]
[null,null,null,{"$f":"分類順!A3407","v":0},{"$f":"分類順!B3407","v":0},{"$f":"分類順!C3407","v":0},{"$f":"分類順!D3407","v":0},{"$f":"分類順!E3407","v":0},{"$f":"分類順!F3407","v":0},"00000",1,{"$f":"VLOOKUP(\"*\"&目次加工!$B$2&\"*\",J3408:K3408,2,0)","v":1},1]
[null,null,null,{"$f":"分類順!A3408","v":0},{"$f":"分類順!B3408","v":0},{"$f":"分類順!C3408","v":0},{"$f":"分類順!D3408","v":0},{"$f":"分類順!E3408","v":0},{"$f":"分類順!F3408","v":0},"00000",1,{"$f":"VLOOKUP(\"*\"&目次加工!$B$2&\"*\",J3409:K3409,2,0)","v":1},1]
[null,null,null,{"$f":"分類順!A3409","v":0},{"$f":"分類順!B3409","v":0},{"$f":"分類順!C3409","v":0},{"$f":"分類順!D3409","v":0},{"$f":"分類順!E3409","v":0},{"$f":"分類順!F3409","v":0},"00000",1,{"$f":"VLOOKUP(\"*\"&目次加工!$B$2&\"*\",J3410:K3410,2,0)","v":1},1]
[null,null,null,{"$f":"分類順!A3410","v":0},{"$f":"分類順!B3410","v":0},{"$f":"分類順!C3410","v":0},{"$f":"分類順!D3410","v":0},{"$f":"分類順!E3410","v":0},{"$f":"分類順!F3410","v":0},{"$f":"D3411&E3411&F3411&G3411&H3411","v":"00000"},1,{"$f":"VLOOKUP(\"*\"&目次加工!$B$2&\"*\",J3411:K3411,2,0)","v":1},1]
[null,null,null,{"$f":"分類順!A3411","v":0},{"$f":"分類順!B3411","v":0},{"$f":"分類順!C3411","v":0},{"$f":"分類順!D3411","v":0},{"$f":"分類順!E3411","v":0},{"$f":"分類順!F3411","v":0},"00000",1,{"$f":"VLOOKUP(\"*\"&目次加工!$B$2&\"*\",J3412:K3412,2,0)","v":1},1]
[null,null,null,{"$f":"分類順!A3412","v":0},{"$f":"分類順!B3412","v":0},{"$f":"分類順!C3412","v":0},{"$f":"分類順!D3412","v":0},{"$f":"分類順!E3412","v":0},{"$f":"分類順!F3412","v":0},"00000",1,{"$f":"VLOOKUP(\"*\"&目次加工!$B$2&\"*\",J3413:K3413,2,0)","v":1},1]
[null,null,null,{"$f":"分類順!A3413","v":0},{"$f":"分類順!B3413","v":0},{"$f":"分類順!C3413","v":0},{"$f":"分類順!D3413","v":0},{"$f":"分類順!E3413","v":0},{"$f":"分類順!F3413","v":0},"00000",1,{"$f":"VLOOKUP(\"*\"&目次加工!$B$2&\"*\",J3414:K3414,2,0)","v":1},1]
[null,null,null,{"$f":"分類順!A3414","v":0},{"$f":"分類順!B3414","v":0},{"$f":"分類順!C3414","v":0},{"$f":"分類順!D3414","v":0},{"$f":"分類順!E3414","v":0},{"$f":"分類順!F3414","v":0},"00000",1,{"$f":"VLOOKUP(\"*\"&目次加工!$B$2&\"*\",J3415:K3415,2,0)","v":1},1]
[null,null,null,{"$f":"分類順!A3415","v":0},{"$f":"分類順!B3415","v":0},{"$f":"分類順!C3415","v":0},{"$f":"分類順!D3415","v":0},{"$f":"分類順!E3415","v":0},{"$f":"分類順!F3415","v":0},"00000",1,{"$f":"VLOOKUP(\"*\"&目次加工!$B$2&\"*\",J3416:K3416,2,0)","v":1},1]
[null,null,null,{"$f":"分類順!A3416","v":0},{"$f":"分類順!B3416","v":0},{"$f":"分類順!C3416","v":0},{"$f":"分類順!D3416","v":0},{"$f":"分類順!E3416","v":0},{"$f":"分類順!F3416","v":0},"00000",1,{"$f":"VLOOKUP(\"*\"&目次加工!$B$2&\"*\",J3417:K3417,2,0)","v":1},1]
[null,null,null,{"$f":"分類順!A3417","v":0},{"$f":"分類順!B3417","v":0},{"$f":"分類順!C3417","v":0},{"$f":"分類順!D3417","v":0},{"$f":"分類順!E3417","v":0},{"$f":"分類順!F3417","v":0},"00000",1,{"$f":"VLOOKUP(\"*\"&目次加工!$B$2&\"*\",J3418:K3418,2,0)","v":1},1]
[null,null,null,{"$f":"分類順!A3418","v":0},{"$f":"分類順!B3418","v":0},{"$f":"分類順!C3418","v":0},{"$f":"分類順!D3418","v":0},{"$f":"分類順!E3418","v":0},{"$f":"分類順!F3418","v":0},"00000",1,{"$f":"VLOOKUP(\"*\"&目次加工!$B$2&\"*\",J3419:K3419,2,0)","v":1},1]
[null,null,null,{"$f":"分類順!A3419","v":0},{"$f":"分類順!B3419","v":0},{"$f":"分類順!C3419","v":0},{"$f":"分類順!D3419","v":0},{"$f":"分類順!E3419","v":0},{"$f":"分類順!F3419","v":0},"00000",1,{"$f":"VLOOKUP(\"*\"&目次加工!$B$2&\"*\",J3420:K3420,2,0)","v":1},1]
[null,null,null,{"$f":"分類順!A3420","v":0},{"$f":"分類順!B3420","v":0},{"$f":"分類順!C3420","v":0},{"$f":"分類順!D3420","v":0},{"$f":"分類順!E3420","v":0},{"$f":"分類順!F3420","v":0},"00000",1,{"$f":"VLOOKUP(\"*\"&目次加工!$B$2&\"*\",J3421:K3421,2,0)","v":1},1]
[null,null,null,{"$f":"分類順!A3421","v":0},{"$f":"分類順!B3421","v":0},{"$f":"分類順!C3421","v":0},{"$f":"分類順!D3421","v":0},{"$f":"分類順!E3421","v":0},{"$f":"分類順!F3421","v":0},"00000",1,{"$f":"VLOOKUP(\"*\"&目次加工!$B$2&\"*\",J3422:K3422,2,0)","v":1},1]
[null,null,null,{"$f":"分類順!A3422","v":0},{"$f":"分類順!B3422","v":0},{"$f":"分類順!C3422","v":0},{"$f":"分類順!D3422","v":0},{"$f":"分類順!E3422","v":0},{"$f":"分類順!F3422","v":0},"00000",1,{"$f":"VLOOKUP(\"*\"&目次加工!$B$2&\"*\",J3423:K3423,2,0)","v":1},1]
[null,null,null,{"$f":"分類順!A3423","v":0},{"$f":"分類順!B3423","v":0},{"$f":"分類順!C3423","v":0},{"$f":"分類順!D3423","v":0},{"$f":"分類順!E3423","v":0},{"$f":"分類順!F3423","v":0},"00000",1,{"$f":"VLOOKUP(\"*\"&目次加工!$B$2&\"*\",J3424:K3424,2,0)","v":1},1]
[null,null,null,{"$f":"分類順!A3424","v":0},{"$f":"分類順!B3424","v":0},{"$f":"分類順!C3424","v":0},{"$f":"分類順!D3424","v":0},{"$f":"分類順!E3424","v":0},{"$f":"分類順!F3424","v":0},"00000",1,{"$f":"VLOOKUP(\"*\"&目次加工!$B$2&\"*\",J3425:K3425,2,0)","v":1},1]
[null,null,null,{"$f":"分類順!A3425","v":0},{"$f":"分類順!B3425","v":0},{"$f":"分類順!C3425","v":0},{"$f":"分類順!D3425","v":0},{"$f":"分類順!E3425","v":0},{"$f":"分類順!F3425","v":0},"00000",1,{"$f":"VLOOKUP(\"*\"&目次加工!$B$2&\"*\",J3426:K3426,2,0)","v":1},1]
[null,null,null,{"$f":"分類順!A3426","v":0},{"$f":"分類順!B3426","v":0},{"$f":"分類順!C3426","v":0},{"$f":"分類順!D3426","v":0},{"$f":"分類順!E3426","v":0},{"$f":"分類順!F3426","v":0},"00000",1,{"$f":"VLOOKUP(\"*\"&目次加工!$B$2&\"*\",J3427:K3427,2,0)","v":1},1]
[null,null,null,{"$f":"分類順!A3427","v":0},{"$f":"分類順!B3427","v":0},{"$f":"分類順!C3427","v":0},{"$f":"分類順!D3427","v":0},{"$f":"分類順!E3427","v":0},{"$f":"分類順!F3427","v":0},"00000",1,{"$f":"VLOOKUP(\"*\"&目次加工!$B$2&\"*\",J3428:K3428,2,0)","v":1},1]
[null,null,null,{"$f":"分類順!A3428","v":0},{"$f":"分類順!B3428","v":0},{"$f":"分類順!C3428","v":0},{"$f":"分類順!D3428","v":0},{"$f":"分類順!E3428","v":0},{"$f":"分類順!F3428","v":0},"00000",1,{"$f":"VLOOKUP(\"*\"&目次加工!$B$2&\"*\",J3429:K3429,2,0)","v":1},1]
[null,null,null,{"$f":"分類順!A3429","v":0},{"$f":"分類順!B3429","v":0},{"$f":"分類順!C3429","v":0},{"$f":"分類順!D3429","v":0},{"$f":"分類順!E3429","v":0},{"$f":"分類順!F3429","v":0},"00000",1,{"$f":"VLOOKUP(\"*\"&目次加工!$B$2&\"*\",J3430:K3430,2,0)","v":1},1]
[null,null,null,{"$f":"分類順!A3430","v":0},{"$f":"分類順!B3430","v":0},{"$f":"分類順!C3430","v":0},{"$f":"分類順!D3430","v":0},{"$f":"分類順!E3430","v":0},{"$f":"分類順!F3430","v":0},"00000",1,{"$f":"VLOOKUP(\"*\"&目次加工!$B$2&\"*\",J3431:K3431,2,0)","v":1},1]
[null,null,null,{"$f":"分類順!A3431","v":0},{"$f":"分類順!B3431","v":0},{"$f":"分類順!C3431","v":0},{"$f":"分類順!D3431","v":0},{"$f":"分類順!E3431","v":0},{"$f":"分類順!F3431","v":0},"00000",1,{"$f":"VLOOKUP(\"*\"&目次加工!$B$2&\"*\",J3432:K3432,2,0)","v":1},1]
[null,null,null,{"$f":"分類順!A3432","v":0},{"$f":"分類順!B3432","v":0},{"$f":"分類順!C3432","v":0},{"$f":"分類順!D3432","v":0},{"$f":"分類順!E3432","v":0},{"$f":"分類順!F3432","v":0},"00000",1,{"$f":"VLOOKUP(\"*\"&目次加工!$B$2&\"*\",J3433:K3433,2,0)","v":1},1]
[null,null,null,{"$f":"分類順!A3433","v":0},{"$f":"分類順!B3433","v":0},{"$f":"分類順!C3433","v":0},{"$f":"分類順!D3433","v":0},{"$f":"分類順!E3433","v":0},{"$f":"分類順!F3433","v":0},"00000",1,{"$f":"VLOOKUP(\"*\"&目次加工!$B$2&\"*\",J3434:K3434,2,0)","v":1},1]
[null,null,null,{"$f":"分類順!A3434","v":0},{"$f":"分類順!B3434","v":0},{"$f":"分類順!C3434","v":0},{"$f":"分類順!D3434","v":0},{"$f":"分類順!E3434","v":0},{"$f":"分類順!F3434","v":0},"00000",1,{"$f":"VLOOKUP(\"*\"&目次加工!$B$2&\"*\",J3435:K3435,2,0)","v":1},1]
[null,null,null,{"$f":"分類順!A3435","v":0},{"$f":"分類順!B3435","v":0},{"$f":"分類順!C3435","v":0},{"$f":"分類順!D3435","v":0},{"$f":"分類順!E3435","v":0},{"$f":"分類順!F3435","v":0},"00000",1,{"$f":"VLOOKUP(\"*\"&目次加工!$B$2&\"*\",J3436:K3436,2,0)","v":1},1]
[null,null,null,{"$f":"分類順!A3436","v":0},{"$f":"分類順!B3436","v":0},{"$f":"分類順!C3436","v":0},{"$f":"分類順!D3436","v":0},{"$f":"分類順!E3436","v":0},{"$f":"分類順!F3436","v":0},"00000",1,{"$f":"VLOOKUP(\"*\"&目次加工!$B$2&\"*\",J3437:K3437,2,0)","v":1},1]
[null,null,null,{"$f":"分類順!A3437","v":0},{"$f":"分類順!B3437","v":0},{"$f":"分類順!C3437","v":0},{"$f":"分類順!D3437","v":0},{"$f":"分類順!E3437","v":0},{"$f":"分類順!F3437","v":0},"00000",1,{"$f":"VLOOKUP(\"*\"&目次加工!$B$2&\"*\",J3438:K3438,2,0)","v":1},1]
[null,null,null,{"$f":"分類順!A3438","v":0},{"$f":"分類順!B3438","v":0},{"$f":"分類順!C3438","v":0},{"$f":"分類順!D3438","v":0},{"$f":"分類順!E3438","v":0},{"$f":"分類順!F3438","v":0},"00000",1,{"$f":"VLOOKUP(\"*\"&目次加工!$B$2&\"*\",J3439:K3439,2,0)","v":1},1]
[null,null,null,{"$f":"分類順!A3439","v":0},{"$f":"分類順!B3439","v":0},{"$f":"分類順!C3439","v":0},{"$f":"分類順!D3439","v":0},{"$f":"分類順!E3439","v":0},{"$f":"分類順!F3439","v":0},"00000",1,{"$f":"VLOOKUP(\"*\"&目次加工!$B$2&\"*\",J3440:K3440,2,0)","v":1},1]
[null,null,null,{"$f":"分類順!A3440","v":0},{"$f":"分類順!B3440","v":0},{"$f":"分類順!C3440","v":0},{"$f":"分類順!D3440","v":0},{"$f":"分類順!E3440","v":0},{"$f":"分類順!F3440","v":0},"00000",1,{"$f":"VLOOKUP(\"*\"&目次加工!$B$2&\"*\",J3441:K3441,2,0)","v":1},1]
[null,null,null,{"$f":"分類順!A3441","v":0},{"$f":"分類順!B3441","v":0},{"$f":"分類順!C3441","v":0},{"$f":"分類順!D3441","v":0},{"$f":"分類順!E3441","v":0},{"$f":"分類順!F3441","v":0},"00000",1,{"$f":"VLOOKUP(\"*\"&目次加工!$B$2&\"*\",J3442:K3442,2,0)","v":1},1]
[null,null,null,{"$f":"分類順!A3442","v":0},{"$f":"分類順!B3442","v":0},{"$f":"分類順!C3442","v":0},{"$f":"分類順!D3442","v":0},{"$f":"分類順!E3442","v":0},{"$f":"分類順!F3442","v":0},"00000",1,{"$f":"VLOOKUP(\"*\"&目次加工!$B$2&\"*\",J3443:K3443,2,0)","v":1},1]
[null,null,null,{"$f":"分類順!A3443","v":0},{"$f":"分類順!B3443","v":0},{"$f":"分類順!C3443","v":0},{"$f":"分類順!D3443","v":0},{"$f":"分類順!E3443","v":0},{"$f":"分類順!F3443","v":0},"00000",1,{"$f":"VLOOKUP(\"*\"&目次加工!$B$2&\"*\",J3444:K3444,2,0)","v":1},1]
[null,null,null,{"$f":"分類順!A3444","v":0},{"$f":"分類順!B3444","v":0},{"$f":"分類順!C3444","v":0},{"$f":"分類順!D3444","v":0},{"$f":"分類順!E3444","v":0},{"$f":"分類順!F3444","v":0},"00000",1,{"$f":"VLOOKUP(\"*\"&目次加工!$B$2&\"*\",J3445:K3445,2,0)","v":1},1]
[null,null,null,{"$f":"分類順!A3445","v":0},{"$f":"分類順!B3445","v":0},{"$f":"分類順!C3445","v":0},{"$f":"分類順!D3445","v":0},{"$f":"分類順!E3445","v":0},{"$f":"分類順!F3445","v":0},"00000",1,{"$f":"VLOOKUP(\"*\"&目次加工!$B$2&\"*\",J3446:K3446,2,0)","v":1},1]
[null,null,null,{"$f":"分類順!A3446","v":0},{"$f":"分類順!B3446","v":0},{"$f":"分類順!C3446","v":0},{"$f":"分類順!D3446","v":0},{"$f":"分類順!E3446","v":0},{"$f":"分類順!F3446","v":0},"00000",1,{"$f":"VLOOKUP(\"*\"&目次加工!$B$2&\"*\",J3447:K3447,2,0)","v":1},1]
[null,null,null,{"$f":"分類順!A3447","v":0},{"$f":"分類順!B3447","v":0},{"$f":"分類順!C3447","v":0},{"$f":"分類順!D3447","v":0},{"$f":"分類順!E3447","v":0},{"$f":"分類順!F3447","v":0},"00000",1,{"$f":"VLOOKUP(\"*\"&目次加工!$B$2&\"*\",J3448:K3448,2,0)","v":1},1]
[null,null,null,{"$f":"分類順!A3448","v":0},{"$f":"分類順!B3448","v":0},{"$f":"分類順!C3448","v":0},{"$f":"分類順!D3448","v":0},{"$f":"分類順!E3448","v":0},{"$f":"分類順!F3448","v":0},"00000",1,{"$f":"VLOOKUP(\"*\"&目次加工!$B$2&\"*\",J3449:K3449,2,0)","v":1},1]
[null,null,null,{"$f":"分類順!A3449","v":0},{"$f":"分類順!B3449","v":0},{"$f":"分類順!C3449","v":0},{"$f":"分類順!D3449","v":0},{"$f":"分類順!E3449","v":0},{"$f":"分類順!F3449","v":0},"00000",1,{"$f":"VLOOKUP(\"*\"&目次加工!$B$2&\"*\",J3450:K3450,2,0)","v":1},1]
[null,null,null,{"$f":"分類順!A3450","v":0},{"$f":"分類順!B3450","v":0},{"$f":"分類順!C3450","v":0},{"$f":"分類順!D3450","v":0},{"$f":"分類順!E3450","v":0},{"$f":"分類順!F3450","v":0},"00000",1,{"$f":"VLOOKUP(\"*\"&目次加工!$B$2&\"*\",J3451:K3451,2,0)","v":1},1]
[null,null,null,{"$f":"分類順!A3451","v":0},{"$f":"分類順!B3451","v":0},{"$f":"分類順!C3451","v":0},{"$f":"分類順!D3451","v":0},{"$f":"分類順!E3451","v":0},{"$f":"分類順!F3451","v":0},"00000",1,{"$f":"VLOOKUP(\"*\"&目次加工!$B$2&\"*\",J3452:K3452,2,0)","v":1},1]
[null,null,null,{"$f":"分類順!A3452","v":0},{"$f":"分類順!B3452","v":0},{"$f":"分類順!C3452","v":0},{"$f":"分類順!D3452","v":0},{"$f":"分類順!E3452","v":0},{"$f":"分類順!F3452","v":0},"00000",1,{"$f":"VLOOKUP(\"*\"&目次加工!$B$2&\"*\",J3453:K3453,2,0)","v":1},1]
[null,null,null,{"$f":"分類順!A3453","v":0},{"$f":"分類順!B3453","v":0},{"$f":"分類順!C3453","v":0},{"$f":"分類順!D3453","v":0},{"$f":"分類順!E3453","v":0},{"$f":"分類順!F3453","v":0},"00000",1,{"$f":"VLOOKUP(\"*\"&目次加工!$B$2&\"*\",J3454:K3454,2,0)","v":1},1]
[null,null,null,{"$f":"分類順!A3454","v":0},{"$f":"分類順!B3454","v":0},{"$f":"分類順!C3454","v":0},{"$f":"分類順!D3454","v":0},{"$f":"分類順!E3454","v":0},{"$f":"分類順!F3454","v":0},"00000",1,{"$f":"VLOOKUP(\"*\"&目次加工!$B$2&\"*\",J3455:K3455,2,0)","v":1},1]
[null,null,null,{"$f":"分類順!A3455","v":0},{"$f":"分類順!B3455","v":0},{"$f":"分類順!C3455","v":0},{"$f":"分類順!D3455","v":0},{"$f":"分類順!E3455","v":0},{"$f":"分類順!F3455","v":0},"00000",1,{"$f":"VLOOKUP(\"*\"&目次加工!$B$2&\"*\",J3456:K3456,2,0)","v":1},1]
[null,null,null,{"$f":"分類順!A3456","v":0},{"$f":"分類順!B3456","v":0},{"$f":"分類順!C3456","v":0},{"$f":"分類順!D3456","v":0},{"$f":"分類順!E3456","v":0},{"$f":"分類順!F3456","v":0},"00000",1,{"$f":"VLOOKUP(\"*\"&目次加工!$B$2&\"*\",J3457:K3457,2,0)","v":1},1]
[null,null,null,{"$f":"分類順!A3457","v":0},{"$f":"分類順!B3457","v":0},{"$f":"分類順!C3457","v":0},{"$f":"分類順!D3457","v":0},{"$f":"分類順!E3457","v":0},{"$f":"分類順!F3457","v":0},"00000",1,{"$f":"VLOOKUP(\"*\"&目次加工!$B$2&\"*\",J3458:K3458,2,0)","v":1},1]
[null,null,null,{"$f":"分類順!A3458","v":0},{"$f":"分類順!B3458","v":0},{"$f":"分類順!C3458","v":0},{"$f":"分類順!D3458","v":0},{"$f":"分類順!E3458","v":0},{"$f":"分類順!F3458","v":0},"00000",1,{"$f":"VLOOKUP(\"*\"&目次加工!$B$2&\"*\",J3459:K3459,2,0)","v":1},1]
[null,null,null,{"$f":"分類順!A3459","v":0},{"$f":"分類順!B3459","v":0},{"$f":"分類順!C3459","v":0},{"$f":"分類順!D3459","v":0},{"$f":"分類順!E3459","v":0},{"$f":"分類順!F3459","v":0},"00000",1,{"$f":"VLOOKUP(\"*\"&目次加工!$B$2&\"*\",J3460:K3460,2,0)","v":1},{"$f":"VLOOKUP(\"*\"&$A$2&\"*\",J3460:K3460,2,0)","v":1}]
[null,null,null,{"$f":"分類順!A3460","v":0},{"$f":"分類順!B3460","v":0},{"$f":"分類順!C3460","v":0},{"$f":"分類順!D3460","v":0},{"$f":"分類順!E3460","v":0},{"$f":"分類順!F3460","v":0},"00000",1,{"$f":"VLOOKUP(\"*\"&目次加工!$B$2&\"*\",J3461:K3461,2,0)","v":1},1]
[null,null,null,{"$f":"分類順!A3461","v":0},{"$f":"分類順!B3461","v":0},{"$f":"分類順!C3461","v":0},{"$f":"分類順!D3461","v":0},{"$f":"分類順!E3461","v":0},{"$f":"分類順!F3461","v":0},"00000",1,{"$f":"VLOOKUP(\"*\"&目次加工!$B$2&\"*\",J3462:K3462,2,0)","v":1},1]
[null,null,null,{"$f":"分類順!A3462","v":0},{"$f":"分類順!B3462","v":0},{"$f":"分類順!C3462","v":0},{"$f":"分類順!D3462","v":0},{"$f":"分類順!E3462","v":0},{"$f":"分類順!F3462","v":0},"00000",1,{"$f":"VLOOKUP(\"*\"&目次加工!$B$2&\"*\",J3463:K3463,2,0)","v":1},1]
[null,null,null,{"$f":"分類順!A3463","v":0},{"$f":"分類順!B3463","v":0},{"$f":"分類順!C3463","v":0},{"$f":"分類順!D3463","v":0},{"$f":"分類順!E3463","v":0},{"$f":"分類順!F3463","v":0},"00000",1,{"$f":"VLOOKUP(\"*\"&目次加工!$B$2&\"*\",J3464:K3464,2,0)","v":1},1]
[null,null,null,{"$f":"分類順!A3464","v":0},{"$f":"分類順!B3464","v":0},{"$f":"分類順!C3464","v":0},{"$f":"分類順!D3464","v":0},{"$f":"分類順!E3464","v":0},{"$f":"分類順!F3464","v":0},"00000",1,{"$f":"VLOOKUP(\"*\"&目次加工!$B$2&\"*\",J3465:K3465,2,0)","v":1},1]
[null,null,null,{"$f":"分類順!A3465","v":0},{"$f":"分類順!B3465","v":0},{"$f":"分類順!C3465","v":0},{"$f":"分類順!D3465","v":0},{"$f":"分類順!E3465","v":0},{"$f":"分類順!F3465","v":0},"00000",1,{"$f":"VLOOKUP(\"*\"&目次加工!$B$2&\"*\",J3466:K3466,2,0)","v":1},1]
[null,null,null,{"$f":"分類順!A3466","v":0},{"$f":"分類順!B3466","v":0},{"$f":"分類順!C3466","v":0},{"$f":"分類順!D3466","v":0},{"$f":"分類順!E3466","v":0},{"$f":"分類順!F3466","v":0},"00000",1,{"$f":"VLOOKUP(\"*\"&目次加工!$B$2&\"*\",J3467:K3467,2,0)","v":1},1]
[null,null,null,{"$f":"分類順!A3467","v":0},{"$f":"分類順!B3467","v":0},{"$f":"分類順!C3467","v":0},{"$f":"分類順!D3467","v":0},{"$f":"分類順!E3467","v":0},{"$f":"分類順!F3467","v":0},"00000",1,{"$f":"VLOOKUP(\"*\"&目次加工!$B$2&\"*\",J3468:K3468,2,0)","v":1},1]
[null,null,null,{"$f":"分類順!A3468","v":0},{"$f":"分類順!B3468","v":0},{"$f":"分類順!C3468","v":0},{"$f":"分類順!D3468","v":0},{"$f":"分類順!E3468","v":0},{"$f":"分類順!F3468","v":0},"00000",1,{"$f":"VLOOKUP(\"*\"&目次加工!$B$2&\"*\",J3469:K3469,2,0)","v":1},1]
[null,null,null,{"$f":"分類順!A3469","v":0},{"$f":"分類順!B3469","v":0},{"$f":"分類順!C3469","v":0},{"$f":"分類順!D3469","v":0},{"$f":"分類順!E3469","v":0},{"$f":"分類順!F3469","v":0},"00000",1,{"$f":"VLOOKUP(\"*\"&目次加工!$B$2&\"*\",J3470:K3470,2,0)","v":1},1]
[null,null,null,{"$f":"分類順!A3470","v":0},{"$f":"分類順!B3470","v":0},{"$f":"分類順!C3470","v":0},{"$f":"分類順!D3470","v":0},{"$f":"分類順!E3470","v":0},{"$f":"分類順!F3470","v":0},"00000",1,{"$f":"VLOOKUP(\"*\"&目次加工!$B$2&\"*\",J3471:K3471,2,0)","v":1},1]
[null,null,null,{"$f":"分類順!A3471","v":0},{"$f":"分類順!B3471","v":0},{"$f":"分類順!C3471","v":0},{"$f":"分類順!D3471","v":0},{"$f":"分類順!E3471","v":0},{"$f":"分類順!F3471","v":0},"00000",1,{"$f":"VLOOKUP(\"*\"&目次加工!$B$2&\"*\",J3472:K3472,2,0)","v":1},1]
[null,null,null,{"$f":"分類順!A3472","v":0},{"$f":"分類順!B3472","v":0},{"$f":"分類順!C3472","v":0},{"$f":"分類順!D3472","v":0},{"$f":"分類順!E3472","v":0},{"$f":"分類順!F3472","v":0},"00000",1,{"$f":"VLOOKUP(\"*\"&目次加工!$B$2&\"*\",J3473:K3473,2,0)","v":1},1]
[null,null,null,{"$f":"分類順!A3473","v":0},{"$f":"分類順!B3473","v":0},{"$f":"分類順!C3473","v":0},{"$f":"分類順!D3473","v":0},{"$f":"分類順!E3473","v":0},{"$f":"分類順!F3473","v":0},"00000",1,{"$f":"VLOOKUP(\"*\"&目次加工!$B$2&\"*\",J3474:K3474,2,0)","v":1},1]
[null,null,null,{"$f":"分類順!A3474","v":0},{"$f":"分類順!B3474","v":0},{"$f":"分類順!C3474","v":0},{"$f":"分類順!D3474","v":0},{"$f":"分類順!E3474","v":0},{"$f":"分類順!F3474","v":0},{"$f":"D3475&E3475&F3475&G3475&H3475","v":"00000"},1,{"$f":"VLOOKUP(\"*\"&目次加工!$B$2&\"*\",J3475:K3475,2,0)","v":1},1]
[null,null,null,{"$f":"分類順!A3475","v":0},{"$f":"分類順!B3475","v":0},{"$f":"分類順!C3475","v":0},{"$f":"分類順!D3475","v":0},{"$f":"分類順!E3475","v":0},{"$f":"分類順!F3475","v":0},"00000",1,{"$f":"VLOOKUP(\"*\"&目次加工!$B$2&\"*\",J3476:K3476,2,0)","v":1},1]
[null,null,null,{"$f":"分類順!A3476","v":0},{"$f":"分類順!B3476","v":0},{"$f":"分類順!C3476","v":0},{"$f":"分類順!D3476","v":0},{"$f":"分類順!E3476","v":0},{"$f":"分類順!F3476","v":0},"00000",1,{"$f":"VLOOKUP(\"*\"&目次加工!$B$2&\"*\",J3477:K3477,2,0)","v":1},1]
[null,null,null,{"$f":"分類順!A3477","v":0},{"$f":"分類順!B3477","v":0},{"$f":"分類順!C3477","v":0},{"$f":"分類順!D3477","v":0},{"$f":"分類順!E3477","v":0},{"$f":"分類順!F3477","v":0},"00000",1,{"$f":"VLOOKUP(\"*\"&目次加工!$B$2&\"*\",J3478:K3478,2,0)","v":1},1]
[null,null,null,{"$f":"分類順!A3478","v":0},{"$f":"分類順!B3478","v":0},{"$f":"分類順!C3478","v":0},{"$f":"分類順!D3478","v":0},{"$f":"分類順!E3478","v":0},{"$f":"分類順!F3478","v":0},"00000",1,{"$f":"VLOOKUP(\"*\"&目次加工!$B$2&\"*\",J3479:K3479,2,0)","v":1},1]
[null,null,null,{"$f":"分類順!A3479","v":0},{"$f":"分類順!B3479","v":0},{"$f":"分類順!C3479","v":0},{"$f":"分類順!D3479","v":0},{"$f":"分類順!E3479","v":0},{"$f":"分類順!F3479","v":0},"00000",1,{"$f":"VLOOKUP(\"*\"&目次加工!$B$2&\"*\",J3480:K3480,2,0)","v":1},1]
[null,null,null,{"$f":"分類順!A3480","v":0},{"$f":"分類順!B3480","v":0},{"$f":"分類順!C3480","v":0},{"$f":"分類順!D3480","v":0},{"$f":"分類順!E3480","v":0},{"$f":"分類順!F3480","v":0},"00000",1,{"$f":"VLOOKUP(\"*\"&目次加工!$B$2&\"*\",J3481:K3481,2,0)","v":1},1]
[null,null,null,{"$f":"分類順!A3481","v":0},{"$f":"分類順!B3481","v":0},{"$f":"分類順!C3481","v":0},{"$f":"分類順!D3481","v":0},{"$f":"分類順!E3481","v":0},{"$f":"分類順!F3481","v":0},"00000",1,{"$f":"VLOOKUP(\"*\"&目次加工!$B$2&\"*\",J3482:K3482,2,0)","v":1},1]
[null,null,null,{"$f":"分類順!A3482","v":0},{"$f":"分類順!B3482","v":0},{"$f":"分類順!C3482","v":0},{"$f":"分類順!D3482","v":0},{"$f":"分類順!E3482","v":0},{"$f":"分類順!F3482","v":0},"00000",1,{"$f":"VLOOKUP(\"*\"&目次加工!$B$2&\"*\",J3483:K3483,2,0)","v":1},1]
[null,null,null,{"$f":"分類順!A3483","v":0},{"$f":"分類順!B3483","v":0},{"$f":"分類順!C3483","v":0},{"$f":"分類順!D3483","v":0},{"$f":"分類順!E3483","v":0},{"$f":"分類順!F3483","v":0},"00000",1,{"$f":"VLOOKUP(\"*\"&目次加工!$B$2&\"*\",J3484:K3484,2,0)","v":1},1]
[null,null,null,{"$f":"分類順!A3484","v":0},{"$f":"分類順!B3484","v":0},{"$f":"分類順!C3484","v":0},{"$f":"分類順!D3484","v":0},{"$f":"分類順!E3484","v":0},{"$f":"分類順!F3484","v":0},"00000",1,{"$f":"VLOOKUP(\"*\"&目次加工!$B$2&\"*\",J3485:K3485,2,0)","v":1},1]
[null,null,null,{"$f":"分類順!A3485","v":0},{"$f":"分類順!B3485","v":0},{"$f":"分類順!C3485","v":0},{"$f":"分類順!D3485","v":0},{"$f":"分類順!E3485","v":0},{"$f":"分類順!F3485","v":0},"00000",1,{"$f":"VLOOKUP(\"*\"&目次加工!$B$2&\"*\",J3486:K3486,2,0)","v":1},1]
[null,null,null,{"$f":"分類順!A3486","v":0},{"$f":"分類順!B3486","v":0},{"$f":"分類順!C3486","v":0},{"$f":"分類順!D3486","v":0},{"$f":"分類順!E3486","v":0},{"$f":"分類順!F3486","v":0},"00000",1,{"$f":"VLOOKUP(\"*\"&目次加工!$B$2&\"*\",J3487:K3487,2,0)","v":1},1]
[null,null,null,{"$f":"分類順!A3487","v":0},{"$f":"分類順!B3487","v":0},{"$f":"分類順!C3487","v":0},{"$f":"分類順!D3487","v":0},{"$f":"分類順!E3487","v":0},{"$f":"分類順!F3487","v":0},"00000",1,{"$f":"VLOOKUP(\"*\"&目次加工!$B$2&\"*\",J3488:K3488,2,0)","v":1},1]
[null,null,null,{"$f":"分類順!A3488","v":0},{"$f":"分類順!B3488","v":0},{"$f":"分類順!C3488","v":0},{"$f":"分類順!D3488","v":0},{"$f":"分類順!E3488","v":0},{"$f":"分類順!F3488","v":0},"00000",1,{"$f":"VLOOKUP(\"*\"&目次加工!$B$2&\"*\",J3489:K3489,2,0)","v":1},1]
[null,null,null,{"$f":"分類順!A3489","v":0},{"$f":"分類順!B3489","v":0},{"$f":"分類順!C3489","v":0},{"$f":"分類順!D3489","v":0},{"$f":"分類順!E3489","v":0},{"$f":"分類順!F3489","v":0},"00000",1,{"$f":"VLOOKUP(\"*\"&目次加工!$B$2&\"*\",J3490:K3490,2,0)","v":1},1]
[null,null,null,{"$f":"分類順!A3490","v":0},{"$f":"分類順!B3490","v":0},{"$f":"分類順!C3490","v":0},{"$f":"分類順!D3490","v":0},{"$f":"分類順!E3490","v":0},{"$f":"分類順!F3490","v":0},"00000",1,{"$f":"VLOOKUP(\"*\"&目次加工!$B$2&\"*\",J3491:K3491,2,0)","v":1},1]
[null,null,null,{"$f":"分類順!A3491","v":0},{"$f":"分類順!B3491","v":0},{"$f":"分類順!C3491","v":0},{"$f":"分類順!D3491","v":0},{"$f":"分類順!E3491","v":0},{"$f":"分類順!F3491","v":0},"00000",1,{"$f":"VLOOKUP(\"*\"&目次加工!$B$2&\"*\",J3492:K3492,2,0)","v":1},1]
[null,null,null,{"$f":"分類順!A3492","v":0},{"$f":"分類順!B3492","v":0},{"$f":"分類順!C3492","v":0},{"$f":"分類順!D3492","v":0},{"$f":"分類順!E3492","v":0},{"$f":"分類順!F3492","v":0},"00000",1,{"$f":"VLOOKUP(\"*\"&目次加工!$B$2&\"*\",J3493:K3493,2,0)","v":1},1]
[null,null,null,{"$f":"分類順!A3493","v":0},{"$f":"分類順!B3493","v":0},{"$f":"分類順!C3493","v":0},{"$f":"分類順!D3493","v":0},{"$f":"分類順!E3493","v":0},{"$f":"分類順!F3493","v":0},"00000",1,{"$f":"VLOOKUP(\"*\"&目次加工!$B$2&\"*\",J3494:K3494,2,0)","v":1},1]
[null,null,null,{"$f":"分類順!A3494","v":0},{"$f":"分類順!B3494","v":0},{"$f":"分類順!C3494","v":0},{"$f":"分類順!D3494","v":0},{"$f":"分類順!E3494","v":0},{"$f":"分類順!F3494","v":0},"00000",1,{"$f":"VLOOKUP(\"*\"&目次加工!$B$2&\"*\",J3495:K3495,2,0)","v":1},1]
[null,null,null,{"$f":"分類順!A3495","v":0},{"$f":"分類順!B3495","v":0},{"$f":"分類順!C3495","v":0},{"$f":"分類順!D3495","v":0},{"$f":"分類順!E3495","v":0},{"$f":"分類順!F3495","v":0},"00000",1,{"$f":"VLOOKUP(\"*\"&目次加工!$B$2&\"*\",J3496:K3496,2,0)","v":1},1]
[null,null,null,{"$f":"分類順!A3496","v":0},{"$f":"分類順!B3496","v":0},{"$f":"分類順!C3496","v":0},{"$f":"分類順!D3496","v":0},{"$f":"分類順!E3496","v":0},{"$f":"分類順!F3496","v":0},"00000",1,{"$f":"VLOOKUP(\"*\"&目次加工!$B$2&\"*\",J3497:K3497,2,0)","v":1},1]
[null,null,null,{"$f":"分類順!A3497","v":0},{"$f":"分類順!B3497","v":0},{"$f":"分類順!C3497","v":0},{"$f":"分類順!D3497","v":0},{"$f":"分類順!E3497","v":0},{"$f":"分類順!F3497","v":0},"00000",1,{"$f":"VLOOKUP(\"*\"&目次加工!$B$2&\"*\",J3498:K3498,2,0)","v":1},1]
[null,null,null,{"$f":"分類順!A3498","v":0},{"$f":"分類順!B3498","v":0},{"$f":"分類順!C3498","v":0},{"$f":"分類順!D3498","v":0},{"$f":"分類順!E3498","v":0},{"$f":"分類順!F3498","v":0},"00000",1,{"$f":"VLOOKUP(\"*\"&目次加工!$B$2&\"*\",J3499:K3499,2,0)","v":1},1]
[null,null,null,{"$f":"分類順!A3499","v":0},{"$f":"分類順!B3499","v":0},{"$f":"分類順!C3499","v":0},{"$f":"分類順!D3499","v":0},{"$f":"分類順!E3499","v":0},{"$f":"分類順!F3499","v":0},"00000",1,{"$f":"VLOOKUP(\"*\"&目次加工!$B$2&\"*\",J3500:K3500,2,0)","v":1},1]
[null,null,null,{"$f":"分類順!A3500","v":0},{"$f":"分類順!B3500","v":0},{"$f":"分類順!C3500","v":0},{"$f":"分類順!D3500","v":0},{"$f":"分類順!E3500","v":0},{"$f":"分類順!F3500","v":0},"00000",1,{"$f":"VLOOKUP(\"*\"&目次加工!$B$2&\"*\",J3501:K3501,2,0)","v":1},1]
[null,null,null,{"$f":"分類順!A3501","v":0},{"$f":"分類順!B3501","v":0},{"$f":"分類順!C3501","v":0},{"$f":"分類順!D3501","v":0},{"$f":"分類順!E3501","v":0},{"$f":"分類順!F3501","v":0},"00000",1,{"$f":"VLOOKUP(\"*\"&目次加工!$B$2&\"*\",J3502:K3502,2,0)","v":1},1]
[null,null,null,{"$f":"分類順!A3502","v":0},{"$f":"分類順!B3502","v":0},{"$f":"分類順!C3502","v":0},{"$f":"分類順!D3502","v":0},{"$f":"分類順!E3502","v":0},{"$f":"分類順!F3502","v":0},"00000",1,{"$f":"VLOOKUP(\"*\"&目次加工!$B$2&\"*\",J3503:K3503,2,0)","v":1},1]
[null,null,null,{"$f":"分類順!A3503","v":0},{"$f":"分類順!B3503","v":0},{"$f":"分類順!C3503","v":0},{"$f":"分類順!D3503","v":0},{"$f":"分類順!E3503","v":0},{"$f":"分類順!F3503","v":0},"00000",1,{"$f":"VLOOKUP(\"*\"&目次加工!$B$2&\"*\",J3504:K3504,2,0)","v":1},1]
[null,null,null,{"$f":"分類順!A3504","v":0},{"$f":"分類順!B3504","v":0},{"$f":"分類順!C3504","v":0},{"$f":"分類順!D3504","v":0},{"$f":"分類順!E3504","v":0},{"$f":"分類順!F3504","v":0},"00000",1,{"$f":"VLOOKUP(\"*\"&目次加工!$B$2&\"*\",J3505:K3505,2,0)","v":1},1]
[null,null,null,{"$f":"分類順!A3505","v":0},{"$f":"分類順!B3505","v":0},{"$f":"分類順!C3505","v":0},{"$f":"分類順!D3505","v":0},{"$f":"分類順!E3505","v":0},{"$f":"分類順!F3505","v":0},"00000",1,{"$f":"VLOOKUP(\"*\"&目次加工!$B$2&\"*\",J3506:K3506,2,0)","v":1},1]
[null,null,null,{"$f":"分類順!A3506","v":0},{"$f":"分類順!B3506","v":0},{"$f":"分類順!C3506","v":0},{"$f":"分類順!D3506","v":0},{"$f":"分類順!E3506","v":0},{"$f":"分類順!F3506","v":0},"00000",1,{"$f":"VLOOKUP(\"*\"&目次加工!$B$2&\"*\",J3507:K3507,2,0)","v":1},1]
[null,null,null,{"$f":"分類順!A3507","v":0},{"$f":"分類順!B3507","v":0},{"$f":"分類順!C3507","v":0},{"$f":"分類順!D3507","v":0},{"$f":"分類順!E3507","v":0},{"$f":"分類順!F3507","v":0},"00000",1,{"$f":"VLOOKUP(\"*\"&目次加工!$B$2&\"*\",J3508:K3508,2,0)","v":1},1]
[null,null,null,{"$f":"分類順!A3508","v":0},{"$f":"分類順!B3508","v":0},{"$f":"分類順!C3508","v":0},{"$f":"分類順!D3508","v":0},{"$f":"分類順!E3508","v":0},{"$f":"分類順!F3508","v":0},"00000",1,{"$f":"VLOOKUP(\"*\"&目次加工!$B$2&\"*\",J3509:K3509,2,0)","v":1},1]
[null,null,null,{"$f":"分類順!A3509","v":0},{"$f":"分類順!B3509","v":0},{"$f":"分類順!C3509","v":0},{"$f":"分類順!D3509","v":0},{"$f":"分類順!E3509","v":0},{"$f":"分類順!F3509","v":0},"00000",1,{"$f":"VLOOKUP(\"*\"&目次加工!$B$2&\"*\",J3510:K3510,2,0)","v":1},1]
[null,null,null,{"$f":"分類順!A3510","v":0},{"$f":"分類順!B3510","v":0},{"$f":"分類順!C3510","v":0},{"$f":"分類順!D3510","v":0},{"$f":"分類順!E3510","v":0},{"$f":"分類順!F3510","v":0},"00000",1,{"$f":"VLOOKUP(\"*\"&目次加工!$B$2&\"*\",J3511:K3511,2,0)","v":1},1]
[null,null,null,{"$f":"分類順!A3511","v":0},{"$f":"分類順!B3511","v":0},{"$f":"分類順!C3511","v":0},{"$f":"分類順!D3511","v":0},{"$f":"分類順!E3511","v":0},{"$f":"分類順!F3511","v":0},"00000",1,{"$f":"VLOOKUP(\"*\"&目次加工!$B$2&\"*\",J3512:K3512,2,0)","v":1},1]
[null,null,null,{"$f":"分類順!A3512","v":0},{"$f":"分類順!B3512","v":0},{"$f":"分類順!C3512","v":0},{"$f":"分類順!D3512","v":0},{"$f":"分類順!E3512","v":0},{"$f":"分類順!F3512","v":0},"00000",1,{"$f":"VLOOKUP(\"*\"&目次加工!$B$2&\"*\",J3513:K3513,2,0)","v":1},1]
[null,null,null,{"$f":"分類順!A3513","v":0},{"$f":"分類順!B3513","v":0},{"$f":"分類順!C3513","v":0},{"$f":"分類順!D3513","v":0},{"$f":"分類順!E3513","v":0},{"$f":"分類順!F3513","v":0},"00000",1,{"$f":"VLOOKUP(\"*\"&目次加工!$B$2&\"*\",J3514:K3514,2,0)","v":1},1]
[null,null,null,{"$f":"分類順!A3514","v":0},{"$f":"分類順!B3514","v":0},{"$f":"分類順!C3514","v":0},{"$f":"分類順!D3514","v":0},{"$f":"分類順!E3514","v":0},{"$f":"分類順!F3514","v":0},"00000",1,{"$f":"VLOOKUP(\"*\"&目次加工!$B$2&\"*\",J3515:K3515,2,0)","v":1},1]
[null,null,null,{"$f":"分類順!A3515","v":0},{"$f":"分類順!B3515","v":0},{"$f":"分類順!C3515","v":0},{"$f":"分類順!D3515","v":0},{"$f":"分類順!E3515","v":0},{"$f":"分類順!F3515","v":0},"00000",1,{"$f":"VLOOKUP(\"*\"&目次加工!$B$2&\"*\",J3516:K3516,2,0)","v":1},1]
[null,null,null,{"$f":"分類順!A3516","v":0},{"$f":"分類順!B3516","v":0},{"$f":"分類順!C3516","v":0},{"$f":"分類順!D3516","v":0},{"$f":"分類順!E3516","v":0},{"$f":"分類順!F3516","v":0},"00000",1,{"$f":"VLOOKUP(\"*\"&目次加工!$B$2&\"*\",J3517:K3517,2,0)","v":1},1]
[null,null,null,{"$f":"分類順!A3517","v":0},{"$f":"分類順!B3517","v":0},{"$f":"分類順!C3517","v":0},{"$f":"分類順!D3517","v":0},{"$f":"分類順!E3517","v":0},{"$f":"分類順!F3517","v":0},"00000",1,{"$f":"VLOOKUP(\"*\"&目次加工!$B$2&\"*\",J3518:K3518,2,0)","v":1},1]
[null,null,null,{"$f":"分類順!A3518","v":0},{"$f":"分類順!B3518","v":0},{"$f":"分類順!C3518","v":0},{"$f":"分類順!D3518","v":0},{"$f":"分類順!E3518","v":0},{"$f":"分類順!F3518","v":0},"00000",1,{"$f":"VLOOKUP(\"*\"&目次加工!$B$2&\"*\",J3519:K3519,2,0)","v":1},1]
[null,null,null,{"$f":"分類順!A3519","v":0},{"$f":"分類順!B3519","v":0},{"$f":"分類順!C3519","v":0},{"$f":"分類順!D3519","v":0},{"$f":"分類順!E3519","v":0},{"$f":"分類順!F3519","v":0},"00000",1,{"$f":"VLOOKUP(\"*\"&目次加工!$B$2&\"*\",J3520:K3520,2,0)","v":1},1]
[null,null,null,{"$f":"分類順!A3520","v":0},{"$f":"分類順!B3520","v":0},{"$f":"分類順!C3520","v":0},{"$f":"分類順!D3520","v":0},{"$f":"分類順!E3520","v":0},{"$f":"分類順!F3520","v":0},"00000",1,{"$f":"VLOOKUP(\"*\"&目次加工!$B$2&\"*\",J3521:K3521,2,0)","v":1},1]
[null,null,null,{"$f":"分類順!A3521","v":0},{"$f":"分類順!B3521","v":0},{"$f":"分類順!C3521","v":0},{"$f":"分類順!D3521","v":0},{"$f":"分類順!E3521","v":0},{"$f":"分類順!F3521","v":0},"00000",1,{"$f":"VLOOKUP(\"*\"&目次加工!$B$2&\"*\",J3522:K3522,2,0)","v":1},1]
[null,null,null,{"$f":"分類順!A3522","v":0},{"$f":"分類順!B3522","v":0},{"$f":"分類順!C3522","v":0},{"$f":"分類順!D3522","v":0},{"$f":"分類順!E3522","v":0},{"$f":"分類順!F3522","v":0},"00000",1,{"$f":"VLOOKUP(\"*\"&目次加工!$B$2&\"*\",J3523:K3523,2,0)","v":1},1]
[null,null,null,{"$f":"分類順!A3523","v":0},{"$f":"分類順!B3523","v":0},{"$f":"分類順!C3523","v":0},{"$f":"分類順!D3523","v":0},{"$f":"分類順!E3523","v":0},{"$f":"分類順!F3523","v":0},"00000",1,{"$f":"VLOOKUP(\"*\"&目次加工!$B$2&\"*\",J3524:K3524,2,0)","v":1},{"$f":"VLOOKUP(\"*\"&$A$2&\"*\",J3524:K3524,2,0)","v":1}]
[null,null,null,{"$f":"分類順!A3524","v":0},{"$f":"分類順!B3524","v":0},{"$f":"分類順!C3524","v":0},{"$f":"分類順!D3524","v":0},{"$f":"分類順!E3524","v":0},{"$f":"分類順!F3524","v":0},"00000",1,{"$f":"VLOOKUP(\"*\"&目次加工!$B$2&\"*\",J3525:K3525,2,0)","v":1},1]
[null,null,null,{"$f":"分類順!A3525","v":0},{"$f":"分類順!B3525","v":0},{"$f":"分類順!C3525","v":0},{"$f":"分類順!D3525","v":0},{"$f":"分類順!E3525","v":0},{"$f":"分類順!F3525","v":0},"00000",1,{"$f":"VLOOKUP(\"*\"&目次加工!$B$2&\"*\",J3526:K3526,2,0)","v":1},1]
[null,null,null,{"$f":"分類順!A3526","v":0},{"$f":"分類順!B3526","v":0},{"$f":"分類順!C3526","v":0},{"$f":"分類順!D3526","v":0},{"$f":"分類順!E3526","v":0},{"$f":"分類順!F3526","v":0},"00000",1,{"$f":"VLOOKUP(\"*\"&目次加工!$B$2&\"*\",J3527:K3527,2,0)","v":1},1]
[null,null,null,{"$f":"分類順!A3527","v":0},{"$f":"分類順!B3527","v":0},{"$f":"分類順!C3527","v":0},{"$f":"分類順!D3527","v":0},{"$f":"分類順!E3527","v":0},{"$f":"分類順!F3527","v":0},"00000",1,{"$f":"VLOOKUP(\"*\"&目次加工!$B$2&\"*\",J3528:K3528,2,0)","v":1},1]
[null,null,null,{"$f":"分類順!A3528","v":0},{"$f":"分類順!B3528","v":0},{"$f":"分類順!C3528","v":0},{"$f":"分類順!D3528","v":0},{"$f":"分類順!E3528","v":0},{"$f":"分類順!F3528","v":0},"00000",1,{"$f":"VLOOKUP(\"*\"&目次加工!$B$2&\"*\",J3529:K3529,2,0)","v":1},1]
[null,null,null,{"$f":"分類順!A3529","v":0},{"$f":"分類順!B3529","v":0},{"$f":"分類順!C3529","v":0},{"$f":"分類順!D3529","v":0},{"$f":"分類順!E3529","v":0},{"$f":"分類順!F3529","v":0},"00000",1,{"$f":"VLOOKUP(\"*\"&目次加工!$B$2&\"*\",J3530:K3530,2,0)","v":1},1]
[null,null,null,{"$f":"分類順!A3530","v":0},{"$f":"分類順!B3530","v":0},{"$f":"分類順!C3530","v":0},{"$f":"分類順!D3530","v":0},{"$f":"分類順!E3530","v":0},{"$f":"分類順!F3530","v":0},"00000",1,{"$f":"VLOOKUP(\"*\"&目次加工!$B$2&\"*\",J3531:K3531,2,0)","v":1},1]
[null,null,null,{"$f":"分類順!A3531","v":0},{"$f":"分類順!B3531","v":0},{"$f":"分類順!C3531","v":0},{"$f":"分類順!D3531","v":0},{"$f":"分類順!E3531","v":0},{"$f":"分類順!F3531","v":0},"00000",1,{"$f":"VLOOKUP(\"*\"&目次加工!$B$2&\"*\",J3532:K3532,2,0)","v":1},1]
[null,null,null,{"$f":"分類順!A3532","v":0},{"$f":"分類順!B3532","v":0},{"$f":"分類順!C3532","v":0},{"$f":"分類順!D3532","v":0},{"$f":"分類順!E3532","v":0},{"$f":"分類順!F3532","v":0},"00000",1,{"$f":"VLOOKUP(\"*\"&目次加工!$B$2&\"*\",J3533:K3533,2,0)","v":1},1]
[null,null,null,{"$f":"分類順!A3533","v":0},{"$f":"分類順!B3533","v":0},{"$f":"分類順!C3533","v":0},{"$f":"分類順!D3533","v":0},{"$f":"分類順!E3533","v":0},{"$f":"分類順!F3533","v":0},"00000",1,{"$f":"VLOOKUP(\"*\"&目次加工!$B$2&\"*\",J3534:K3534,2,0)","v":1},1]
[null,null,null,{"$f":"分類順!A3534","v":0},{"$f":"分類順!B3534","v":0},{"$f":"分類順!C3534","v":0},{"$f":"分類順!D3534","v":0},{"$f":"分類順!E3534","v":0},{"$f":"分類順!F3534","v":0},"00000",1,{"$f":"VLOOKUP(\"*\"&目次加工!$B$2&\"*\",J3535:K3535,2,0)","v":1},1]
[null,null,null,{"$f":"分類順!A3535","v":0},{"$f":"分類順!B3535","v":0},{"$f":"分類順!C3535","v":0},{"$f":"分類順!D3535","v":0},{"$f":"分類順!E3535","v":0},{"$f":"分類順!F3535","v":0},"00000",1,{"$f":"VLOOKUP(\"*\"&目次加工!$B$2&\"*\",J3536:K3536,2,0)","v":1},1]
[null,null,null,{"$f":"分類順!A3536","v":0},{"$f":"分類順!B3536","v":0},{"$f":"分類順!C3536","v":0},{"$f":"分類順!D3536","v":0},{"$f":"分類順!E3536","v":0},{"$f":"分類順!F3536","v":0},"00000",1,{"$f":"VLOOKUP(\"*\"&目次加工!$B$2&\"*\",J3537:K3537,2,0)","v":1},1]
[null,null,null,{"$f":"分類順!A3537","v":0},{"$f":"分類順!B3537","v":0},{"$f":"分類順!C3537","v":0},{"$f":"分類順!D3537","v":0},{"$f":"分類順!E3537","v":0},{"$f":"分類順!F3537","v":0},"00000",1,{"$f":"VLOOKUP(\"*\"&目次加工!$B$2&\"*\",J3538:K3538,2,0)","v":1},1]
[null,null,null,{"$f":"分類順!A3538","v":0},{"$f":"分類順!B3538","v":0},{"$f":"分類順!C3538","v":0},{"$f":"分類順!D3538","v":0},{"$f":"分類順!E3538","v":0},{"$f":"分類順!F3538","v":0},{"$f":"D3539&E3539&F3539&G3539&H3539","v":"00000"},1,{"$f":"VLOOKUP(\"*\"&目次加工!$B$2&\"*\",J3539:K3539,2,0)","v":1},1]
[null,null,null,{"$f":"分類順!A3539","v":0},{"$f":"分類順!B3539","v":0},{"$f":"分類順!C3539","v":0},{"$f":"分類順!D3539","v":0},{"$f":"分類順!E3539","v":0},{"$f":"分類順!F3539","v":0},"00000",1,{"$f":"VLOOKUP(\"*\"&目次加工!$B$2&\"*\",J3540:K3540,2,0)","v":1},1]
[null,null,null,{"$f":"分類順!A3540","v":0},{"$f":"分類順!B3540","v":0},{"$f":"分類順!C3540","v":0},{"$f":"分類順!D3540","v":0},{"$f":"分類順!E3540","v":0},{"$f":"分類順!F3540","v":0},"00000",1,{"$f":"VLOOKUP(\"*\"&目次加工!$B$2&\"*\",J3541:K3541,2,0)","v":1},1]
[null,null,null,{"$f":"分類順!A3541","v":0},{"$f":"分類順!B3541","v":0},{"$f":"分類順!C3541","v":0},{"$f":"分類順!D3541","v":0},{"$f":"分類順!E3541","v":0},{"$f":"分類順!F3541","v":0},"00000",1,{"$f":"VLOOKUP(\"*\"&目次加工!$B$2&\"*\",J3542:K3542,2,0)","v":1},1]
[null,null,null,{"$f":"分類順!A3542","v":0},{"$f":"分類順!B3542","v":0},{"$f":"分類順!C3542","v":0},{"$f":"分類順!D3542","v":0},{"$f":"分類順!E3542","v":0},{"$f":"分類順!F3542","v":0},"00000",1,{"$f":"VLOOKUP(\"*\"&目次加工!$B$2&\"*\",J3543:K3543,2,0)","v":1},1]
[null,null,null,{"$f":"分類順!A3543","v":0},{"$f":"分類順!B3543","v":0},{"$f":"分類順!C3543","v":0},{"$f":"分類順!D3543","v":0},{"$f":"分類順!E3543","v":0},{"$f":"分類順!F3543","v":0},"00000",1,{"$f":"VLOOKUP(\"*\"&目次加工!$B$2&\"*\",J3544:K3544,2,0)","v":1},1]
[null,null,null,{"$f":"分類順!A3544","v":0},{"$f":"分類順!B3544","v":0},{"$f":"分類順!C3544","v":0},{"$f":"分類順!D3544","v":0},{"$f":"分類順!E3544","v":0},{"$f":"分類順!F3544","v":0},"00000",1,{"$f":"VLOOKUP(\"*\"&目次加工!$B$2&\"*\",J3545:K3545,2,0)","v":1},1]
[null,null,null,{"$f":"分類順!A3545","v":0},{"$f":"分類順!B3545","v":0},{"$f":"分類順!C3545","v":0},{"$f":"分類順!D3545","v":0},{"$f":"分類順!E3545","v":0},{"$f":"分類順!F3545","v":0},"00000",1,{"$f":"VLOOKUP(\"*\"&目次加工!$B$2&\"*\",J3546:K3546,2,0)","v":1},1]
[null,null,null,{"$f":"分類順!A3546","v":0},{"$f":"分類順!B3546","v":0},{"$f":"分類順!C3546","v":0},{"$f":"分類順!D3546","v":0},{"$f":"分類順!E3546","v":0},{"$f":"分類順!F3546","v":0},"00000",1,{"$f":"VLOOKUP(\"*\"&目次加工!$B$2&\"*\",J3547:K3547,2,0)","v":1},1]
[null,null,null,{"$f":"分類順!A3547","v":0},{"$f":"分類順!B3547","v":0},{"$f":"分類順!C3547","v":0},{"$f":"分類順!D3547","v":0},{"$f":"分類順!E3547","v":0},{"$f":"分類順!F3547","v":0},"00000",1,{"$f":"VLOOKUP(\"*\"&目次加工!$B$2&\"*\",J3548:K3548,2,0)","v":1},1]
[null,null,null,{"$f":"分類順!A3548","v":0},{"$f":"分類順!B3548","v":0},{"$f":"分類順!C3548","v":0},{"$f":"分類順!D3548","v":0},{"$f":"分類順!E3548","v":0},{"$f":"分類順!F3548","v":0},"00000",1,{"$f":"VLOOKUP(\"*\"&目次加工!$B$2&\"*\",J3549:K3549,2,0)","v":1},1]
[null,null,null,{"$f":"分類順!A3549","v":0},{"$f":"分類順!B3549","v":0},{"$f":"分類順!C3549","v":0},{"$f":"分類順!D3549","v":0},{"$f":"分類順!E3549","v":0},{"$f":"分類順!F3549","v":0},"00000",1,{"$f":"VLOOKUP(\"*\"&目次加工!$B$2&\"*\",J3550:K3550,2,0)","v":1},1]
[null,null,null,{"$f":"分類順!A3550","v":0},{"$f":"分類順!B3550","v":0},{"$f":"分類順!C3550","v":0},{"$f":"分類順!D3550","v":0},{"$f":"分類順!E3550","v":0},{"$f":"分類順!F3550","v":0},"00000",1,{"$f":"VLOOKUP(\"*\"&目次加工!$B$2&\"*\",J3551:K3551,2,0)","v":1},1]
[null,null,null,{"$f":"分類順!A3551","v":0},{"$f":"分類順!B3551","v":0},{"$f":"分類順!C3551","v":0},{"$f":"分類順!D3551","v":0},{"$f":"分類順!E3551","v":0},{"$f":"分類順!F3551","v":0},"00000",1,{"$f":"VLOOKUP(\"*\"&目次加工!$B$2&\"*\",J3552:K3552,2,0)","v":1},1]

{"sheet":"50音","index":3,"n_rows":2334,"n_cols":6,"rows_kept":2334,"cut":false,"hidden":false,"merged":[]}
["図書名","図書種類名称","質研分類名称","著者名","出版社名","図書番号"]
["（生活実用シリーズ　ＮＨＫここが聞きたい！名医にＱ）　大腸がん","医療の本","Fs6：大腸がん",null,"NHK出版",5529]
["’０４　ＥＢＭに基づいた喘息治療ガイドラ","医療の本","Fn8：ぜんそく","宮本　昭正　監修","協和企画",635]
["“口から食べる”を支える在宅でみる摂食・嚥下障害、口腔ケア","医療の本","Gt8：在宅介護","新田國夫","南山堂",5500]
["「うつ」に陥っているあなたへ イラスト版","医療の本","C：心の健康","野村　総一郎","講談社",93]
["「かゆい、かゆい」はもうすぐそつぎょう","絵本","NULL","ねじめ正一","大日本印刷社",20172]
["「体を温める」とすべての痛みが消える　―腰痛、ひざ痛、股関節痛、間欠性跛行が治った! ","医療の本","Fb：骨/関節/筋肉","坂井 学　著","マキノ出版",5355]
["「カルテ＆レセプト略語１６０００」","医療の本","Aa：医学百科",null,"医学通信社",24]
["「考えすぎる自分」をお休みしよう","一般図書","C：心の健康","フェミニストセラピー”なかま”編","リヨン社",10400]
["「血液のがん」と言われたら…　お医者さんの話がよくわかるから安心できる","医療の本","Fc：血液/リンパ","小沢敬也, 翁家国","保健同人社",10288]
["「健診・人間ドックハンドブック」第３版","医療の本","Ad：検査","日野原　重明　監修","中外医学社",62]
["「酵素」が免疫力を上げる！","医療の本","Ff：免疫","鶴見隆史","永岡書店",10070]
["「ココからはじめる小児がん看護疾患の理解から臨床での活用まで 」","医療の本","Gk：こどもの健康","丸光惠, 石田也寸志","へるす出版",10261]
["「心がつかれた人」のためにあなたができる","医療の本","C：心の健康","浮世　満理子　著","あさ出版",117]
["「自分の家で死にたい」と言われたら読む本","医療の本","Gt8：在宅介護","関屋 利治　著","中経出版",5388]
["「ジンジャーとピクルズや」のおはなし","絵本","NULL","ビアトリクス・ポター","福音館書店",20561]
["「死んだらどうなるの？ミスター・シリー」","医療の本","Gk：こどもの健康","テッド・メンテン","人間と歴史社",5596]
["「死んだらどうなるの？ミスター・シリー」","医療の本","Gk：こどもの健康","テッド・メンテン","人間と歴史社",5597]
["「そ・わ・か」の法則","一般図書","C：心の健康","小林正観","サンマーク出版",10225]
["「その子らしさ」を生かす子育て","医療の本","Gk：こどもの健康","吉田　友子　著","中央法規出版",773]
["「認知症」とはどんな病気？－「認知症」の","医療の本","Gt7：認知症","灰田　宗孝　著","東海大学出版会",591]
["「はやぶさ」式思考法","一般図書","C：心の健康","川口淳一郎","飛鳥新社",10130]
["「見た目」の流儀","一般図書","C：心の健康","岡野　宏","ダイヤモンド社",10248]
["「むち打ち症」はこれで治る！　改訂新版","医療の本","Fb：骨/関節/筋肉","中井　宏　編著","日本医療企画",270]
["☆一般図書☆　夫婦の親","医療の本","Gt：高齢者","柳博雄","三五館",5607]
["０５　食物アレルギー診療ガイドライン","医療の本","Gk：こどもの健康","向山　徳子　監修","協和企画",807]
["０８　放射線療法　ＣＤ－ＲＯＭ付★","医療の本","Ad：検査","日本乳癌学会　編","金原出版",983]
["０９　高血圧治療ガイドライン","医療の本","Vb：高血圧",null,"ライフサイエンス出版",1023]
["１　呼吸器","医療の本","Ac：図解人体","牛木　辰男　他","日本醫事新報社",29]
["１・２年生のなぞなぞたんけんたい","絵本","NULL","このみ・プラニング","大泉書店",20637]
["10　運動器","医療の本","Ac：図解人体","坂井　建雄　総編集","日本醫事新報社",30]
["100歳まで長生きできるコレステロール革命 ","医療の本","Fc：血液/リンパ","大櫛 陽一 著","永岡書店 ",5357]
["１０にんのゆかいな　ひっこし","絵本","K：こどもの本","安野光雅","童話屋",20980]
["10ぴきのかえる","絵本","NULL","間所ひさこ","PHP研究所",20474]
["10ぴきのかえるのふゆぼもり","絵本","NULL","間所ひさこ","PHP研究所",20475]
["１０分で読めるお話　２年生","絵本","NULL","岡　信子","廣済堂",20261]
["１０分で読めるお話５年生","絵本","NULL","小暮正夫","学研",20754]
["１０分で読める名作　２年生","絵本","NULL","岡　信子","廣済堂",20260]
["12年目のお・か・あ・さ・ん","絵本","K：こどもの本","綾野まさる","ハート出版",21012]
["１２年目のお・か・あ・さ・ん","絵本","NULL","綾野まさる","ハート出版",20255]
["14歳の世渡り術　人生他力本願　誰かに頼りながら生きる49の方法","絵本","K：こどもの本","上島竜兵","河出書房新社",20796]
["14ひきのさむいふゆ","絵本","NULL","いわむらかずお","童心社",20459]
["16歳の教科書　なぜ学び、なにを学ぶのか","一般図書","C：心の健康","7人の特別講義プロジェクト＆モーニング編集部","講談社",10388]
["１型糖尿病[IDDM]お役立ちマニュアル インスリンとともに生きる","医療の本","Vc：糖尿病","日本ＩＤＤＭネットワーク","日本IDDMネットワーク",5667]
["１型糖尿病[IDDM]お役立ちマニュアル 災害対応編","医療の本","Vc：糖尿病","日本ＩＤＤＭネットワーク","日本IDDMネットワーク",5668]
["1型糖尿病の治療マニュアル","医療の本","Vc：糖尿病","丸山太郎","南江堂",10086]
["１年生のえほん百科","絵本","NULL","無藤　隆","講談社",20191]
["２　循環器","医療の本","Ac：図解人体","大谷　修　他","日本醫事新報社",31]
["2009　最近の新薬","医療の本","D：薬",null,"薬事日報社",995]
["2009　喘息予防・管理ガイドライン","医療の本","Fn8：ぜんそく",null,"協和企画",1014]
["2009　脳卒中治療ガイドライン","医療の本","Fm：脳・神経系","篠原　幸人　他編集","協和企画",1012]
["2009－10　医育機関名簿","医療の本","Jb：病院/スタッフ",null,"羊土社",1020]
["2010　医者からもらった薬がわかる本","医療の本","D：薬","木村　繁　著","法研",994]
["2010　医療用医薬品集　ＣＤ－ＲＯＭ付","医療の本","D：薬",null,"日本医薬情報センター",997]
["2010　今日の治療薬","医療の本","D：薬","水島　裕　編集","南江堂",993]
["2010　くすりの事典","医療の本","D：薬","小林　輝明　監修","成美堂出版",996]
["2010　薬の事典　ピルブック","医療の本","D：薬","橘　敏也　著","ソシム",170]
["２０１０－1１　日本医薬品集　一般薬","医療の本","D：薬","日本医薬品集フォーラ","じほう",998]
["2011年生まれ赤ちゃんの幸せ吉名事典","一般図書","Gk：こどもの健康","成田圭似","大泉書店",5465]
["２５　ふしぎの国のアリス","絵本","NULL","キャロル","永岡書店",20045]
["２年生の読みもの","絵本","NULL","長崎源之助","学校図書",20259]
["2ひきのわるいねずみのおはなし","絵本","NULL","ビアトリクス・ポター","福音館書店",20556]
["３　消化管","医療の本","Ac：図解人体","河原　克雄　他","日本醫事新報社",32]
["３さいからのあそべるずかん　しんかんせん","絵本","K：こどもの本","小賀野　実","ひかりのくに",20935]
["４　肝・胆・膵","医療の本","Ac：図解人体","泉井　亮　他","日本醫事新報社",33]
["５　腎・泌尿器","医療の本","Ac：図解人体","坂井　建雄　他編","日本醫事新報社",34]
["５０歳からの健康歳時記","医療の本","V：メタボリックシンドローム","石川恭三","朝日新聞出版",5664]
["５日間で学ぶ医療安全超入門","医療の本","J：医療","日本医療マネジメント学会","学研",8056]
["5年目の魔女","一般図書","Fa1：一般","乃南アサ","新潮社",10637]
["６　生殖器","医療の本","Ac：図解人体","坂井　建雄　他編","日本醫事新報社",35]
["60歳からの糖尿病　（よくわかる最新医学）","医療の本","Vc：糖尿病","阪本要一","主婦の友社",8109]
["７　血液・免疫・内分泌","医療の本","Ac：図解人体","坂井　建雄　他編","日本醫事新報社",36]
["８　神経系１","医療の本","Ac：図解人体","坂井　建雄　総編集","日本醫事新報社",37]
["９　神経系２","医療の本","Ac：図解人体","坂井　建雄　総編集","日本醫事新報社",38]
["⑨　トイ・ストーリー","絵本","NULL","ディズニー","講談社",20211]
["97歳の幸福論","一般図書","C：心の健康","笹本恒子","講談社",10450]
["Ａ　アンペア","絵本","NULL","篠原勝之","小学館",20286]
["ＡＤ／ＨＤ、ＬＤがある子どもを育てる本","医療の本","Gk：こどもの健康","月森久江","講談社",8117]
["ＡＤ／ＨＤ〈注意欠陥／多動性障害〉のすべてがわかる本 イラスト版","医療の本","Gk：こどもの健康","市川　宏伸","講談社",758]
["ＢａｂｙＢｏｏｋｓ　いぬ","絵本","NULL","たしろたく","偕成社",20005]
["CKDってなに？：その理解と早期発見・治療のために","医療の本","Fr：腎臓","北岡建樹","永井書店",8065]
["ＣＬＯＵＤＬＡＮＤ","一般図書","H：代替療法","高橋健司","光琳社",5635]
["COPD　慢性閉塞性肺疾患","医療の本","Fn6：COPD","木田厚瑞","主婦の友社",8016]
["COPDの最新治療 慢性閉塞性肺疾患 タバコの生活習慣病（よくわかる最新医学シリーズ）","医療の本","Fn6：COPD","木田 厚瑞","主婦の友社",10163]
["Ｃ型肝炎","医療の本","Ft5：C型肝炎","清沢　研道","保健同人社",541]
["Ｃ型肝炎Ｂ型肝炎 新版","医療の本","Ft5：C型肝炎","中嶋　俊彰","主婦の友社",543]
["Disease 人類を襲った30の病魔","医療の本","Fa：一般医学","小林力","医学書院",10068]
["Dr.コトー診療所　№1","一般図書","Jb：病院/スタッフ","山田貴敏","小学館",10103]
["Dr.コトー診療所　№10","一般図書","Jb：病院/スタッフ","山田貴敏","小学館",10112]
["Dr.コトー診療所　№11","一般図書","Jb：病院/スタッフ","山田貴敏","小学館",10113]
["Dr.コトー診療所　№12","一般図書","Jb：病院/スタッフ","山田貴敏","小学館",10114]
["Dr.コトー診療所　№13","一般図書","Jb：病院/スタッフ","山田貴敏","小学館",10115]
["Dr.コトー診療所　№14","一般図書","Jb：病院/スタッフ","山田貴敏","小学館",10116]
["Dr.コトー診療所　№15","一般図書","Jb：病院/スタッフ","山田貴敏","小学館",10117]
["Dr.コトー診療所　№16","一般図書","Jb：病院/スタッフ","山田貴敏","小学館",10118]
["Dr.コトー診療所　№17","一般図書","Jb：病院/スタッフ","山田貴敏","小学館",10119]
["Dr.コトー診療所　№18","一般図書","Jb：病院/スタッフ","山田貴敏","小学館",10120]
["Dr.コトー診療所　№19","一般図書","Jb：病院/スタッフ","山田貴敏","小学館",10137]
["Dr.コトー診療所　№2","一般図書","Jb：病院/スタッフ","山田貴敏","小学館",10104]
["Dr.コトー診療所　№20","一般図書","Jb：病院/スタッフ","山田貴敏","小学館",10121]
["Dr.コトー診療所　№21","一般図書","Jb：病院/スタッフ","山田貴敏","小学館",10138]
["Dr.コトー診療所　№22","一般図書","Jb：病院/スタッフ","山田貴敏","小学館",10122]
["Dr.コトー診療所　№23","一般図書","Jb：病院/スタッフ","山田貴敏","小学館",10139]
["Dr.コトー診療所　№24","一般図書","Jb：病院/スタッフ","山田貴敏","小学館",10140]
["Dr.コトー診療所　№25","一般図書","Jb：病院/スタッフ","山田貴敏","小学館",10136]
["Dr.コトー診療所　№3","一般図書","Jb：病院/スタッフ","山田貴敏","小学館",10105]
["Dr.コトー診療所　№4","一般図書","Jb：病院/スタッフ","山田貴敏","小学館",10106]
["Dr.コトー診療所　№5","一般図書","Jb：病院/スタッフ","山田貴敏","小学館",10107]
["Dr.コトー診療所　№6","一般図書","Jb：病院/スタッフ","山田貴敏","小学館",10108]
["Dr.コトー診療所　№7","一般図書","Jb：病院/スタッフ","山田貴敏","小学館",10109]
["Dr.コトー診療所　№8","一般図書","Jb：病院/スタッフ","山田貴敏","小学館",10110]
["Dr.コトー診療所　№9","一般図書","Jb：病院/スタッフ","山田貴敏","小学館",10111]
["Dr.モリの転ばぬ先の杖","一般図書","C：心の健康","森惟明","高知新聞総合印刷",10323]
["Dr.モリの転ばぬ先の杖","一般図書","Fa1：一般","森惟明","高知新聞総合印刷",10647]
["ＥＢＭ　正しい治療がわかる本","医療の本","Aa：医学百科","福井　次矢　著","法研",4]
["free","一般図書","H：代替療法","高砂淳二","小学館",5637]
["GOLDゴールド","一般図書","H：代替療法","南風推","PARCO出版局",10377]
["Happy birthday Maisy","絵本","K：こどもの本","Lucy cousins","NULL",20915]
["If pigs could fly","絵本","NULL","RANDOM HOUSE","RANDOMHOUSE",20339]
["ＬＤ〈学習障害〉のすべてがわかる本 イラスト版","医療の本","Gk：こどもの健康","上野　一彦","講談社",759]
["MY BEST FRIEND AT THE HOSPITAL こどもたちの目にうつったファシリティドッグ","医療の本","P：アニマル","シャイン　オン！キッズ","認定特定非営利活動法人　シャイン・オン・キッズ",10406]
["NHKおじゃる丸　時代めいろでおじゃる","絵本","NULL","このみﾌﾟﾗﾝﾆﾝｸﾞ","NHK出版",20250]
["ＮＨＫ地球大紀行１","一般図書","H：代替療法",null,"日本放送出版協会",5617]
["ＮＨＫ地球大紀行２","一般図書","H：代替療法",null,"日本放送出版協会",5618]
["ＮＨＫ地球大紀行３","一般図書","H：代替療法",null,"日本放送出版協会",5619]
["ＮＨＫ地球大紀行４","一般図書","H：代替療法",null,"日本放送出版協会",5620]
["ＮＨＫ地球大紀行５","一般図書","H：代替療法",null,"日本放送出版協会",5621]
["ＮＨＫ地球大紀行６","一般図書","H：代替療法",null,"日本放送出版協会",5622]
["ＮＨＫ地球大紀行別巻１","一般図書","H：代替療法",null,"日本放送出版協会",5623]
["ＮＨＫ地球大紀行別巻２","一般図書","H：代替療法",null,"日本放送出版協会",5624]
["ＮＯ　ＩＤＥＡ","絵本","NULL","安西水丸","金の星社",20166]
["Peter　Pan","絵本","NULL","ディズニー","アルク",20547]
["ＰＴＳＤとトラウマのすべてがわかる本 イラスト版","医療の本","C：心の健康","飛鳥井　望","講談社",94]
["SCREAMIES","絵本","NULL","RANDOM HOUSE","RANDOMHOUSE",20341]
["SILVERシルバー","一般図書","H：代替療法","南風椎","PARCO出版局",10376]
["ＳＷＥＥＴ　す・て・き・な・と・き","絵本","NULL","黒井　健","小学館",20031]
["THE TALE OF TOM KITTEN","絵本","NULL","ベアトリックス・ポター","WILLIAMCLOWES",20611]
["TRUCKS","絵本","NULL","RANDOM HOUSE","RANDOMHOUSE",20340]
["ＷＨＩＴＥ　ホワイト","一般図書","H：代替療法","南風椎","PARCO出版局",5632]
["WONDER　MOVE　人体のふしぎ　（講談社の動く図鑑WONDER　MOVE）","医療の本","Ac：図解人体","講談社, 島田達生","講談社",10281]
["Ｘ線・（造影）Ｘ線検査のマネジメント","医療の本","Ad：検査","中村　仁信　編","医薬ジャーナル社",51]
["アイ！マイ！まいん！","絵本","NULL","市瀬悦子","小学館",20501]
["あいうえおの花","絵本","NULL","秋山　滋","金の星社",20217]
["愛された団地犬ダン","絵本","K：こどもの本","関　朝之","ハート出版",21011]
["愛された団地犬ダン","絵本","NULL","関　朝之","ハート出版",20254]
["あいたあな","絵本","NULL","ともちえこ","タリーズコーヒー",20109]
["アイリーンといっしょに","一般図書","C：心の健康","テレル・ハリス・ドゥーガン","ポプラ社",10444]
["青いとり","絵本","NULL","メーテルリンク","チャイルド本社",20371]
["赤いくつはいてた女の子","絵本","NULL","綾野まさる","ハート出版",20256]
["赤毛のアン","絵本","NULL","L.M.モンゴメリー","講談社",20610]
["赤毛の妖精　ルビー","絵本","NULL","デイジー・メドウズ","ゴマブックス",20680]
["赤ずきん・ヘンゼルとグレーテル","絵本","K：こどもの本","ささきたづこ","講談社",20992]
["赤ちゃんが来た","医療の本","Gh：妊娠/出産","石坂啓","朝日新聞出版",5567]
["あかちゃんすくすく絵本　ぱいぱいおっぱい","絵本","NULL","正高信男","すずき出版",20010]
["あかちゃんのあそびえほん３　いただきます　あそび","絵本","NULL","きむらゆういち","偕成社",20013]
["赤ちゃんは水頭症","医療の本","Fm：脳・神経系","柴田靖子","日本水頭症協会",10092]
["悪性リンパ腫　改訂版","医療の本","Fc：血液/リンパ","堀田　知光　編","医薬ジャーナル社",1004]
["あさの絵本","絵本","NULL","谷川俊太郎","アリス館",20032]
["あざらしのはる","絵本","NULL","手島圭三郎","リブリオ出版",20151]
["亜細亜ふむふむ紀行","一般図書","C：心の健康","群ようこ","新潮社",10434]
["明日この世を去るとしても今日の花に水をあげなさい","医療の本","C：心の健康","樋野興夫","幻冬舎",10332]
["明日への伝言","一般図書","Gg6：乳がん","大山和栄","秋田書店",10133]
["明日をひらく言葉","一般図書","C：心の健康","やなせたかし","PHP研究所",10244]
["あしながおじさん","一般図書","C：心の健康","ジーン・ウェブスター","ｳﾞｨﾚｯｼﾞﾌﾞｯｸｽ",10489]
["アスペルガー症候群〈高機能自閉症〉のすべてがわかる本 イラスト版","医療の本","Gk：こどもの健康","佐々木　正美","講談社",760]
["遊び上手はしつけ上手【２歳児篇】","医療の本","Gk：こどもの健康","辻井正","同朋舎",5584]
["遊び図鑑","絵本","NULL","奥成　達","福音館書店",20306]
["遊べる！おりがみ","絵本","NULL","笠原邦彦","大泉書店",20638]
["遊べる！おりがみ","絵本","NULL","笠原邦彦","大泉書店",20753]
["新しい介護","医療の本","Gt8：在宅介護","大田仁史","講談社",10028]
["新しい自然免疫学　免疫システムの真の主役","医療の本","Ff：免疫","坂野淳","技術評論社",10348]
["悪化するがんの治療百科　改訂版","医療の本","Fe：がん","幕内　雅敏　監修","三省堂",387]
["あっぱれ！わかとの天福丸　お国がえの巻","絵本","NULL","小暮正夫","金の星社",20202]
["アトピー性皮膚炎","医療の本","Fo：皮膚/髪/爪","五十嵐　敦之","保健同人社",426]
["アトピーなんか飛んで行け!―アトピー克服実践マニュアル","医療の本","Gk：こどもの健康","アトピーなんか飛んで行け！の会","ブイツーソリューション",10286]
["あなたに、会えてよかった。","一般図書","C：心の健康","中島未月","PHP研究所",10373]
["あなたに贈る食の玉手箱","医療の本","B：栄養/食事","星澤幸子","ワニ・プラス",10062]
["あなたのためのがん用語事典","医療の本","Fe：がん","日本医学ジャーナリス","文藝春秋",361]
["あなたの病気-小児脳腫瘍の治療-","医療の本","Gk：こどもの健康","小児脳腫瘍の会","小児脳腫瘍の会",5533]
["あなたもできる減量作戦","医療の本","Vc：糖尿病","坂根　直樹　著","診断と治療社",953]
["あなたを産んでよかった","医療の本","Gh：妊娠/出産","マーサ・ベック","中央精版",5573]
["あなたを変える「稼ぎ力」養成講座","一般図書","C：心の健康","渋井真帆","ダイヤモンド社",10228]
["アナと雪の女王　愛されるエルサ女王","一般図書","C：心の健康","エリカ・デイビット","角川書店",10512]
["アニメ版ちびまる子ちゃん　ヒロシの友情の巻","絵本","NULL","さくらももこ","金の星社",20437]
["姉の結婚","一般図書","C：心の健康","群ようこ","集英社",10427]
["あの子は気になる転校生","絵本","NULL","藤田富美恵","PHP研究所",20591]
["あのね","医療の本","Gk：こどもの健康","朝日新聞学芸部","朝日新聞出版",5598]
["あひるのジマイマのおはなし","絵本","NULL","ビアトリクス・ポター","福音館書店",20560]
["あひるのたまご","絵本","NULL","さとうわきこ","福音館書店",20094]
["アプリイ・ダプリイのわらべうた","絵本","NULL","ビアトリクス・ポター","福音館書店",20331]
["アフリカ　ないしょだけどほんとだよ","絵本","NULL","竹下文子","ポプラ社",20200]
["アボンリーへの道⑪　冬の別れ","絵本","NULL","モンゴメリ","金の星社",20283]
["あめ","絵本","K：こどもの本","高畠　純","ベネッセコーポレーション",20897]
["あめあがり","絵本","NULL","きむらゆういち","小峰書店",20195]
["雨ふる本屋","一般図書","C：心の健康","日向理恵子","童心社",10398]
["あらしのよるに①","絵本","NULL","木村裕一","講談社",20755]
["アリアドネの弾丸","一般図書","C：心の健康","海棠尊","宝島社",10462]
["ありがとう障害犬タロー","一般図書","P：アニマル","小森泰治","アスペクト",10382]
["歩いて治すひざの痛み イラスト版","医療の本","Ff7：リウマチ","黒沢　尚","講談社",269]
["歩き方を変えれば外反母趾はここまで治る！","医療の本","Fb：骨/関節/筋肉","古屋達司　著","メタモル出版",5354]
["アルツハイマー病・認知症（痴呆症）","医療の本","Gt7：認知症","吉岡　充　監修","主婦の友社",568]
["アルツハイマー病のすべてがわかる本 イラスト版","医療の本","Gt7：認知症","新井　平伊","講談社",569]
["アルツハイマ-無の世界への航海-","医療の本","Gt7：認知症","武田雅俊　監修","アークメディア",5324]
["あるはれたひに","絵本","NULL","木村裕一","講談社",20592]
["あるはれたひに②","絵本","NULL","木村裕一","講談社",20756]
["あるふぁべっとのなかまたち","絵本","NULL","アストラゼネカ","アストラゼネカ",20110]
["アレックスとネコさん","絵本","NULL","Ｓ・ラムート","あかね書房",20738]
["アレルギーっ子の生活百科　第３版","医療の本","Gk：こどもの健康","角田　和彦　著","近代出版",810]
["アンガスとあひる","絵本","K：こどもの本","マージョリー・フラック","福音館書店",21000]
["晏子（あんし）下","一般図書","C：心の健康","宮城谷昌光","新潮社",10144]
["晏子（あんし）上","一般図書","C：心の健康","宮城谷昌光","新潮社",10142]
["晏子（あんし）中","一般図書","C：心の健康","宮城谷昌光","新潮社",10143]
["安心立命有為転変","一般図書","Fe：がん","福原拾十","宮日文化情報センター",5464]
["安心レシピでいただきます！　潰瘍性大腸炎","医療の本","Fs：胃腸","斎藤　恵子","弘文堂",535]
["安全ながん治療とテーラーメイド医療に向け","医療の本","D：薬","乾　賢一　監修","じほう",182]
["あんたらヤメときや！","一般図書","C：心の健康","演劇ストーリー入選作品集","大阪市人権啓発推進協議会",10310]
["あんな雪　こんな氷","絵本","NULL","高橋喜平","講談社",20155]
["アンネの日記","絵本","NULL","アンネ・フランク","文藝春秋",20612]
["アンパンマンがいっぱい　ルームデコレーション","絵本","NULL","千金美穂","フレーベル館",20294]
["アンパンマンとあそぼう　おりがみ","絵本","NULL","仲田安津子","フレーベル館",20577]
["アンパンマンとげんきにあいさつ","絵本","NULL","やなせたかし","フレーベル館",20576]
["アンパンマンのなぞなぞのくに２","絵本","NULL","やなせたかし","フレーベル館",20192]
["あんぽんたんのおもしろことばなんじゃらほい！その①","絵本","NULL","ひろかわさえこ","草土文化",20648]
["あんぽんたんのおもしろことばなんじゃらほい！その②","絵本","NULL","ひろかわさえこ","草土文化",20649]
["胃・十二指腸潰瘍の人の食事","医療の本","Fs：胃腸","林田　康男　病態","女子栄養大学出版部",516]
["胃・十二指腸の病気　新版","医療の本","Fs：胃腸","平塚　秀雄　監修","主婦の友社",515]
["いい運気と仲良しになれる！引き寄せ行動術","一般図書","C：心の健康","卯野たまご","角川書店",10381]
["いい覚悟で生きる","医療の本","C：心の健康","樋野興夫","小学館",10333]
["いいものひろったくまざわくん","絵本","NULL","きたやまようこ","あかね書房",20334]
["家缶","絵本","NULL","早川純子","ほるぷ出版",20133]
["医学・看護用語のカタカナ語・略語便利辞典","医療の本","Aa：医学百科","エキスパートナース編","照林社",11]
["胃がん　（よくわかる最新医学シリーズ）","医療の本","Fs5：胃がん","比企直樹　著","主婦の友社",10575]
["胃がん術後の生活読本","医療の本","Fs5：胃がん","佐野武","主婦と生活社",10492]
["胃癌治療ガイドライン","医療の本","Fs5：胃がん","日本胃癌学会","金原出版",5490]
["胃癌治療ガイドライン　医師用　第２版","医療の本","Fs5：胃がん","日本胃癌学会　編","金原出版",388]
["胃癌治療ガイドライン　医師用2014年5月改訂第4版","医療の本","Fs5：胃がん","日本胃癌学会","金原出版",10355]
["胃がん治療ガイドラインの解説一般用　２版","医療の本","Fs5：胃がん","日本胃癌学会　編","金原出版",551]
["胃がんの最新治療","医療の本","Fs5：胃がん","比企直樹","主婦の友社",5525]
["育児新百科 最新版オールカラー―月齢ごとに「見てわかる!」","医療の本","Gh：妊娠/出産",null,"ベネッセコーポレーション",10181]
["いこうよいこうよどうぶつえん","絵本","NULL","さいとうとしこ","齋藤登志子",20188]
["居酒屋ぼったくり","一般図書","Fa1：一般","秋川滝美","NULL",10645]
["いざとういうときに役立つ　マンガでわかる救急・救命処置：パワーアップ版","医療の本","L：麻酔/手術/救急","安間文彦","メディカ出版",5662]
["医者からもらった薬がわかる本","医療の本","D：薬","医薬制度研究会","法研",10008]
["医者からもらった薬がわかる本 第29版","医療の本","D：薬","医薬制度研究会","法研",10151]
["医者からもらった薬がわかる本　第30版","医療の本","D：薬",null,"法研",10500]
["医者に聞けない抗癌剤の話　増補改訂版","医療の本","Fe6：化学療法","平岩　正樹　著","海竜社",390]
["胃手術後の１００日レシピ退院後の食事プラン（１００日レシピシリーズ）","医療の本","Fs：胃腸","青木照明他","女子栄養大学出版部",5486]
["いそいでいそいで","絵本","K：こどもの本","七尾純","ベネッセコーポレーション",20896]
["イソップ童話","絵本","K：こどもの本","角野栄子","講談社",20990]
["依存症のすべてがわかる本 イラスト版","医療の本","C：心の健康","渡辺　登","講談社",99]
["痛みのケア　慢性痛、がん性疼痛へのアプロ","医療の本","Fe：がん","熊澤　孝朗","照林社",403]
["悼む人　上","一般図書","C：心の健康","天童荒太","文藝春秋",10386]
["悼む人　下","一般図書","C：心の健康","天童　荒太","文藝春秋",10387]
["一期一会　スキだから","絵本","NULL","粟生こずえ","学研",20745]
["いちご新聞　キャラクターおりがみ教室","絵本","NULL","高島 麻子","サンリオ",20580]
["いちばんまちどおしい日","絵本","NULL","土田義晴","ポプラ社",20344]
["胃腸手術後の人の食事","医療の本","Fs：胃腸","河村　一太;吉田　千恵子;小川　久惠","女子栄養大学出版部",236]
["胃腸病","医療の本","Fs：胃腸","渡辺　知明　著","日本医学館",518]
["胃腸病の食事療法　第２版","医療の本","Fs：胃腸","医歯薬出版　編","医歯薬出版",519]
["いつかお母さんになるあなたへ　妊娠の心得","医療の本","Gh：妊娠/出産","宋美玄","ロハスメディア",8055]
["一生インフルエンザにかからない体質の作り方 ","医療の本","Fg：伝染・感染症","村上一裕　著","フォレスト出版",5362]
["いつでも会える","絵本","NULL","菊田まりこ","学研",20511]
["一歩一路中村敦子四文字熟語　母から子へ残しておきたい七選","一般図書","C：心の健康","中村淳子","水山産業",10320]
["いつまでもデブと思うなよ","一般図書","V：メタボリックシンドローム","岡田斗司夫","新潮社",5405]
["いつもなかよし","絵本","NULL","つちだよしはる","あかね書房",20335]
["伊藤くんＡｔｏＥ","一般図書","Fa1：一般","柚木麻子","幻冬舎",10622]
["いないいないばぁ　あそび","絵本","NULL","きむらゆういち","偕成社",20072]
["いなくなった私へ","一般図書","C：心の健康","辻堂ゆめ","宝島社",10460]
["犬ぞり兄弟ヤマトとムサシ","絵本","NULL","甲斐　望","ハート出版",20243]
["いぬとねこ１００","絵本","NULL","今泉忠明","講談社",20626]
["犬のおまわりさんボギー","絵本","NULL","西松　宏","ハート出版",20630]
["犬の生態図鑑","一般図書","P：アニマル","蒔田和典","金の星社",10404]
["いのち","絵本","NULL","山岸智幸","三起商工",20136]
["命ある限り","医療の本","I：患者学","キューブラー・ロス","産業図書",10035]
["いのちの「語り部」","医療の本","Gk：こどもの健康","迫正廣","悠飛社",10047]
["いのちのあさがお","絵本","NULL","あやのまさる","ハート出版",20171]
["いのちの鼓動が聞こえる　心臓を移植した少女の物語","絵本","NULL","池田まき子","ハート出版",20264]
["いのちの時間","絵本","NULL","ブライアン・メロニー","新教出版社",20457]
["命のバトンタッチ　障がいを負った犬・来未","絵本","K：こどもの本","今西乃子","岩崎書店",20813]
["いのちのバトンリレー　臓器移植を乗り越えた少女と白血病の少年の物語","絵本","NULL","関　朝之","ハート出版",20274]
["いのちはどこに入ってるの？","絵本","NULL","竹内　亨","ハート出版",20252]
["いのちは見えるよ","絵本","NULL","及川和男","岩崎書店",20197]
["いのちを癒す「心のとまり木」　心のケアの","医療の本","C：心の健康","小此木　啓吾　監","ベストセラーズ",992]
["イプーとイルカの海","絵本","NULL","片岡道子","旺文社",20362]
["イプーとまほうのトンネル","絵本","NULL","片岡道子","旺文社",20225]
["いま、子を育てること","一般図書","Gk：こどもの健康","毛利子来","筑摩書房",10473]
["いまさら聞けない高齢者の医学常識","医療の本","Gt：高齢者","三宅　貴夫　著","日総研出版",818]
["今すぐ使える心理学　しぐさを見れば心の９割がわかる！","一般図書","C：心の健康","渋谷昌三","三笠書房",5394]
["いもうとのにゅういん","絵本","NULL","筒井頼子","福音館書店",20455]
["いやいやえん","絵本","NULL","中川李枝子","子どもの本研究会",20337]
["癒しの国のアリス","医療の本","Gt：高齢者","高柳和江","医歯薬出版",5612]
["癒しのユーモア　いのちの輝きを支えるケア","医療の本","C：心の健康","柏木　哲夫","三輪書店",155]
["嫌な女","一般図書","C：心の健康","桂望実","光文社",10445]
["イライラ・落ち込みが激しいときの本 (みんなの女性外来)","医療の本","Gg：女性の健康","対馬ルリ子","小学館",8125]
["イラストでまなぶ人体のしくみとはたらき","医療の本","Ac：図解人体","田中　越郎　著","医学書院",39]
["イラストで学ぶ麻酔看護","医療の本","L：麻酔/手術/救急","弓削孟文","メディカ出版",5654]
["イラストでよくわかるがん治療とサポーティブケア","医療の本","Fe：がん","田口哲也","じほう",5478]
["西表島の海","一般図書","H：代替療法","矢野維幾","平凡社",5634]
["医療がやさしさをとりもどすとき","医療の本","Gt：高齢者","鎌田實","医歯薬出版",5610]
["医療コミュニケーションスキル","医療の本","I：患者学","沢村　敏郎　著","メディカルレビュー社",865]
["医療事故防止・対策マニュアル　改訂版","医療の本","C：心の健康","日本精神科看護技術協","精神看護出版",131]
["医療は「生活」に出会えるのか","医療の本","Gt：高齢者","竹内孝仁","医歯薬出版",5615]
["医療はとってもいい仕事","医療の本","Ae：臨床看護","澤田勝寛","薬事日報社",10317]
["医療被ばく相談Q&A","医療の本","Ad：検査","日本診療放射線技師会医療被ばく安全管理委員会","医療科学社",10608]
["医療福祉総合ガイドブック　2018年度版","医療の本","J：医療","日本医療ソーシャルワーク研究会","医学書院",10546]
["イルカの子ディロのぼうけん","一般図書","K：こどもの本","ホラス・ドブス","学研",20825]
["いるかをおそった黒い波","絵本","NULL","今関信子","汐文社",20677]
["いろうのい・ろ・は","医療の本","Fs：胃腸","西口幸雄","PEGドクターズネットワーク",5419]
["イン・ザ・プール","一般図書","Fa1：一般","奥田英朗","文藝春秋",10629]
["インフォームドコンセントのための図説シリーズ　糖尿病のフットケア","医療の本","Vc：糖尿病","門脇孝[ほか]編集","医薬ジャーナル社",8105]
["インフォームドチョイス","医療の本","Gt：高齢者","鎌田實","医歯薬出版",5609]
["陰陽五行による癒しの音楽","医療の本","H：代替療法","米井　嘉一","廣済堂",132]
["ウィメンズヘルス事典－女性のからだとここ","医療の本","Gg：女性の健康","日本母性衛生学会","中央法規出版",692]
["植村直己と氷原の犬アンナ","絵本","NULL","関　朝之","ハート出版",20253]
["うごきのことばえじてん","絵本","K：こどもの本","やまさきひであき","ひかりのくに",20899]
["うさこちゃんのにゅういん","絵本","NULL","ブルーナ","福音館書店",20070]
["ウサコレプチイチゴウサギをさがせ！","絵本","NULL","大野直美","学研",20527]
["後路みね","絵本","NULL","いわむらかずお","理論社",20599]
["うたうおかあさん","絵本","NULL","西舘好子","サンマーク出版",20384]
["疑え、常識。","一般図書","C：心の健康","川口淳一郎","KKベストセラーズ",5466]
["うたぶっく①","絵本","NULL","たかいよしかず","京田クリエーション",20588]
["宇宙プロキシマ号の伝説","絵本","NULL","ブライアン・グリーン","あすなろ書房",20430]
["うつヌケ","一般図書","C：心の健康","田中　圭一","角川書店",10506]
["うつ病　新版","医療の本","C：心の健康","関谷　透　著","主婦の友社",95]
["うつ病がよくわかる本","医療の本","C：心の健康","鍋田恭孝","日本評論社",10065]
["うつ病の病態生理と診断・治療","医療の本","C：心の健康","樋口　輝彦　他","真興交易医書出版",120]
["うでのいいくつや","絵本","K：こどもの本","くすのき　しげのり","フレーベル館",21006]
["生まれ変わりレストラン","絵本","NULL","怪談レストラン編集委員会","童心社",20724]
["生まれてよかった","医療の本","Gh：妊娠/出産","福岡光子","日本図書センター",5566]
["海からの風","一般図書","Fa1：一般","興梠みさ子","NULL",10648]
["うみべであそぼう","絵本","K：こどもの本","なかのひろみ","福音館書店",20894]
["占い魔女は消えた","絵本","NULL","池田美代子","岩崎書店",20309]
["うれしかった言葉悲しかったことば","医療の本","Gk：こどもの健康","麦の会こえだより編集委員会","海鳥社",5594]
["うわさの怪談BUNKO１　プールで死者がよんでいる","絵本","NULL","小暮正夫","岩崎書店",20278]
["うわさの怪談BUNKO２　しのびよる図書室の亡霊","絵本","NULL","小暮正夫","岩崎書店",20279]
["うわさの怪談BUNKO３　のろわれた携帯メール","絵本","NULL","小暮正夫","岩崎書店",20280]
["うわさの怪談BUNKO４　恐怖の人食い観覧車","絵本","NULL","小暮正夫","岩崎書店",20281]
["うわさの怪談BUNKO５　地獄からもどった黒ねこ","絵本","NULL","小暮正夫","岩崎書店",20282]
["ウンココロ　しあわせウンコ生活のススメ","医療の本","Fs：胃腸","寄藤　文平　著","実業之日本社",530]
["うんぴ・うんご・うんにょ・うんち うんこのえほん","絵本","NULL","村上八千世","ほるぷ出版",20025]
["エイズの臨床から","医療の本","I：患者学","竹内照江","日本看護協会出版会",10040]
["英独仏ラ-和　医学用語小辞典","医療の本","Aa：医学百科","菊池　博","医学書院",8132]
["えいようせんたいしょくレンジャー","医療の本","B：栄養/食事","久住 卓也 著","ポプラ社",5350]
["栄養とがん","医療の本","Fe：がん","ネスレ栄養科学会議","建帛社",5475]
["笑顔のおくりもの","一般図書","C：心の健康","中島未月","PHP研究所",10375]
["絵でわかるがんと遺伝子","医療の本","Fe：がん","野島　博","講談社",8053]
["絵でわかる血液のはたらき","医療の本","Fc：血液/リンパ","八幡　義人　著","講談社",304]
["絵とき再生医学入門　幹細胞の基礎知識から","医療の本","Ab：専門医学事典","朝比奈　欣治　他著","羊土社",13]
["エドワルド　せかいでいちばんおぞましいおとこのこ","絵本","NULL","ジョン・バーニンガム","ほるぷ出版",20403]
["えほん　いのちのあさがお","絵本","K：こどもの本","あやのまさる","ハート出版",20981]
["えほん　かえってきたジロー","絵本","NULL","あやのまさる","ハート出版",20420]
["えほん　だんちのこいぬ　ダン","絵本","NULL","せきともゆき","ハート出版",20134]
["絵本おとうと","絵本","NULL","松本春野","新日本出版社",20733]
["絵本おとうとⅡ　はじめての学校","絵本","NULL","松本春野","新日本出版社",20734]
["絵本版　象の背中-旅立つ日-","絵本","NULL","秋元　康","光文社",20033]
["エロイーサと虫たち","絵本","K：こどもの本","ハイロ・ブライトラゴ","さ・え・ら書房",20853]
["嚥下障害食のつくりかた　改訂新版","医療の本","Ee5：嚥下障害","藤谷　順子　他","日本医療企画",235]
["エンジョイ・ユア妊娠ライフ","医療の本","Gh：妊娠/出産","島田信宏","南山堂",5560]
["塩分早わかり第3版　ＦＯＯＤ＆ＣＯＯＫＩＮＧ　ＤＡＴＡ","医療の本","Vb：高血圧","牧野直子, 女子栄養大学出版部","女子栄養大学出版部",10264]
["老いの泉 上","医療の本","Gt：高齢者","ベティ・フリーダン","西村書店",5613]
["老いの泉 下","医療の本","Gt：高齢者","ベティ・フリーダン","西村書店",5614]
["オウエンとムゼイ","絵本","NULL","ハトコフ","NHK出版",20212]
["王さまの耳はろばの耳　くいしんぼうのねずみ","絵本","K：こどもの本","八百坂洋子　山内清子","講談社",20999]
["おうむねこ","絵本","NULL","ニコラ・ベーリー","ほるぷ出版",20135]
["オウルくんのクリスマス","絵本","NULL","上野和子","大日本絵画",20022]
["おおきなかぶ","絵本","NULL","うちだりさこ","福音館書店",20096]
["大塚勝久写真集　南の風　沖縄・宮古・八重山諸島","一般図書","H：代替療法","大塚勝久","琉球新報社",10472]
["オールカラー 骨・関節・筋肉の構造と動作のしくみ","医療の本","Fb：骨/関節/筋肉","深代 千之","ナツメ社",10154]
["おかあさん　あのね","絵本","NULL","さかぐちえみこ","小峰書店",20016]
["おかあさん　だいじょうぶ？","絵本","NULL","乳がんの親とそのこどものためのﾌﾟﾛｼﾞｪｸﾄ","小学館",20453]
["お母さんどうしちゃったの・・・","医療の本","C：心の健康","プルスアルハ","ゆまに書房",10613]
["おかあさんにおみやげ","絵本","NULL","つちだよしはる","あかね書房",20366]
["お母さんに伝えたい子どもの病気 ホームケアガイド　第３版","医療の本","Gk：こどもの健康","日本外来小児科学会","医歯薬出版",5645]
["お母さんの小児科専門医","医療の本","Gk：こどもの健康","清水　浩信　著","グラフ社",776]
["お母さんのためのやさしい小児喘息のおは★医療の本★","医療の本","Gk：こどもの健康","森川昭廣・望月博之　著","医薬ジャーナル社",8026]
["お母さんのためのやさしい小児喘息の自己管","医療の本","Gk：こどもの健康","飯倉　洋治","医薬ジャーナル社",775]
["お母さんのためのやさしい小児糖尿病の自己","医療の本","Gk：こどもの健康","松浦　信夫　編著","医薬ジャーナル社",774]
["お母さんのためのワクチン接種ガイド改訂版","医療の本","Gk：こどもの健康","薗部友良","日経メディカル開発",5648]
["おかあさんのパジャマ","絵本","NULL","渡辺博子","ハート出版",20216]
["お母さんは静養中","医療の本","C：心の健康","プルスアルハ","ゆまに書房",10614]
["お帰り！盲導犬オリバー　ぼく、みんなのこと覚えているよ","絵本","NULL","今泉耕介","ハート出版",20271]
["おかしな10のとなえうた","絵本","K：こどもの本","木島始","ベネッセコーポレーション",20889]
["おかねのきもち","絵本","NULL","やまもとゆか","KKベストセラーズ",20121]
["沖田くんのタイムスリップ","医療の本","Fn：呼吸器","公益財団法人結核予防会","公益財団法人結核予防会",5483]
["おきゃくさま","絵本","NULL","なかがわりえこ","福音館書店",20490]
["お灸百科","医療の本","I：患者学","岡田明三","医道の日本社",10525]
["億男","一般図書","C：心の健康","川村元気","マガジンハウス",10471]
["おさるのジョージ　チョコレートこうじょうへいく","絵本","NULL","レイ","岩波書店",20157]
["おじいさんのはやぶさ","絵本","NULL","間瀬なおかた","KKベストセラーズ",20425]
["おじいちゃん、戦争のことを教えて","一般図書","C：心の健康","中條高徳","小学館",10436]
["おしゃべりなもり","絵本","NULL","スラトコフ","福音館書店",20128]
["おしゃれキャット","絵本","NULL","ディズニー","偕成社",20542]
["おしゃれバトルがはじまっちゃう！","絵本","NULL","奥沢しおり","フレーベル館",20668]
["おしりたんてい","絵本","NULL","トロル","ポプラ社",20731]
["オズの魔法使い","絵本","K：こどもの本","ハウム","ポプラ社",20790]
["おそうじをおぼえたがらないリスのゲルランゲ","絵本","K：こどもの本","J・ロッシュ。マゾン","福音館書店",20887]
["お父っつあんの冒険","一般図書","C：心の健康","日本エッセイストクラブ","文藝春秋",10209]
["おつきみピクニック","絵本","NULL","いちかわなつこ","ほるぷ出版",20404]
["折って丸めてへんしん！　おもしろハンカチ遊び","絵本","NULL","タキガワタカシ","すずき出版",20186]
["おっぱいだより集","医療の本","Gh：妊娠/出産","母乳育児サークル","メディカ出版",5569]
["おっぱいのひみつ","医療の本","Ac：図解人体","やぎゅう げんいちろう","福音館書店",5345]
["おてんきてんしのおくりもの","絵本","NULL","戸田和代","金の星社",20343]
["おてんば娘　はな子の七転び八起","絵本","NULL","綾野まさる","ハート出版",20439]
["おてんば娘はな子の七転び八起","絵本","NULL","綾野まさる","ハート出版",20635]
["お父さん・お母さんががんになってしまったら","医療の本","Fe：がん","Ann Couldrick","ピラールプレス",5471]
["お父さんのバックドロップ","絵本","NULL","中島らも","学習研究社",20375]
["男の更年期障害を治す","医療の本","G：生活","天野　俊康　著","講談社",688]
["おにいちゃんがいてよかった","絵本","NULL","細谷亮太","岩崎書店",20175]
["おねがいナンマイダー","絵本","K：こどもの本","ハンダ　トシヒト","岩崎書店",20877]
["おばけのアッチとドララちゃん","絵本","NULL","角野栄子","ポプラ社",20352]
["おばけのアッチほっぺたぺろりん","絵本","NULL","角野栄子","ポプラ社",20353]
["おばけのてんぷら","絵本","NULL","せなけいこ","ポプラ社",20099]
["おばけのパトロール","絵本","NULL","山本和子","PHP研究所",20342]
["おばけのひっこし","絵本","NULL","さがらあつこ","福音館書店",20442]
["おばけファクトリー（工場）","絵本","NULL","みやざきひろかず","旺文社",20206]
["おはようからだくん","医療の本","G：生活","竹村俊子　著","ナート ",5372]
["おひとよしのオオシカ","絵本","NULL","スース","偕成社",20232]
["おひめさまえんそくにいく","絵本","NULL","まだらめ三保","ポプラ社",20363]
["おふろだいすき","絵本","NULL","松岡亨子","福音館書店",20489]
["おへそのあな","絵本","NULL","長谷川義史","BL出版",20451]
["おへそのひみつ","医療の本","Ac：図解人体","やぎゅうげんいちろう","福音館書店",8104]
["おぼうさんになった少年ピタック","絵本","NULL","田村　仁","草土文化",20432]
["おまえうまそうだな","絵本","NULL","宮西達也","ポプラ社",20386]
["おむすびころりん・うらしまたろう","絵本","K：こどもの本","松谷みよ子","講談社",20985]
["思い出のたんじょう日","絵本","NULL","内田麟太郎","金の星社",20418]
["思い出のマーニー","絵本","NULL","ジョーン・G・ロビンソン","角川書店",20751]
["おもいやりとホスピタリティの心理学","医療の本","C：心の健康","平井誠也","北大路書房",5554]
["おもちゃばこ","絵本","H：代替療法","kemeko","トリニニィアーツ",10501]
["親が70歳を過ぎたら読む本","医療の本","Gt5：高齢期ケア","村田裕之","ダイヤモンド社",10027]
["親子で遊ぼう　手作りおもちゃ","絵本","NULL","鈴木正一","成美堂出版",20245]
["おやすみなさいフランシス","絵本","K：こどもの本","ラッセル・ホーバン","福音館書店",20878]
["親の入院・介護が必要になったときに読む本","医療の本","Gt8：在宅介護","豊田眞弓","日本実業出版社",10029]
["おやゆびとうさん","絵本","NULL","長野ヒデ子","佼成出版",20114]
["泳ぐのに安全でも適切でもありません","一般図書","C：心の健康","江國香織","集英社",10415]
["おりおりのりものずかん","絵本","NULL","和田由紀夫","大泉書店",20601]
["おりがみ　4　にんぎょうや花","絵本","K：こどもの本","エキグチクニオ","偕成社",21025]
["おりがみ　５　いれものとぼうし","絵本","K：こどもの本","エキグチクニオ","偕成社",21019]
["オレ様キングダム","絵本","K：こどもの本","村上アンズ","小学館",20869]
["折れない自信をつくるシンプルな習慣","一般図書","C：心の健康","心屋仁之助","朝日新聞出版",10526]
["オレンジの壺","一般図書","C：心の健康","宮本輝","光文社",10420]
["オレンジの壺　下","一般図書","C：心の健康","宮本輝","光文社",10421]
["おんなじほしをみつめて","絵本","K：こどもの本","ペイジ・ブリット","フレベール館",21014]
["海峡の光","一般図書","C：心の健康","辻仁成","新潮社",10419]
["カイくんと子どもたち","絵本","NULL","坂本カイ","ポプラ社",20737]
["かいけつゾロリきょうふのようかいえんそく","絵本","NULL","原ゆたか","ポプラ社",20657]
["かいけつゾロリナゾノスパイと100本のバラ","絵本","NULL","原ゆたか","ポプラ社",20665]
["かいけつゾロリなぞのスパイとチョコレート","絵本","NULL","原ゆたか","ポプラ社",20664]
["かいけつゾロリのだ・だ・だ・だいぼうけん！ 後編","絵本","NULL","原ゆたか","ポプラ社",20660]
["かいけつゾロリのだ・だ・だ・だいぼうけん！ 前編","絵本","NULL","原ゆたか","ポプラ社",20658]
["かいけつゾロリのだ・だ・だ・だいぼうけん！ 中編","絵本","NULL","原ゆたか","ポプラ社",20659]
["かいけつゾロリの大どろぼう","絵本","NULL","原ゆたか","ポプラ社",20652]
["かいけつゾロリの大まじんをさがせ！！","絵本","NULL","原　ゆたか","ポプラ社",20625]
["かいけつゾロリのちきゅうさいごの日","絵本","NULL","原ゆたか","ポプラ社",20655]
["かいけつゾロリのてんごくとじごく","絵本","NULL","原ゆたか","ポプラ社",20656]
["かいけつゾロリのドラゴンたいじ　きょうふのやかた","絵本","NULL","原ゆたか","ポプラ社",20541]
["かいけつゾロリのなぞのおたから大さくせん　後編","絵本","NULL","原ゆたか","ポプラ社",20654]
["かいけつゾロリのなぞのおたから大さくせん　前編","絵本","NULL","原ゆたか","ポプラ社",20653]
["かいけつゾロリのにんじゃ大さくせん","絵本","NULL","原ゆたか","ポプラ社",20650]
["かいけつゾロリのはちゃめちゃテレビ局","絵本","NULL","原ゆたか","ポプラ社",20661]
["かいけつゾロリのめいたんていとうじょう","絵本","NULL","原ゆたか","ポプラ社",20651]
["かいけつゾロリのメカメカ大さくせん","絵本","NULL","原ゆたか","ポプラ社",20663]
["かいけつゾロリはなよめとゾロリじょう","絵本","NULL","原ゆたか","ポプラ社",20662]
["外国人患者診療・看護ガイド","医療の本","I：患者学","小林　米幸","エルゼビア・ジャパン",902]
["介護食ハンドブック　第２版","医療の本","Gt8：在宅介護","手嶋登志子","医歯薬出版",10025]
["介護に縁のないくらし　３７のノウハウ","医療の本","Gt5：高齢期ケア","上農　哲朗　監修","メディカ出版",833]
["介護のほんとうがわかる本","医療の本","Gt8：在宅介護","主婦と生活社","主婦と生活社",10026]
["外食・デリカ・コンビニのカロリーガイド","医療の本","B：栄養/食事","香川芳子","女子栄養大学出版部",10060]
["介助犬武蔵と学校へ行こう　日本初。難病の久美子ちゃんがチャレンジ","絵本","NULL","綾野まさる","ハート出版",20262]
["介助犬武蔵と学校へ行こう　日本初・難病の久美子ちゃんがチャレンジ","絵本","K：こどもの本","綾野まさる","ハート出版",20787]
["改訂版　看護に生かす検査マニュアル","医療の本","Ad：検査","高木　康","医学芸術社",8044]
["快適！ストーマ生活","医療の本","Fs：胃腸","松浦信子/山田陽子","医学書院",5487]
["外反母趾を防ぐ・治す　新版","医療の本","Fb：骨/関節/筋肉","井口　傑　著","講談社",257]
["解剖生理学","医療の本","Ac：図解人体","高野　廣子","南山堂",43]
["解剖生理をおもしろく学ぶ","医療の本","Ac：図解人体","監修：増田敦子","医学芸術社",8045]
["潰瘍性大腸炎 (ＥＢＭシリ－ズ) 正しい治療がわかる本","医療の本","Fs9：潰瘍性大腸炎","中島淳","法研",540]
["潰瘍性大腸炎・クローン病の人の食事","医療の本","Fs：胃腸",null,"女子栄養大学出版部",8018]
["カウンセリング・ブック　vol.1","医療の本","Gk：こどもの健康","国立総合医療研究ｾﾝﾀｰ","国立総合医療研究センター",10051]
["カウンセリング・ブック　vol.2","医療の本","Gk：こどもの健康","国立総合医療研究ｾﾝﾀｰ","国立総合医療研究センター",10052]
["帰ってきたはやぶさ","絵本","K：こどもの本","今泉耕介","ハート出版",20846]
["科学的根拠に基づく　乳癌診療ガイドライン①治療編2015年版","医療の本","Gg6：乳がん","日本乳癌学会","金原出版",10365]
["科学的根拠に基づく口腔癌診療ガイドライン　2009年版","医療の本","Fj：歯","日本口腔腫瘍学会・日本口腔外科学会/編","金原出版",8060]
["科学的根拠に基づく口腔癌診療ガイドライン 2013年版: 構造化抄録CD-ROM付","医療の本","Fj：歯","日本口腔腫瘍学会日腔癌治療ガイドライン改訂委員会","金原出版",10160]
["科学的根拠に基づく乳癌診療ガイドライン 1治療編 2013年版","医療の本","Gg6：乳がん","日本乳癌学会","金原出版",10174]
["科学的根拠に基づく乳癌診療ガイドライン 2疫学・診断編 2013年版","医療の本","Gg6：乳がん","日本乳癌学会","金原出版",10175]
["科学的根拠に基づく乳癌診療ガイドライン②免疫・診断編　2015年版","医療の本","Gg6：乳がん","日本乳癌学会","金原出版",10367]
["かかりつけ医活用法　あなたの健康マネジャ","医療の本","I：患者学","筒井　大八　著","近代文藝社",852]
["かぎばあさんアメリカへいく","絵本","NULL","手島悠介","岩崎書店",20367]
["書く力伝える力　小学生の作文力","絵本","NULL","岸本裕史","小学館",20673]
["かぐやひめ","絵本","NULL","日本童話","ひかりのくに",20426]
["かけがえのない地球３６５日空の旅","一般図書","H：代替療法","ﾔﾝ･ｱﾙﾃｨｽ･ﾍﾞﾝﾄﾗﾝ","ピエ・ブックス",5642]
["かこさとし　あそびの大宇宙　しかくまぶたちゃんのあそび","絵本","NULL","かこさとし","農山漁村文化協会",20150]
["かさじぞう","絵本","NULL","日本昔話","ポプラ社",20544]
["かさぶたくん","医療の本","Ac：図解人体","やぎゅう げんいちろう","福音館書店",5344]
["ガスパールびょういんへいく","絵本","NULL","アン・グッドマン","ブロンズ新社",20454]
["霞町物語","一般図書","Fa1：一般","浅田次郎","講談社",10633]
["風にのってきたメアリー・ポピンズ","絵本","NULL","トラヴァース","岩波書店",20595]
["風の谷のナウシカ　上","絵本","K：こどもの本","宮崎駿","徳間書店",20836]
["風の谷のナウシカ　下","絵本","K：こどもの本","宮崎駿","徳間書店",20837]
["かぜのてのひら","一般図書","C：心の健康","俵万智","河出書房新社",10448]
["風の中のマリア","一般図書","C：心の健康","百田　尚樹","講談社",10520]
["風の星","絵本","NULL","新宮　晋","福音館書店",20117]
["家族看護　Ｖｏｌ．０１　Ｎｏ．０１","医療の本","I：患者学","野嶋　佐由美　他編","日本看護協会出版会",832]
["家族看護　Ｖｏｌ．０１　Ｎｏ．０２","医療の本","I：患者学","野嶋　佐由美　編集","日本看護協会出版会",831]
["家族のケアでがんは消える　患者を生還に導く48の智恵","医療の本","Fe：がん","野本篤志","遊タイム出版",10276]
["家族のためのはじめての認知症介護","一般図書","C：心の健康","田中知世子","幻冬舎",10321]
["かちかちやま・したきりすずめ","絵本","K：こどもの本","松谷みよ子","講談社",20983]
["学研の図鑑　魚","絵本","K：こどもの本","沖山宗雄","学習研究社",20916]
["学研の図鑑　植物","絵本","K：こどもの本","大場達之","学習研究社",20930]
["学研の図鑑　動物","絵本","NULL","学研","学研",20705]
["学研まんがＮＥＷ日本の歴史　1","絵本","K：こどもの本","大石学　監修","学研",20965]
["学研まんがＮＥＷ日本の歴史　10","絵本","K：こどもの本","大石学　監修","学研",20974]
["学研まんがＮＥＷ日本の歴史　11","絵本","K：こどもの本","大石学　監修","学研",20975]
["学研まんがＮＥＷ日本の歴史　12","絵本","K：こどもの本","大石学　監修","学研",20976]
["学研まんがＮＥＷ日本の歴史　2","絵本","K：こどもの本","大石学　監修","学研",20966]
["学研まんがＮＥＷ日本の歴史　3","絵本","K：こどもの本","大石学　監修","学研",20967]
["学研まんがＮＥＷ日本の歴史　4","絵本","K：こどもの本","大石学　監修","学研",20968]
["学研まんがＮＥＷ日本の歴史　5","絵本","K：こどもの本","大石学　監修","学研",20969]
["学研まんがＮＥＷ日本の歴史　6","絵本","K：こどもの本","大石学　監修","学研",20970]
["学研まんがＮＥＷ日本の歴史　7","絵本","K：こどもの本","大石学　監修","学研",20971]
["学研まんがＮＥＷ日本の歴史　8","絵本","K：こどもの本","大石学　監修","学研",20972]
["学研まんがＮＥＷ日本の歴史　9","絵本","K：こどもの本","大石学　監修","学研",20973]
["学研まんがＮＥＷ日本の歴史　別巻　人物学習事典","絵本","K：こどもの本","大石学　監修","学研",20977]
["学研まんがＮＥＷ日本の歴史　別巻　文化遺産学習事典","絵本","K：こどもの本","大石学　監修","学研",20978]
["がっこうでトイレにいけるかな？","絵本","NULL","村上八千世","ほるぷ出版",20452]
["学校のびっくり事件ファイル","絵本","NULL","日本児童文学者協会","偕成社",20598]
["学校へいくのいや","絵本","NULL","末吉暁子","講談社",20389]
["かっとびジャック","絵本","NULL","やましたはるお","ポプラ社",20126]
["家庭でつくれる透析食　Ｐａｒｔ１　改訂版","医療の本","Fr5：透析","杉野　信博　監","ライフサイエンス出版",250]
["家庭でつくれる透析食　Ｐａｒｔ２","医療の本","Fr5：透析","杉野　信博　監","ライフサイエンス出版",251]
["家庭でできるリハビリテーション","医療の本","Ee：リハビリ療法","隆島　研吾　著","法研",230]
["彼女がその名を知らない鳥たち","一般図書","C：心の健康","沼田まほかる","幻冬舎",10530]
["下半身に筋肉をつけると「太らない」「疲れない」","一般図書","C：心の健康","中野ジェームス修一","大和書房",10507]
["株価暴落","一般図書","C：心の健康","池井戸潤","文藝春秋",10527]
["カプチーヌ","絵本","NULL","タンギー・グレバン","小峰書店",20627]
["花粉症 改訂新版","医療の本","Ff5：アレルギー","大塚　博邦","保健同人社",491]
["花粉症ここまで分かった！ここまで治る！！","医療の本","Ff5：アレルギー","久松　建一","北隆館",498]
["神さまに質問「いのち」ってなんですか","絵本","NULL","綾野まさる","ハート出版",20263]
["かみつきドゥードゥル","絵本","NULL","ポリー・ダンバー","フレベール館",20405]
["かみであそぼう","絵本","NULL","こばやしみのる","ほるぷ出版",20494]
["神の交渉力","一般図書","C：心の健康","竹内一正","経済界",10239]
["かむ・飲み込むが難しい人の食事","医療の本","Ee5：嚥下障害","藤谷順子","講談社",5538]
["カメヤマ　カメタの一がっき","絵本","NULL","ふなざきよしひこ","草土文化",20214]
["仮面病棟","一般図書","C：心の健康","知念実希人","実業之日本社",10467]
["かもさんおとおり","絵本","K：こどもの本","ロバート・マックロスキー","福音館書店",20852]
["カラー写真で見てわかるストーマケア","医療の本","Fs：胃腸","大村　裕子　編","メディカ出版",531]
["ガラスのお腹","医療の本","Gh：妊娠/出産","海月まき子","新風舎",5559]
["からだ","医療の本","Ac：図解人体","幼児ソフト企画開発部","学研",5501]
["からだあそびシリーズ①　くらしの中でどう動いてる？","絵本","NULL","原田奈名子","草土文庫",20429]
["からだあそびシリーズ①　動物になって動いてみよう","絵本","NULL","久保　健","草土文化",20415]
["からだあそびシリーズ③　からだであそぼう","絵本","NULL","原田奈名子","草土文庫",20441]
["からだのしくみ全書","医療の本","Fa1：一般","飯野晃啓","東陽出版",10033]
["からだのしくみ全書","医療の本","Fa1：一般","飯野晃啓","東陽出版",10034]
["からだの正常/異常ガイドブック　改訂・増補版","医療の本","Ae：臨床看護",null,"医学芸術社",8049]
["体の病と心のケア－身体疾患患者の精神症状","医療の本","C：心の健康","堀川　直史　著","文光堂",150]
["からだをまもる免疫のふしぎ","医療の本","Ff：免疫","日本免疫学会","羊土社",10346]
["カラフル","一般図書","Fa1：一般","森絵都","文藝春秋",10628]
["雁","一般図書","C：心の健康","森鷗外","新潮社",10432]
["ガリレオの苦悩","一般図書","C：心の健康","東野　圭吾","文藝春秋",10515]
["カルアシ・チミーのおはなし","絵本","NULL","ビアトリクス・ポター","福音館書店",20567]
["カルガモガン太の涙","絵本","NULL","吉本正彦","ハート出版",20239]
["かるたｄｅ漢方","医療の本","He：漢方","草鹿砥千恵","源草社",10083]
["かわいいひかりのこたち","絵本","NULL","イーダ・ボハッタ","童心社",20236]
["川を探検","絵本","NULL","松井　孝","金の星社",20347]
["がん　生と死の謎に挑む","医療の本","Fe：がん","立花隆/ＮＨＫスペシャル取材班","文藝春秋",5516]
["がん!患者会と相談窓口全ガイド","医療の本","Fe：がん","いいなステーション","三省堂",5540]
["がん「余命半年」からの生還患者と家族のための実践マニュアル","医療の本","Fe：がん","平塚厚子","梧桐書院",5507]
["がん・家族はどうしたらよいか","医療の本","Fe：がん","季羽倭文子","池田書店",8088]
["ガン・完全治療の法則","医療の本","Z：DVD","川竹文夫","人間出版",5535]
["眼科","医療の本","Fh：目","小口　芳久　編","医薬ジャーナル社",481]
["がん化学療法と患者ケア　改訂第２版","医療の本","Fe6：化学療法","福島　雅典　監修","医学芸術社",374]
["ガンが消えていく食事","医療の本","Fe：がん","済陽高穂/志澤弘","マキノ出版",10494]
["眼科疾患ビジュアルブック","医療の本","Fh：目","永本敏之, 岡田アナベルあやめ","学研メディカル秀潤社",10251]
["ガンがゆっくり消えていく　再発・転移を防ぐ１７の戦略","医療の本","Fe：がん","中山武","草思社",5515]
["カンガルーケア","医療の本","Gh：妊娠/出産","堀内功","メディカ出版",5568]
["がん患者、お金との闘い","医療の本","Fe：がん","札幌テレビ放送取材班","岩波書店",5509]
["がん患者ケアＱ＆Ａ－乳がん・消化器がんの","医療の本","Fe：がん","古河　洋　他監修","じほう",549]
["がん患者さんの心と体の悩み解決ガイド","医療の本","Fe：がん","日経メディカル","日経BP社",349]
["がん患者さんの心と体の悩み解決ガイド","医療の本","Fe：がん","日経メディカル","日経BP社",5518]
["がん患者と家族のためのサポートグループ","医療の本","Fe：がん","デヴィッド・スピーゲル","医学書院",10036]
["がん患者の「迷い」に専門医が本音で答える本","医療の本","Fe：がん","水上治","草思社",5513]
["癌患者の栄養管理","医療の本","Fe6：化学療法","大村健二","南江堂",5519]
["がん患者のための地域の療養情報","医療の本","Fe：がん","大阪府立成人病センター","大阪府立成人病センター",10037]
["がん緩和マニュアル","医療の本","Fe7：緩和ケア","財団法人先端医療振興財団","日経メディカル開発",10069]
["がん研有明病院で今起きている漢方によるがん治療の奇跡","医療の本","He：漢方","星野恵津夫","海竜社",10370]
["がん研有明病院の抗がん剤・放射線治療に向きあう食事","医療の本","Fe：がん","伊沢由紀子, 小口正彦","女子栄養大学出版部",10275]
["看護技術のなぜ？ガイドブック　改訂・増補2版","医療の本","Ae：臨床看護",null,"医学芸術社",8048]
["看護職のための代替療法ガイドブック","医療の本","H：代替療法","今西　二郎　他編","医学書院",844]
["看護に役立つ検査値の読み方・考え方　２版","医療の本","Ad：検査","河野　均也　他監","総合医学社",58]
["看護に役立つ口腔ケアテクニック","医療の本","Gt6：口腔ケア",null,"医歯薬出版",8043]
["看護のアートⅠ","医療の本","Gt：高齢者","日野原重明","中央法規出版",5604]
["看護のための精神医学　第２版","医療の本","C：心の健康","中井　久夫　著","医学書院",134]
["看護ふれあい学講座　具体例で学ぶコミュニ","医療の本","Jc：医療倫理","中井　喜美子","照林社",869]
["間質性肺炎・肺線維症　本棚のホームド　４","医療の本","Fn：呼吸器","長井　苑子　著","最新医学社",624]
["患者さん・ご家族・一般市民のための膵がん診療ガイドライン2016の解説","医療の本","Ft：肝臓/胆のう/膵臓","日本膵臓学会","金原出版",10456]
["患者さんが安心できる検査説明ガイドブック","医療の本","Ad：検査","東京慈恵会医科大学附属病院","医学書院",10280]
["患者さんから浴びせられる眼科疾患100の質問～達人はどう答え、どう対応するか～","医療の本","Fh：目","坪田一男 編","メディカルレビュー社",8110]
["患者さんと家族のための放射線治療Q&A","医療の本","Fe：がん","日本放射線腫瘍学会","金原出版",10344]
["患者さんとご家族のための子宮頸がん・子宮体がん・卵巣がん　第2版","医療の本","Gg：女性の健康","日本婦人科腫瘍学会","金原出版",10364]
["患者さんに伝える臨床検査の説明マニュアル","医療の本","Ad：検査","櫻林　郁之介　監","医歯薬出版",57]
["患者さんに学ぶ！","医療の本","I：患者学",null,"クリニックマガジン",866]
["患者さんのためのガイドブック　よくわかる肺がん　第４版","医療の本","Fn7：肺ガン","西日本がん研究機構","金原出版",10213]
["患者さんのためのガイドブック　よくわかる肺がん　第4版","医療の本","Fn7：肺ガン","西日本がん研究機構","金原出版",10214]
["患者さんのための頚椎後縦靭帯骨化症ガイドブック","医療の本","Fb：骨/関節/筋肉",null,"南江堂",8041]
["患者さんのための乳がん診療ガイドライン 2009年版","医療の本","Fe：がん",null,"金原出版",8054]
["患者さんのための乳がん診療ガイドライン　２０１２年版","医療の本","Gg6：乳がん","日本乳癌学会","金原出版",10019]
["患者さんのための乳がん診療ガイドライン　2016年版","医療の本","Gg6：乳がん","日本乳癌学会","金原出版",10366]
["患者さんのための乳房温存療法ガイドライン","医療の本","Gg6：乳がん","厚生労働科学研究費補","金原出版",727]
["患者と家族のための川崎病Q&A","医療の本","Gk：こどもの健康","原田研介","ライフサイエンス出版",8040]
["患者と作る医学の教科書","医療の本","I：患者学","酒巻哲夫編著","日総研出版",8108]
["患者と読む、患者に話す脳腫瘍　Q&A135","医療の本","Fm：脳・神経系","藤巻　高光","メディカ出版",8131]
["患者の「なぜ」に答えるがん化学療法Q&A","医療の本","Fe6：化学療法",null,"医学書院",8051]
["患者の声を医療に生かす","医療の本","I：患者学","大熊　由紀子　他編著","医学書院",867]
["患者のためのやさしい心電図の見方","医療の本","Fd：心臓・血管系","小沢　友紀雄　編","医薬ジャーナル社",321]
["患者は何でも知っている　ＥＢＭ時代の医師","医療の本","I：患者学","Ｊ．Ａ．Ｍ．グレイ","中山書店",861]
["患者をサポートする法律と制度の活用","医療の本","I：患者学",null,"中山書店",854]
["がん術後の人の食事","医療の本","Fe：がん","太田　博俊　他著","女子栄養大学出版部",352]
["関節の痛み","医療の本","Fb：骨/関節/筋肉","安倍千之　著","日本医学館",8014]
["関節リウマチ患者の在宅生活への支援","医療の本","Ff7：リウマチ","今野　孝彦　編著","メディカルトリビューン",449]
["関節リウマチ治療ガイドライン","医療の本","Ff7：リウマチ","日本リウマチ財団　編","医歯薬出版",450]
["関節リウマチのある患者の看護相談室","医療の本","Ae：臨床看護","尾岸　恵三子　編著","医歯薬出版",88]
["ガン全種類別・最新治療法","医療の本","Fe：がん","矢沢サイエンスオフィ","学習研究社",379]
["感染症診断に必要な微生物検査","医療の本","Fg：伝染・感染症","菅野　治重　他監","ライフサイエンス出版",463]
["感染症法に基づく医師の届出基準","医療の本","Fg：伝染・感染症",null,"中央法規出版",464]
["感染症ワールド","医療の本","Fg：伝染・感染症","町田和彦","早稲田大学出版部",10071]
["完全図解　よくわかる心臓弁膜症","医療の本","Fd：心臓・血管系","加瀬川 均　著","講談社",5358]
["完全図解顎関節症とかみ合わせの悩みが解決する本　東京医科歯科大学顎関節治療部部長が書いた","医療の本","Fj：歯","木野 孔司　著","講談社",5364]
["がん専任栄養士が患者さんの声を聞いてつくった７３の食事レシピ","医療の本","Fe：がん","川口美喜子/青山広美","医学書院",5474]
["感染の理解と消毒・滅菌の看護へのい　２版","医療の本","Fg：伝染・感染症","富野　康日己　編集","医歯薬出版",462]
["肝臓・胆のう・膵臓病の食事療法　第３版","医療の本","Ft：肝臓/胆のう/膵臓","医歯薬出版　編","医歯薬出版",240]
["肝臓の病気","医療の本","Ft：肝臓/胆のう/膵臓","大内　清昭","保健同人社",664]
["肝臓病　（よくわかる最新医学シリーズ）","医療の本","Ft：肝臓/胆のう/膵臓","泉並木　著","主婦の友社",10558]
["肝臓病 検査と治療の最新情報を網羅　よく効く薬との併用療法も徹底紹介 新版","医療の本","Ft：肝臓/胆のう/膵臓","中嶋　俊彰","主婦の友社",665]
["肝臓病の最新治療","医療の本","Ft：肝臓/胆のう/膵臓","泉並木","主婦の友社",10076]
["肝臓病の人の食事","医療の本","Ft：肝臓/胆のう/膵臓","黒田　博之;今堀　智紀;高橋　敦子","女子栄養大学出版部",544]
["簡単おりがみ大百科","絵本","NULL","萩野善之","主婦の友社",20584]
["かんたんカーボカウント","医療の本","Vc：糖尿病","大阪市立大学","医療ジャーナル社",10087]
["がん治療中の女性のためのLIFE&Beauty","医療の本","Gg：女性の健康","さとう桜子","主婦の友社",10496]
["がん治療レクチャー　やさしく学べる最新緩和医療Ｑ＆Ａ","医療の本","Fe7：緩和ケア","江口研二/余宮きのみ","総合医学社",5481]
["がん治療を受ける前に知っておきたい５５","医療の本","Fe6：化学療法","土屋了介","エクスナレッジ",5479]
["がんで不安なあなたへー心のケアの道しるべー","医療の本","Fe：がん","岡村　仁","メディカルトリビューン",5472]
["がんでも長生き心のメソッド","医療の本","Fe：がん","保坂隆","マガジンハウス",10340]
["がんと一緒に働こう！必携ＣＲＳハンドブック","医療の本","Fe：がん","ＣＳＲプロジェクト","合同出版",5473]
["がん疼痛治療ガイドライン","医療の本","Fe：がん","日本緩和医療学会　他","真興交易医書出版",381]
["がん闘病中の髪・肌・爪の悩み　サポートブック","医療の本","Fe：がん","赤木勝幸・岩岡ひとみ　箸","英治出版",10606]
["がんとお金の本","医療の本","Fe：がん","黒田尚子","ビーシーケイ",5510]
["がんとこころのケア","医療の本","Fe：がん","明智龍男","NHK出版",5505]
["がんとたたかう子とともに　発病後日の浅い患者のご家族へ","医療の本","Gk：こどもの健康","がんの子どもを守る会","がんの子どもを守る会",10242]
["がんとともに、自分らしく生きる　希望をもって、がんと向き合う「ＨＢＭ」のすすめ","医療の本","Fe：がん","高野　利実","きずな出版",10330]
["がんと向き合う安心便利ノート","医療の本","Fe：がん","中村　直行","名著出版",364]
["ガンに打ち勝つ患者学末期ガンから生還した1万５０００人の経験に学ぶ","医療の本","Fe：がん","グレッグ・ダンダーソン","実業之日本社",5506]
["がんに効く生活克服した医師の自分でできる","医療の本","Fe：がん","ダヴィド・S.シュレベール","日本放送出版協会",5508]
["癌についての５０５の質問に答える","医療の本","Fe：がん","小川　道雄　編著","へるす出版",395]
["がんになったら手にとるガイド","医療の本","Fe：がん","国立がん研究センター","学研メディカル秀潤社",10039]
["がんになって、止めたこと、やったこと","医療の本","Fe：がん","野中秀訓","主婦の友社",10345]
["がんに負けない　治療の最前線","医療の本","Fe：がん","毎日新聞「がん」取材","毎日新聞社",365]
["がんに負けない、あきらめないコツ","医療の本","Fe：がん","鎌田　實","朝日新聞出版",8121]
["がんの痛み対策と緩和ケア","医療の本","Fe7：緩和ケア","向山雄人","主婦の友社",8011]
["がんの在宅ホスピスケアガイド","医療の本","Fe7：緩和ケア","吉田利康","日本評論社",5521]
["がんのひみつ","医療の本","Fe：がん","中川恵一","朝日出版社",5503]
["がんはなぜ問題視されるのか","医療の本","Fe：がん","谷田　憲俊","プリメド社",369]
["がんばれ！盲導犬ベルナ","絵本","NULL","郡司ななえ","ハート出版",20273]
["がんばれば、幸せになれるよ","医療の本","Gk：こどもの健康","山﨑敏子","小学館",5591]
["漢方外来　漢方から診るからだと病気","医療の本","He：漢方","日笠　久美　著","プリメド社",848]
["がん放射線治療　（がん看護セレクション）","医療の本","Fe：がん","唐澤久美子, 藤本美生","学研メディカル秀潤社",10277]
["がん抑制の食品事典","医療の本","Fa4：食事療法","西野　輔翼　編著","法研",241]
["がんワクチン","医療の本","H：代替療法","大野　忠夫　著","デジタルメディスン",842]
["がんを生きる","医療の本","Fe：がん","佐々木常雄","講談社現代新書",5543]
["がんを生きるガイド　「がん難民」にならな","医療の本","Fe：がん","日経メディカル　編","日経BP社",348]
["がんを生きる十二か条","医療の本","Fe：がん","愛場庸雅","NULL",5427]
["がんをもつ子どもの痛みからの解放とパリアティブ・ケア","医療の本","Gk：こどもの健康","世界保健機構","日本看護協会出版会",5542]
["消えた恐竜のなぞ","絵本","NULL","大野太郎","集英社",20725]
["気管食道科学用語解説集","医療の本","Ab：専門医学事典","日本気管食道科学会","金原出版",15]
["聞き書き　ダライ・ラマの言葉","一般図書","C：心の健康","松本栄一著","日本放送出版協会",5412]
["聞く力　心をひらく35のヒント","一般図書","C：心の健康","阿川佐和子","文藝春秋",10391]
["危険がいっぱい思春期ダイエット","医療の本","C：心の健康","福岡　秀興","芳賀書店",135]
["傷はぜったい消毒するな　生態系としての皮膚の科学","医療の本","Fo：皮膚/髪/爪","夏井睦","光文社",10351]
["基礎からわかる最新漢方薬入門　生薬治療の集大成","医療の本","He：漢方","関水康彰","技術評論社",10369]
["気づいて！こどもの心のＳＯＳ　こどもの心","医療の本","Gk：こどもの健康","星野　仁彦　著","ヴォイス",783]
["吃音のことがよくわかる本","医療の本","Gk：こどもの健康","菊池良和","講談社",10362]
["きつねとぶどう・注文のおおい料理店","絵本","K：こどもの本","坪田譲二　宮沢賢治","講談社",20989]
["キツネどんのおはなし","絵本","NULL","ビアトリクス・ポター","福音館書店",20562]
["キツネのクリーニングや大あわて","絵本","NULL","三田村信幸","金の星社",20336]
["きつねのでんわボックス","絵本","NULL","戸田和代","金の星社",20388]
["きつねのフォスとうさぎのハーズ","絵本","K：こどもの本","シルヴィア・ヴァンデン・ヘーデ","岩波書店",20791]
["きつねのホイティ","絵本","K：こどもの本","シビル・ウェッタ・シンハ","福音館書店",20880]
["きな子　～見習い警察犬の物語～","絵本","NULL","水稀しま","小学館",20290]
["気分障害治療ガイドライン","医療の本","C：心の健康","精神医学講座担当者会","医学書院",136]
["気分障害治療ガイドライン","医療の本","C：心の健康","精神医学講座担当者会議","医学書院",10006]
["キャッチ！ ＪＲ福知山線脱線事故がわたしに教えてくれたこと","一般図書","C：心の健康","岡崎愛子","ポプラ社",10318]
["キャラクターいっぱいのおりがみ44てん","絵本","NULL","金杉 登喜子","ブティック社",20579]
["救急看護ＱＵＥＳＴＩＯＮ　ＢＯＸ 1 第２版","医療の本","L：麻酔/手術/救急","中村　惠子","中山書店",89]
["救急蘇生法の指針２０１０","医療の本","L：麻酔/手術/救急","岩井寿夫","へるす出版",5661]
["救急蘇生法の指針2015（改訂第5版）市民用解説編","医療の本","L：麻酔/手術/救急","日本救急医療財団心肺蘇生法委員会","へるす出版 ",10477]
["きゅうきゅうばこ","医療の本","L：麻酔/手術/救急","山田 真　著","福音館書店",5389]
["急性膵炎の診療ガイドライン 改訂第３版","医療の本","Ft：肝臓/胆のう/膵臓","急性膵炎の診療ガイドライン第２版作成出版委員会","金原出版",1017]
["急性胆管炎・胆嚢炎の診療ガイドライン 2013 TG13新基準掲載","医療の本","Ft：肝臓/胆のう/膵臓","高田忠敬","医学図書出版",10171]
["仇敵","一般図書","C：心の健康","池井戸潤","実業之日本社",10461]
["牛丼一杯の儲けは9円","一般図書","C：心の健康","坂口孝則","幻冬舎",10237]
["きょうおひさまがでなかったら","絵本","K：こどもの本","塚本やすし","フレベール館",2116]
["今日から実践痛みの漢方治療","医療の本","He：漢方","土方康世","医歯薬出版",10371]
["今日からは、あなたの盲導犬","絵本","NULL","日野多香子","岩崎書店",20234]
["教室・家庭でいますぐ使えるSST","医療の本","Gk：こどもの健康","安住ゆう子 ・三島節子","かもがわ出版",10557]
["狭心症・心筋梗塞から身を守る","医療の本","Fd：心臓・血管系","木全　心一","講談社",310]
["狭心症・心筋梗塞とつきあうコツ","医療の本","Fd：心臓・血管系","佐々木　達哉　他","フジメディカル",322]
["狭心症・心筋梗塞の最新治療と発作を防ぐ安心読本","医療の本","Fd：心臓・血管系","相澤忠範","主婦と生活社",8083]
["教団Ｘ","一般図書","C：心の健康","中村　文則","集英社",10522]
["今日のジェネリック医薬品 〈2011‐2012〉","医療の本","D：薬","増原慶壮/北村正樹編集","南江堂",5352]
["今日のジェネリック医薬品　20122013","医療の本","D：薬","増原慶壮","南山堂",10007]
["今日のジェネリック医薬品　２０１４－２０１５","医療の本","D：薬","増原慶壮/北村正樹","南江堂",10153]
["今日の診断指針　ポケット版　第５版","医療の本","Aa：医学百科","亀山　正邦　他編","医学書院",25]
["今日の治療薬　２０１２","医療の本","D：薬","浦部晶夫/島田和幸/川合眞一編集","南江堂",5334]
["今日の治療薬　２０１３","医療の本","D：薬","浦部晶夫","南江堂",10009]
["今日の治療薬 2014 解説と便覧","医療の本","D：薬","浦部 晶夫","南江堂",10150]
["今日の治療薬2017","医療の本","D：薬","浦部晶夫","南江堂",10478]
["きょうはいい日だね","絵本","NULL","宮川ひろ","PHP研究所",20390]
["きょうはとくべついいひなの","絵本","NULL","ふじおかきょうこ","星雲社",20105]
["きょうふのうらないやしき","絵本","NULL","おぐまこうじ","小峰書店",20486]
["胸部の地図帳","医療の本","Fn：呼吸器","佐藤達夫","講談社",8035]
["恐竜の谷の大冒険","絵本","K：こどもの本","メアリー・ポープ・オズボーン","メディアファクトリー",20883]
["行列ができる店はどこが違うのか　飲食店の心理学","一般図書","C：心の健康","大久保一彦","精興社",10236]
["きよしこ","一般図書","C：心の健康","重松清","新潮社",10433]
["拒食症と過食症 イラスト版","医療の本","C：心の健康","切池　信夫","講談社",101]
["拒食症と過食症の治し方","医療の本","C：心の健康","切池信夫","講談社",10334]
["きらりん★レボリューション①","絵本","NULL","中原杏","小学館",20714]
["きらりん★レボリューション②","絵本","NULL","中原杏","小学館",20715]
["きらりん★レボリューション⑦","絵本","NULL","中原杏","小学館",20716]
["きらりん★レボリューション⑨","絵本","NULL","中原杏","小学館",20717]
["きらりん★レボリューション⑬","絵本","NULL","中原杏","小学館",20718]
["きらりん★レボリューション⑭","絵本","NULL","中原杏","小学館",20719]
["嫌われる勇気","一般図書","C：心の健康","岸見一郎・古賀史健","ダイヤモンド社",10325]
["起立性調節障害がよくわかる本","医療の本","Gk：こどもの健康","田中英高　監修","講談社",10584]
["きりのなかで","絵本","NULL","木村裕一","講談社",20594]
["きりのなかで④","絵本","NULL","木村裕一","講談社",20758]
["禁煙セラピー　らくらく成功日誌３６５","医療の本","Ei：禁煙","Ａ．カー　著","ロングセラーズ",238]
["緊急時の介護","医療の本","L：麻酔/手術/救急","橋村あゆみ","介護労働安定センター",10085]
["きんぎょがにげた","絵本","NULL","五味太郎","福音館書店",20075]
["きんさんぎんさん　百年の物語","絵本","NULL","綾野まさる","ハート出版",20241]
["銀の匙","一般図書","C：心の健康","荒川　弘","小学館",10513]
["クイールはもうどう犬になった","絵本","NULL","こわせたまみ","ひさかたチャイルド",20174]
["クイズ・ショウ　上","一般図書","C：心の健康","リチャード・Ｎ・グッドウィン","扶桑社",10411]
["クイズ・ショウ　下","一般図書","C：心の健康","リチャード・Ｎ・グッドウィン","扶桑社",10412]
["くじけないで","一般図書","Gt8：在宅介護","柴田トヨ","飛鳥新社",5321]
["くじけないで","一般図書","Gt8：在宅介護","柴田トヨ","飛鳥新社",5423]
["くじらのなみだ","絵本","K：こどもの本","今井鴻象","岩崎書店",20830]
["薬が届くまで　ここが知りたい！","医療の本","K：こどもの本","文春まんが","文藝春秋",20933]
["薬がみえる　vol.1","医療の本","D：薬","医療情報科学研究所","メディックメディア",10278]
["薬がみえるvol.1","医療の本","D：薬","医療情報科学研究所","メディックメディア",10543]
["薬がみえるvol.2","医療の本","D：薬","医療情報科学研究所","メディックメディア",10544]
["薬がみえるvol.3","医療の本","D：薬","医療情報科学研究所","メディックメディア",10545]
["くすりと健康についてくすりになる話","医療の本","D：薬","大野　誠　監修","レーダー出版",173]
["‐薬に頼らずラクになる‐やさしいうつの治しかた","医療の本","C：心の健康","弥永英晃","パブラボ",10270]
["薬のサイエンス　Ｖｏｌ．８","医療の本","D：薬","井村　裕夫","フジメディカル",203]
["くすりの事典 2015年版―病院からもらった薬がよくわかる","医療の本","D：薬","小林　輝明","成美堂出版",10152]
["薬の事典　ピルブック　２０１３年版","医療の本","D：薬","橘敏也","じほう",10010]
["薬の事典 ピルブック 2014年度","医療の本","D：薬","橘　敏也","ソシム",10149]
["薬の事典 ピルブック〈2012年版〉","医療の本","D：薬","橘　敏也　著","ソシム",5335]
["くすりの事典―病院からもらった薬がよくわかる〈2012年版〉","医療の本","D：薬","小林　輝明　監修","成美堂出版",5336]
["くすりの地図帳","医療の本","D：薬","伊賀　立二;小滝　一;沢田　康文","講談社",174]
["口から食べる　嚥下障害Ｑ＆Ａ　第３版","医療の本","Ee5：嚥下障害","藤島　一郎","中央法規出版",233]
["くつやさんと10にんのこびと","絵本","NULL","グリム兄弟","金の星社",20469]
["靴を売るシンデレラ","絵本","NULL","バウアー","小学館",20287]
["くまのオットーとえほんのおうち","絵本","NULL","ケイティ・クレミソン","岩崎書店",20399]
["くまのがっこう","絵本","K：こどもの本","あいはらひろゆき","ブロンズ新社",20938]
["くまの子ウーフの絵本　お日さまは　はだかんぼ","絵本","NULL","神沢利子","ポプラ社",20141]
["クモの糸が織物に使えるってホント？","絵本","NULL","小川茂男","誠文堂新光社",20373]
["くものきれまに","絵本","NULL","木村裕一","講談社",20593]
["くものきれまに③","絵本","NULL","木村裕一","講談社",20757]
["クモ膜下出血診療ガイドライン　ＲＯＭ付","医療の本","Fm：脳・神経系","日本脳卒中の外科学会","じほう",570]
["クモ膜下出血のサインを読む","医療の本","Fm：脳・神経系","山口三千夫　著","講談社",5367]
["くもんのはじめての英会話じてん","絵本","K：こどもの本","公文寛","くもん出版",20865]
["くもんのはじめての英和じてん","絵本","K：こどもの本","公文寛","くもん出版",20867]
["くらしの実用小物　折り紙","絵本","K：こどもの本","山口　真","西東社",20800]
["くらべる図鑑","絵本","NULL","小学館","小学館",20704]
["クリスマス・キャロル","絵本","NULL","ディケンズ","岩波書店",20603]
["クリスマスの12日","絵本","NULL","サブダ","大日本絵画",20139]
["クリスマスのインタビュー","絵本","NULL","吉池好高","女子パウロ会",20537]
["クリスマスのころわん","絵本","NULL","間所ひさ子","ひさかたチャイルド",20092]
["クリスマスのふしぎなはこ","絵本","K：こどもの本","長谷川摂子","福音館書店",20893]
["クリスマスをめぐる7つのふしぎ","絵本","NULL","斉藤洋","理論社",20493]
["ぐりとぐら","絵本","NULL","なかがわりえこ","福音館書店",20523]
["ぐりとぐらのえんそく","絵本","NULL","なかがわりえこ","福音館書店",20524]
["ぐりとぐらのかいすいよく","絵本","NULL","なかがわえりこ","福音館書店",20473]
["クリニカル・アロマテラピー　よりよい看護","医療の本","Hg：アロマテラピー","ジェーン・バックル","フレグランスジャーナル",849]
["くりひろい","絵本","NULL","イェン・タチョン","福音館書店",20443]
["車イスの私がアメリカで医療ソーシャルワーカーになった理由","一般図書","C：心の健康","上原寛奈","幻冬舎",10531]
["ぐるんぱのようちえん","絵本","NULL","西内ミナミ","福音館書店",20144]
["クレヨンしんちゃんのまんが科学のふしぎ","絵本","NULL","臼井儀人","双葉社",20672]
["くれよんのくろくん","絵本","NULL","なかやみわ","童心社",20095]
["グロースターの仕立て屋","絵本","NULL","ビアトリクス・ポター","福音館書店",20564]
["クローン病ってこんな病気","医療の本","Fs7：クローン病","福田能啓編集","診断と治療社",8064]
["クロスファイア　上","一般図書","C：心の健康","宮部みゆき","光文社",10417]
["クロスファイア　下","一般図書","C：心の健康","宮部みゆき","光文社",10418]
["黒魔女さんが通る！！","絵本","NULL","石崎洋司","講談社",20749]
["螢","一般図書","C：心の健康","麻耶雄嵩","幻冬舎",10459]
["勁草の人　中山素平","一般図書","C：心の健康","高杉　良","文藝春秋",10528]
["けいてぃー　はたらきもののじょせつしゃ","絵本","NULL","バートン","福音館書店",20143]
["ケース別 発達障害のある子へのサポート実例集 小学校編","医療の本","Gk：こどもの健康","上野一彦・月森久江著","ナツメ社",10556]
["ケース別発達障害のある子へのサポート実例集 幼稚園・保育園編","医療の本","Gk：こどもの健康","上野一彦監修　酒井幸子・中野圭子著","ナツメ社",10555]
["ゲームの中に閉じこめて","絵本","NULL","宇賀神　水青","集英社",20605]
["血液・血管が詰まらない切れない最強セルフケア　（Ｍａｋｉｎｏ　ｍｏｏｋ＊マキノ出版ムック）","医療の本","Vb：高血圧","小林弘幸, 池谷敏郎","マキノ出版",10265]
["血液学用語辞典　改訂３版","医療の本","Ab：専門医学事典","平井　久丸　編集","フジメディカル",16]
["血液サラサラ健康事典","医療の本","Fc：血液/リンパ","藤井　潤　医学監修","時事通信社",305]
["血液のガン　悪性リンパ腫と白血病","医療の本","Fc：血液/リンパ","飛内　賢正　監修","講談社",298]
["結核?!でも心配しないで","医療の本","Fn：呼吸器","公益財団法人結核予防会","公益財団法人結核予防会",5482]
["月経困難症に悩む女性の支援ガイド","医療の本","Gg：女性の健康","ウイメンズヘルスを研","プリメド社",705]
["月経らくらく講座－もっと上手に付き合い，","医療の本","Gg：女性の健康","松本　清一　監修","文光堂",704]
["検疫探知犬クレオとキャンディー","絵本","K：こどもの本","池田まき子","ハート出版",20843]
["元気が出る患者学","医療の本","I：患者学","柳田　邦男","新潮社",857]
["元気になるシカ！","一般図書","Gg：女性の健康","藤河るり　著","メディアファクトリー",10604]
["元気になるシカ！２","一般図書","Gg：女性の健康","藤河るり　著","メディアファクトリー",10605]
["元気の花束","医療の本","Fs：胃腸",null,"ブーケ若い女性オストメイトの会",5523]
["健康応援病院　こんな病院があってよい","医療の本","Jb：病院/スタッフ","佐栁　進","関門医療センター広報部",10055]
["健康診断の検査値がとことんわかる事典―基本健診から精密検査まで","医療の本","Ad：検査","西崎　統　編集","主婦と生活社",5347]
["健康の基本","医療の本","F：体と病気","鳴海周平","ワニ・プラス",10067]
["健康評価ハンドブック","医療の本","Aa：医学百科","森惟明","日東書院",5411]
["検査値・数式ハンドブック","医療の本","Ad：検査","奈良信雄","エクスナレッジ",10058]
["検査値の読み方","医療の本","Ad：検査","西﨑祐史/渡邊千登世","照林社",10057]
["検査でわかること～健康診断ガイドブック　（別冊NHKきょうの健康）","医療の本","Ad：検査","NHK出版","NHK出版",8094]
["検査と数値がわかる事典","医療の本","Ad：検査","祝田靖","成美堂出版",10059]
["けんた・うさぎ","絵本","NULL","中川李枝子","のら書店",20529]
["原本・西式健康読本　ワイド版　食と健　４","医療の本","H：代替療法","西　勝造　著","農山漁村文化協会",845]
["抗悪性腫瘍薬　肺がん","医療の本","Fn7：肺ガン","西條長宏","医療ジャーナル社",5628]
["降圧薬の知識と自己管理","医療の本","D：薬","日和田　邦男　編","医薬ジャーナル社",187]
["抗がん剤・放射線治療と食事のくふう","医療の本","Fe：がん","山口建","女子栄養大学出版部",10554]
["抗ガン剤治療のすべてがわかる本","医療の本","Fe6：化学療法","秋田　弘俊　他","学習研究社",412]
["抗がんサプリメントの効果と副作用徹底検証","医療の本","Fe6：化学療法","キャンサーネットジャパン","三省堂",5520]
["口腔ケア 入れ歯で歩く元気な老後","医療の本","Fj：歯","福田　徳治;石塚　三寿","日本医学館",502]
["高血圧・心臓病の食事療法　第２版","医療の本","Vb：高血圧","医歯薬出版　編","医歯薬出版",940]
["高血圧・糖尿病　生活習慣病　改訂版","医療の本","Vb：高血圧","荻原　俊男　監修","メディカルレビュー社",1021]
["高血圧治療ガイドライン2014","医療の本","Vb：高血圧","日本高血圧学会高血圧治療ガイドライン作成委員会","ライフサイエンス出版",10187]
["高血圧の最新治療 (よくわかる最新医学)","医療の本","Vb：高血圧","宗像 正徳","主婦の友社",10188]
["高血圧の人のおいしいレシピブック","医療の本","Vb：高血圧","末永 みどり・　浜内 千波　・斉藤 邦夫","保健同人社",8099]
["高血圧の人の食事","医療の本","Vb：高血圧","長澤　紘一　他","女子栄養大学出版部",342]
["高血圧の病態生理と診断・治療","医療の本","Vb：高血圧","田口　理恵　他","真興交易医書出版",947]
["膠原病　（よくわかる最新医学シリーズ）","医療の本","Ff6：膠原病","三森明夫　監修","主婦の友社",10564]
["交錯","一般図書","Fa1：一般","堂場　瞬一","角川文庫",10625]
["高脂血症・動脈硬化症の食事療法　第２版","医療の本","Va：高脂血症","医歯薬出版　編","医歯薬出版",933]
["高脂血症・肥満～動脈硬化～","医療の本","Va：高脂血症","荻原　俊男　監修","メディカルレビュー社",937]
["高脂血症の人の食事","医療の本","Va：高脂血症","多田　紀夫 著","女子栄養大学出版部",92]
["高脂血症を治して脳梗塞・狭心症を予防する","医療の本","Va：高脂血症","石川　俊次　監修","講談社",934]
["こうして治す 下肢静脈瘤","医療の本","Fc：血液/リンパ","岩井 武尚　著","保健同人社",5356]
["こうして防ぐ院内感染－患者の立場から－","医療の本","Fg：伝染・感染症","金森　雅彦　著","医歯薬出版",459]
["高次脳機能障害のリハビリがわかる本","医療の本","Fm：脳・神経系","橋本圭司　監修","講談社",10586]
["甲状腺の病気　（よくわかる最新医学シリーズ）","医療の本","Fl：内分泌","伊藤公一 監","主婦の友社",10571]
["甲状腺の病気　改訂新版","医療の本","Fl：内分泌","佐藤　幹二　著","保健同人社",558]
["甲状腺の病気　新版","医療の本","Fl：内分泌","伊藤　公一　監修","主婦の友社",559]
["甲状腺の病気　バセドウ病・橋本病・甲状腺腫瘍ほか","医療の本","Fl：内分泌","伊藤公一","主婦の友社",10487]
["甲状腺の病気の最新治療（よくわかる最新医学シリーズ）","医療の本","Fl：内分泌","伊藤公一","主婦の友社",10161]
["甲状腺の病気を治す本","医療の本","Fl：内分泌","栗原　英夫　著","法研",1011]
["口唇裂・口蓋裂治療の手引き　改訂第3版","医療の本","Fj：歯","昭和大学口唇裂・口蓋裂診療班","金原出版",8102]
["コウスケくんの青い空","絵本","NULL","綾野まさる","ハート出版",20374]
["抗生物質治療ガイドライン　第２版","医療の本","D：薬","オーストラリア治療ガ","医薬ビジランスセンター",163]
["更年期からの輝き　若さの秘訣：ホルモン療","医療の本","Gg：女性の健康","小池　浩司","前田書店",706]
["高齢期の病気と食事　第２版","医療の本","Gt：高齢者","医歯薬出版　編","医歯薬出版",815]
["高齢者・有病者のための歯科診療－さまざま","医療の本","Fj：歯","山崎　博嗣　著","学建書院",507]
["高齢者肝臓疾患の自己管理","医療の本","Ft：肝臓/胆のう/膵臓","八橋弘","医療ジャーナル社",10078]
["高齢者ケアの心理学入門","医療の本","Gt：高齢者","本莊　繁　著","朱鷺書房",820]
["高齢者のための食事制限メニュー　―糖尿病、腎臓病、高血圧、高脂血症","医療の本","Gt：高齢者","杉橋啓子　監修","女子栄養大学出版部",5387]
["高齢者のリハビリＱ＆Ａ(新版)","医療の本","Ee：リハビリ療法","岡本 五十雄著","講談社",229]
["誤嚥を防ぐケアとリハビリテーション","医療の本","Ee5：嚥下障害","藤谷　順子　他編著","日本看護協会出版会",234]
["股関節の痛みはこれでとる イラスト版","医療の本","Fb：骨/関節/筋肉","二ノ宮　節夫","講談社",258]
["子ぎつねヘレンがのこしたもの","一般図書","C：心の健康","竹田津実","偕成社",10389]
["呼吸器内科医が解説！新型コロナウイルス感染症COVID-19","医療の本","Fg：伝染・感染症","粟野暢康　出雲雄大","医療科学社",10652]
["呼吸不全とつきあうコツ","医療の本","Fn6：COPD","栗原　直嗣　他編著","フジメディカル",638]
["国立がん研究センターのがんの本　胃がん","医療の本","Fs5：胃がん","がん予防・検診研究ｾﾝﾀｰ","小学館クリエイティブ",5526]
["国立がん研究センターのがんの本　大腸がん","医療の本","Fs6：大腸がん","がん予防・検診研究ｾﾝﾀｰ","小学館クリエイティブ",5530]
["国立がん研究センターのがんの本　肺がん","医療の本","Fn7：肺ガン","がん予防・検診研究ｾﾝﾀｰ","小学館クリエイティブ",5522]
["国立がん研究センターのがんの本がんの予防　科学的根拠にもとづいて","医療の本","Fe：がん","がん予防・検診研究ｾﾝﾀｰ","小学館クリエイティブ",5514]
["こげぱん　京都ぶらり旅日記","絵本","NULL","たかはしみき","主婦と生活社",20582]
["こげぱん　三都旅日記　～大阪・神戸編～","絵本","NULL","たかはしみき","ソニーマガジンズ",20583]
["こげぱん　パンにもいろいろあるらしい・・・。","絵本","NULL","たかはしみき","ソニーマガジンズ",20078]
["こげぱん　パンにも出会いがあるらしい・・・。","絵本","NULL","たかはしみき","ソニーマガジンズ",20077]
["こげぱん　パンのしあわせってなんだろう・・・。","絵本","NULL","たかはしみき","ソニーマガジンズ",20076]
["こげぱん　毎日クタ～っと。","絵本","NULL","たかはしみき","ソニーマガジンズ",20698]
["ここがわたしのおうちです","絵本","NULL","アイリーン・スピネリ","さ・え・ら書房",20435]
["ココペリのかおみっけ！","絵本","NULL","なかわかりさ","タリーズコーヒー",20108]
["ここまでできる高齢者の転倒予防","医療の本","Gt：高齢者","武藤芳照　総監修","日本看護協会出版会",8116]
["心がフッと軽くなる「瞬間の心理学」","医療の本","C：心の健康","名越 康文 ","角川SSコミュニケーションズ",5351]
["心がふわっと軽くなる考え方","一般図書","C：心の健康","ひすいこたろう　他","ソフトバンククリエイティブ",10131]
["心にのこるみんなの体験　きりと雪からのだっしゅつ","絵本","NULL","日本児童文芸家協会","金の星社",20313]
["こころにみことばの処方箋","医療の本","C：心の健康","樋野興夫","いのちのことば社",10331]
["こころの医者のフィールド・ノート　新装版","医療の本","C：心の健康","中沢　正夫　著","情報センター",122]
["こころの声を聴く","一般図書","C：心の健康","河合隼雄","新潮社",10194]
["こころの旅","一般図書","C：心の健康","神谷恵美子","日本評論社",10195]
["こころの天気図","一般図書","C：心の健康","河合隼雄","毎日新聞社",10193]
["こころをはぐくむ－アルコール依存症と自助","医療の本","C：心の健康","今道　裕之　著","東峰書房",123]
["子育て通信","医療の本","Gk：こどもの健康","子育て通信委員会","大阪小児科医会",10032]
["こちら「がん研有明相談室」子宮頸がん・子宮体がん・卵巣がん患者さんへのドクターズアドバイス","医療の本","Gg：女性の健康","馬屋原健司","新興医学出版社",10178]
["こちらたこたびょういん","絵本","NULL","岩田明子","PHP研究所",20012]
["国境の銃弾","一般図書","Fa1：一般","濱　嘉之","文藝春秋",10631]
["骨粗鬆症","医療の本","Fb7：骨粗鬆症","安倍　千之　著","日本医学館",289]
["骨粗鬆症　（よくわかる最新医学シリーズ）","医療の本","Fb7：骨粗鬆症","石橋英明　著","主婦の友社",10562]
["骨粗しょう症 改訂新版","医療の本","Fb7：骨粗鬆症","広田　憲二;広田　孝子","保健同人社",261]
["骨粗しょう症に効くらくらくレシピ","医療の本","Fb7：骨粗鬆症","林　泰史　監修","法研",292]
["骨粗鬆症の最新治療―いまからでも実行できる寝たきりにならない方法（よくわかる最新医学シリーズ）","医療の本","Fb7：骨粗鬆症","石橋 英明","主婦の友社",10155]
["骨粗鬆症の人の食事","医療の本","Fb7：骨粗鬆症","白木　正孝　他","女子栄養大学出版部",280]
["湖底のまつり","一般図書","C：心の健康","泡坂妻夫","東京創元社",10464]
["孤独の歌声","一般図書","C：心の健康","天童荒太","新潮社",10463]
["ことばがくちからでちゃったら","絵本","NULL","ひなたあおい","タリーズコーヒー",20028]
["ことばの遅れのすべてがわかる本 イラスト版","医療の本","Gk：こどもの健康","中川　信子","講談社",761]
["子どもが育つ魔法の言葉","一般図書","Fa1：一般","ドロシー・ロー・ノルト/レイチャル・ハリス","PHP研究所",10618]
["こども漢方","医療の本","Gk：こどもの健康","草鹿砥宗隆, 佐藤大輔","源草社",10257]
["こども図鑑　からだ","絵本","NULL","学研","学研",20706]
["こども図鑑プレＮＥＯ　かず・かたちの図鑑","絵本","K：こどもの本","黒澤俊二　監修","小学館",20962]
["こども図鑑プレＮＥＯ　せいかつの図鑑","絵本","K：こどもの本","流田直　監修","小学館",20963]
["こども図鑑プレＮＥＯ　よのなかの図鑑","絵本","K：こどもの本","寺本潔　監修","小学館",20964]
["こども大百科　キッズペディア","絵本","NULL","小学館","小学館",20291]
["こども電車","絵本","NULL","岡田　潤","金の星社",20434]
["子どもと家族のための小児がんガイドブック","医療の本","Gk：こどもの健康","加藤俊一監修","医薬ジャーナル社",5497]
["子どもにうつる動物の病気　ペットから学校","医療の本","Gk：こどもの健康","神山　恒夫　編著","真興交易医書出版",785]
["子どもの危ないひきつけ・けいれん イラスト版","医療の本","Gk：こどもの健康","金沢　治","講談社",763]
["こどものうつ心の叫び","医療の本","Gk：こどもの健康","傳田健三","講談社",5595]
["こどものがん　病気の知識と療養の手引","医療の本","Gk：こどもの健康","がんの子どもを守る会","がんの子どもを守る会",10241]
["こどもの感染症　予防のしかた・治しかた","医療の本","Gk：こどもの健康","金子光延","講談社",5644]
["こどもの感染症ハンドブック　第２版","医療の本","Gk：こどもの健康","脇口　宏　編集","医学書院",777]
["こどものがんと治療","医療の本","Gk：こどもの健康","細野亜古　編著","メディカ出版",10549]
["こどものがんと治療","医療の本","Gk：こどもの健康","細野亜古　編著","メディカ出版",10550]
["子どもの危険な病気のサインがわかる本","医療の本","Gk：こどもの健康","松永正訓　監修","講談社",10587]
["子どもの救急相談対応ガイド―子どもの急な病気と事故 こんなときどうするの?","医療の本","Gk：こどもの健康","平林優子　監修","へるす出版 ",5381]
["子どものくすり安心ガイド　第２版","医療の本","Gk：こどもの健康","日本外来小児科学会","医歯薬出版",786]
["子どもの心の病気がわかる本 イラスト版","医療の本","Gk：こどもの健康","市川　宏伸","講談社",764]
["こどもの腎炎・ネフローゼ","医療の本","Gk：こどもの健康","五十嵐隆","メディカルトリビューン",5544]
["子どもの心身症ガイドブック","医療の本","Gk：こどもの健康","小林　陽之助　編","中央法規出版",765]
["こどもの心臓病と手術","医療の本","Gk：こどもの健康","立石実","メディカ出版",5647]
["こどもの心臓病と手術","医療の本","Gk：こどもの健康","立石実　著","メディカ出版",10551]
["子どもの性","医療の本","Gk：こどもの健康","山本直英","大月書店",5593]
["子どもの育ちと遊び","医療の本","Gk：こどもの健康","川村晴子","朱鷺書房",5585]
["こどものとも０１２ ありのあちち","絵本","NULL","つちはしとしこ","福音館書店",20074]
["子どもの病気・けが　救急＆ケアBOOK","医療の本","Gk：こどもの健康","秋山千枝子","世界文化社",10082]
["こどもの病気の地図帳","医療の本","Gk：こどもの健康","鴨下　重彦;柳沢　正義","講談社",778]
["こどもは未来である","医療の本","Gk：こどもの健康","小林登","メディサイエンス",5582]
["子どもへのまなざし","医療の本","Gk：こどもの健康","佐々木正美","福音館書店",5581]
["子どもを選ばないことを選ぶ　いのちの現場","医療の本","Gh：妊娠/出産","大野　明子　編著","メディカ出版",749]
["ことりはどこ？","絵本","NULL","シャーロット・ゾロトウ","童話屋",20423]
["こねこの　ぴっち","絵本","NULL","石井桃子","岩波書店",20140]
["こねこのいのち","絵本","NULL","高橋さくら","ハート出版",20198]
["こねこのトムのおはなし","絵本","NULL","ビアトリクス・ポター","福音館書店",20553]
["ごはんですよ　おもちですよ","絵本","K：こどもの本","かこさとし","農文協",21022]
["こびとかな","絵本","K：こどもの本","おがわようこ","フレーベル館",21024]
["こぶたのかくれんぼ","絵本","NULL","小沢正","ポプラ社",20540]
["こぶたのピグリン・ブランドのおはなし","絵本","NULL","ビアトリクス・ポター","福音館書店",20570]
["ごぼう力","医療の本","V：メタボリックシンドローム","南雲 吉則　著","主婦と生活社",5391]
["こまったさんのコロッケ","絵本","K：こどもの本","寺村輝夫","あかね書房",20802]
["こりゃ　まてまて","絵本","NULL","中脇初枝","福音館書店",20113]
["ゴリラのパンやさん","絵本","NULL","白井三香子","金の星社",20093]
["ゴリラのボスになった力三さん","絵本","NULL","綾野まさる","ハート出版",20634]
["ゴリラはごりら","一般図書","C：心の健康","くどうなおこ","童話屋",10378]
["これだけは知っておきたい抗アレルギー薬の","医療の本","D：薬","中川　武正　編","医薬ジャーナル社",175]
["これだけは知っておきたい手術室ナーシングＱ＆Ａ","医療の本","L：麻酔/手術/救急","天羽敬祐","総合医学社",5660]
["これで解決！ウンコパニック","医療の本","Gt5：高齢期ケア","宮田乃有","メディカ出版",5650]
["これならできる！感染予防～抗がん剤治療を乗りきるために～","医療の本","Z：DVD","辻村秀樹","武田薬品工業",10125]
["ころころまるパン・マーシャとくま・やぎのブルーセ","絵本","K：こどもの本","松谷さやか　山内清子","講談社",20996]
["ころわんはおにいちゃん","絵本","NULL","間所ひさ子","ひさかたチャイルド",20091]
["こわいわるいうさぎのおはなし","絵本","NULL","ビアトリクス・ポター","福音館書店",20555]
["ごんぎつね","絵本","K：こどもの本","新美南吉","ポプラ社",20829]
["金色のクジラ","絵本","NULL","岸川悦子","ひくまの出版",20600]
["ゴン太占い～今日からおきらく～","絵本","NULL","GONTACLUB","金の星社",20265]
["コントロールする　神経系・感覚器","医療の本","Fm：脳・神経系",null,"メディ・イシュ",571]
["こんなに大切！抗がん剤治療とうまく付き合う「口腔ケア」","医療の本","Z：DVD","大田洋二郎","武田薬品工業",10123]
["こんな問題に出会ったら－生活者とともに考","医療の本","Gk：こどもの健康","佐々木　洋　他編著","医歯薬出版",779]
["こんにちはウーフ","絵本","NULL","神沢利子","ポプラ社",20539]
["今夜、すべてのバーで","一般図書","C：心の健康","中島らも","講談社",10437]
["さいごのまほう","絵本","NULL","中島和子","金の星社",20338]
["最新　家庭の医学百科","医療の本","Aa：医学百科","主婦と生活社　編","主婦と生活社",2]
["最新 子宮頸がん予防　ワクチンと検診の正しい受け方","医療の本","Gg：女性の健康","高橋真理子 著","朝日新聞出版",5375]
["最新　出産・新生児大百科","医療の本","Gh：妊娠/出産","総監修：杉本充弘","ベネッセコーポレーション",8037]
["最新　妊娠大百科","医療の本","Gh：妊娠/出産","総監修：中林正雄","ベネッセコーポレーション",8036]
["最新　輸血のケアＱ＆Ａ　改訂版","医療の本","Fc：血液/リンパ","藤田　浩　編著","照林社",1005]
["最新！がん治療予防から緩和ケアまですべてがわかる","医療の本","Fe：がん","弘前大学大学院医学研究科","朝日新聞出版",5504]
["最新赤ちゃん・子どものアトピー&アレルギー大百科 ","医療の本","Gh：妊娠/出産","ひよこくらぶ特別編集","ベネッセコーポレーション",5377]
["最新赤ちゃんの病気大百科","医療の本","Gh：妊娠/出産","田村正徳監修","ベネッセコーポレーション",5376]
["最新の内視鏡手術がわかる本","医療の本","L：麻酔/手術/救急","黒川良望","法研",5653]
["最新版　家庭医学大全科","医療の本","Aa：医学百科","高久　史麿　他監修","法研",7]
["最新版　よくわかる　血糖値を下げる基本の食事","医療の本","Vc：糖尿病","監修 松葉育郎、忍田聡子","主婦の友社",8085]
["最先端がん治療免疫細胞療法にたどり着いて","医療の本","H：代替療法","藤原　義久　編著","河出書房新社",846]
["最善の医療をめざして－エビデンスに基づく","医療の本","Ja：医療概論","Ｓ．ヘイマー　編","エルゼビア・ジャパン",3]
["在宅医療が必要な子どものための図解ケアテキストQ&A","医療の本","Gk：こどもの健康","梶原厚子 編著","メディカ出版",10548]
["在宅医療実践マニュアル　第２版　地域ケア","医療の本","Gt8：在宅介護","在宅ケアを支える診療","医歯薬出版",836]
["在宅栄養管理・経口から胃廔・経静脈栄養まで","医療の本","Gt8：在宅介護","小野沢滋","南山堂",5499]
["在宅介護　家族がつくるケアプラン","医療の本","Gt8：在宅介護","和田　要　著","日中出版",838]
["在宅での看取りと緩和ケア","医療の本","Fe7：緩和ケア","佐藤智","中央法規出版",5480]
["在宅での看取りのケア　家族支援を中心に","医療の本","Gt8：在宅介護","宮崎　和加子　監修","日本看護協会出版会",835]
["在宅における床ずれ予防マニュアル","医療の本","Gt8：在宅介護","藤原泰子","真興交易医書出版",5652]
["斎藤孝のイッキによめる！名作品集　小学5年生","絵本","K：こどもの本","斎藤孝","講談社",20792]
["齋藤孝のイッキによめる！名作選　小学2年生","絵本","NULL","齋藤　孝","講談社",20530]
["細胞と組織の地図帳","医療の本","Fg：伝染・感染症","和気　健二郎","講談社",466]
["サイモントン療法　治癒に導くがんのイメージ療法","医療の本","Fe：がん","川端伸子","同文館出版",5517]
["さかな１ぴきなまのまま","絵本","NULL","さのようこ","フレーベル館",20229]
["坐骨神経痛","医療の本","Fb：骨/関節/筋肉","久野木順一","主婦の友社",8017]
["坐骨神経痛","医療の本","Fb：骨/関節/筋肉","久野木順一","主婦の友社",10486]
["坐骨神経痛　（よくわかる最新医学シリーズ）","医療の本","Fb：骨/関節/筋肉","久野木順一 著","主婦の友社",10577]
["笹倉鉄平画集","一般図書","H：代替療法","笹倉鉄平","ガリレア・プロバ",5640]
["ザスーラ","絵本","NULL","オールズバーグ","ほるぷ出版",20219]
["授かる","医療の本","Gh：妊娠/出産","堤治","朝日出版社",5571]
["雑談力が上がる話し方","一般図書","C：心の健康","齋藤　孝","ダイヤモンド社",10001]
["佐藤可士和の超整理術","一般図書","C：心の健康","佐藤可士和","日本経済新聞出版社",5401]
["里見八犬伝","絵本","NULL","高木卓","ポプラ社",20397]
["サニー　アフガニスタンへ　心をこめて地雷ではなく花をください","絵本","NULL","柳瀬房子","自由国民社",20183]
["サニー　カンボジアへ　続・地雷ではなく花をください","絵本","NULL","柳瀬房子","自由国民社",20180]
["サニー　ボスニア・ヘルツェゴビナへ　続々・地雷ではなく花をください","絵本","NULL","柳瀬房子","自由国民社",20181]
["サニーのおねがい　地雷ではなく花をください","絵本","NULL","柳瀬房子","自由国民社",20179]
["サニーのゆめ　ありがとう地雷ではなく花をください","絵本","NULL","柳瀬房子","自由国民社",20182]
["サバンナ決死の横断","絵本","K：こどもの本","メアリー・ポープ・オズボーン","メディアファクトリー",20885]
["サボテンたちのゆきあそび","絵本","K：こどもの本","川端誠","BL出版",20860]
["さむくてもまけない　季節と動物","絵本","P：アニマル","中嶋博和","農文協",20879]
["さよならプータ","医療の本","Gk：こどもの健康","福山隆","テイクツー",5579]
["サラバ！上","一般図書","Fa1：一般","西加奈子","小学館",10643]
["サラバ！下","一般図書","Fa1：一般","西加奈子","小学館",10644]
["さらばゆきひめ","絵本","NULL","宮本忠夫","童心社",20237]
["さるかに・天からおちたげんごろう","絵本","K：こどもの本","松谷みよ子","講談社",20986]
["さるの嫁っこ","絵本","NULL","小沢昭巳","ハート出版",20244]
["三月ひなのつき","絵本","NULL","石井桃子","福音館書店",20590]
["残響","一般図書","C：心の健康","保坂和志","中央公論社",10439]
["酸素療法ガイドライン","医療の本","Fn：呼吸器","日本呼吸器学会肺生理","メディカルレビュー社",625]
["サンタクロースがすねちゃった","絵本","K：こどもの本","ウテ・クラウゼ","佑学社",20932]
["サンタクロースっているんでしょうか？","一般図書","C：心の健康","中村妙子　訳","偕成社",5678]
["サンタクロースのふくろのなか","絵本","NULL","安野光雅","童話屋",20628]
["サンタさん　すきですといえなくて・・・","絵本","NULL","ふくだすぐる","大和書房",20623]
["サンタさんからきたてがみ","絵本","NULL","たんのゆきこ","福音館書店",20487]
["痔　新版","医療の本","Fs：胃腸","平田　雅彦　著","主婦の友社",520]
["幸せになる魔法のことば","一般図書","C：心の健康","森　惟明","高知新聞総合印刷",10215]
["幸せになる魔法のことば","一般図書","C：心の健康","森惟明","高知新聞総合印刷",10316]
["しあわせの子犬たち","絵本","NULL","Ｍ・ラバット","文研出版",20587]
["しあわせのバトンタッチ　障がいを負った犬・未来、学校へ行く","絵本","K：こどもの本","今西乃子","岩崎書店",20801]
["シートンさんのどうぶつ記①","絵本","NULL","シートン","集英社",20224]
["ジェレミー・フィッシャーどんのおはなし","絵本","NULL","ビアトリクス・ポター","福音館書店",20566]
["鹿のまほう","絵本","NULL","岡田美里","星の環会",20142]
["子宮・卵巣がん手術後の１００日レシピ退院後の食事プラン","医療の本","Gg：女性の健康","岩崎啓子他","女子栄養大学出版部",5492]
["子宮がん・卵巣がん全書","医療の本","Gg：女性の健康","野澤　志朗　編著","法研",695]
["子宮がんと卵巣がん","医療の本","Gg：女性の健康","岡本　愛光　著","主婦の友社",709]
["子宮筋腫　（よくわかる最新医学シリーズ）","医療の本","Gg5：子宮筋腫","佐藤孝道 著","主婦の友社",10578]
["子宮筋腫　改訂新版","医療の本","Gg5：子宮筋腫","藤井　信吾　著","保健同人社",696]
["子宮筋腫はこわくない","医療の本","Gg5：子宮筋腫","中村　幸雄　著","悠飛社",729]
["子宮頸がん・子宮体がん・卵巣がん　治療ガイドラインの解説","医療の本","Gg：女性の健康","日本婦人科腫瘍学会","金原出版",8129]
["子宮体がん治療ガイドライン 2013年版","医療の本","Gg：女性の健康","日本婦人科腫瘍学会","金原出版",10172]
["子宮内膜症","医療の本","Gg：女性の健康","百枝幹雄","主婦の友社",10490]
["子宮内膜症　（よくわかる最新医学シリーズ）","医療の本","Gg：女性の健康","百枝幹雄 著","主婦の友社",10569]
["子宮内膜症（よくわかる最新医学シリーズ）","医療の本","Gg：女性の健康","百枝 幹雄","主婦の友社",10173]
["自己愛性パーソナリティ障害のこと","医療の本","C：心の健康","狩野　力八郎","講談社",103]
["仕事ができる人はなぜ筋トレをするのか","一般図書","C：心の健康","山本ケイイチ","幻冬舎",10238]
["仕事の中の曖昧な不安","一般図書","C：心の健康","玄田有史","中央公論社",5396]
["仕事をしたつもり","一般図書","C：心の健康","海老原嗣生","星海社",10245]
["脂質異常の最新治療 (よくわかる最新医学)","医療の本","Va：高脂血症","石川 俊次","主婦の友社",10186]
["死者はにっこりよみがえる","絵本","NULL","宇賀神　水青","集英社",20606]
["歯周病","医療の本","Fj：歯","新井　高","保健同人社",504]
["自信がもてる食事療法のコツ","医療の本","Vc：糖尿病","坂根　直樹","診断と治療社",958]
["地震の村で待っていた猫のチボとハル　山古志村で被災したペットたちの物語","絵本","NULL","池田まき子","ハート出版",20275]
["しずくちゃん③しずくパークへようこそ！","絵本","NULL","ぎぼりつこ","岩崎書店",20687]
["しずくちゃん④ぼくらのだいぼうけん。","絵本","NULL","ぎぼりつこ","岩崎書店",20688]
["しずくちゃん⑤がっこうはたのしいな♪","絵本","NULL","ぎぼりつこ","岩崎書店",20689]
["しずくちゃん⑥しずくの森の12か月。","絵本","NULL","ぎぼりつこ","岩崎書店",20690]
["しずくちゃん⑦わくわく★しゅうがくりょこう","絵本","NULL","ぎぼりつこ","岩崎書店",20691]
["しずくちゃん⑬がくえんさいにいらっしゃい！","絵本","NULL","ぎぼりつこ","岩崎書店",20692]
["しずくちゃん⑭ハイサイ！沖縄めぐり","絵本","NULL","ぎぼりつこ","岩崎書店",20693]
["しずくちゃん⑮デパート★レボリューション","絵本","NULL","ぎぼりつこ","岩崎書店",20694]
["しずくちゃん⑲クリスマスはおおいそがし！","絵本","NULL","ぎぼりつこ","岩崎書店",20695]
["しずくちゃん⑳ときどきハッピーバースデー","絵本","NULL","ぎぼりつこ","岩崎書店",20696]
["自然の中でかず・かたち遊び　かずの冒険　海編","絵本","NULL","香川元太郎","小学館",20249]
["疾患と今日の処方　第５版","医療の本","D：薬","福田　保　監修","医歯薬出版",999]
["疾患別服薬指導マニュアル　３　第２版","医療の本","D：薬","宮本　謙一　監修","じほう",193]
["失禁・便秘・カテーテル・人工肛門のホーム","医療の本","Gt8：在宅介護","林　泰史　監修","中央法規出版",839]
["失語症のすべてがわかる本 イラスト版","医療の本","C：心の健康","加藤　正弘;小嶋　知幸","講談社",105]
["実践　インフォームド・コンセント","医療の本","I：患者学","宮本　恒彦　編著","永井書店",871]
["実践　生理機能検査テキスト","医療の本","Ad：検査","宮武　邦夫　監修","メディカ出版",60]
["知ってほしい障害年金のはなし　もらえるはずなのに気づかずにいませんか？","医療の本","Jd：医療経済学","佐々木久美子","日本法令",10273]
["失敗しない医者えらび　納得して医療を受け","医療の本","Jb：病院/スタッフ","日経メディカル　編","日経BP社",851]
["疾風ロンド","一般図書","Fa1：一般","東野圭吾","実業之日本社",10620]
["実物大　あそべるおりがみ","絵本","NULL","藤本祐子","世界文化社",20083]
["児童書版　ホームレス中学生","絵本","K：こどもの本","田村裕","ワニブックス",20871]
["死と老いと生への道","医療の本","Gt：高齢者","日野原重明","中央法規出版",5603]
["死にカタログ","一般図書","C：心の健康","寄藤文平","大和書房",10066]
["死にゆく者の礼儀","一般図書","Gt：高齢者","遥洋子","筑摩書房",10038]
["シネマのなかの臨床心理学","医療の本","C：心の健康","山中康裕/橋本やよい/高月玲子　編","有斐閣",5326]
["痔の最新治療―可能な限り切らずに治す（よくわかる最新医学シリーズ）","医療の本","Fs：胃腸","平田 雅彦","主婦の友社",10168]
["司馬サンの大阪弁","一般図書","C：心の健康","日本エッセイストクラブ","文藝春秋",10206]
["耳鼻咽喉科疾患ビジュアルブック","医療の本","Fi：耳/鼻/喉","中尾一成, 落合慈之","学研メディカル秀潤社",10253]
["耳鼻咽喉科の病気","医療の本","Fi：耳/鼻/喉","飯田　順　著","日本医学館",492]
["自分と子どもを放射能から守るには（日本語版特別編集）","医療の本","Gk：こどもの健康","ウラジーミル・バベンコ 著","世界文化社",5384]
["自分のこころのトリセツ","一般図書","C：心の健康","下園壮太","日経BPマーケティング",10132]
["自分のことをしゃべりすぎる若者たち","一般図書","C：心の健康","杉浦由美子","講談社",10129]
["自分らしい「がん」とのつきあい方","医療の本","Fe：がん","富永博","ウィング出版",10474]
["自分を超える法","一般図書","C：心の健康","ピーター・セージ","ダイヤモンド社",10234]
["自閉症スペクトラムがよくわかる本","医療の本","Gk：こどもの健康","本田秀夫","講談社",10361]
["自閉症のすべてがわかる本 イラスト版","医療の本","Gk：こどもの健康","佐々木　正美","講談社",766]
["シャーロットのおくりもの","絵本","K：こどもの本","E.B.ホワイト","あすなろ書房",20797]
["社会不安障害のすべてがわかる本 イラスト版","医療の本","C：心の健康","貝谷　久宣","講談社",106]
["若年性がん患者情報マガジン　STAND UP! 2017.08","医療の本","Fe：がん","若年性がん患者団体STAND UP!!","NULL",10451]
["ジャッキー・チェンになりたいな","絵本","NULL","岡本　央","草土文化",20431]
["シャッター・チャンスでこ・ろ・さ・れ・る","絵本","NULL","宇賀神　水青","集英社",20607]
["しゃぼん玉","一般図書","Fa1：一般","乃南アサ","新潮社",10638]
["ジャムつきパンとフランシス","絵本","NULL","ホーバン","好学社",20223]
["銃・病原菌・鉄　上","一般図書","C：心の健康","ジャレンド・ダイヤモンド","草思社",10529]
["自由と規律","一般図書","C：心の健康","池田潔","岩波書店",5397]
["手術室・ＩＣＵで使う薬剤ノート　改訂４版","医療の本","D：薬","弓削　孟文　監修","メディカ出版",194]
["手術日までに患者が知りたい大腸癌","医療の本","Fs6：大腸がん","市原隆夫","金原出版",10256]
["十歳のきみへ―九十五歳のわたしから","医療の本","Gk：こどもの健康","日野原重明　著","冨山房インターナショナル",5383]
["出生前診断","医療の本","Gh：妊娠/出産","坂井律子","NHK出版",5572]
["出動！災害救助犬　トマト　新潟の人々とペットを救った名犬物語","絵本","NULL","池田まき子","ハート出版",20270]
["ジュニア版日本文学選３　野菊の墓","絵本","K：こどもの本","伊藤左千夫","偕成社",20799]
["春夏秋冬　プーさんといっしょ","絵本","K：こどもの本","エミリー・ステッド","大日本絵画",21023]
["循環器用薬の薬物相互作用","医療の本","D：薬","高田　充隆　編","医薬ジャーナル社",195]
["女医が教えるおしりの本―痔が心配?でも、もう大丈夫!","医療の本","Fs：胃腸","山口トキコ　著","TBSサービス",5369]
["障害と私たちの社会","医療の本","Gk：こどもの健康","茂木俊彦","大月書店",5580]
["障害をもつ子を産むということ","医療の本","Gh：妊娠/出産","野辺明子","中央法規出版",5561]
["障害をもつ子を産むということ","医療の本","Gh：妊娠/出産","野辺明子","中央法規出版",5562]
["消化器疾患ビジュアルブック","医療の本","Fs：胃腸","落合 慈之／監修","学研メディカル秀潤社",10255]
["小学生探偵　コタロウと謎の村","絵本","NULL","夢現舎","ほるぷ出版",20636]
["症状Q&Aガイドブック","医療の本","Ae：臨床看護","監修：岡田　忍","医学芸術社",8050]
["症状からみる病態生理の基本","医療の本","Aa：医学百科","斎藤宣彦","照林社",10271]
["小説版ドラえもん　のび太と鉄人兵団","絵本","NULL","瀬名秀明","小学館",20288]
["消毒剤の選び方と使用上の留意点　改訂２版","医療の本","D：薬","神谷　晃　著","じほう",196]
["小児・ヤング糖尿病－のびのびしっかりサポ","医療の本","Gk：こどもの健康","内潟　安子　著","シービーアール",789]
["小児がん経験者のための　ハンドブック","医療の本","Gk：こどもの健康","がんの子どもを守る会","がんの子どもを守る会",10243]
["小児がんとたたかうこと","医療の本","Gk：こどもの健康","石本浩市","医学書院",10048]
["小児がん病棟の子どもたち","医療の本","Gk：こどもの健康","田代順","青弓社",5323]
["小児がん病棟の子どもたち","医療の本","Gk：こどもの健康","田代順","青弓社",5586]
["小児救急のおとし穴","医療の本","Gk：こどもの健康","市川　光太郎　著","シービーアール",796]
["小児急性中耳炎診療ガイドライン ２００９年版","医療の本","Gk：こどもの健康",null,"金原出版",794]
["小児急性中耳炎診療ガイドライン 2013年版","医療の本","Gk：こどもの健康","日本耳科学会","金原出版",10182]
["小児初期救急診療ガイドブック","医療の本","Gk：こどもの健康","柳澤　正義","へるす出版",798]
["小児糖尿病・ヤング糖尿病","医療の本","Gk：こどもの健康","田嶼尚子","主婦の友社",8015]
["小児の在宅生活支援のための医療的ケア・マニュアル","医療の本","Gk：こどもの健康","永井利三郎","大阪府医師会",10099]
["小児白血病・リンパ腫　診療ガイドライン　2016年版","医療の本","Gk：こどもの健康","日本小児血液・がん学会","金原出版",10359]
["小児白血病・リンパ腫の診療ガイドライン　２００７年版","医療の本","Gk：こどもの健康",null,"金原出版",799]
["小児白血病・リンパ腫の診療ガイドライン 2011年版","医療の本","Gk：こどもの健康","日本小児血液学会　編集","ワニブックス",5342]
["小児病棟の子どもたち","医療の本","Gk：こどもの健康","向井承子","晶文社",5600]
["小児病棟の四季","医療の本","Gk：こどもの健康","細谷亮太","岩波書店",5590]
["上半身に筋肉をつけると「肩がこらない」「猫背にならない」","医療の本","Fb：骨/関節/筋肉","中野ジェームズ修一","厚徳社",10134]
["しょうぼうじどうしゃ　じぷた","絵本","K：こどもの本","渡辺茂男","福音館書店",21001]
["小美代姐さん花乱万丈","一般図書","C：心の健康","群ようこ","集英社",10441]
["女王様のむらさきの魔法","絵本","NULL","あんびるやすこ","ポプラ社",20743]
["女王フェテピのなぞ","絵本","K：こどもの本","メアリー・ポープ・オズボーン","メディアファクトリー",20884]
["食道がん","医療の本","Fs：胃腸","細川正夫","講談社",10075]
["食道がん 術前・術後の100日レシピ　―回復までの食事プラン","医療の本","Fs：胃腸","外村 修一/小菅 陽子/松原 弘樹著","女子栄養大学出版部",5370]
["食道癌診断・治療ガイドライン ２００７年４月版","医療の本","Fs：胃腸","日本食道学会","金原出版",1009]
["食道癌診断・治療ガイドライン　２０１２年４月版","医療の本","Fs：胃腸","日本食道学会","金原出版",5485]
["食道癌診療ガイドライン2017","医療の本","Fs：胃腸","特定非営利活動法人　日本食堂学会","金原出版",10475]
["食道がんのすべてがわかる本　（健康ライブラリーイラスト版）","医療の本","Fs：胃腸","細川正夫","講談社",10254]
["職場不適応症","医療の本","C：心の健康","渡辺　登","講談社",8118]
["食物アレルギー診療ガイドライン　２０１２","医療の本","Gk：こどもの健康","日本小児ｱﾚﾙｷﾞｰ学会","協和企画",10020]
["食物アレルギーハンドブック","医療の本","Gk：こどもの健康","向山　徳子　他監修","協和企画",814]
["女性のADHD","医療の本","Gg：女性の健康","宮尾益知　監修","講談社",10582]
["女性のアスペルガー症候群","医療の本","Gg：女性の健康","宮尾益知　監修","講談社",10583]
["女性のうつ病 (よくわかる最新医学シリーズ）","医療の本","C：心の健康","野田 順子","主婦の友社",10147]
["女性のうつ病　（よくわかる最新医学シリーズ）","医療の本","Gg：女性の健康","野田順子　著","主婦の友社",10565]
["女性のがん　心のケア　（改訂版）","医療の本","Gg：女性の健康","大西　秀樹","土屋書店",8127]
["女性の尿トラブル　気になる症状を改善する　（別冊NHKきょうの健康）","医療の本","Gg：女性の健康","加藤久美子","NHK出版",8106]
["女性泌尿器科外来へ行こう－尿もれ、性器脱","医療の本","Gg：女性の健康","竹山　政美　他著","法研",698]
["女性泌尿器科へ行こう!―骨盤臓器脱・尿もれ・間質性膀胱炎の治療と手術を受ける人へ","医療の本","Gg：女性の健康","竹山 政美 著","メディカ出版",5374]
["ショットバー","一般図書","C：心の健康","麻生幾","幻冬舎",10466]
["シリーズ『自然と遊ぼう』動物編⑤さあへんしんだ　成長と変態","絵本","K：こどもの本","中嶋博和","農文協",20785]
["自律神経失調症の悩みをぐんぐん解消する基本ワザ","医療の本","C：心の健康","久保木富房","日東書院",10063]
["シルバー川柳　誕生日　ローソク吹いて　たちくらみ","一般図書","C：心の健康","全国有料老人ホーム協会","ポプラ社",10102]
["事例にみるうつ病の理解とケア","医療の本","C：心の健康","白石　弘巳　編著","精神看護出版",139]
["しろくまくん、ふねにのる。","絵本","K：こどもの本","ハンス・ド・ビア","童話屋",20832]
["しろくまパパのソフトクリーム","絵本","K：こどもの本","とおやましげとし","金の星社",20856]
["白夜行","一般図書","Fa1：一般","東野圭吾","集英社",10627]
["新「お子さんの耳がきこえない」と言われたら・・・","医療の本","Fi：耳/鼻/喉","全国早期支援研究協議会","全国早期支援研究協議会",5428]
["新・予防接種へ行く前に ","医療の本","Gk：こどもの健康","ﾜｸﾁﾝﾄｰｸ全国「新予防接種へ行く前に」編集委員会 編集","ジャパンマシニスト社",5343]
["新13歳のハローワーク","絵本","K：こどもの本","村上龍","幻冬舎",20979]
["新外食料理のしおり","医療の本","Vc：糖尿病","大阪糖尿病協会顧問栄養士会","赤坂印刷",5315]
["新型コロナウイルス　脅威を制する正しい知識","医療の本","Fg：伝染・感染症","水谷哲也","NULL",10651]
["新型コロナウイルス緊急対策マニュアル","医療の本","Fg：伝染・感染症","齋藤勝裕","秀和システム",10653]
["新型コロナウイルスの真実","医療の本","Fg：伝染・感染症","岩田健太郎","ベストセラーズ",10654]
["腎癌診療ガイドライン ２００７年版","医療の本","Fr：腎臓","日本泌尿器科学会","金原出版",679]
["腎癌診療ガイドライン　2011年版","医療の本","Fr：腎臓","日本泌尿器科学会 編集","金原出版",5338]
["新幹線お掃除の天使たち","一般図書","C：心の健康","遠藤功","あさ出版",10192]
["神経救急・集中治療ガイドライン","医療の本","Fm：脳・神経系","有賀　徹　他監訳","メディカル・サイエンス・インターナショナル",601]
["人工肛門・人口膀胱の知識","医療の本","Fs：胃腸","高屋通子・高橋のり子","学研",5524]
["人工呼吸ケア「なぜ・何」大百科","医療の本","Fn5：人工呼吸","道又　元裕　編著","照林社",629]
["心身医療と歯科医療－歯・口腔・顎と心と健","医療の本","Fj：歯","都　温彦　編著","新興医学出版社",512]
["人生の実力","一般図書","C：心の健康","柏木哲夫","幻冬舎",10004]
["人生ピロピロ","一般図書","C：心の健康","さとなお","角川書店",10414]
["腎臓の病気 改訂新版","医療の本","Fr：腎臓","富野　康日己","保健同人社",1016]
["腎臓の病気を防ぐ、治す イラスト版","医療の本","Fr：腎臓","酒井　紀","講談社",671]
["新装版　やさしい喘息の自己管理","医療の本","Fn8：ぜんそく","久保　裕","医薬ジャーナル社",639]
["心臓病 検査と治療の最新情報を網羅　心臓病を悪化させないためには 新版","医療の本","Fd：心臓・血管系","中村　治雄;主婦の友社","主婦の友社",311]
["腎臓病 診察・検査と最新治療法　食事療法と日常生活のポイント","医療の本","Fr：腎臓","高市　憲明;主婦の友社","主婦の友社",672]
["腎臓病食品交換表","医療の本","Fr：腎臓","黒川清","医歯薬出版",5320]
["心臓病児をささえる　社会保障制度","医療の本","Gk：こどもの健康","全国心臓病の子どもを守る会","全国心臓病の子どもを守る会",10259]
["腎臓病たんぱく質３０ｇの献立集","医療の本","Fr：腎臓","宮本　佳代子;佐藤　敏子;高橋　まり;田部井　薫;今井　久美子","女子栄養大学出版部",680]
["心臓病の最新治療（よくわかる最新医学シリーズ）","医療の本","Fd：心臓・血管系","小橋 隆一郎","主婦の友社",10156]
["腎臓病の最新治療（よくわかる最新医学シリーズ）","医療の本","Fr：腎臓","高市 憲明","主婦の友社",10167]
["腎臓病の食事療法　第３版","医療の本","Fr：腎臓","医歯薬出版　編","医歯薬出版",242]
["腎臓病の食品早わかり　FOOD＆COOKING　DATA","医療の本","Fr：腎臓","牧野直子, 女子栄養大学出版部","女子栄養大学出版部",10290]
["腎臓病のための低たんぱくレシピ","医療の本","Fr：腎臓","出浦照國、樋口久美子著","日本放送出版協会",8078]
["腎臓病の人の食事","医療の本","Fr：腎臓","北本　清","女子栄養大学出版部",647]
["腎臓病の人の低たんぱく献立カレンダー","医療の本","Fr：腎臓","香川芳子","女子栄養大学出版部",5319]
["心臓病の予防・治療と生活のしかた","医療の本","Fd：心臓・血管系","伊東　春樹","主婦と生活社",335]
["心臓ペースメーカー・植込み型除細動　改訂","医療の本","Fd：心臓・血管系","田中　茂夫　編","医薬ジャーナル社",332]
["人体スペシャル　脳の地図帳","医療の本","Ab：専門医学事典","原　一之　著","講談社",17]
["人体の構造と機能－解剖生理学　第２版","医療の本","Ac：図解人体",null,"メディカ出版",45]
["人体の勝利","医療の本","Ac：図解人体","レナルト・ニルソン","小学館",5549]
["シンデレラ・ながぐつをはいたねこ","絵本","K：こどもの本","山下明生","講談社",20991]
["新電車大集合1616点","絵本","NULL","広田尚敦","講談社",20585]
["新床ずれケアナビ","医療の本","Gt5：高齢期ケア","日本在宅褥瘡創傷ケア推進協会","中央法規出版",5651]
["新日本少年少女文学　発掘屋おフミさん","絵本","NULL","あかねるつ","新日本出版社",20285]
["心配しないでいいですよ　再発・転移　悪性リンパ腫","医療の本","Fc：血液/リンパ","著/畠　清彦","真興交易医書出版",8067]
["心配しないでいいですよ　再発・転移　胃がん","医療の本","Fs5：胃がん","山口俊晴編著","真興交易医書出版",8068]
["心配しないでいいですよ　再発・転移　子宮がん","医療の本","Gg：女性の健康","著/瀧澤　憲","真興交易医書出版",8073]
["心配しないでいいですよ　再発・転移　前立腺がん","医療の本","Fp：泌尿器","監修/福井　巌、編著/米瀬淳ニ","真興交易医書出版",8069]
["心配しないでいいですよ　再発・転移　大腸がん","医療の本","Fs6：大腸がん","編集/武藤徹一郎、畠　清彦","真興交易医書出版",8076]
["心配しないでいいですよ　再発・転移　多発性骨髄腫","医療の本","Fc：血液/リンパ","編集/畠　清彦、著/照井康仁","真興交易医書出版",8071]
["心配しないでいいですよ　再発・転移　乳がん　改訂第2版","医療の本","Gg6：乳がん","編集/畠　清彦、著/伊藤良則","真興交易医書出版",8072]
["心配しないでいいですよ　再発・転移　白血病","医療の本","Fc：血液/リンパ","編集/畠　清彦、著/照井康仁","真興交易医書出版",8075]
["心配しないでいいですよ　再発・転移　卵巣がん","医療の本","Gg：女性の健康","著/瀧澤　憲","真興交易医書出版",8074]
["心配しないでいいですよ　再発・転移・大腸がん（新訂版）","医療の本","Fs6：大腸がん","山口俊晴・水沼信之","真興交易医書出版",10354]
["心配しないでいいですよ　放射線治療　改訂2版","医療の本","Fe：がん","がん研有明病院　放射線治療部","真興交易医書出版",10341]
["新版　下肢静脈瘤　（よくわかる最新医学シリーズ）","医療の本","Fc：血液/リンパ","保坂純郎　著","主婦の友社",10572]
["新版　坐骨神経痛がわかる本　中高年を悩ます「腰","医療の本","Fb5：腰痛","戸山　芳昭　著","法研",1002]
["新版　痔の最新治療　（よくわかる最新医学シリーズ）","医療の本","Fs：胃腸","平田雅彦　著","主婦の友社",10570]
["新版 心臓病児者の幸せのために","医療の本","Gk：こどもの健康","全国心臓病の子どもを守る会","全国心臓病の子どもを守る会",10258]
["新版　白内障・緑内障・糖尿病網膜症","医療の本","Fh：目","杉田美由紀監修","主婦の友社",8091]
["新版　ひきつけ・けいれんは小児てんかんを疑え","医療の本","Gk：こどもの健康","金澤　治　著","講談社",5380]
["新版 万病を治す冷えとり健康法","医療の本","Gg：女性の健康","進藤 義晴 著","農山漁村文化協会",5371]
["新版伊丹の樹木","一般図書","H：代替療法","伊丹市立総合教育センター","伊丹市立総合教育センター",5671]
["新版膠原病（よくわかる最新医学シリーズ）","医療の本","Ff6：膠原病","三森 明夫","主婦の友社",10157]
["新版腎不全がわかる本","医療の本","Fr：腎臓","井浦照國","日本評論社",5317]
["じんましん最前線","医療の本","Fo：皮膚/髪/爪","秀　道広　編集","メディカルレビュー社",435]
["膵癌診療ガイドライン2016年版","医療の本","Ft：肝臓/胆のう/膵臓","日本膵臓学会","金原出版",10455]
["膵臓・胆のう・胆管の病気 最新の検査法と治療法　日常生活のケア","医療の本","Ft：肝臓/胆のう/膵臓","白鳥　敬子;主婦の友社","主婦の友社",526]
["膵臓・胆のう・胆管の病気の最新治療","医療の本","Ft：肝臓/胆のう/膵臓","白鳥敬子","主婦の友社",10077]
["すい臓がんから奇跡の生還　術後7年の記録","医療の本","Ft：肝臓/胆のう/膵臓",null,"中央公論社",10499]
["膵臓の病気","医療の本","Ft：肝臓/胆のう/膵臓","小泉　勝","保健同人社",527]
["水頭症・二分脊椎　必携","医療の本","Gk：こどもの健康","山内康雄・長嶋達也","日本二分脊椎･水頭症研究振興団体",10328]
["水頭症・二分脊椎　必携","医療の本","Gk：こどもの健康","山内康雄・長嶋達也","日本二分脊椎･水頭症研究振興団体",10329]
["水頭症・二分脊椎ハンドブック","医療の本","Gk：こどもの健康","松本悟","日本二分脊椎･水頭症研究振興団体",10088]
["睡眠の教科書","医療の本","Fm5：睡眠障害","ロバート・ローゼンバーグ","シャスタインターナショナル",10493]
["水曜日の朝、午前三時","一般図書","C：心の健康","蓮見圭一","新潮社",10438]
["スヴェン","医療の本","Fm：脳・神経系","ナディア・カーン","メディカルレビュー社",10091]
["スーパー図解　くび・肩・背中の痛み　不快な症状を消し去る生活処方と最新治療","医療の本","Fb：骨/関節/筋肉","星川吉光監修","法研",8080]
["スーホの白い馬に会ったよ","絵本","NULL","かまだしゅんぞう","ハート出版",20438]
["図解 甲状腺の病気がよくわかる最新治療と正しい知識 ","医療の本","Fl：内分泌","伊藤公一/高見博　監修","日東書院",5366]
["図解　白血病・悪性リンパ腫がわかる本","医療の本","Fc：血液/リンパ","永井　正","法研",8096]
["図解・症状からみる老いと病気とからだ","医療の本","Gt：高齢者","高橋龍太郎","中央法規出版",8046]
["図解雑学　安保徹の病気にならない免疫のしくみ","医療の本","Ff：免疫","安保　徹","ナツメ社",8097]
["図解でわかる心臓病―世界一の心臓病最新治療が手に取るようによくわかる","医療の本","Fd：心臓・血管系","中村 正人 監修","主婦の友社",5359]
["図解内科学セミナー　呼吸器","医療の本","Fn：呼吸器","永井　厚志　監修","中外医学社",626]
["図解肺がんの最新治療と予防&生活対策","医療の本","Fn7：肺ガン","坪井正博","日東書院",10498]
["図解わかりやすい　新・介護保険ガイド","医療の本","Gt8：在宅介護","佐藤　ちよみ　校閲","保健同人社",840]
["すきってなあに","絵本","NULL","矢崎節夫","至光社",20463]
["好きになる精神医学","医療の本","C：心の健康","越野　好文　著・絵","講談社",137]
["図説シリーズ　心臓ペースメーカー・植え込み型除細動器　改訂版","医療の本","Fd：心臓・血管系","田中茂夫（編）","医薬ジャーナル社",8112]
["頭痛外来へようこそ","医療の本","Fm：脳・神経系","清水俊彦","保健同人社",8079]
["ステージ","一般図書","C：心の健康","演劇ストーリー入選作品集","大阪市人権啓発推進協議会",10309]
["ステップアップ離乳食","医療の本","Gk：こどもの健康","小池澄子","学研",10023]
["ストーマとともに","医療の本","Fs：胃腸","中里博昭　その他","金原出版",5489]
["ストーリー・セラー","一般図書","Fa1：一般","有川浩","幻冬舎",10623]
["ストレスゼロの仕事術","一般図書","C：心の健康","木村英一","阪急コミュニケーションズ",5399]
["ストレス対策で病気を防ぐ、治す本","医療の本","C：心の健康","村上正人","主婦と生活社",10005]
["ストレスマネジメント入門","一般図書","C：心の健康","島　悟・佐藤　恵美","日本経済新聞出版社",10509]
["すなはまいそのいきものずかん","絵本","NULL","荒木勝彦","学習研究社",20495]
["すべてわかる！！前立腺がん・肥大症","医療の本","Fp：泌尿器","本間　之夫　著","毎日新聞社",659]
["スポーツと皮膚　アスリートの皮膚トラブル","医療の本","Fo：皮膚/髪/爪","上田　由紀子　著","文光堂",436]
["住友銀行秘史","一般図書","C：心の健康","國重　惇史","講談社",10524]
["ずるいねこのおはなし","絵本","NULL","ビアトリクス・ポター","福音館書店",20569]
["スローレNo.4","一般図書","C：心の健康","宮下奈都","光文社",10384]
["性格リフォームカウンセラー心屋仁之助の「ありのままの自分」に○をつけよう","一般図書","C：心の健康","心屋仁之助","三笠書房",10511]
["生活習慣病とその治療薬","医療の本","D：薬","橘　敏也","じほう",200]
["生活習慣病の予防・治療に役立つ心身医学","医療の本","V：メタボリックシンドローム","久保　千春","ライフサイエンス出版",932]
["整形外科の疾患＆治療","医療の本","Fb：骨/関節/筋肉","津村弘 監修","メディカ出版",10552]
["青春とは","一般図書","C：心の健康","サムエル・ウルマン","講談社",10226]
["生存者ゼロ","一般図書","C：心の健康","安生　正","宝島社",10521]
["成長障害のマネジメント　改訂版","医療の本","Gk：こどもの健康","藤枝　憲二　編","医薬ジャーナル社",801]
["生と死のケア","医療の本","Gt：高齢者","日野原重明","医学書院",5605]
["生命進化のなぞを解く　ゲノム王と二人の家臣","絵本","NULL","鳥居信夫","誠文堂新光社",20380]
["生命を継ぐ物語　皇帝ペンギン","一般図書","Z：DVD",null,"ギャガ・コミュニケーションズ",5546]
["聖夜のおくりもの","絵本","NULL","ロマンス","岩波書店",20218]
["生理(月経)のトラブルがつらいときの本 (みんなの女性外来)","医療の本","Gg：女性の健康","対馬ルリ子","小学館",8124]
["世界一やさしいベビーサインの教え方","医療の本","Gh：妊娠/出産","直江千恵子","ブックマン社",5565]
["世界一わかりやすい放射能の本当の話　子どもを守る編 ","医療の本","Gk：こどもの健康","伊藤 隼也　監修","宝島社",5385]
["世界地図帳","一般図書","H：代替療法","青柳栄次","旺文社",10044]
["世界と日本のまちがい","一般図書","C：心の健康","松岡正剛","春秋社",10200]
["世界の偉人伝　２発明・発見・開発に活躍した人たち","一般図書","K：こどもの本","富士山　みえる","汐文社",20845]
["せかいのどうぶつずかん","絵本","NULL","荒木勝彦","学研",20532]
["世界の花と木2850","一般図書","H：代替療法","塚本洋太郎","主婦の友社",5638]
["世界の亡霊スリラー","絵本","NULL","庄司浅水","秋田書店",20311]
["世界の名探偵①オーギュスト・デュパン","絵本","NULL","ｴﾄﾞｶﾞｰ･ｱﾗﾝ･ﾎﾟｰ","岩崎書店",20314]
["世界の名探偵②シャーロック・ホームズ","絵本","NULL","ドイル","岩崎書店",20315]
["世界の名探偵③アルセーヌ・ルパン","絵本","NULL","ルブラン","岩崎書店",20316]
["世界の名探偵④エルキュール・ポワロ","絵本","NULL","クリスティー","岩崎書店",20317]
["世界の名探偵⑤エラリー・クイーン","絵本","NULL","クイーン","岩崎書店",20318]
["世界の名探偵⑥ミス・マープル","絵本","NULL","クリスティー","岩崎書店",20319]
["脊髄損傷者の社会参加マニュアル","医療の本","Fb：骨/関節/筋肉","住田幹男","日本せきずい基金",10097]
["脊髄損傷初めの1年","医療の本","Fb：骨/関節/筋肉","米国脊髄医学ｺﾝｿｰｼｱﾑ","日本せきずい基金",10096]
["脊損慢性期マネジメントガイド","医療の本","Fb：骨/関節/筋肉","住田幹男","日本せきずい基金",10095]
["セシリ・パセリのわらべうた","絵本","NULL","ビアトリクス・ポター","福音館書店",20332]
["せっけん　つるりん","絵本","NULL","今井弓子","岩崎書店",20101]
["摂食障害から回復するための8つの秘訣","医療の本","C：心の健康","キャロリン・コスティン","星和書店",10458]
["ぜったいいぬをかうからね","絵本","K：こどもの本","ローレン・チャイルド","フレーベル館",21015]
["セラピードッグ(動物介在療法)の世界","医療の本","Pd：アニマルテラピー","大木トオル　著","日本経済新聞出版社",5390]
["全科で知っておきたい　心のケアＱ＆Ａ","医療の本","C：心の健康",null,"中山書店",149]
["先生！大変です！救急車を呼びますか!!","医療の本","L：麻酔/手術/救急","玉川進","東山書房",5656]
["先生！大変です！どうしたらいいですか!!　ー応急処置の実際－","医療の本","L：麻酔/手術/救急","玉川進","東山書房",5655]
["先生と保護者のための子どもアレルギー百科","医療の本","Gk：こどもの健康","向山　徳子　著","少年写真新聞社",803]
["喘息予防・管理ガイドライン 2012","医療の本","Fn8：ぜんそく","日本アレルギー学会","協和企画",10165]
["喘息予防・管理ガイドライン2015","医療の本","Fn8：ぜんそく","日本アレルギー学会","協和企画",10350]
["先端技術が応える！中高年の目の悩み","医療の本","Fh：目","横井 則彦　著","集英社",5363]
["センナじいとくま","絵本","NULL","松谷みよ子","童心社",20194]
["全部見える整形外科疾患　スーパービジュアル","医療の本","Fb：骨/関節/筋肉","高井信朗","成美堂出版",10267]
["全部見える脳・神経疾患　スーパービジュアル","医療の本","Fm：脳・神経系","服部光男","成美堂出版",10283]
["ぜんぶわかる人体解剖図―系統別・部位別にわかりやすくビジュアル解説","医療の本","Ac：図解人体","坂井 建雄/橋本 尚詞","成美堂出版",5346]
["せん妄　すぐに見つけて！すぐに対応！","医療の本","Fm：脳・神経系","一瀬　邦弘　他監","照林社",593]
["専門医が語る　大腸がんがわかる本","医療の本","Fs6：大腸がん","赤須　孝之　著","法研",552]
["専門医が治す！糖尿病","医療の本","Vc：糖尿病","東京女子医科大学糖尿病センター/編","高橋書店",8087]
["専門外の医師のための小児のてんかん入門","医療の本","Gk：こどもの健康","白石秀明","中外医学社",10263]
["前立腺がん　（よくわかる最新医学シリーズ）","医療の本","Fp：泌尿器","赤倉功一郎　著","主婦の友社",10580]
["前立腺癌　診療ガイドライン","医療の本","Fp：泌尿器","日本泌尿器学会","金原出版",10014]
["前立腺がん検診ガイドライン 2010年増補版","医療の本","Fp：泌尿器","日本泌尿器科学会 編集","ワニブックス",5337]
["前立腺癌診療ガイドライン ２００６年版","医療の本","Fp：泌尿器","日本泌尿器科学会","金原出版",397]
["前立腺がんの最新治療（よくわかる最新医学シリーズ）","医療の本","Fp：泌尿器","澤村 良勝","主婦の友社",10166]
["前立腺がんを生きる","医療の本","Fp：泌尿器",null,"海鳴社",10497]
["前立腺の病気 改訂新版","医療の本","Fp：泌尿器","杉村　芳樹","保健同人社",652]
["前立腺の病気がわかる本　前立腺肥大症・前","医療の本","Fp：泌尿器","窪田　吉信　編著","法研",653]
["前立腺肥大症・前立腺がん 新版","医療の本","Fp：泌尿器","沢村　良勝;主婦の友社","主婦の友社",654]
["ぞうさんのふとん","絵本","NULL","鬼頭　隆","チャイルド本社",20354]
["想像力を高める　たのしい手づくりおもちゃ","絵本","NULL","小関武明","小学館",20298]
["象の背中","医療の本","Fe：がん","秋元康","扶桑社",5539]
["ぞうのババール","絵本","K：こどもの本","ジャン・ド・ブリュノフ","評論社",20855]
["創立20周年+2記念誌","医療の本","Fn5：人工呼吸","人口呼吸器をつけた子の親の会","人口呼吸器をつけた子の親の会",10054]
["続・体脂肪計タニタの社員食堂","医療の本","V：メタボリックシンドローム","タニタ　著","大和書房",5393]
["続・まんがで見る手術と処置ーカラー版（続）","医療の本","L：麻酔/手術/救急","高橋俊雄","照林社",5659]
["続こどもは未来である","医療の本","Gk：こどもの健康","小林登","メディサイエンス",5583]
["そっと　そっと　しずかにね","絵本","NULL","イアン・ホワイブロウ","評論社",20402]
["そとねこものがたり","絵本","NULL","しまだけんじ","ハート出版",20408]
["その女アレックス","一般図書","C：心の健康","ピエール・ルメートル","文藝春秋",10468]
["その後ツレがうつになりまして","医療の本","C：心の健康","細川貂々","幻冬舎",10447]
["そばがらじさまとまめじさま","絵本","NULL","小林輝子","福音館書店",20446]
["空にかかるはしご　天使になった子どもと生きるｸﾞﾘｰﾌｻﾎﾟｰﾄﾌﾞｯｸ","医療の本","Gk：こどもの健康","「空にかかるはしご」編集委員会","NULL",10402]
["空への手紙","一般図書","C：心の健康","佐藤律子","ポプラ社",5555]
["そらまめくんとめだかのこ","絵本","NULL","なかやみわ","福音館書店",20525]
["だ・い・す・き！　たぬきのホーショージくん","絵本","NULL","菊池ただし","金の星社",20167]
["退院後のがん患者と家族の支援ガイド","医療の本","Fe5：がん介護","日本ホスピス・在宅ケ","プリメド社",400]
["大往生の条件","医療の本","C：心の健康","色平　哲郎","角川書店",151]
["胎児期水頭症","医療の本","Gk：こどもの健康","山崎麻美","金芳堂",10145]
["体脂肪計タニタの社員食堂 ~500kcalのまんぷく定食","医療の本","V：メタボリックシンドローム","タニタ　著","大和書房",5392]
["だいじょうぶ　だいじょうぶ","絵本","NULL","いとうひろし","講談社",20383]
["だいじょうぶだよ、モリス「こわい」と「いやだ」がなくなる本","医療の本","Gk：こどもの健康","カール・ヨハン＝エリーン","飛鳥新社",10610]
["大丈夫やで","医療の本","Gh：妊娠/出産","坂本フジヱ","産業編集センター",10080]
["大丈夫やで2","医療の本","Gh：妊娠/出産","坂本フジヱ","産業編集センター",10081]
["帯状疱疹・単純ヘルペスがわかる本","医療の本","Fo：皮膚/髪/爪","本田　まりこ　著","法研",643]
["大切な人をがんから守るため今できること命の食事","医療の本","Fe：がん","南雲吉則","主婦の友社",10343]
["大草原の小さな家","絵本","NULL","ローラ・インガルス・ワイルダー","福音館書店",20377]
["タイタニックの犬ラブ","絵本","NULL","関　朝之","ハート出版",20632]
["大腸がん","医療の本","Fs6：大腸がん","小平進","医療ジャーナル社",5631]
["大腸がん　（よくわかる最新医学シリーズ）","医療の本","Fs6：大腸がん","福長洋介　著","主婦の友社",10576]
["大腸がん　内視鏡検査がよくわかる本","医療の本","Fs6：大腸がん","松生　恒夫　著","リヨン社",555]
["大腸がん・潰瘍性大腸炎・過敏性腸症候群 急増する大腸の病気の原因・検査・診断","医療の本","Fs6：大腸がん","佐原　力三郎;主婦の友社","主婦の友社",354]
["大腸がん手術後の１００日レシピ 退院後の食事プラン","医療の本","Fs6：大腸がん","森谷宜皓他","女子栄養大学出版部",5491]
["大腸がん手術後の生活読本","医療の本","Fs6：大腸がん","高橋慶一","主婦と生活社",5528]
["大腸癌診療ガイドライン医師用2016","医療の本","Fs6：大腸がん","大腸癌研究会","金原出版",10476]
["大腸癌治療ガイドライン 医師用　〈2010年版〉","医療の本","Fs6：大腸がん","大腸癌研究会　編集","ワニブックス",5339]
["大腸癌治療ガイドライン 医師用 ２００９年版","医療の本","Fs6：大腸がん","大腸癌研究会","金原出版",1008]
["大腸癌治療ガイドライン 医師用 2014年版","医療の本","Fs6：大腸がん","大腸癌研究会　編","金原出版",10170]
["大腸がんの最新治療","医療の本","Fs6：大腸がん","福長洋介","主婦の友社",5527]
["大腸の病気","医療の本","Fs：胃腸","高野　正博","保健同人社",523]
["たいようのオルガン","絵本","K：こどもの本","荒井良二","偕成社",20839]
["太陽の子","一般図書","C：心の健康","灰谷健次郎","角川書店",10435]
["ダウン症のすべてがわかる本 イラスト版","医療の本","Gk：こどもの健康","池田　由紀江","講談社",762]
["宝　島","絵本","NULL","坂井晴彦","福音館書店",20781]
["だから優しく、と空が言う","一般図書","C：心の健康","中島未月","PHP研究所",10374]
["たこぼとみのむし","絵本","NULL","きのひなた","星の環会",20120]
["正しいステロイド剤の使い方　１　内用剤編　改訂版","医療の本","D：薬","宮坂　信之　編","医薬ジャーナル社",1000]
["正しいステロイド剤の使い方　２　外用剤編","医療の本","D：薬","塩原 哲夫　編","医薬ジャーナル社",199]
["正しいステロイド剤の使い方　３　吸入薬編","医療の本","Fn：呼吸器","足立　満　編","医薬ジャーナル社",627]
["タッジーマッジーと三人の魔女","絵本","NULL","あんびるやすこ","ポプラ社",20741]
["たった１文からトコトン学べる私の英語ノートを紹介します。","一般図書","C：心の健康","石原　真弓","株域会社　アスコム",10510]
["たっちゃん　しりませんか","絵本","NULL","さかぐちえみこ","小峰書店",20017]
["たっちゃんはぼくがきらいなの","絵本","NULL","さとうとしなお","岩崎書店",20081]
["たっぷどこへいく","絵本","NULL","ベングトソン","福音館書店",20131]
["たとへば君","一般図書","Gg6：乳がん","河野裕子・永田和宏","文藝春秋",10127]
["他人をほめる人、けなす人","一般図書","C：心の健康","フランチェスコ・アルベローニ","草思社",10198]
["たぬきのきょうだいオーポンとチーポン","絵本","K：こどもの本","にしかわおさむ","ベネッセコーポレーション",20890]
["種まく子供たち","医療の本","Gk：こどもの健康","佐藤律子","ポプラ社",5541]
["種まく子供たち","医療の本","Gk：こどもの健康","佐藤律子","ポプラ社",5588]
["種まく子供たち","医療の本","Gk：こどもの健康","佐藤律子","ポプラ社",5589]
["楽しいおりがみ教室","絵本","NULL","八田久弥","小学館",20187]
["楽しく遊ぶ学ぶ　きせつの図鑑","絵本","NULL","小学館","小学館",20701]
["楽しく遊ぶ学ぶ　こくごの図鑑","絵本","NULL","小学館","小学館",20703]
["楽しく遊ぶ学ぶ　ふしぎの図鑑","絵本","NULL","小学館","小学館",20702]
["多発性骨髄腫の診療指針　第２版","医療の本","Fc：血液/リンパ","日本骨髄腫研究会　編","文光堂",1007]
["旅するベッド","絵本","NULL","ジョン・バーニンガム","ほるぷ出版",20372]
["旅に出たくなる地図　世界編","一般図書","H：代替療法","帝国書院","帝国書院",10210]
["旅に出たくなる地図　日本編","一般図書","H：代替療法","帝国書院","帝国書院",10211]
["旅人の甘い蜜","絵本","NULL","山田法胤","コミニケ出版",20549]
["食べて健康！タニタ式カラダのひみつ","医療の本","V：メタボリックシンドローム","池田義雄","三笠書房",5663]
["食べて治す高血圧 イラスト版","医療の本","Vb：高血圧","家森　幸男","講談社",247]
["たべもの２","絵本","NULL","たしろたく","偕成社",20002]
["多摩川にすてられたミーコ","絵本","NULL","なりゆきわかこ","角川書店",20750]
["たまひよ赤ちゃんのしあわせ名前事典〈2014‐2015年版〉","一般図書","Gk：こどもの健康","栗原 里央子","ベネッセコーポレーション",10183]
["だれでもわかる感染症","医療の本","Fg：伝染・感染症","清水喜八郎","へるす出版",10072]
["誰にも言えないアソコらへんの話。 肛門科・泌尿器科・婦人科の知りたかった正しい情報教えます。","医療の本","Gg：女性の健康","たかぎりょうこ　著","マガジンハウス",5373]
["誰も語りたがらないウンチとオシッコの話","医療の本","Gt5：高齢期ケア","勝屋なつみ","シービーアール",5649]
["誕生死","医療の本","Gh：妊娠/出産","流産・死産・新生児死","三省堂",752]
["誕生日のアップルパイ","一般図書","C：心の健康","日本エッセイストクラブ","文藝春秋",10207]
["胆石・胆のう炎・膵炎の人の食事","医療の本","Ft：肝臓/胆のう/膵臓","田中　照二　病態","女子栄養大学出版部",524]
["探偵ガリレオ","一般図書","C：心の健康","東野圭吾","文藝春秋",10416]
["ダンボールくん","絵本","NULL","リュイエ","小峰書店",20116]
["ダンボールごう空へ","絵本","NULL","小森良子","新日本出版社",20165]
["ちいさい・おおきい・よわい・つよい　４２","医療の本","Ad：検査","毛利　子来　編集代表","ジャパンマシニスト社",52]
["ちいさいケーブルカーのメーベル","絵本","NULL","ﾊﾞｰｼﾞﾆｱ･ﾘｰ･ﾊﾞｰﾄﾝ","ペンギン社",20370]
["小さいことにくよくよするな！","一般図書","C：心の健康","リチャード・カールソン","サンマーク出版",10224]
["ちいさなくし","絵本","NULL","Ｍ・ポプルトン","福音館書店",20414]
["ちいさなチョーじんスーパーぼうや","絵本","NULL","グラハム","評論社",20162]
["地下街の雨","一般図書","C：心の健康","宮部みゆき","集英社",10401]
["地下鉄に乗って","一般図書","Fa1：一般","浅田次郎","講談社",10632]
["地図絵本　日本の食べもの","絵本","NULL","素朴社","素朴社",20699]
["乳がん診療ガイドライン　①治療編　２０１１年版","医療の本","Gg6：乳がん","日本乳癌学会","金原出版",10017]
["乳がん診療ガイドライン　②疫学・診断編　２０１１年版","医療の本","Gg6：乳がん","日本乳癌学会","金原出版",10018]
["チックとトゥレット症候群がよくわかる本","医療の本","Gk：こどもの健康","星加明徳","講談社",10360]
["チップとなぞのビー玉めいろ","絵本","NULL","末吉暁子","あかね書房",20419]
["知的障害のことがよくわかる本 イラスト版","医療の本","Fm：脳・神経系","有馬　正高","講談社",579]
["ちび★デビ！","絵本","NULL","蜜家ビィ","小学館",20747]
["ちびフクロウのぼうけん","絵本","NULL","ノーラ・スロイェギン","福音館書店",20427]
["ちびまる子ちゃんの　なぞなぞ１年生","絵本","NULL","葉月みどり","集英社",20257]
["ちびまる子ちゃんの　なぞなぞ２年生","絵本","NULL","葉月みどり","集英社",20258]
["ちびまる子ちゃんの学級文庫①","絵本","NULL","さくらももこ","学習研究社",20676]
["ちびまる子ちゃんの慣用句教室","絵本","K：こどもの本","川嶋優","小学館",20875]
["ちびまる子ちゃんのことわざ教室","絵本","K：こどもの本","島村直己","集英社",20866]
["ちびまる子ちゃんの似たもの漢字使い分け教室","絵本","K：こどもの本","関根健一","集英社",20876]
["ちびまる子ちゃんの表現力をつけることば教室","絵本","K：こどもの本","貝田桃子","集英社",20793]
["地平線にむかって","絵本","NULL","三輪裕子","小峰書店",20381]
["痴呆性高齢者の残存能力を高めるケア","医療の本","Gt7：認知症","山下美根子","医学書院",5616]
["チャートで学ぶ糖尿病と合併症","医療の本","Vc：糖尿病","細井雅之","メディカ出版",5666]
["チャーリー・ブラウンなぜなんだい？","絵本","NULL","シュルツ","岩崎書店",20177]
["中耳炎","医療の本","Fi：耳/鼻/喉","老木　浩之","保健同人社",494]
["中耳炎がわかる本 急性、慢性化膿性、滲出性、真珠腫性中耳炎","医療の本","Fi：耳/鼻/喉","鈴木光也","法研",487]
["注射薬投与法の基本と工夫　安全かつ有効な","医療の本","D：薬","幸保　文治","メディカルトリビューン",201]
["注文の多い料理店","絵本","NULL","宮沢賢治","岩崎書店",20681]
["チョ～　かんたん　おりがみ","絵本","NULL","たけいしろう","草土文化",20024]
["腸の病気は連鎖する","医療の本","Fs：胃腸","寺野　彰","講談社",8082]
["腸を鍛えれば頭がよくなる","医療の本","Fs：胃腸","辨野 義己","マキノ出版",10169]
["治療薬ハンドブック　第２版","医療の本","D：薬","奈良　信雄　著","医歯薬出版",189]
["鎮痛・解熱治療ガイドライン","医療の本","D：薬","オーストラリア治療ガ","プリメド社",165]
["チンパンジー神ちゃんの日記","絵本","NULL","亀井一成","ポプラ社",20683]
["椎間板ヘルニアと言われたらこの本を読もう","医療の本","Fb5：腰痛","諸岡　正明　著","文芸社",285]
["痛風 痛風の最新治療と発作への対処法　新版","医療の本","Fb6：痛風","小田原　雅人;主婦の友社","主婦の友社",264]
["痛風と高尿酸血症","医療の本","Fb6：痛風","御巫清允","主婦の友社",5314]
["痛風の人の食事","医療の本","Fb6：痛風","藤森　新　他","女子栄養大学出版部",281]
["月と猫","絵本","NULL","田川　誠","Peter&Joseph",20640]
["月のかがやく夜に-がんと向きあうあなたのために-","医療の本","Fe：がん","リササックスヤッファ","先端医学社",5556]
["月夜の子うさぎ","絵本","NULL","いわむらかずお","クレヨンハウス",20492]
["月夜のふしぎ道","一般図書","K：こどもの本","上﨑美惠子","小峰書店",20828]
["筑波大学附属病院とクックパッドのおいしく治す「糖尿病食」","医療の本","Vc：糖尿病","屋作直也","講談社",10292]
["つづきの図書館","絵本","K：こどもの本","柏葉幸子","講談社",20936]
["綱渡りの男","絵本","NULL","ガースティン","小峰書店",20203]
["妻を看取る日　国立がんセンター名誉総長の喪失と再生の記録","医療の本","C：心の健康","垣添忠生","新潮社",8114]
["つみきバス","絵本","NULL","いのうえまこと","あかね書房",20014]
["強くてごめんね","絵本","K：こどもの本","令丈ヒロ子","あかね書房",20868]
["つるのよめさま・かさじぞう・ごはんのむしぼし","絵本","K：こどもの本","松谷みよ子","講談社",20987]
["出会えてよかった！Ⅱ","医療の本","I：患者学","菊池　眞","TONEGAWA",10146]
["出会えてよかったⅢ","医療の本","I：患者学","近藤　達也","TONEGAWA",10650]
["手足のしびれ、歩きにくい症状がある方に","医療の本","Fb：骨/関節/筋肉",null,"南江堂",8042]
["ティギーおばさんのおはなし","絵本","NULL","ビアトリクス・ポター","福音館書店",20565]
["データで見る　抗がん剤のやめ方始め方","医療の本","Fe6：化学療法","近藤　誠　著","三省堂",382]
["デコボコえほん　かずをかぞえよう","絵本","K：こどもの本","グザビエ・ドゥヌ","小学館",20786]
["手作りおもちゃのかがく館　おってうごかす","絵本","NULL","きむらゆういち","ほるぷ出版",20248]
["手作りおもちゃのかがく館「重さでうごかす　１」","絵本","NULL","きむらゆういち","ほるぷ出版",20228]
["徹底図解　手術と解剖のしくみ","医療の本","L：麻酔/手術/救急","坂井建雄","新星出版社",5657]
["徹底図解　ぜんそく　健やかな毎日を約束す","医療の本","Fn8：ぜんそく","多田　寛　監","法研",634]
["徹底図解　認知症・アルツハイマー病","医療の本","Gt7：認知症","林　泰史　監修","法研",580]
["徹底図解リウマチ がまんできない痛みをコントロール","医療の本","Ff7：リウマチ","西岡　久寿樹","法研",267]
["鉄道員","一般図書","C：心の健康","浅田次郎","集英社",10201]
["てぶくろをかいに","絵本","NULL","新見南吉","ポプラ社",20491]
["デブの国ノッポの国","絵本","K：こどもの本","アンドレ・モロア","集英社",20798]
["でも女","一般図書","C：心の健康","群ようこ","集英社",10429]
["てるてるひめ","絵本","K：こどもの本","宇津木秀輔","新日本出版社",21002]
["テレメンタリング 双方向ツールによるヘルスケア・コミュニケーション","医療の本","C：心の健康","日本遠隔医療学会","中山書店",125]
["てんかん診療ガイドライン2018","医療の本","Fm：脳・神経系","日本神経学会","医学書院",10547]
["てんかん発作こうすればだいじょうぶ　―発作と介助","医療の本","Fm：脳・神経系","川崎 淳　著","クリエイツかもがわ",5368]
["てんかん発作こうすればだいじょうぶ　発作と介助（改訂版）","医療の本","Fm：脳・神経系","日本てんかん協会","クリエイツかもがわ",10457]
["転校生はハリウッドスター","絵本","NULL","キャロニタ","小学館",20289]
["天国の孝ちゃんへのメール　別れそして嘆き","一般図書","Fa1：一般","孝ちゃんのパパ","文芸社",10646]
["天使の犬ちろちゃん","絵本","K：こどもの本","杏有記","ハート出版",20842]
["天使のおともだち","絵本","NULL","ロス","日本教文社",20170]
["天璋院篤姫　上","一般図書","C：心の健康","宮尾登美子","講談社",10430]
["天璋院篤姫　下","一般図書","C：心の健康","宮尾登美子","講談社",10431]
["天声人語　自然編","一般図書","C：心の健康","辰濃和男","朝日新聞出版",10233]
["天声人語　人物編","一般図書","C：心の健康","辰濃和男","朝日新聞出版",10232]
["電池が切れるまで","一般図書","Gk：こどもの健康","すずらんの会","角川文庫",10003]
["電池が切れるまで　子ども病院からのメッセージ","絵本","NULL","すずらんの会","角川書店",20292]
["電池が切れるまで　子ども病院からのメッセージ","絵本","NULL","すずらんの会","角川書店",20293]
["トイレが近い人の読む本－頻尿の原因と治療　改訂版","医療の本","Fp：泌尿器","本間　之夫　著","メディカルレビュー社",660]
["トイレさくせん","絵本","NULL","うめだよしこ","新日本出版社",20189]
["東京ミュウミュウ④","絵本","NULL","征海未亜","講談社",20708]
["道具と機械の本","絵本","K：こどもの本","デビッド・マコーレイ","岩波書店",20952]
["頭頚部癌診療ガイドライン　2009年版","医療の本","Fi：耳/鼻/喉","日本頭頚部癌学会/編","金原出版",8059]
["頭頸部癌診療ガイドライン 2013年版","医療の本","Fi：耳/鼻/喉","日本頭頸部癌学会","金原出版",10159]
["凍結捜査","一般図書","Fa1：一般","堂場瞬一","集英社",10626]
["統合医療の扉　生命倫理の視角から","医療の本","Jc：医療倫理","小松　奈美子","北樹出版",912]
["統合失調症　（よくわかる最新医学シリーズ）","医療の本","C：心の健康","春日武彦　監修","主婦の友社",10566]
["統合失調症 最新の薬物療法とその他の治療法","医療の本","C：心の健康","春日　武彦;主婦の友社","主婦の友社",156]
["統合失調症スペクトラムがよくわかる本","医療の本","C：心の健康","糸川昌成　監修","講談社",10581]
["慟哭","一般図書","C：心の健康","貫井徳郎","東京創元社",10385]
["透析看護ＱＵＥＳＴＩＯＮ　ＢＯＸ 1","医療の本","Fr5：透析","水附　裕子;大坪　みはる","中山書店",683]
["透析看護ＱＵＥＳＴＩＯＮ　ＢＯＸ 2","医療の本","Fr5：透析","水附　裕子;大坪　みはる","中山書店",684]
["透析患者の食事指導　栄養の知識をしっかり！　食事管理のコツをたっぷり","医療の本","Fr5：透析","田村智子編著","メディカ出版",8066]
["透析患者のための血圧と心臓・血管の自己管理","医療の本","Fr5：透析","深川雅史","医療ジャーナル社",10074]
["透析室の感情トラブル","医療の本","Fr5：透析","春木　繁一　監","メディカ出版",685]
["透析ハンドブック　第4版 増補版","医療の本","Fr5：透析","小川洋史・岡山ミサ子　監修","医学書院",8130]
["どうぞのいす","絵本","NULL","香山美子","ひさかたチャイルド",20357]
["とうだいのくま","絵本","NULL","ひるたりょうこ","タリーズコーヒー",20027]
["糖尿病","医療の本","Vc：糖尿病","加藤　光敏;加藤　則子","日本医学館",960]
["糖尿病 最新治療・最新薬","医療の本","Vc：糖尿病","鈴木 吉彦","主婦の友社",10190]
["糖尿病　ビジュアルガイド","医療の本","Vc：糖尿病","石井　均","医歯薬出版",8120]
["糖尿病 病気の本質、危険信号、検査法　新版","医療の本","Vc：糖尿病","鈴木　吉彦","主婦の友社",961]
["糖尿病が良くなるごちそうレシピ","医療の本","Vc：糖尿病","江部　康二　著","東洋経済新報社",252]
["糖尿病患者のためのカーボフラッシュカード","医療の本","Vc：糖尿病","川村智行","医療ジャーナル社",5665]
["糖尿病食事療法のための食品交換表 活用編","医療の本","Vc：糖尿病","日本糖尿病学会","文光堂",978]
["糖尿病食事療法のための食品交換表 活用編―献立例とその実践　第２版","医療の本","Vc：糖尿病","日本糖尿病学会","文光堂",10291]
["糖尿病食事療法のための食品交換表 第６版","医療の本","Vc：糖尿病","日本糖尿病学会","文光堂",977]
["糖尿病食事療法のための食品交換表　第7版","医療の本","Vc：糖尿病","日本糖尿病学会","文光堂",10189]
["糖尿病性腎症の食品交換表 第２版","医療の本","Vc：糖尿病","日本糖尿病学会","文光堂",979]
["糖尿病性腎症の人の食事","医療の本","Vc：糖尿病","長坂　昌一郎;本田　佳子;小川　久惠","女子栄養大学出版部",648]
["糖尿病治療ガイド 2014ー2015","医療の本","Vc：糖尿病","文光堂","文光堂",10293]
["糖尿病の食事療法　第２版","医療の本","Vc：糖尿病","医歯薬出版　編","医歯薬出版",962]
["糖尿病の食事をつくる本　新版","医療の本","Vc：糖尿病","鈴木　吉彦　著","主婦の友社",973]
["糖尿病の人の朝昼夕献立カレンダー　改新","医療の本","Vc：糖尿病","香川　芳子　監","女子栄養大学出版部",974]
["糖尿病の人の献立カレンダー　朝昼夕（３）","医療の本","Vc：糖尿病","香川芳子","女子栄養大学出版部",10488]
["糖尿病の人の食事","医療の本","Vc：糖尿病","長坂　昌一郎;宮本　佳代子;松田　康子","女子栄養大学出版部",566]
["糖尿病はこうして防ぐ、治す イラスト版","医療の本","Vc：糖尿病","河盛　隆造","講談社",964]
["どうぶつ　どうして　どんどんどんと","絵本","NULL","マイケ・フォアマンル","岩崎書店",20401]
["動物園で毎日働く","絵本","NULL","中川志郎","農文協",20433]
["動物園は心の学校","絵本","NULL","亀井一成","ポプラ社",20351]
["動物と話せる少女リリアーネ","絵本","NULL","タニヤ・シュテーブナー","学研",20739]
["どうぶつなぜなぜばなし","絵本","K：こどもの本","河野一郎","講談社",20998]
["動物の赤ちゃんを育てる","一般図書","H：代替療法","亀井一成","朝日出版社",10041]
["動物の赤ちゃんを育てる","一般図書","H：代替療法","亀井一成","朝日出版社",10042]
["どうぶつのおかあさん","絵本","NULL","小森　厚","福音館書店",20008]
["どうぶつのおかあさんあかちゃんずかん","絵本","NULL","荒木勝彦","学研",20535]
["ドードーとせいちゃん　おはなしえほん　ドーナツだいすき！","絵本","NULL","わたせせいぞう","三起商工",20088]
["とかげ","一般図書","C：心の健康","吉本ばなな","新潮社",10413]
["ドキドキハートの告白大作戦","絵本","NULL","奥沢しおり","フレーベル館",20667]
["どきどきミステリーランド　オペラ座の怪人","絵本","NULL","ルルー","金の星社",20247]
["時を飛ぶＵＦＯ　大統領誘拐の怪事件","絵本","NULL","高橋克雄","金の星社",20246]
["ドクターズカー奮戦記","医療の本","L：麻酔/手術/救急","鵜飼卓","メディカ出版",10315]
["ドクター夏井の外傷治療「裏」マニュアル","医療の本","Fa：一般医学","夏井睦","三輪書店",10335]
["特別支援教育のための精神・神経医学","医療の本","Gk：こどもの健康","杉山　登志郎　他","学習研究社",804]
["処は憂子　宮城のこども病院物語り","医療の本","Jb：病院/スタッフ","大井龍司","笹気出版印刷",10101]
["都市伝説＆怪談スペシャル","絵本","NULL","ヤングセレクション","実業之日本社",20721]
["どしゃぶりのひに⑤","絵本","NULL","木村裕一","講談社",20759]
["としょかんライオン","絵本","NULL","ヌードセン","岩崎書店",20163]
["とっておき！病気・治療・薬の知識","医療の本","Gt8：在宅介護","川人　明　著","日本看護協会出版会",830]
["とっとこハム太郎","絵本","NULL","河合リツ子","小学館",20502]
["となりのトンコやん","絵本","NULL","久保田ゆき","ハート出版",20436]
["とにかくさけんでにげるんだ　わるい人から身をまもる","絵本","NULL","ボガホールド","岩崎書店",20132]
["跳びはねる思考","一般図書","C：心の健康","東田直樹","イースト・プレス",10449]
["とべないホタル","絵本","NULL","小沢昭巳","ハート出版",20266]
["とべないホタル２","絵本","K：こどもの本","小沢昭巳","ハート出版",20847]
["とべないホタル５－月（のの）さんの歌ー","絵本","NULL","小沢克巳","ハート出版",20267]
["とべないホタル９－水辺のおやどー","絵本","NULL","小沢克巳","ハート出版",20268]
["とべないホタルのゆりかご","絵本","K：こどもの本","小沢昭巳","ハート出版",21010]
["とべないホタルのゆりかごー星の降る水辺にー","絵本","NULL","小沢昭巳","ハート出版",20269]
["トムとムー　おかしのまちへいく","絵本","NULL","伊勢淳一","ワークス",20548]
["ともだち絵本　けんか","絵本","NULL","シャーロット・ズロトウ","童話屋",20727]
["ともだちのたまご","絵本","NULL","さえぐさひろこ","童心社",20129]
["ともだちや","絵本","NULL","内田麟太郎","偕成社",20521]
["トラブルクッキング","一般図書","C：心の健康","群ようこ","集英社",10428]
["取りこむ　消化器・呼吸器系","医療の本","Fs：胃腸",null,"メディ・イシュ",521]
["トリセツ・カラダ　カラダ地図を描こう","医療の本","Ac：図解人体","海堂　尊著","宝島社",8092]
["トリフのすてきなけっこんしき","絵本","K：こどもの本","アンナ・カリー","くもん出版",20850]
["どろんこおそうじ","絵本","NULL","さとうわきこ","福音館書店",20470]
["ドングリ山のやまんばあさん","絵本","NULL","富安陽子","理論社",20602]
["とんでったらあふりか","絵本","NULL","羽仁　進","福音館書店",20153]
["ナースが知っておくべきかゆみのケア","医療の本","Ae：臨床看護","高島　玉青　著","日本看護協会出版会",81]
["ナースの常識！？医者の非常識！？","医療の本","Ae：臨床看護","南淵　明宏","中山書店",83]
["内視鏡検査・治療・ケアがよくわかる本","医療の本","Ad：検査","田中　雅夫　監修","照林社",63]
["内臓感覚　脳と腸の不思議な関係","医療の本","Fm：脳・神経系","福土審","日本放送出版協会",5418]
["ナイトメアービフォアークリスマス","絵本","K：こどもの本","橘高弓枝","偕成社",20789]
["中くらいの妻","一般図書","C：心の健康","日本エッセイストクラブ","文藝春秋",10208]
["なかなおり","絵本","NULL","シャーロット・ゾロトウ","童話屋",20406]
["流れ星におねがい","絵本","NULL","森絵都","童心社",20538]
["なきむしライオンのクリスマス","絵本","NULL","矢崎節夫","東京リスマチック",20102]
["なくなキリンの六と甲","絵本","NULL","亀井一成","ポプラ社",20684]
["なぜ、ヒトは「うつ」になるのか","医療の本","C：心の健康","北島潤一郎","シーアンドアール研究所",8122]
["なぜか「美人」に見える女性の習慣","一般図書","C：心の健康","中谷彰宏","大和書房",10443]
["なぜタミばあちゃんはボケたか","絵本","NULL","おいかわさちえ","ハート出版",20376]
["なぞの電子メール","絵本","NULL","日本児童文学者協会","偕成社",20597]
["納得いく仕事　納得できる人生","一般図書","C：心の健康","江波戸哲夫","プレジデント社",10227]
["夏の夜の夢・間違いの喜劇","一般図書","C：心の健康","シェイクスピア","筑摩書房",10440]
["ななみちゃんの漢字えほん","絵本","NULL","正村史郎","NHK出版",20422]
["なまえのことばえじてん","絵本","K：こどもの本","やまさきひであき","ひかりのくに",20898]
["名もなき毒","一般図書","C：心の健康","宮部　みゆき","文藝春秋",10519]
["なんだかうれしくなってきた","絵本","NULL","五味太郎","佼成出版",20019]
["難聴・めまい・耳鳴りを解消する イラスト版","医療の本","Fi：耳/鼻/喉","神尾　友和;相原　康孝","講談社",496]
["なんでもおこのみやき","絵本","NULL","さとうわきこ","福音館書店",20471]
["なんでも魔女商会　お洋服リフォーム支店","絵本","NULL","あんびるやすこ","岩崎書店",20679]
["苦手が「できる」にかわる！ 発達が気になる子への生活動作の教え方","医療の本","Gk：こどもの健康","鴨下賢一, 立石加奈子","中央法規出版",10262]
["西表写真館","一般図書","H：代替療法","笠井雅夫","サンエイテイ",5633]
["日常生活指導のためのリハビリ・テクニック","医療の本","Ee：リハビリ療法","林　ヤス史","文光堂",231]
["日米比較に学ぶ「国民主役」医療への道","医療の本","I：患者学","町　淳二　編著","日本医療企画",913]
["にっぽん探検大図鑑","絵本","NULL","小学館","小学館",20700]
["二分脊椎症の手引き","医療の本","Gk：こどもの健康","日本二分脊椎症協会","日本二分脊椎症協会",10249]
["二分脊椎症の手引き","医療の本","Gk：こどもの健康","日本二分脊椎症協会","日本二分脊椎症協会",10250]
["日本一わかりやすいがんの教科書","医療の本","Fe：がん","水上治","PHP研究所",5512]
["日本医薬品集　医療薬　2010","医療の本","D：薬",null,"じほう",8007]
["日本医薬品集　医療薬　2018","医療の本","D：薬","日本医薬品集フォーラム","じほう",10481]
["日本子ども資料年間　2011","医療の本","Gk：こどもの健康","日本子ども家庭総合研究所","KTC中央出版",10098]
["日本人のための高血圧治療Ｑ＆Ａ～エビデン","医療の本","Vb：高血圧","檜垣　實男　編","医薬ジャーナル社",951]
["日本地図帳","一般図書","H：代替療法","青柳栄次","旺文社",10043]
["にほんのどうぶつずかん","絵本","NULL","荒木勝彦","学研",20533]
["日本の風景松","絵本","NULL","ゆのきようこ","理論社",20361]
["日本の文学　注文の多い料理店","絵本","NULL","宮沢賢治","金の星社",20322]
["日本の文学　藤村詩集・嵐","絵本","NULL","島崎藤村","金の星社",20320]
["日本の文学　吾輩は猫である（下）","絵本","NULL","夏目漱石","金の星社",20321]
["にゃーご","絵本","NULL","宮西達也","すずき出版",20106]
["ニャゴマロのコンテスト","絵本","NULL","サム・ロイド","評論社",20400]
["ニャンマロくんとチイヒゲちゃん","絵本","K：こどもの本","サム・ロイド","評論社",20849]
["乳がん","医療の本","Gg6：乳がん","山内英子","主婦の友社",10491]
["乳がん　（よくわかる最新医学シリーズ）","医療の本","Gg6：乳がん","山内英子 著","主婦の友社",10574]
["乳がん　あなたにとって一番の治療を","医療の本","Gg6：乳がん","中村　清吾　監修","双葉社",730]
["乳がん　からだとこころを守る","医療の本","Gg6：乳がん","岩田　広治　総監修","日本放送出版協会",731]
["乳がん　私らしく生きる","医療の本","Gg6：乳がん",null,"ライフサイエンス出版",732]
["乳がん（最新医学がとことんわかる）","医療の本","Gg6：乳がん","川端英孝","PHP研究所",5531]
["乳がん（よくわかる最新医学シリーズ）","医療の本","Gg6：乳がん","山内 英子","主婦の友社",10176]
["乳がん・子宮がん・卵巣がん術後のリンパ浮腫を自分でケアする","医療の本","Gg：女性の健康","監修：廣田彰男","主婦の友社",8010]
["乳がんかもといわれたら　乳がんの最適治療2011～2012","医療の本","Gg6：乳がん","日経ヘルス・プルミェ編集部","日経BP社",8128]
["乳がん看護 サポートブック","医療の本","Gg6：乳がん","阿部恭子編","メディカ出版",5494]
["乳がん全書","医療の本","Gg6：乳がん","福田　護　編著","法研",717]
["乳がんテキスト　正しい知識と理解のために","医療の本","Gg6：乳がん","野口昌邦","南江堂",5493]
["乳腺画像診断法－Ｘ線・超音波と病理－","医療の本","Gg6：乳がん","松江　寛人　編著","金原出版",735]
["乳房温存療法ガイドライン 医療者向け","医療の本","Gg6：乳がん",null,"金原出版",736]
["乳幼児・学童期の病気と食事　第３版","医療の本","Gk：こどもの健康","医歯薬出版　編","医歯薬出版",769]
["乳幼児の摂食指導　お母さんの疑問にこたえ","医療の本","Gk：こどもの健康","向井　美惠　編著","医歯薬出版",805]
["ニューワイド学研の図鑑　イヌ","絵本","K：こどもの本","社団法人ジャパンケネルクラブ　監修","学研",20957]
["ニューワイド学研の図鑑　魚　増補改訂版","絵本","K：こどもの本","沖山宗雄　監修","学研",20956]
["ニューワイド学研の図鑑　自動車・飛行機　増補改訂版","絵本","K：こどもの本","高島鎮雄　監修","学研",20959]
["ニューワイド学研の図鑑　鉄道・船　増補改訂版","絵本","K：こどもの本","原口隆行　山田廸生　監修","学研",20958]
["ニューワイド学研の図鑑　鳥　増補改訂版","絵本","K：こどもの本","小宮輝之　監修","学研",20954]
["ニューワイド学研の図鑑　花","絵本","K：こどもの本","千谷順一郎　監修","学研",20955]
["ニューワイド学研の図鑑ｉ　なぜ？の図鑑","絵本","K：こどもの本","阿部和厚　他　監修","学研",20960]
["ニューワイド学研の図鑑ｉ　ひみつの図鑑","絵本","K：こどもの本","阿部和厚　他　監修","学研",20961]
["尿路結石症の治療と食事療法","医療の本","Fp：泌尿器","伊藤晴夫","日東書院",8038]
["ニルスのふしぎな旅（１）","絵本","K：こどもの本","ラーゲルレーヴー","偕成社",20794]
["にんげんだもの","一般図書","C：心の健康","相田みつを著","文化出版局",5413]
["妊娠・出産新百科 最新版オールカラー―月数ごとに「見てわかる!」","医療の本","Gh：妊娠/出産",null,"ベネッセコーポレーション",10180]
["妊娠・授乳期の食事　第２版","医療の本","Gh：妊娠/出産","医歯薬出版　編","医歯薬出版",738]
["にんじんぎらいのうさこさん","絵本","NULL","垣内礒子","フレーベル館",20333]
["妊娠中の元気メニュー","医療の本","Gh：妊娠/出産","本多京子","共同印刷",5570]
["妊娠と出産　ママと赤ちゃんのなぜ？に答え","医療の本","Gh：妊娠/出産","国府田　きよ子","新星出版社",753]
["認知行動療法のすべてがわかる本","医療の本","C：心の健康","清水栄司","講談社",10363]
["認知症　家族を救う対策集","医療の本","Gt7：認知症","主婦の友社","主婦の友社",10024]
["認知症（痴呆）","医療の本","Gt7：認知症","一宮　洋介　著","日本医学館",826]
["認知症の知りたいことガイドブック","医療の本","Gt7：認知症","長谷川　和夫","中央法規出版",8098]
["妊婦と薬物治療の考え方　全面改訂第２版","医療の本","Gh：妊娠/出産","松田　静治　編","ヴァンメディカル",712]
["妊婦への服薬指導","医療の本","Gh：妊娠/出産","田中　憲一　他編","南山堂",713]
["ねぇ、あそぼ!３さいのキャロっとさん","絵本","NULL","のぶみ","講談社",20007]
["ネガティブな自分をゆるす本","一般図書","C：心の健康","植木理恵著","大和出版",5414]
["ネガティブな自分をゆるす本","一般図書","C：心の健康","植木理恵","大和出版",5677]
["ねこ語の歌が死を招く","絵本","NULL","宇賀神　水青","集英社",20604]
["ねことおんどり","絵本","NULL","うちだりさこ","福音館書店",20130]
["ねこのごんごん","絵本","NULL","大道あや","福音館書店",20444]
["ネコ博士が語る　科学の不思議","絵本","K：こどもの本","ドミニク・ウォーリマン","徳間書店",20953]
["ねころんで読めるCDCガイドライン","医療の本","Fg：伝染・感染症","矢野邦夫","メディカ出版",8113]
["ねずみくん　うみへいく","絵本","NULL","なかえよしを","ポプラ社",20021]
["ねずみのさかなつり","絵本","NULL","山下明生","ひさかたチャイルド",20466]
["寝たきりにさせないために","医療の本","Gt：高齢者","榎村陽太郎","医歯薬出版",5606]
["熱傷はこうやって治す　安全に行う湿潤療法","医療の本","Fo：皮膚/髪/爪","水原章浩","医学と看護社",10352]
["ねてるのだあれ","絵本","K：こどもの本","神沢利子","福音館書店",21009]
["ネパールのビール","一般図書","C：心の健康","日本エッセイストクラブ","文藝春秋",10203]
["ねぼすけスーザのおかいもの","絵本","NULL","広野多珂子","福音館書店",20100]
["ねるまで　あとなんぷん","絵本","NULL","ヘインズ","大日本絵画",20018]
["年齢に負けない身体の作り方","医療の本","Gt：高齢者","宇田川宏","同時代社",5608]
["ノアとはこぶねのおはなし","絵本","NULL","聖書","いのちのことば社",20522]
["脳科学研究の現状と課題","医療の本","C：心の健康","精神神経科学振興財団","じほう",5325]
["脳が冴える15の習慣　記憶・集中・思考力を高める","一般図書","C：心の健康","築山節","NHK出版",10235]
["脳からストレスを消す技術","医療の本","Fm：脳・神経系","有田秀穂","サンマーク出版",8119]
["脳血管救命センター物語","医療の本","Fm：脳・神経系","岡田　靖　総監修","メディカルレビュー社",607]
["脳梗塞　脳出血　くも膜下出血　（よくわかる最新医学シリーズ）","医療の本","Fm：脳・神経系","高木誠　監修","主婦の友社",10561]
["脳梗塞・脳出血・くも膜下出血","医療の本","Fm：脳・神経系","高木　誠　監修","主婦の友社",584]
["脳梗塞はこうして防ぐ、治す イラスト版","医療の本","Fm：脳・神経系","高木　誠","講談社",585]
["脳出血・くも膜下出血はこうして防ぐ、治す イラスト版","医療の本","Fm：脳・神経系","中込　忠好","講談社",587]
["脳神経","医療の本","Ad：検査","志賀　逸夫　編","メジカルビュー社",64]
["脳神経外科学　1　改訂12版","医療の本","Fm：脳・神経系","太田富雄　総編集","金芳堂",10615]
["脳神経外科学　2　改訂12版","医療の本","Fm：脳・神経系","太田富雄　総編集","金芳堂",10616]
["脳神経外科学　3　改訂12版","医療の本","Fm：脳・神経系","太田富雄　総編集","金芳堂",10617]
["脳卒中","医療の本","Fm：脳・神経系","伊藤　昌徳","日本医学館",218]
["脳卒中　見逃さない、あきらめない　（別冊NHKきょうの健康）","医療の本","Fm：脳・神経系","内山真一郎総監修","NHK出版",8107]
["脳卒中とリハビリテーション","医療の本","Ee：リハビリ療法","本多　虔夫;星野　晴彦","保健同人社",219]
["脳卒中リハビリガイド","医療の本","Fm：脳・神経系","監修：田口芳雄","学研",8047]
["脳にいいことだけをやりなさい！","一般図書","Fm：脳・神経系","マーシー・シャイモフ","三笠書房",5404]
["脳のメモ帳　ワーキングメモリ","一般図書","C：心の健康","苧阪満里子","新曜社",5328]
["脳はバカ、腸はかしこい","医療の本","C：心の健康","藤田紘一郎","三五館",10002]
["脳は甦る　音楽運動療法による甦生リハビリ","医療の本","H：代替療法","後藤　幸生　他","大修館書店",606]
["能率手帳の流儀","一般図書","C：心の健康","野口晴巳","日本能率協会マネジメントセンター",10230]
["脳を活かす勉強法","一般図書","C：心の健康","茂木健一郎","PHP研究所",10223]
["脳を究める　脳研最前線","一般図書","C：心の健康","立花隆","朝日新聞出版",5675]
["野菊の墓","絵本","K：こどもの本","伊藤左千夫","金の星社",20844]
["のねずみチュウチュウおくさんのおはなし","絵本","NULL","ビアトリクス・ポター","福音館書店",20557]
["のはらのうたⅠ","一般図書","C：心の健康","くどうなおこ","童話屋",10379]
["呪われた鏡　占い魔女２","絵本","NULL","池田美代子","岩崎書店",20310]
["ノンタンがんばるもん","絵本","NULL","キヨノサチコ","偕成社",20450]
["のんびりすいぞくかん","絵本","NULL","長　新太","理論社",20417]
["はーい　ばーい","絵本","K：こどもの本","きしらまゆこ","フレーベル館",21007]
["パーキンソン病　（よくわかる最新医学シリーズ）","医療の本","Fm：脳・神経系","山之内博　監修","主婦の友社",10567]
["パーキンソン病最新治療と生活法 イラスト版","医療の本","Fm：脳・神経系","作田　学","講談社",573]
["パーソナリティ障害〈人格障害〉のことがよくわかる本 イラスト版","医療の本","C：心の健康","市橋　秀夫","講談社",96]
["バーバパパのなつやすみ","絵本","K：こどもの本","アネット＝チゾン/タラス＝テイラー","講談社",20895]
["パイがふたつあったおはなし","絵本","NULL","ビアトリクス・ポター","福音館書店",20568]
["肺がん　（よくわかる最新医学シリーズ）","医療の本","Fn7：肺ガン","坪井正博　著","主婦の友社",10568]
["肺がん　改訂版","医療の本","Fn7：肺ガン","西條長宏","医療ジャーナル社",5629]
["肺ガン 日本人のがん死亡１位肺がんのすべてがわかる","医療の本","Fn7：肺ガン","坪井　正博","主婦の友社",356]
["肺がん外来化学療法へのアプローチ","医療の本","Fn7：肺ガン","山本信之","医療ジャーナル社",5630]
["肺がんがわかる本","医療の本","Fn7：肺ガン","浅村尚生","法研",5484]
["肺がんと闘う方法　告知の仕方，告知後の生","医療の本","Fn7：肺ガン","野守　裕明","メヂカルフレンド",406]
["肺がんの最新治療（よくわかる最新医学シリーズ）","医療の本","Fn7：肺ガン","坪井 正博","主婦の友社",10164]
["肺ガンハンドブック","医療の本","Fn7：肺ガン","土屋　繁裕　著","学習研究社",407]
["肺気腫","医療の本","Fn：呼吸器","千治松　洋一　著","日本医学館",622]
["ハイリスク患者の看護ケア","医療の本","Ae：臨床看護",null,"中山書店",85]
["ハエのアストリッド","絵本","K：こどもの本","マリア・ヨンソン","評論社",21016]
["ハキちゃんの「はっぴょうします」","絵本","K：こどもの本","薫くみこ","佼成出版",21013]
["白内障・緑内障・糖尿病網膜症　新版","医療の本","Fh：目","杉田　美由紀　監修","主婦の友社",475]
["化け猫レストラン","絵本","K：こどもの本","怪談レストラン編集委員会","童心社",20881]
["はじめてでもやさしいがん化学療法看護　抗がん薬を扱う知識と副作用マネジメント","医療の本","Fe6：化学療法","小西敏郎","学研メディカル秀潤社",10274]
["はじめての医療面接－コミュニケーション技","医療の本","I：患者学","斎藤　清二","医学書院",863]
["はじめてのずかん３","絵本","NULL","たしろたく","偕成社",20726]
["はじめての多面体おりがみ","絵本","NULL","川村みゆき","日本ヴォーグ社",20508]
["はじめての注射と採血","医療の本","Ad：検査","大阪労災病院看護部","メディカ出版",53]
["はじめての妊娠・出産・安心マタニティブッ","医療の本","Gh：妊娠/出産","Ｃ．ハリス　著","永岡書店",745]
["はじめてのモニター心電図","医療の本","Fd：心臓・血管系","松井　由美恵　著","メディカ出版",315]
["はじめての輸液","医療の本","Ad：検査","大阪労災病院看護部","メディカ出版",54]
["はじめてのゆきのひ","絵本","K：こどもの本","バーネット・フォード","評論社",20848]
["はじめての離乳食","医療の本","Gk：こどもの健康","小池澄子","学研",10022]
["はじめの一歩が大切","医療の本","Vc：糖尿病","坂根　直樹","診断と治療社",954]
["はしれ！はしれ！パトカー","絵本","NULL","たけいしろう","あかね書房",20089]
["走れ！マスワラ","一般図書","C：心の健康","グザヴィエ=ローラン=プティ","PHPエディターズ・グループ",10399]
["はずかしがりやのれんこんくん","絵本","NULL","二宮由紀子","童心社",20148]
["裸のお医者さまたち","医療の本","J：医療","桑間　雄一郎","ビジネス社",917]
["はだかのおうさま","絵本","NULL","アンデルセン","岩崎書店",20152]
["はだかのおうさま","絵本","NULL","アンデルセン","世界文化社",20369]
["働く女性のためのがん入院・治療生活便利帳","医療の本","Gg：女性の健康","岩井ますみ","講談社",10495]
["八郎太郎","絵本","K：こどもの本","菊池敬一","小峰書店",21008]
["白血病と言われたら　疾患・治療編","医療の本","Fc：血液/リンパ","特定非営利活動法人　全国骨髄バンク推進連絡協議会","全国骨髄バンク推進連絡協議会",10502]
["白血病と言われたら　闘病支援編","医療の本","Fc：血液/リンパ","特定非営利活動法人　全国骨髄バンク推進連絡協議会","全国骨髄バンク推進連絡協議会",10503]
["はっけんずかん　どうぶつ","絵本","NULL","学研","学研",20707]
["初恋ストリート","絵本","NULL","藤村かおり","金の星社",20545]
["発達障がい児の子育て　ママたちが見つけた大切なこと","医療の本","Gk：こどもの健康","佐々木正美　監修","大和書房",10609]
["発達障害の子どもを伸ばす魔法の言葉かけ ","医療の本","Gk：こどもの健康"," shizu, 平岩幹男","講談社",10260]
["発達障害の子の脳を育てる忍者遊び","医療の本","Gk：こどもの健康","柳澤弘樹　監修","講談社",10585]
["発達って、障害ってなんだろう?","医療の本","Gk：こどもの健康","日原 信彦　著","ミネルヴァ書房",5382]
["はっぱのフレディ","絵本","NULL","バスカーリア","童話屋",20178]
["葉っぱのフレディ　いのちの旅","絵本","K：こどもの本","レオ・バスカーリア","童話屋",21004]
["はなさかじい・たべられたやまんば","絵本","K：こどもの本","松谷みよ子","講談社",20984]
["話を聴かない耳栓医者と思いを呑み込む仮面患者","医療の本","Ja：医療概論","嵯峨崎泰子","メディカルトリビューン",10282]
["花のおりがみ","絵本","NULL","桃谷好秀","誠文堂新光社",20300]
["はなのさくえほん","絵本","NULL","いしかわこうじ","童心社",20090]
["鼻の病気がわかる本 慢性副鼻腔炎、アレルギ－性鼻炎","医療の本","Fi：耳/鼻/喉","飯田誠","法研",488]
["花屋さんの１２ヶ月","一般図書","H：代替療法","小林寛幸","淡交社",5636]
["はなやのおばさん","絵本","NULL","ねじめ正一","童心社",20149]
["パニック障害－心の不安はとり除ける－","医療の本","C：心の健康","渡辺　登　監修","講談社",97]
["パニック障害とうまくつきあうルール","医療の本","C：心の健康","べヴ・エイズベット","大和書房",10064]
["歯のは★医療の本★　なんの歯この歯","医療の本","Fj：歯","後藤　仁敏","医歯薬出版",510]
["パパがくまになるとき","絵本","NULL","神沢利子","あかね書房",20387]
["母の写真","一般図書","C：心の健康","日本エッセイストクラブ","文藝春秋",10205]
["ばばばあちゃんとおべんとう　つくろう","絵本","NULL","さとうわきこ","福音館書店",20485]
["ばばばあちゃんのなぞなぞりょうりえほん　むしぱんのまき","絵本","NULL","さとうわきこ","福音館書店",20484]
["ばばばあちゃんのマフラー","絵本","NULL","さとうわきこ","福音館書店",20472]
["はぴはぴクローバー①","絵本","NULL","竜山さゆり","小学館",20713]
["はぴはぴクローバー②","絵本","NULL","竜山さゆり","小学館",20712]
["はぴはぴクローバー③","絵本","NULL","竜山さゆり","小学館",20711]
["ハムスターの研究レポート①","絵本","NULL","大雪師走","偕成社",20675]
["ハムスターのひとりごと","絵本","NULL","井川俊彦","誠文堂新光社",20528]
["ハリー・ポッターとアズガバンの囚人③","一般図書","C：心の健康","J.K.ローリング","静山社",10300]
["ハリー・ポッターと賢者の石①","一般図書","C：心の健康","J.K.ローリング","静山社",10298]
["ハリー・ポッターと死の秘宝　下巻","一般図書","C：心の健康","J.K.ローリング","静山社",10308]
["ハリー・ポッターと死の秘宝　上巻","一般図書","C：心の健康","J.K.ローリング","静山社",10307]
["ハリー・ポッターと謎のプリンス　下巻","一般図書","C：心の健康","J.K.ローリング","静山社",10306]
["ハリー・ポッターと謎のプリンス　上巻","一般図書","C：心の健康","J.K.ローリング","静山社",10305]
["ハリー・ポッターと秘密の部屋②","一般図書","C：心の健康","J.K.ローリング","静山社",10299]
["ハリー・ポッターと不死鳥の騎士団⑤（上）","一般図書","C：心の健康","J.K.ローリング","静山社",10303]
["ハリー・ポッターと不死鳥の騎士団⑤（下）","一般図書","C：心の健康","J.K.ローリング","静山社",10304]
["ハリー・ポッターと炎のゴブレット④（上）","一般図書","C：心の健康","J.K.ローリング","静山社",10301]
["ハリー・ポッターと炎のゴブレット④（下）","一般図書","C：心の健康","J.K.ローリング","静山社",10302]
["ハリーとマルタン②","絵本","NULL","やなせたかし","新日本出版社",20618]
["ハリーとマルタン③","絵本","NULL","やなせたかし","新日本出版社",20619]
["ハリーとマルタン④","絵本","NULL","やなせたかし","新日本出版社",20620]
["ハリーとマルタン⑤","絵本","NULL","やなせたかし","新日本出版社",20621]
["ハリーとマルタン⑥","絵本","NULL","やなせたかし","新日本出版社",20622]
["春・花づくし","一般図書","H：代替療法","細川護貞","講談社ペック",5641]
["春ちゃんは元気です","絵本","NULL","松田のぶお","文芸社",20391]
["はるのいきものずかん","絵本","NULL","荒木勝彦","学習研究社",20496]
["春の主役桜","絵本","NULL","ゆのきようこ","理論社",20360]
["バルボンさんのおうち","絵本","NULL","とよた　かずひこ","アリス館",20728]
["バルンくん","絵本","K：こどもの本","こもりまこと","福音館書店",20939]
["パレッタとふしぎなもくば","絵本","NULL","千葉史子","講談社",20233]
["番号をどうぞ","絵本","NULL","和田　誠","理論社",20639]
["バンジのにゃむにゃむ日記","絵本","NULL","ジョンイ","ポプラ社",20685]
["パンダのひ・み・つ","絵本","NULL","森田倫代/熊川智子","アワーズ・アドベンチャーワールド",20752]
["バンビ","絵本","NULL","ジョアン・ライダー作","偕成社",20670]
["パン屋のこびととハリネズミ","絵本","NULL","アニー・G・M・シュミット","徳間書店",20740]
["ピーター・パン","絵本","NULL","ジェームズ・バリ","ポプラ社",20467]
["ピーターラビットのおはなし","絵本","NULL","ビアトリクス・ポター","福音館書店",20550]
["ピーターラビットのてがみの本①","絵本","NULL","ビアトリクス・ポター","福音館書店",20571]
["ピーターラビットのてがみの本②","絵本","NULL","ビアトリクス・ポター","福音館書店",20572]
["ピーポポ・パトロール　はんぶんおばけのマメンキサウルス","絵本","NULL","柏葉幸子","童心社",20159]
["冷え症・貧血・低血圧　（よくわかる最新医学）","医療の本","Fc：血液/リンパ","南雲久美子","主婦の友社",10289]
["冷え症・貧血・低血圧　（よくわかる最新医学シリーズ）","医療の本","Fc：血液/リンパ","南雲久美子　監","主婦の友社",10579]
["冷え症・貧血・低血圧　新版","医療の本","Fc：血液/リンパ","南雲　久美子　監修","主婦の友社",301]
["ビオトープづくり","絵本","NULL","松井　孝","金の星社",20350]
["光とともに・・・　－自閉症児を抱えて-①","一般図書","Gk：こどもの健康","戸部けいこ","秋田書店",5329]
["光とともに・・・　－自閉症児を抱えて-②","一般図書","Gk：こどもの健康","戸部けいこ","秋田書店",5330]
["光とともに・・・　－自閉症児を抱えて-③","一般図書","Gk：こどもの健康","戸部けいこ","秋田書店",5331]
["光とともに・・・　－自閉症児を抱えて-④","一般図書","Gk：こどもの健康","戸部けいこ","秋田書店",5332]
["光とともに・・・　－自閉症児を抱えて-⑤","一般図書","Gk：こどもの健康","戸部けいこ","秋田書店",5420]
["光とともに・・・　－自閉症児を抱えて-⑥","一般図書","Gk：こどもの健康","戸部けいこ","秋田書店",5429]
["光とともに・・・　－自閉症児を抱えて-⑦","一般図書","Gk：こどもの健康","戸部けいこ","秋田書店",5430]
["光とともに・・・　－自閉症児を抱えて-⑧","一般図書","Gk：こどもの健康","戸部けいこ","秋田書店",5431]
["光とともに・・・　－自閉症児を抱えて-⑨","一般図書","Gk：こどもの健康","戸部けいこ","秋田書店",5432]
["光とともに・・・　－自閉症児を抱えて-⑩","一般図書","Gk：こどもの健康","戸部けいこ","秋田書店",5433]
["光とともに・・・　－自閉症児を抱えて-⑪","一般図書","Gk：こどもの健康","戸部けいこ","秋田書店",5434]
["光とともに・・・　－自閉症児を抱えて-⑫","一般図書","Gk：こどもの健康","戸部けいこ","秋田書店",5435]
["光とともに・・・　－自閉症児を抱えて-⑬","一般図書","Gk：こどもの健康","戸部けいこ","秋田書店",5436]
["光とともに・・・　－自閉症児を抱えて-⑭","一般図書","Gk：こどもの健康","戸部けいこ","秋田書店",5437]
["光とともに・・・　－自閉症児を抱えて-⑮","一般図書","Gk：こどもの健康","戸部けいこ","秋田書店",5438]
["光とともに…～自閉症児を抱えて～　10巻","一般図書","Gk：こどもの健康","戸部 けいこ　著","秋田書店",10597]
["光とともに…～自閉症児を抱えて～　11巻","一般図書","Gk：こどもの健康","戸部 けいこ　著","秋田書店",10598]
["光とともに…～自閉症児を抱えて～　12巻","一般図書","Gk：こどもの健康","戸部 けいこ　著","秋田書店",10599]
["光とともに…～自閉症児を抱えて～　13巻","一般図書","Gk：こどもの健康","戸部 けいこ　著","秋田書店",10600]
["光とともに…～自閉症児を抱えて～　14巻","一般図書","Gk：こどもの健康","戸部 けいこ　著","秋田書店",10601]
["光とともに…～自閉症児を抱えて～　15巻","一般図書","Gk：こどもの健康","戸部 けいこ　著","秋田書店",10602]
["光とともに…～自閉症児を抱えて～　1巻","一般図書","Gk：こどもの健康","戸部 けいこ　著","秋田書店",10588]
["光とともに…～自閉症児を抱えて～　2巻","一般図書","Gk：こどもの健康","戸部 けいこ　著","秋田書店",10589]
["光とともに…～自閉症児を抱えて～　3巻","一般図書","Gk：こどもの健康","戸部 けいこ　著","秋田書店",10590]
["光とともに…～自閉症児を抱えて～　4巻","一般図書","Gk：こどもの健康","戸部 けいこ　著","秋田書店",10591]
["光とともに…～自閉症児を抱えて～　5巻","一般図書","Gk：こどもの健康","戸部 けいこ　著","秋田書店",10592]
["光とともに…～自閉症児を抱えて～　6巻","一般図書","Gk：こどもの健康","戸部 けいこ　著","秋田書店",10593]
["光とともに…～自閉症児を抱えて～　7巻","一般図書","Gk：こどもの健康","戸部 けいこ　著","秋田書店",10594]
["光とともに…～自閉症児を抱えて～　8巻","一般図書","Gk：こどもの健康","戸部 けいこ　著","秋田書店",10595]
["光とともに…～自閉症児を抱えて～　9巻","一般図書","Gk：こどもの健康","戸部 けいこ　著","秋田書店",10596]
["光とともに…～自閉症児を抱えて～　別巻","一般図書","Gk：こどもの健康","戸部 けいこ・河崎芽衣　著","秋田書店",10603]
["ひきこもる心のカルテ　心の扉をひらくカウ","医療の本","C：心の健康","井上　敏明","朱鷺書房",126]
["ひげのサムエルのおはなし","絵本","NULL","ビアトリクス・ポター","福音館書店",20563]
["美國","一般図書","C：心の健康","三枝濱子","ショーアート",10297]
["ひざ・腰・肩の痛み 痛みの原因と治療法　新版","医療の本","Fb：骨/関節/筋肉","三井　弘","主婦の友社",254]
["ビジネスマンの心の病気がわかる本 イラスト版","医療の本","C：心の健康","山本　晴義","講談社",98]
["ビジュアル版　がんの教科書","医療の本","Fe：がん","中川恵一","三省堂",8013]
["美少女シェフに手をだすな","絵本","NULL","宇賀神　水青","集英社",20609]
["美少女戦士セーラームーン①","絵本","NULL","武内直子","講談社",20709]
["陽だまりの病室で","医療の本","Gk：こどもの健康","亀井智泉","メディカ出版",5587]
["悲嘆の門（上）","一般図書","C：心の健康","宮部みゆき","新潮社",10516]
["悲嘆の門（下）","一般図書","C：心の健康","宮部　みゆき","新潮社",10518]
["悲嘆の門（中）","一般図書","C：心の健康","宮部　みゆき","新潮社",10517]
["棺のなかで目ざめたら","絵本","NULL","宇賀神　水青","集英社",20608]
["びっくりいきものずかん","絵本","NULL","荒木勝彦","学習研究社",20497]
["ひつじかいとうさぎ","絵本","NULL","うちだりさこ","福音館書店",20445]
["非定型うつ病 パニック症・社交不安症 (よくわかる最新医学)","医療の本","C：心の健康","貝谷久宣","主婦の友社",10269]
["ひどい便秘の治し方","医療の本","Fs：胃腸","松生恒夫","講談社",10272]
["ひとのからだたんけんずかん","絵本","NULL","荒木勝彦","学研",20536]
["ひと目でわかる！食品表示簡単チェックBOOK","医療の本","B：栄養/食事","ホームライフセミナー/編","青春出版社",8086]
["ひと目でわかる！図解人気折り紙","絵本","NULL","山口　真","主婦と生活社",20578]
["ひと目でわかる向精神薬の薬効比較　４","医療の本","D：薬","稲田　俊也","じほう",177]
["ひとりでうんち　できるかな","絵本","NULL","きむらゆういち","偕成社",20073]
["ひとりで暮らして気楽に老いる","一般図書","Gt：高齢者","吉沢久子","慶昌堂印刷",5602]
["泌尿器科の病気 排尿と性機能の障害","医療の本","Fp：泌尿器","矢島　通孝","日本医学館",1015]
["ひねもす山のなかまたち","絵本","NULL","むかいはつこ","文芸社",20510]
["ひねもす山のなかまたち（１）お日さまの音","絵本","K：こどもの本","むかいはつこ","文芸社",20922]
["ひねもす山のなかまたち（３）まいごの’たまご’","絵本","K：こどもの本","むかいはつこ","文芸社",20920]
["ひねもす山のなかまたち（４）すてきなプレゼント","絵本","K：こどもの本","むかいはつこ","文芸社",20921]
["ひねもす山のなかまたち（4）すてきなプレゼント","絵本","K：こどもの本","むかいはつこ","文芸社",21026]
["ひねもす山のなかまたち（５）赤いマフラー","絵本","NULL","むかいはつこ","文芸社",20509]
["ひねもす山のなかまたち（６）ドッカンさまがやってきた","絵本","K：こどもの本","むかいはつこ","文芸社",20923]
["皮膚科疾患ビジュアルブック新版","医療の本","Fo：皮膚/髪/爪","五十嵐敦之, 落合慈之","学研メディカル秀潤社",10285]
["皮膚のトラブルが治らないときの本 (みんなの女性外来)","医療の本","Fo：皮膚/髪/爪","対馬ルリ子","小学館",8126]
["皮膚の病気　（よくわかる最新医学シリーズ）","医療の本","Fo：皮膚/髪/爪","清佳浩　監修","主婦の友社",10559]
["皮膚病（シルバースキンケア）","医療の本","Gt：高齢者","種田　明生　著","日本医学館",644]
["ひまわり","絵本","K：こどもの本","荒井真紀","金の星社",21005]
["肥満症・痛風の食事療法　第２版","医療の本","V：メタボリックシンドローム","医歯薬出版　編","医歯薬出版",244]
["肥満の人の食事","医療の本","V：メタボリックシンドローム","小山勝一/宮崎靖子","健康同人社",5627]
["秘密","一般図書","Fa1：一般","東野圭吾","文藝春秋",10649]
["ヒューマンボディ－からだの不思議がわかる","医療の本","Ac：図解人体","尾岸　恵三子　監訳","エルゼビア・ジャパン",42]
["病院からもらった薬がよくわかる　薬の事典　２０１３年版","医療の本","D：薬","小林輝明","成美堂出版",10011]
["病院からもらった薬がよくわかるくすりの事典2018","医療の本","D：薬","片山志郎","成美堂出版",10479]
["病院で受ける検査がわかる本","医療の本","Ad：検査","高木 康/田口 進　著","法研",5348]
["病院の言葉を分かりやすく","医療の本","Aa：医学百科","国立国語研究所","勁草書房",10049]
["病院の言葉を分かりやすく","医療の本","Ab：専門医学事典","国立国語研究所「病院の言葉」委員会　編著","勁草書房",8039]
["病気がみえる　①：消化器　第3版","医療の本","Fs：胃腸",null,"メディックメディア",8001]
["病気がみえる　１０　産科　第２版","医療の本","Gh：妊娠/出産",null,"メディックメディア",1019]
["病気がみえる　②：循環器　第2版","医療の本","Fd：心臓・血管系",null,"メディックメディア",8002]
["病気がみえる　③：糖尿病・代謝・内分泌　第2版","医療の本","Vc：糖尿病",null,"メディックメディア",8003]
["病気がみえる　④：呼吸器","医療の本","Fn：呼吸器",null,"メディックメディア",8004]
["病気がみえる　⑤：血液","医療の本","Fc：血液/リンパ",null,"メディックメディア",8005]
["病気がみえる　6：免疫・膠原病・感染症","医療の本","Fg：伝染・感染症","医療情報科学研究所/編","メディックメディア",8089]
["病気がみえる　⑨：婦人科・乳腺外科　第2版","医療の本","Gg：女性の健康",null,"メディックメディア",8006]
["病気がみえる　№１　消化器","医療の本","Fs：胃腸","メディックメディア","メディックメディア",10016]
["病気がみえる　№２　循環器","医療の本","Fd：心臓・血管系","メディックメディア","メディックメディア",10012]
["病気がみえる　№３　糖尿病・代謝・内分泌","医療の本","Vc：糖尿病","メディックメディア","メディックメディア",10031]
["病気がみえる　№７　脳・神経","医療の本","Fm：脳・神経系","メディックメディア","メディックメディア",10013]
["病気がみえる　№８　腎・泌尿器","医療の本","Fr：腎臓","メディックメディア","メディックメディア",10015]
["病気がみえる vol.10: 産科　第3版","医療の本","Gh：妊娠/出産","医療情報科学研究所","メディックメディア",10179]
["病気がみえる　vol.11　運動器・整形外科","医療の本","Fb：骨/関節/筋肉","医療情報科学研究所","メディックメディア",10485]
["病気がみえる　Vol.2　循環器　第4版","医療の本","Fd：心臓・血管系","医療情報科学研究所","メディックメディア",10483]
["病気がみえる vol.4 呼吸器 第2版","医療の本","Fn：呼吸器","医療情報科学研究所","メディックメディア",10162]
["病気がみえる　Vol.5　血液　第2版","医療の本","Fc：血液/リンパ","医療情報科学研究所","メディックメディア",10484]
["病気がみえる vol.9: 婦人科・乳腺外科第3版","医療の本","Gg：女性の健康","医療情報科学研究所","メディックメディア",10177]
["病気がみえる＜vol.６＞免疫・膠原病・感染症","医療の本","Ff6：膠原病","医療情報科学研究所","メディックメディア",5643]
["病気がみえる①消化器　第5版","医療の本","Fs：胃腸","メデックメディア","メディックメディア",10356]
["病気がみえる③糖尿病・代謝・内分泌　第4版","医療の本","Vc：糖尿病","メデックメディア","メディックメディア",10372]
["病気がみえるvol.1　消化器　第5版","医療の本","Fs：胃腸","医療情報科学研究所","メディックメディア",10532]
["病気がみえるvol.10　産科　第4版","医療の本","Gh：妊娠/出産","医療情報科学研究所","メディックメディア",10541]
["病気がみえるvol.11　運動器・整形外科","医療の本","Fb：骨/関節/筋肉","医療情報科学研究所","メディックメディア",10542]
["病気がみえるvol.2　循環器　第4版","医療の本","Fd：心臓・血管系","医療情報科学研究所","メディックメディア",10533]
["病気がみえるvol.3　糖尿病・代謝・内分泌　第4版","医療の本","Vc：糖尿病","医療情報科学研究所","メディックメディア",10534]
["病気がみえるvol.4　呼吸器　第3版","医療の本","Fn：呼吸器","医療情報科学研究所","メディックメディア",10535]
["病気がみえるvol.5　血液　第2版","医療の本","Fc：血液/リンパ","医療情報科学研究所","メディックメディア",10536]
["病気がみえるvol.6　免疫・膠原病・感染症　第2版","医療の本","Ff：免疫","医療情報科学研究所","メディックメディア",10537]
["病気がみえるvol.7　脳・神経　第2版","医療の本","Fm：脳・神経系","医療情報科学研究所","メディックメディア",10538]
["病気がみえるvol.8　腎・泌尿器　第2版","医療の本","Fr：腎臓","医療情報科学研究所","メディックメディア",10539]
["病気がみえるvol.9　婦人科・乳腺外科　第4版","医療の本","Gg：女性の健康","医療情報科学研究所","メディックメディア",10540]
["病気にならない15の食習慣　楽しく生きる長寿の秘訣","医療の本","Gt：高齢者","日野原重明、劉影","青春出版社",8101]
["病気のこと子どもに伝える？伝えない？～迷っているあなたへ～","医療の本","Z：DVD","福田護","武田薬品工業",10124]
["病気ユニーク事典","医療の本","Aa：医学百科","北岡　建樹　著","南山堂",23]
["病気を持つ子どもと家族のためのおうちで暮らすガイドブック","医療の本","Gk：こどもの健康","前田浩利","メディカ出版",10454]
["標準・傷病名事典　Ver2.0 全診療科対応／ＩＣＤ－","医療の本","Aa：医学百科","寺島　裕夫　編著","医学通信社",989]
["標準・傷病名事典　Ver3.0","医療の本","Aa：医学百科","寺島裕夫","医学通信社",10482]
["広岡式　こころの病の治し方","医療の本","C：心の健康","広岡　清伸　著","日経BP社",138]
["ビロードのうさぎ","絵本","K：こどもの本","マージェリィ・W・ビアンコ","ブロンズ新社",21027]
["貧血の人の食事","医療の本","Fc：血液/リンパ","代田　常道　病態","女子栄養大学出版部",300]
["ピンちゃんポンちゃんだ～いすき！","絵本","NULL","わたせせいぞう","講談社",20205]
["不安な気持ちをしずめる方法","医療の本","C：心の健康","キャロライン・カー","PHP研究所",5502]
["プーさんのおさんぽ","絵本","NULL","村田さちこ","世界文化社",20356]
["ぷうちゃんのちいさいマル","絵本","NULL","東直子","岩崎書店",20730]
["ぶーぶーぶー","絵本","NULL","こかぜさち","福音館書店",20009]
["フェアリーたちの魔法の夜","絵本","NULL","あんびるやすこ","ポプラ社",20742]
["フォローアップ検査ガイド","医療の本","Ad：検査","北村　聖　他編","医学書院",55]
["武器としての交渉思考","一般図書","C：心の健康","瀧本哲史","星海社",10128]
["武器より一冊の本をください　少女マララ・ユスフザイの祈り","一般図書","C：心の健康","ヴィヴィアナ・マッツァ","金の星社",10397]
["ふしぎだね！？アスペルガー症候群のおともだち","医療の本","Gk：こどもの健康","内山登紀夫","ミネルヴァ書房",8103]
["不思議の国のアリス","絵本","K：こどもの本","ルイス・キャロル","岩波書店",20788]
["ふしぎふにゃふにゃフランケン","絵本","NULL","立花尚之介","岩崎書店",20169]
["不自由な心","一般図書","C：心の健康","白石一文","角川書店",10442]
["防ぐ、治す胆のう・胆管の病気","医療の本","Ft：肝臓/胆のう/膵臓","税所　宏光","講談社",682]
["ブタヤマさんたらブタヤマさん","絵本","NULL","長　新太","文研出版",20382]
["ふたりはなかよし","絵本","NULL","ジョアンナ・コール　ほか","小峰書店",20624]
["ふつうのくま","絵本","NULL","佐野洋子","講談社",20416]
["不登校・ひきこもりの心がわかる本 イラスト版","医療の本","Gk：こどもの健康","磯部　潮","講談社",772]
["不妊治療ワークブック 年齢・原因別の「戦略」がわかる","医療の本","Gh：妊娠/出産","日経メディカル","日経BP社",737]
["ふぶきのあした⑥","絵本","NULL","木村裕一","講談社",20760]
["不眠症とつきあうコツ","医療の本","C：心の健康","伊藤　洋　編著","フジメディカル",152]
["ふゆのいきものずかん","絵本","NULL","荒木勝彦","学習研究社",20498]
["ふゆのおばけ","絵本","K：こどもの本","せなけいこ","金の星社",20888]
["フラニーと世界の国々","絵本","NULL","ほしのまりこ","ライツエンタテイメント",20085]
["プラハの春","一般図書","C：心の健康","春江一也","集英社",10141]
["フランシスのいえで","絵本","K：こどもの本","ラッセル・ホーバン","好学社",20864]
["フランシスのおともだち","絵本","K：こどもの本","ラッセル・ホーバン","好学社",20854]
["振り回されない「がん」医療","医療の本","Fe：がん","福嶋敬宜","ワニブックス",10339]
["ブル、わらってよ！","絵本","NULL","ローレンス","大日本絵画",20023]
["フルーツポンチがすき！！","絵本","NULL","MARVY-Q","タリーズコーヒー",20026]
["ブルーナの０歳からの本２　ミッフィーⅡ","絵本","NULL","ブルーナ","講談社",20063]
["ブルーナの0歳からの本３　たべもの","絵本","NULL","ブルーナ","トーア出版",20064]
["ブルーナの0歳からの本４　おもちゃ","絵本","NULL","ブルーナ","トーア出版",20065]
["ブルーナの0歳からの本５　どうぶつⅠ","絵本","NULL","ブルーナ","トーア出版",20066]
["ブルーナの0歳からの本７　うちのなかのもの","絵本","NULL","ブルーナ","トーア出版",20067]
["ブルーナの0歳からの本８　ぼくのものわたしのもの","絵本","NULL","ブルーナ","講談社",20068]
["プレゼント","絵本","NULL","おとたけひろただ","中央法規出版",20589]
["プレゼント　プレゼント","絵本","NULL","うめだ よしこ","新日本出版社",20421]
["フレディの遺言","医療の本","Gt7：認知症","フレディ松川","朝日新聞出版",8081]
["プロコフィエフ　音楽はだれのために？","絵本","NULL","ひのまどか","リブリオ出版",20378]
["フロプシーのこどもたち","絵本","NULL","ビアトリクス・ポター","福音館書店",20552]
["ふわふわのおはなし","絵本","NULL","ひろかわさえこ","あかね書房",20613]
["文化現象としての癒し　民間医療の現在","医療の本","C：心の健康","佐藤　純一　編","メディカ出版",153]
["分子生物学・免疫学キーワード辞典　第２版","医療の本","Ab：専門医学事典","永田　和宏　他編","医学書院",27]
["閉経後","医療の本","Gg：女性の健康","宮崎　亮一郎　著","日本医学館",699]
["ベイリーとさっちゃん","一般図書","Gk：こどもの健康","田村　朗","かまくら春秋社",10505]
["平和の種をまく　ボスニアの少女エミナ","絵本","NULL","大塚敦子","岩崎書店",20235]
["ペーター・プムのともだちさがし","絵本","NULL","イェシュケ","フレーベル館",20146]
["別冊「プラクティス」糖尿病の生活支援Q＆A 看護と食事療法のポイント","医療の本","Vc：糖尿病","(社)日本糖尿病協会","医歯薬出版",980]
["ベニー　フランスへいく","医療の本","Fm：脳・神経系","ﾛｰｽﾞﾏﾘｰ･ﾊﾞｯﾁｪﾗｰ","日本二分脊椎･水頭症研究振興団体",10090]
["ベビーマッサージ","医療の本","Gh：妊娠/出産","能登春男/あきこ","PHP研究所",5564]
["部屋とこころのシンプルな掃除","一般図書","C：心の健康","ドミニック・ローホー","幻冬舎",10508]
["ペンギンビッグハウス","絵本","NULL","クリスティン・イェレミース","ブロンズ新社",20732]
["変形性股関節症の運動・生活ガイド　第３版","医療の本","Fb：骨/関節/筋肉","杉岡　洋一　監修","日本醫事新報社",277]
["変形性ひざ関節症　（よくわかる最新医学シリーズ）","医療の本","Fb：骨/関節/筋肉","八木貴史　著","主婦の友社",10573]
["弁護士が教える気弱なあなたの交渉術","一般図書","C：心の健康","谷原　誠","日本実業出版社",5416]
["ベンジャミンバニーのおはなし","絵本","NULL","ビアトリクス・ポター","福音館書店",20551]
["へんてこ宝さがし・２　マンドラゴラを追え！","絵本","NULL","三田村信行","あかね書房",20210]
["へんてこ宝さがし・３　むかし砂漠はどこだ！","絵本","NULL","三田村信行","あかね書房",20209]
["放射線検査説明の手引き","医療の本","Ad：検査","日本診療放射線技師会","医療科学社",10607]
["ボードブックノンタンＡ・Ｂ・Ｃ","絵本","NULL","キヨノサチコ","偕成社",20004]
["ホームズ君の賢い病院のかかり方","医療の本","I：患者学","増村　道雄","神戸新聞総合出版",853]
["ホームレス中学生","一般図書","C：心の健康","田村裕","ワニブックス",10396]
["ぼくがあのこをきらいなわけ","絵本","NULL","礒　みゆき","ポプラ社",20111]
["ぼくがいちばん！","絵本","K：こどもの本","ルーシー・カズンズ","岩崎書店",20851]
["ぼくがきょうりゅうだったとき","絵本","K：こどもの本","まつおかたつひで","ポプラ社",20859]
["ぼくが父さんなら","絵本","K：こどもの本","シャーロット・ゾロトウ","童話屋",20783]
["牧場犬になったマヤ","一般図書","K：こどもの本","中島　晶子","ハート出版",20841]
["ぼくってかわいそう！","絵本","K：こどもの本","パメラ・ダンカン・エドワーズ","フレベール館",21021]
["ぼくとおかあさん","絵本","NULL","宮本忠夫","くもん出版",20158]
["ぼくのいのち","絵本","NULL","細谷亮太","岩崎書店",20176]
["ぼくのうしろ足はタイヤだよ　車いすの犬チャンプ","絵本","NULL","池田　まき子","ハート出版",20440]
["ボクのせいかも・・・","医療の本","C：心の健康","プルスアルハ","ゆまに書房",10612]
["僕のナゼ、私のナゼ　　わたしたちはなぜうまれてきたの？","絵本","K：こどもの本","自遊空間ゼロ","編集工房ＤＥＰ",20941]
["僕のメジャースプーン","一般図書","Fa1：一般","辻村深月","講談社",10634]
["ぼくは赤ちゃんがほしいの","絵本","NULL","シャーロット・ズロトウ","童話屋",20720]
["ぼくは明日、昨日のきみとデートする","一般図書","Fa1：一般","七月隆文","宝島社",10624]
["ボクは船長","絵本","K：こどもの本","クリスティーネ・メルツ","童話屋",20782]
["ぼくびょうきじゃないよ","絵本","NULL","角野栄子","福音館書店",20456]
["ぼくらは少年探偵団","絵本","NULL","日本児童文学者協会","偕成社",20596]
["ぼくをすてないで","絵本","NULL","なりゆきわかこ","ハート出版",20190]
["ぼくをだいて","絵本","NULL","はたよしこ","偕成社",20355]
["ポケット医学英和辞典　第２版","医療の本","Aa：医学百科","泉　孝英　編","医学書院",10]
["ポケット版　基本薬事典　第３版","医療の本","D：薬","岡島　重孝　編集","照林社",178]
["ポケット版　消化器外科ケアマニュアル","医療の本","Fs：胃腸","宇佐美　眞　他編著","照林社",224]
["ポケット版　整形外科ケアマニュアル","医療の本","Fb：骨/関節/筋肉","土方　浩美　編著","照林社",271]
["ポケット版　脳神経外科ケアマニュアル","医療の本","Fm：脳・神経系","大井　静雄　編著","照林社",595]
["ポケネコにゃんころりん　ポケットの中のふしぎネコ","絵本","NULL","山本悦子","童心社",20666]
["ポケモンおもしろことわざ","絵本","NULL","げゑせんうえの","永岡書店",20574]
["星がひとつほしいとの祈り","一般図書","Fa1：一般","原田マハ","実業之日本社",10619]
["星新一　YAセレクション","一般図書","C：心の健康","星新一","理論社",10469]
["星新一　ちょっと長めのショートショート　七人の犯罪者","一般図書","C：心の健康","星新一","理論社",10470]
["星の王子さま","一般図書","C：心の健康","ｻﾝ=ﾃｸﾞｼﾞｭﾍﾟﾘ","新潮社",10504]
["星を見に行く","絵本","NULL","えびなみつる","誠文堂新光社",20312]
["ほたる先生と「とべないホタル」たち","絵本","NULL","綾野まさる","ハート出版",20240]
["北極のムーシカミーシカ","絵本","NULL","いぬいとみこ","理論社",20586]
["ホップステップ　食物アレルギー教室","医療の本","Gk：こどもの健康","柴田瑠美子、伊藤和枝","南江堂",8062]
["ほっぺちゃん","絵本","NULL","名取なずな","角川書店",20671]
["骨・軟部腫瘍　臨床・画像・病理　改訂第2版","医療の本","Fb：骨/関節/筋肉","大塚隆信・福田国彦・小田義直","診断と治療社",10337]
["ホバート","絵本","NULL","ブリッグズ","金の星社",20207]
["ほんとうに心があったかくなる話　４年生","絵本","NULL","日本児童文学者協会","ポプラ社",20678]
["ほんとうの南極犬物語","絵本","NULL","綾野まさる","ハート出版",20629]
["ほんとうのハチこうものがたり","絵本","NULL","あやのまさる","ハート出版",20221]
["本人と家族のための痴呆症介護百科","医療の本","Gt7：認知症","須貝　佑一　他著","永井書店",828]
["煩悩リセット稽古帖","一般図書","C：心の健康","小池龍之介","ディスカヴァー・トゥエンティワン",10380]
["ほんやのいぬくん","絵本","K：こどもの本","ルイーズ・イエーツ","岩崎書店",20863]
["まいど！医療的ケア報告書","医療の本","Fn5：人工呼吸","人口呼吸器をつけた子の親の会","人口呼吸器をつけた子の親の会",10100]
["毎日の食事のカロリーガイド","医療の本","B：栄養/食事","香川芳子","女子栄養大学出版部",10061]
["毎日ムック　乳がんから身を守る本　告知から手術、心のケアまで","医療の本","Gg6：乳がん",null,"毎日新聞社",5532]
["前足だけの白い猫マイ","絵本","NULL","今泉耕介","ハート出版",20633]
["まこちゃんしってるよ","絵本","NULL","松谷みよ子","講談社",20393]
["マジックの鉄人","絵本","NULL","稲村八大","ポプラ社",20746]
["マシュー先生とゆかいなヒルトップ病院01　ゾウのバーチュー、お兄ちゃんになる","絵本","K：こどもの本","ニコラス・アラン","偕成社",20942]
["マシュー先生とゆかいなヒルトップ病院02　ムカデのシリルは名かんとく","絵本","K：こどもの本","ニコラス・アラン","偕成社",20943]
["マシュー先生とゆかいなヒルトップ病院03　コウモリのルビィに愛の手を","絵本","K：こどもの本","ニコラス・アラン","偕成社",20944]
["マシュー先生とゆかいなヒルトップ病院04　３びきの子ブタとさびしがりやのオオカミ","絵本","K：こどもの本","ニコラス・アラン","偕成社",20945]
["マシュー先生とゆかいなヒルトップ病院05　勇気をだして！カモのデリク","絵本","K：こどもの本","ニコラス・アラン","偕成社",20946]
["マシュー先生とゆかいなヒルトップ病院06　パメラとじまんの髪","絵本","K：こどもの本","ニコラス・アラン","偕成社",20947]
["マシュー先生とゆかいなヒルトップ病院07　子ザルのマイーティンは絵の天才！？","絵本","K：こどもの本","ニコラス・アラン","偕成社",20948]
["マシュー先生とゆかいなヒルトップ病院08　ヒルトップのクリスマス","絵本","K：こどもの本","ニコラス・アラン","偕成社",20949]
["マシュー先生とゆかいなヒルトップ病院09　マシュー先生とお兄さん","絵本","K：こどもの本","ニコラス・アラン","偕成社",20950]
["マシュー先生とゆかいなヒルトップ病院10　カメのおばあちゃんのさいごのしごと","絵本","K：こどもの本","ニコラス・アラン","偕成社",20951]
["魔女とふしぎな指輪","絵本","NULL","ルース・チュウ","フレーベル館",20543]
["魔女のステキな冬じたく","絵本","NULL","あんびるやすこ","ポプラ社",20744]
["魔女の宅急便","絵本","K：こどもの本","宮崎駿","徳間書店",20819]
["マタニティ　ホワイトブック","医療の本","Gh：妊娠/出産","松峯　寿美","朝日出版社",746]
["マタニティアセスメントガイド　新訂","医療の本","Gh：妊娠/出産","吉沢　豊予子　他編著","真興交易医書出版",722]
["マタニティブルー","医療の本","Gh：妊娠/出産","木村もちこ","サイマル出版会",5563]
["まちねずみジョニーのおはなし","絵本","NULL","ビアトリクス・ポター","福音館書店",20558]
["末期がんの逆転の治療法","医療の本","Fe：がん","前山和宏","幻冬舎",10338]
["マッチうりの少女・はだかの王さま・イーダちゃんの花","絵本","K：こどもの本","立原えりか","講談社",20994]
["マネジメントツールとしての看護必要度 第２版","医療の本","Ae：臨床看護","嶋森　好子;筒井　孝子","中山書店",991]
["まほうのえのぐ","絵本","NULL","林明子","福音館書店",20488]
["幻の女","一般図書","C：心の健康","ウイリアム・アイリッシュ","株式会社　早川書房",10514]
["ママ、生まれる前から大好きだよ!　―胎内記憶といのちの不思議","医療の本","Gh：妊娠/出産","池川 明　著","学習研究社",5378]
["ままならないから私とあなた","一般図書","Fa1：一般","朝井リョウ","文藝春秋",10630]
["豆の上で眠る","一般図書","Fa1：一般","湊　かなえ","新潮社",10639]
["まりーちゃんのくりすます","絵本","NULL","与田準一","岩波書店",20368]
["マンガ「寝たきり婆あ」わがまま対策マニュアル","一般図書","Gt：高齢者","門野晴子","講談社",5601]
["マンガ坂本龍馬伝！","一般図書","C：心の健康","風槇絃一","三笠書房",10446]
["まんがで見る手術と処置ーカラー版","医療の本","L：麻酔/手術/救急","高橋俊雄","照林社",5658]
["マンガでわかる! 統合失調症〔家族の対応編〕","医療の本","C：心の健康","中村ユキ　著","日本評論社",10553]
["マンガでわかる！統合失調症","医療の本","C：心の健康","中村ユキ","日本評論社",10148]
["マンガでわかる一次救急・救命処置―医療・介護スタッフ必修","医療の本","L：麻酔/手術/救急","安間文彦","メディカ出版",8115]
["マンガでわかる生活習慣病　糖尿病をやっつけろ！","医療の本","Vc：糖尿病","加来浩平","武田薬品工業",5322]
["まんげつのよるに⑦","絵本","NULL","木村裕一","講談社",20761]
["まんげつのよるまでまちなさい","絵本","NULL","ブラウン","ペンギン社",20127]
["慢性腎臓病の自己管理","医療の本","Fr：腎臓","今井圓裕","医療ジャーナル社",10073]
["慢性腎不全保存期のケア　第３版　寛解を目","医療の本","Fr：腎臓","佐中　孜　著","医学書院",687]
["慢性頭痛とつきあう法 イラスト版","医療の本","Fm：脳・神経系","寺本　純","講談社",589]
["慢性頭痛の診療ガイドライン 市民版","医療の本","Fm：脳・神経系","日本頭痛学会","医学書院",10284]
["まんてんべんとう","絵本","K：こどもの本","くすのきしげのり","フレーベル館",21020]
["マンモグラフィガイドライン　第２版増補版","医療の本","Gg6：乳がん","日本医学放射線学会","医学書院",723]
["マンモグラフィ診断の進め方とポイン　第３版","医療の本","Gg6：乳がん","東野　英利子　他著","金原出版",1018]
["みえるとか みえないとか","医療の本","Gk：こどもの健康","ヨシタケシンスケ","アリス館",10611]
["みさきのこうま","絵本","NULL","市川宣子","チャイルド本社",20358]
["みずのいきものずかん","絵本","NULL","荒木勝彦","学研",20534]
["ミッキーマウス　たからさがし　ディズニーとびだししかけえほん","絵本","NULL","ディズニー","大日本絵画",20138]
["ミッフィーの早引き 栄養の基本ハンドブック","医療の本","B：栄養/食事","中村丁次/足立香代子/川島由起子","エクスナレッジ",5349]
["ミッフィーの早引き薬の使い方ハンドブック","医療の本","D：薬","根橋一夫　著","エクスナレッジ",5353]
["みつやくんのマークX","絵本","NULL","渡辺茂男","新栄堂書店",20199]
["みにくいあひるの子・おやゆびひめ","絵本","K：こどもの本","立原えりか","講談社",20993]
["三びきのくま・ジャックとまめの木","絵本","K：こどもの本","渡辺茂男","講談社",20995]
["三びきの子ぶた","絵本","NULL","梯有子（イギリス民話）","河出書房新社",20614]
["三人屋","一般図書","Fa1：一般","原田ひ香","実業之日本社",10621]
["ミフィーのめくるえほん　こんにちはあそびましょ","絵本","NULL","ブルーナ","講談社",20006]
["耳ぶくろ","一般図書","C：心の健康","日本エッセイストクラブ","文藝春秋",10202]
["未来PUREボイス","絵本","NULL","五十嵐かおる","小学館",20710]
["みるみるナットク血液疾患　病態生理がわかればケアがわかる","医療の本","Fc：血液/リンパ","須永真司","文光堂",10287]
["民間療法－誰にもできる－食と健康の古　５","医療の本","H：代替療法","農文協　編","農山漁村文化協会",847]
["みんな　とぶよ！","絵本","NULL","いしかわこうじ","童心社",20011]
["みんな知りたい　遺伝のはなし","医療の本","Fa1：一般","藤田潤","京都新聞出版センター",10093]
["みんなといっしょにあそべるよ","医療の本","Gk：こどもの健康","九十九そのえ","日本二分脊椎･水頭症研究振興団体",10319]
["みんなの防災ハンドブック","医療の本","L：麻酔/手術/救急","草野かおる","ディスカヴァー・トゥエンティワン",10084]
["昔ばなしのおりがみえほん","絵本","NULL","丹羽 兌子","泉書房",20581]
["夢幻花","一般図書","C：心の健康","東野圭吾","PHP研究所",10452]
["無印ＯＬ物語","一般図書","C：心の健康","群ようこ","角川書店",10422]
["無印おまじない物語","一般図書","C：心の健康","群ようこ","角川書店",10426]
["無印親子物語","一般図書","C：心の健康","群ようこ","角川書店",10425]
["無印結婚物語","一般図書","C：心の健康","群ようこ","角川書店",10424]
["無印失恋物語","一般図書","C：心の健康","群ようこ","角川書店",10423]
["胸のしこりが気になる人が読む本　改訂版","医療の本","Gg6：乳がん","日馬　幹弘　著","扶桑社",728]
["むらさきふうせん","絵本","NULL","谷川俊太郎","BL出版",20086]
["名医のわかりやすい狭心症・心筋梗塞　４版","医療の本","Fd：心臓・血管系","小船井　良夫　著","同文書院",1006]
["メイシーちゃんのさがしもの","絵本","NULL","カズンズ","偕成社",20003]
["明治のベースボール","一般図書","C：心の健康","日本エッセイストクラブ","文藝春秋",10204]
["名探偵コナン　11人目のストライカー","絵本","K：こどもの本","水稀しま","小学館",20874]
["名探偵コナン　異次元の狙撃手","絵本","K：こどもの本","水稀しま","小学館",20870]
["名探偵コナン　絶海の探偵","絵本","K：こどもの本","水稀しま","小学館",20873]
["目がぐんぐん若返るNo．1自力療法　老眼、近視の視力が急向上！緑内障、白内障、飛蚊症、　（Makino　mook＊マキノ出版ムック）","医療の本","Fh：目","マキノ出版","マキノ出版",10252]
["めがねうさぎ","絵本","NULL","せなけいこ","ポプラ社",20098]
["メグとモグのおはなし　メグむじんとうにいく","絵本","NULL","ニコル","偕成社",20015]
["めざせ！仕事のプロ　ﾓﾁﾍﾞｰｼｮﾝが上がるﾜｸﾜｸ仕事術","一般図書","C：心の健康","小林英二","シーアンドアール研究所",5402]
["めざせクラスのクイズ王　ずっこけクイズ王","絵本","NULL","ながたみかこ","大泉書店",20238]
["メタボ外来のやせる弁当と作りおき","医療の本","V：メタボリックシンドローム","京都医療ｾﾝﾀｰ","セブン＆アイ出版",10322]
["メタボ外来のやせるレシピ","医療の本","V：メタボリックシンドローム","京都医療ｾﾝﾀｰ","セブン＆アイ出版",10212]
["メタボリックシンドローム","医療の本","V：メタボリックシンドローム","和田　高士　著","保健同人社",929]
["メチャクサ","絵本","NULL","ジョナサン・アレン","アスラン書房",20385]
["メディクイックブック（2015年版　第1部）　患者さんによくわかる薬の説明","医療の本","D：薬","鈴木康夫（リウマチ内科学）","金原出版",10279]
["目でみる救命救急処置　新訂　第４版","医療の本","L：麻酔/手術/救急","杉本　侃　編著","日本臨牀社",990]
["眼で見る小児のリハビリテーション　改２","医療の本","Gk：こどもの健康","栗原　まな　著","診断と治療社",782]
["目の病気がよくわかる本","医療の本","Fh：目","大鹿哲郎","講談社",10349]
["目の病気の最新治療 緑内障・糖尿病網膜症・白内障・黄斑変性症（よくわかる最新医学シリーズ）","医療の本","Fh：目","杉田美由紀","主婦の友社",10158]
["めまい・耳鳴り　改訂新版","医療の本","Fi：耳/鼻/喉","馬場　俊吉　著","保健同人社",490]
["めまいは寝てては治らない　第2版","医療の本","Fi：耳/鼻/喉","新井基洋","中外医学社",8093]
["メルクマニュアル医学百科　最新家庭版","医療の本","Aa：医学百科",null,"日経BP社",5]
["メル友からのメッセージ","絵本","NULL","増原亜紀子","ハート出版",20308]
["メル友からのメッセージ","絵本","NULL","増原亜紀子","ハート出版",20323]
["免疫・アレルギー疾患用語解説集","医療の本","Ab：専門医学事典","足立　満　監修","エクセル企画出",28]
["免疫力を鍛えるスーパー食事法 イラスト版","医療の本","Fg：伝染・感染症","星野　泰三","講談社",454]
["も～お～うしです","絵本","NULL","うしのえほんをつくる会","開放出版社",20071]
["もう怖くない！抗がん剤の吐き気は、ここまで予防できる","医療の本","Z：DVD","中村清吾","武田薬品工業",10126]
["盲導犬チャンピィ　日本初盲導犬を育てた塩屋賢一ものがたり","絵本","NULL","桑原崇寿","ハート出版",20272]
["もぐらくんとふゆ","絵本","NULL","ドスコチロヴァー","偕成社",20118]
["もぐらバス","絵本","NULL","佐藤雅彦","偕成社",20520]
["もしも、がんが再発したら","医療の本","Fe：がん","国立がん研究センター、がん対策情報センター","英治出版",5333]
["もしも１００人の糖尿病村があったら","医療の本","Vc：糖尿病","坂根　直樹　著","診断と治療社",956]
["もし闇夜がこわかったら 夜空に星をくわえましょう","絵本","NULL","クーパー・エデンズ","ほるぷ出版",20407]
["もっと自然に! 不妊治療","医療の本","Gh：妊娠/出産","加藤 修/竹原 祐志 著","主婦の友社",5379]
["ものいうからだ","医療の本","C：心の健康","南雲直二","講談社",5552]
["もの食う人びと","一般図書","C：心の健康","辺見庸","共同通信社",10199]
["モペットちゃんのおはなし","絵本","NULL","ビアトリクス・ポター","福音館書店",20554]
["ももいろのきりん","絵本","K：こどもの本","中川季枝子","福音館書店",20924]
["ももたろう・こぶとり","絵本","K：こどもの本","松谷みよ子","講談社",20982]
["モモちゃんとアカネちゃん","絵本","NULL","松谷みよ子","講談社",20500]
["モモちゃんとプー","絵本","NULL","松谷みよ子","講談社",20531]
["もりのおかしやさん","絵本","K：こどもの本","舟崎靖子","偕成社",20917]
["森のこずえちゃん","絵本","NULL","松居スーザン","童心社",20201]
["もりのじてんしゃやさん","絵本","K：こどもの本","舟崎靖子","偕成社",20918]
["もりのスパゲッティやさん","絵本","NULL","丹崎靖子","偕成社",20097]
["もりのとこやさん","絵本","NULL","いわせななみ","タリーズコーヒー",20107]
["もりのなか","絵本","K：こどもの本","マリー・ホール・エッツ","福音館書店",20892]
["森のネズミの冬ごもり","一般図書","K：こどもの本","岡野薫子","ポプラ社",20823]
["もりのびょういん","絵本","K：こどもの本","渡辺鉄太","福音館書店",20862]
["モルヒネと緩和ケア質問箱１０１","医療の本","Fe7：緩和ケア","濱野　恭一　監修","メディカルレビュー社",383]
["モンジュイックのふうくろう","絵本","K：こどもの本","さえぐさひろこ","ブックローン出版",20934]
["モンプチ人形のぼうけん旅行","絵本","NULL","舟崎克彦","金の星社",20215]
["薬剤識別コード事典　平成２１年改訂版★","医療の本","D：薬","医薬ジャーナル社編集","医薬ジャーナル社",984]
["薬剤識別コード事典　平成29年改訂版","医療の本","D：薬","医薬ジャーナル社編集部","医薬ジャーナル社",10480]
["やさいさん","絵本","K：こどもの本","tupera tupera","学研",20891]
["やさしいＣＯＰＤの自己管理　慢性閉塞性肺","医療の本","Fn6：COPD","北村　諭","医薬ジャーナル社",630]
["やさしいＣＯＰＤリハビリテーションの自己","医療の本","Fn6：COPD","本間　生夫　監修","医薬ジャーナル社",631]
["やさしいC型肝炎の自己管理","医療の本","Ft5：C型肝炎","岡上武","医療ジャーナル社",10357]
["やさしいC型肝炎の自己管理　改訂版-その最新情報-","医療の本","Ft5：C型肝炎","岡上武　著","医薬ジャーナル社",8034]
["やさしいアトピー予防の自己管理","医療の本","Gk：こどもの健康","岸田　勝　著","医薬ジャーナル社",811]
["やさしいアレルギー性鼻炎の自己管理","医療の本","Fi：耳/鼻/喉","大久保公裕　著","医薬ジャーナル社",8029]
["やさしい胃がん外来化学療法の自己管理　追補改訂版","医療の本","Fs5：胃がん","瀧内比呂也　編","医薬ジャーナル社",8028]
["やさしい胃の手術後の自己管理","医療の本","Fs：胃腸","中村　肇　他編","医薬ジャーナル社",226]
["やさしいインスリン治療の自己管理　改訂版","医療の本","Vc：糖尿病","松澤　佑次　監","医薬ジャーナル社",968]
["やさしいうつ病・うつ状態のマネジメ　改訂","医療の本","C：心の健康","桂　戴作　編","医薬ジャーナル社",128]
["やさしい折りかた　かわいいおりがみ","絵本","NULL","三村あつ子","大泉書店",20641]
["やさしい過活動膀胱の自己管理","医療の本","Fp：泌尿器","武田正之　編","医薬ジャーナル社",8022]
["やさしい肩の痛みの自己管理","医療の本","Fb：骨/関節/筋肉","井樋栄二　編","医薬ジャーナル社",8027]
["やさしい花粉症の自己管理　改訂版","医療の本","Ff5：アレルギー","奥田　稔　著","医薬ジャーナル社",497]
["やさしい肝臓病の自己管理　改訂版","医療の本","Ft：肝臓/胆のう/膵臓","林紀夫　編","医薬ジャーナル社",8031]
["やさしいがんの痛みの自己管理　改訂３版","医療の本","Fe：がん","武田　文和　著","医薬ジャーナル社",385]
["やさしい逆流性食道炎の自己管理","医療の本","Fs：胃腸","中村　孝司　編","医薬ジャーナル社",532]
["やさしい禁煙の方法と自己管理","医療の本","Ei：禁煙","北村　諭","医薬ジャーナル社",237]
["やさしいクローン病の自己管理","医療の本","Fs7：クローン病","松澤　佑次　監","医薬ジャーナル社",557]
["やさしい血液疾患　第５版","医療の本","Fc：血液/リンパ","押味　和夫　著","日本醫事新報社",1003]
["やさしい更年期障害の自己管理","医療の本","Gg：女性の健康","青野　敏博　編","医薬ジャーナル社",703]
["やさしい高齢者肝疾患の自己管理","医療の本","Ft：肝臓/胆のう/膵臓","八橋弘　編","医薬ジャーナル社",8020]
["やさしい骨粗鬆症の自己管理　改訂版","医療の本","Fb7：骨粗鬆症","森井　浩世　著","医薬ジャーナル社",291]
["やさしい小腸・大腸疾患の自己管理","医療の本","Fs：胃腸","寺野　彰　編","医薬ジャーナル社",533]
["やさしい食後高血糖の自己管理","医療の本","Vc：糖尿病","加来浩平　編","医薬ジャーナル社",8021]
["やさしい食物アレルギーの自己管理　改訂版","医療の本","Ff5：アレルギー","馬場　実　編","医薬ジャーナル社",1010]
["やさしい頭痛の自己管理","医療の本","Fm：脳・神経系","間中　信也","医薬ジャーナル社",597]
["やさしいストーマケア","医療の本","Fs：胃腸","青木和恵　その他","桐書房",5488]
["やさしい生活習慣病の自己管理　改訂版","医療の本","V：メタボリックシンドローム","北村　諭　著","医薬ジャーナル社",931]
["やさしい前立腺疾患のマネジメント","医療の本","Fp：泌尿器","武田　正之　編","医薬ジャーナル社",661]
["やさしい造血幹細胞移植後のＱＯＬの向上","医療の本","Fe：がん","室井一男","医薬ジャーナル社",5476]
["やさしい造血幹細胞移植へのアプローチ　改訂版","医療の本","Fc：血液/リンパ","小寺良尚　編","医薬ジャーナル社",8025]
["やさしい早朝高血圧の自己管理","医療の本","Vb：高血圧","苅尾　七臣　著","医薬ジャーナル社",943]
["やさしい大腸がん外来化学療法の自己管理","医療の本","Fs6：大腸がん","朴　成和　編","医薬ジャーナル社",554]
["やさしいてんかんの自己管理　ポケット版","医療の本","Fm：脳・神経系","八木　和一　著","医薬ジャーナル社",596]
["やさしい透析患者の自己管理　改訂３版","医療の本","Fr5：透析","秋澤忠男　編","医薬ジャーナル社",8023]
["やさしい透析患者の自己管理　改訂4版","医療の本","Fr5：透析","秋澤忠男","医療ジャーナル社",10353]
["やさしい透析患者のためのリン・カルシウム代謝の自己管理","医療の本","Fr5：透析","深川雅史　編著","医薬ジャーナル社",8032]
["やさしい糖尿病食の献立と料理　腎症予防の","医療の本","Vc：糖尿病","穐山　道子　他編","医薬ジャーナル社",971]
["やさしい糖尿病の外食のコツと心得　改訂版","医療の本","Vc：糖尿病","山崎　義光　他編著","医薬ジャーナル社",1022]
["やさしい糖尿病の外食のコツと心得　改訂版","医療の本","Vc：糖尿病","山崎義光　他編著","医薬ジャーナル社",8030]
["やさしいネフローゼ症候群の自己管理","医療の本","Fr：腎臓","斉藤喬雄　編","医薬ジャーナル社",8024]
["やさしいパーキンソン病の自己管理","医療の本","Fm：脳・神経系","村田美穂編著","医薬ジャーナル社",8100]
["やさしい人","一般図書","C：心の健康","加藤諦三","PHP研究所",10229]
["やさしい貧血の自己管理","医療の本","Fc：血液/リンパ","内田　立身　編","医薬ジャーナル社",317]
["やさしい閉塞性動脈硬化症の自己管理","医療の本","Fd：心臓・血管系","松尾　汎　編","医薬ジャーナル社",318]
["やさしい慢性腎臓病の自己管理　改訂版","医療の本","Fr：腎臓","今井圓裕　編","医薬ジャーナル社",8019]
["やさしい味覚障害の自己管理","医療の本","Fi：耳/鼻/喉","池田稔　編","医薬ジャーナル社",8033]
["やさしいメタボリックシンドロームの自己管理　改訂版","医療の本","V：メタボリックシンドローム","松沢佑次監修","医薬ジャーナル社",8063]
["やさしい腰痛の自己管理","医療の本","Fb5：腰痛","米延　策雄　監","医薬ジャーナル社",272]
["やさしいリウマチ治療薬の基礎知識","医療の本","Ff7：リウマチ","川合　眞一　著","医薬ジャーナル社",447]
["やさしく学ぶ薬剤経済学","医療の本","D：薬","坂巻　弘之","じほう",180]
["やさしく理解できるメニエール病の自己管理　改訂版 (めまいと耳鳴り、難聴)","医療の本","Fi：耳/鼻/喉","神崎仁","医薬ジャーナル社",8123]
["やっばり　ノミタくん！","絵本","K：こどもの本","ヘレン・スティーヴンズ","評論社",21003]
["やまない雨はない　妻の死、うつ病、それか","医療の本","C：心の健康","倉嶋　厚　著","文藝春秋",129]
["やんちゃな時代","一般図書","C：心の健康","林真理子","文藝春秋",10395]
["ゆうかんな十人のきょうだい・かみさまになりそこねたサンダル","絵本","K：こどもの本","君島久子","講談社",20997]
["郵便犬ポチの一生　吹雪にきえた郵便屋さん","絵本","NULL","綾野まさる","ハート出版",20242]
["幽霊＆都市伝説スペシャル","絵本","NULL","ヤングセレクション","実業之日本社",20722]
["幽霊屋敷レストラン","絵本","NULL","松谷みよ子","童心社",20682]
["ゆかいなホーマーくん","絵本","K：こどもの本","ロバート・マックロスキー","岩波書店",20882]
["ゆかいなゆうびんやさん","絵本","NULL","ジャネット&アラン・アルバーグ","文化出版局",20447]
["ゆかいなゆうびんやさんのクリスマス","絵本","NULL","ジャネット&アラン・アルバーグ","文化出版局",20448]
["ゆかいなゆうびんやさんのだいぼうけん","絵本","NULL","ジャネット&アラン・アルバーグ","文化出版局",20449]
["雪はちくたく","絵本","K：こどもの本","長崎源之助","銀河社",20831]
["雪見だいふくはなぜ大ヒットしたのかー７７の「特許」発想法ー","一般図書","C：心の健康","重田暁彦","講談社",5395]
["雪むすめのおくりもの","絵本","NULL","佐藤義則","草土文化",20424]
["夢をかなえるゾウ","一般図書","C：心の健康","水野敬也","飛鳥新社",10196]
["夢をかなえるゾウ②","一般図書","C：心の健康","水野敬也","飛鳥新社",10246]
["ゆらゆらゆくよ","絵本","NULL","ジョンセン","小峰書店",20137]
["夜明けの街で","一般図書","C：心の健康","東野圭吾","角川文庫",10383]
["良い医療の条件　＜医の原点　第６集＞","医療の本","J：医療","高本眞一","金原出版",8058]
["ようこそ！ヘンテコ小学校","絵本","K：こどもの本","スギヤマカナヨ","角川書店",20937]
["妖精ライラ","絵本","NULL","エリザベス・リンジー","星雲社",20669]
["腰痛","医療の本","Fb5：腰痛","梶原　一","日本医学館",260]
["腰痛","医療の本","Fb5：腰痛","住田　憲是　監修","主婦の友社",282]
["腰痛の病態生理と診断・治療","医療の本","Fb5：腰痛","山岸　正明　他","真興交易医書出版",283]
["よくみえる!医療・先進医療・介護のは★医療の本★ ","医療の本","Gt：高齢者","大野太平/大場幸子/山本ゆかり/上田香十里　著","セールス手帖社保険",5386]
["よくわかる　新しい東洋医学入門講座","医療の本","H：代替療法","丁　宗鐡　監","永井書店",850]
["よくわかる　小児の造血細胞移植","医療の本","Gk：こどもの健康","加藤俊一監修","医薬ジャーナル社",5495]
["よくわかる　肺がん","医療の本","Fn7：肺ガン","中西洋一","NPO法人西日本がん研究機構",5669]
["よくわかる癌放射線治療の基本と実際","医療の本","Fe：がん","兼平　千裕　編集","真興交易医書出版",386]
["よくわかる薬の知識と自己管理　きちんとし","医療の本","D：薬","杉山　正敏　他編","医薬ジャーナル社",181]
["よくわかる高齢者の排便障害","医療の本","Fs：胃腸","高野正博","弘文堂",8061]
["よくわかる子どもの心身症－診療のすすめ方","医療の本","Gk：こどもの健康","星加　明徳　編集","永井書店",780]
["よくわかる最新「病」の基本としくみ","医療の本","Fa1：一般",null,"秀和システム",8052]
["よくわかる最新医学　子宮筋腫","医療の本","Gg5：子宮筋腫","佐藤孝道・石田友彦","主婦の友社",10358]
["よくわかる最新医学　リウマチの最新治療","医療の本","Ff7：リウマチ","吉野槇一","主婦の友社",10347]
["よくわかる最新医学腎臓病","医療の本","Fr：腎臓","高市憲明","主婦の友社",5318]
["よくわかる小児がん経験者のためにより良い生活の質（ＱＯＬ）を求めて","医療の本","Gk：こどもの健康","加藤俊一監修","医薬ジャーナル社",5496]
["よくわかる双極性障害（躁うつ病）　両極端な気分の変動をコントロールする","医療の本","C：心の健康","貝谷久宣","主婦の友社",10268]
["よくわかる造血幹細胞移植コーディネートクリニカル移植コーディネーﾀｰからのヒント","医療の本","Fe：がん","加藤俊一","医薬ジャーナル社",5477]
["よくわかる脳卒中後遺症におけるうつ病・う","医療の本","Fm：脳・神経系","平井　俊策　編","医薬ジャーナル社",598]
["よくわかる肺がん","医療の本","Fn7：肺ガン","中西洋一","NPO法人西日本がん研究機構",5547]
["よくわかる肺がん","医療の本","Fn7：肺ガン","中西洋一","NPO法人西日本がん研究機構",5548]
["よくわかる病理学の基本としくみ","医療の本","Fa：一般医学","田村浩一","秀和システム",10336]
["よくわかる腹膜透析の基礎","医療の本","Fr5：透析","山下明泰","東京医学社",5426]
["予知夢","一般図書","C：心の健康","東野　圭吾","文藝春秋",10523]
["四つ話のクローバー","一般図書","C：心の健康","水野敬也","文響社",5672]
["ヨハン・シュトラウス　「ワルツ王」の喜びと悲しみ","絵本","NULL","ひのまどか","リブリオ出版",20379]
["よぶこどり・てぶくろをかいに","絵本","K：こどもの本","浜田廣介　新美南吉","講談社",20988]
["予防接種へ行く前に　改訂版　受けるこども","医療の本","Gk：こどもの健康","毛利　子来　編集代表","ジャパンマシニスト社",806]
["読まずにいられぬ名短編集","一般図書","C：心の健康","宮部みゆき","筑摩書房",10135]
["余命3カ月のガンを消したムラキテルミさんの奇跡のレシピ","医療の本","Fe：がん","ムラキテルミ","主婦の友社",10342]
["よるくま","絵本","NULL","酒井駒子","偕成社",20729]
["夜のピクニック","一般図書","Fa1：一般","恩田　陸","新潮社",10636]
["夜まわりクマのアーサー","絵本","K：こどもの本","ジェシカ・メザーブ","童話屋",20784]
["らくだい魔女のデート作戦","絵本","NULL","成田サトコ","ポプラ社",20748]
["ラブ♥偏差値","絵本","NULL","斉藤栄実美","金の星社",20723]
["卵巣がん治療ガイドライン　２００７年版","医療の本","Gg：女性の健康",null,"金原出版",408]
["卵巣がん治療ガイドライン　2010年版 (第3版)","医療の本","Gg：女性の健康","日本婦人科腫瘍学会　編集","ワニブックス",5340]
["卵巣がん治療ガイドライン　2015年版","医療の本","Gg：女性の健康","日本婦人科腫瘍学会","金原出版",10368]
["リウマチ 早期発見・早期治療が決め手　新版","医療の本","Ff7：リウマチ","吉野　槙一;主婦の友社","主婦の友社",255]
["リウマチ・膠原病: 病気別治療の最先端と痛みをやわらげるポイント","医療の本","Ff6：膠原病","竹内勤　監修","PHP研究所",5361]
["リウマチ・膠原病ＡＢＣ　改訂第２版","医療の本","Ff7：リウマチ","延永　正　著","日本医学出版",448]
["りえの森の旅","絵本","NULL","ぶしかえつこ","小峰書店",20365]
["理学療法ハンドブック　改訂第３版　全３巻 第1巻","医療の本","Ee：リハビリ療法","細田　多穂　他編","協同医書出版社",1001]
["理学療法ハンドブック　改訂第３版　全３巻 第2巻","医療の本","Ee：リハビリ療法","細田　多穂　他編","協同医書出版社",981]
["理学療法ハンドブック　改訂第３版　全３巻 第3巻","医療の本","Ee：リハビリ療法","細田　多穂　他編","協同医書出版社",982]
["利休にたずねよ","一般図書","C：心の健康","山本兼一","PHP研究所",10390]
["理系思考","一般図書","C：心の健康","元村有希子","毎日新聞社",10231]
["理系白書","一般図書","C：心の健康","毎日新聞科学環境部","講談社",10247]
["りすのナトキンのおはなし","絵本","NULL","ビアトリクス・ポター","福音館書店",20559]
["りそうのくに","絵本","NULL","平井美里","ハート出版",20276]
["リトル・ウイング","絵本","NULL","吉富多美","金の星社",20674]
["リトルチャロ　～キャンディのたんじょうび～","絵本","NULL","立原滉二","小学館",20164]
["離乳食大百科","医療の本","Gk：こどもの健康","小池澄子","学研",10021]
["リバース","一般図書","Fa1：一般","湊　かなえ","講談社",10635]
["リハビリテーション医学白書","医療の本","Ee：リハビリ療法","日本リハビリテーション医学会","リハビリテーション医学白書委員会",10053]
["リハビリテーションとしての在宅医療","医療の本","Gt8：在宅介護","藤井博之/山口明/田中久美子","南山堂",5498]
["リハビリテーションのための脳・神経科学入","医療の本","Ee：リハビリ療法","森岡　周　著","協同医書出版社",599]
["リハビリテーションビジュアルブック","医療の本","Ee：リハビリ療法","稲川利光, 落合慈之","学研メディカル秀潤社",10266]
["流","一般図書","C：心の健康","東山彰良","講談社",10465]
["緑内障・白内障　（よくわかる最新医学シリーズ）","医療の本","Fh：目","杉田美由紀 監","主婦の友社",10563]
["りん　らん　ろん","絵本","NULL","マリー・コールマン","童話屋",20428]
["臨床家が知っておきたい「子どもの精神科」","医療の本","Gk：こどもの健康","佐藤泰三/市川宏伸編集","医学書院",5327]
["臨床という海","一般図書","Ae：臨床看護","徳永進","看護の科学社",5550]
["臨床という海","一般図書","Ae：臨床看護","徳永進","看護の科学社",5551]
["臨床婦人科産科","医療の本","Gg：女性の健康","医学書院","医学書院",10079]
["リンパ浮腫　（よくわかる最新医学シリーズ）","医療の本","Fc：血液/リンパ","廣田彰男　監修","主婦の友社",10560]
["リンパ浮腫がわかる本　予防と治療の実践ガ","医療の本","Fc：血液/リンパ","廣田　彰男　他著","法研",296]
["リンパ浮腫治療のセルフケア","医療の本","Fc：血液/リンパ","佐藤　佳代子","文光堂",8009]
["リンパ浮腫の治療とケア　第2版","医療の本","Fc：血液/リンパ","佐藤　佳代子","医学書院",8095]
["ルナ・チャイルド①　ニーナと魔法宇宙の月","絵本","NULL","ウィッチャー","岩崎書店",20324]
["ルナ・チャイルド②　ニーナと神々の宇宙船","絵本","NULL","ウィッチャー","岩崎書店",20325]
["ルナ・チャイルド③　ニーナと錬金タロットの謎","絵本","NULL","ウィッチャー","岩崎書店",20326]
["ルナ・チャイルド④　ニーナと水の迷宮の秘密","絵本","NULL","ウィッチャー","岩崎書店",20327]
["ルルとララのアイスクリーム","絵本","NULL","あんびるやすこ","岩崎書店",20644]
["ルルとララのおしゃれクッキー","絵本","NULL","あんびるやすこ","岩崎書店",20642]
["ルルとララのシャーベット","絵本","NULL","あんびるやすこ","岩崎書店",20645]
["ルルとララのチョコレート","絵本","NULL","あんびるやすこ","岩崎書店",20643]
["ルルとララのふんわりムース","絵本","NULL","あんびるやすこ","岩崎書店",20647]
["ルルとララのわくわくクレープ","絵本","NULL","あんびるやすこ","岩崎書店",20646]
["レ・ミゼラブル　ああ無情","絵本","K：こどもの本","ユゴー","ポプラ社",20818]
["レオナルド・ダ・テッケンの天才！あるあるスクール","絵本","K：こどもの本","天才画家レオナルド・ダ・テッケン","小学館集英社プロダクション",20872]
["レッツゴー・サフィー","絵本","NULL","井上夕香","ハート出版",20631]
["レディ・ジョーカー(上)","一般図書","Fa1：一般","髙村薫","新潮社",10640]
["レディ・ジョーカー(下)","一般図書","Fa1：一般","高村薫","新潮社",10642]
["レディ・ジョーカー(中)","一般図書","Fa1：一般","高村薫","新潮社",10641]
["レビー小体型認知症がよくわかる本","医療の本","Gt7：認知症","小坂 憲司","講談社",10184]
["恋愛成就寺","一般図書","C：心の健康","小池龍之介","ディスカヴァー・トゥエンティワン",10197]
["老後はひとり暮らしが幸せ","一般図書","Gt：高齢者","辻川覚志","水曜社",10050]
["老年症候群の診かた","医療の本","Gt：高齢者","大内　尉義　監修","メジカルビュー社",824]
["ロッテ ニューヨークにいく","絵本","NULL","デリエ","理論社",20231]
["ロバのシルベスターとまほうの小石","絵本","K：こどもの本","ウィリアム・スタイグ","評論社",20858]
["わかりやすい！覚えやすい！アロマテラピー基本講座　基本から応用まで、ていねいに解説","医療の本","Hg：アロマテラピー","重松浩子","成美堂出版",5534]
["わかりやすい予防接種　改訂第３版","医療の本","Fg：伝染・感染症","渡辺　博　著","診断と治療社",460]
["わくわく森のむ・－かみ","絵本","NULL","村上しいこ","アリス館",20156]
["わすれられないおくりもの","絵本","K：こどもの本","スーザン・バーレイ","評論社",20940]
["わたしのかわいいワニ","絵本","NULL","ｲｱﾝ･ﾘｭｯｸ･ｱﾝｸﾞﾙﾍﾞｰﾙ","小峰書店",20413]
["わたしのきもちをきいて　Ⅰ．家出","絵本","NULL","バンサン","BL出版",20079]
["わたしのきもちをきいて　Ⅱ．家出","絵本","NULL","バンサン","BL出版",20080]
["私もママになる！","医療の本","Gh：妊娠/出産","牛山武久","日本せきずい基金",10094]
["渡邉美樹のシゴト進化論","一般図書","C：心の健康","渡邉美樹","日経BP社",5398]
["ワニのライルがやってきた","絵本","K：こどもの本","バーナード・ウェーバー","NULL",20857]
["わらべきみか　イラスト・セレクション","絵本","NULL","わらべきみか","ひかりのくに",20185]
["ワン","一般図書","P：アニマル","コシノタミオ/ラッセル　ブラックウェル","講談社",10403]

{"sheet":"番号※職員使用","index":4,"n_rows":37,"n_cols":8,"rows_kept":37,"cut":false,"hidden":false,"merged":[]}
["ID"]
["患者氏名",null,null,null,"入院病棟","すみれ16"]
["電話番号",null,null,null,"病室"]
[]
["返却日"]
[]
["図書番号","図書名","図書種類名称","質研分類名称","著者名","出版社名","図書番号","病棟"]
[13,"絵とき再生医学入門　幹細胞の基礎知識から","医療の本","Ab：専門医学事典","朝比奈　欣治　他著","羊土社",13,"ER・外傷C "]
[null,null,null,null,null,null,null,"HCU"]
[null,null,null,null,null,null,null,"ICU"]
[null,null,null,null,null,null,null,"ICU2"]
[null,null,null,null,null,null,null,"さくら06"]
[null,null,null,null,null,null,null,"さくら07"]
[null,null,null,null,null,null,null,"さくら08"]
[null,null,null,null,null,null,null,"さくら09"]
[null,null,null,null,null,null,null,"さくら10"]
[null,null,null,null,null,null,null,"さくら11"]
[null,null,null,null,null,null,null,"さくら12"]
[null,null,null,null,null,null,null,"さくら13"]
[null,null,null,null,null,null,null,"さくら14"]
[null,null,null,null,null,null,null,"さくら15"]
[null,null,null,null,null,null,null,"さくら16"]
[null,null,null,null,null,null,null,"さくら17"]
[null,null,null,null,null,null,null,"さくら18"]
[null,null,null,null,null,null,null,"すみれ06"]
[null,null,null,null,null,null,null,"すみれ07"]
[null,null,null,null,null,null,null,"すみれ08"]
[null,null,null,null,null,null,null,"すみれ09"]
[null,null,null,null,null,null,null,"すみれ10"]
[null,null,null,null,null,null,null,"すみれ11"]
[null,null,null,null,null,null,null,"すみれ12"]
[null,null,null,null,null,null,null,"すみれ13"]
[null,null,null,null,null,null,null,"すみれ14"]
[null,null,null,null,null,null,null,"すみれ15"]
[null,null,null,null,null,null,null,"すみれ16"]
[null,null,null,null,null,null,null,"すみれ17"]
[null,null,null,null,null,null,null,"すみれ18"]

{"sheet":"目次PDF","index":5,"n_rows":49,"n_cols":10,"rows_kept":49,"cut":false,"hidden":false,"merged":[[38,1,39,1],[40,1,41,1],[40,6,43,6],[44,1,46,1],[44,5,48,5],[44,6,45,6],[46,6,47,6],[47,1,48,1],[1,0,18,0],[1,1,3,1],[1,5,24,5],[1,6,9,6],[9,1,12,1],[10,6,13,6],[14,1,18,1],[16,6,19,6],[19,0,48,0],[19,1,20,1],[25,5,43,5],[25,6,29,6],[26,1,32,1],[30,6,33,6],[33,1,37,1],[35,6,39,6]]}
["大分類","中分類",null,"小分類","頁","大分類","中分類",null,"小分類","頁"]
["医学全般","医学全般",1,{"$f":"目次加工!C5","v":"医学百科"},{"$f":"目次加工!D5","v":"1頁"},"全身\n\nその他\n\n疾患別","がん・化学療法・緩和ケア",49,{"$f":"目次加工!G5","v":"がん"},{"$f":"目次加工!H5","v":"12頁"}]
[null,null,2,{"$f":"目次加工!C6","v":"専門医学事典"},{"$f":"目次加工!D6","v":"1頁"},null,null,50,{"$f":"目次加工!G6","v":"がん介護"},{"$f":"目次加工!H6","v":"14頁"}]
[null,null,3,{"$f":"目次加工!C7","v":"図解人体"},{"$f":"目次加工!D7","v":"1頁"},null,null,51,{"$f":"目次加工!G7","v":"化学療法"},{"$f":"目次加工!H7","v":"14頁"}]
[null,"検査",4,{"$f":"目次加工!C8","v":"検査"},{"$f":"目次加工!D8","v":"1頁"},null,null,52,{"$f":"目次加工!G8","v":"緩和ケア"},{"$f":"目次加工!H8","v":"14頁"}]
[null,"看護",5,{"$f":"目次加工!C9","v":"臨床看護"},{"$f":"目次加工!D9","v":"2頁"},null,null,53,{"$f":"目次加工!G9","v":"肺ガン"},{"$f":"目次加工!H9","v":"18頁"}]
[null,"栄養/食事",6,{"$f":"目次加工!C10","v":"栄養/食事"},{"$f":"目次加工!D10","v":"2頁"},null,null,54,{"$f":"目次加工!G10","v":"胃がん"},{"$f":"目次加工!H10","v":"21頁"}]
[null,"心の健康",7,{"$f":"目次加工!C11","v":"心の健康"},{"$f":"目次加工!D11","v":"2頁"},null,null,55,{"$f":"目次加工!G11","v":"大腸がん"},{"$f":"目次加工!H11","v":"21頁"}]
[null,"薬",8,{"$f":"目次加工!C12","v":"薬"},{"$f":"目次加工!D12","v":"8頁"},null,null,56,{"$f":"目次加工!G12","v":"肝臓/胆のう/膵臓"},{"$f":"目次加工!H12","v":"21頁"}]
[null,"トレーニング・リハビリ",9,{"$f":"目次加工!C13","v":"トレーニング"},{"$f":"目次加工!D13","v":"9頁"},null,null,57,{"$f":"目次加工!G13","v":"乳がん"},{"$f":"目次加工!H13","v":"23頁"}]
[null,null,10,{"$f":"目次加工!C14","v":"リハビリ療法"},{"$f":"目次加工!D14","v":"9頁"},null,"骨・関節・筋肉",58,{"$f":"目次加工!G14","v":"骨/関節/筋肉"},{"$f":"目次加工!H14","v":"10頁"}]
[null,null,11,{"$f":"目次加工!C15","v":"嚥下障害"},{"$f":"目次加工!D15","v":"9頁"},null,null,59,{"$f":"目次加工!G15","v":"腰痛"},{"$f":"目次加工!H15","v":"11頁"}]
[null,null,12,{"$f":"目次加工!C16","v":"禁煙"},{"$f":"目次加工!D16","v":"9頁"},null,null,60,{"$f":"目次加工!G16","v":"痛風"},{"$f":"目次加工!H16","v":"11頁"}]
[null,"麻酔・手術・救急",13,{"$f":"目次加工!C17","v":"麻酔/手術/救急"},{"$f":"目次加工!D17","v":"36頁"},null,null,61,{"$f":"目次加工!G17","v":"骨粗鬆症"},{"$f":"目次加工!H17","v":"11頁"}]
[null,"一般医学・食事",14,{"$f":"目次加工!C18","v":"栄養/食事"},{"$f":"目次加工!D18","v":"2頁"},null,"心臓・血管系",62,{"$f":"目次加工!G18","v":"心臓・血管系"},{"$f":"目次加工!H18","v":"12頁"}]
[null,null,15,{"$f":"目次加工!C19","v":"体と病気"},{"$f":"目次加工!D19","v":"9頁"},null,"血液・リンパ",63,{"$f":"目次加工!G19","v":"血液/リンパ"},{"$f":"目次加工!H19","v":"11頁"}]
[null,null,16,{"$f":"目次加工!C20","v":"一般医学"},{"$f":"目次加工!D20","v":"9頁"},null,"免疫",64,{"$f":"目次加工!G20","v":"免疫"},{"$f":"目次加工!H20","v":"14頁"}]
[null,null,17,{"$f":"目次加工!C21","v":"一般"},{"$f":"目次加工!D21","v":"9頁"},null,null,65,{"$f":"目次加工!G21","v":"アレルギー"},{"$f":"目次加工!H21","v":"14頁"}]
[null,null,18,{"$f":"目次加工!C22","v":"食事療法"},{"$f":"目次加工!D22","v":"10頁"},null,null,66,{"$f":"目次加工!G22","v":"膠原病"},{"$f":"目次加工!H22","v":"15頁"}]
["部位別","脳神経系",19,{"$f":"目次加工!C23","v":"脳・神経系"},{"$f":"目次加工!D23","v":"16頁"},null,null,67,{"$f":"目次加工!G23","v":"リウマチ"},{"$f":"目次加工!H23","v":"14頁"}]
[null,null,20,{"$f":"目次加工!C24","v":"認知症"},{"$f":"目次加工!D24","v":"29頁"},null,"認知症",68,{"$f":"目次加工!G24","v":"認知症"},{"$f":"目次加工!H24","v":"29頁"}]
[null,"目",21,{"$f":"目次加工!C25","v":"目"},{"$f":"目次加工!D25","v":"15頁"},null,"伝染・感染症",69,{"$f":"目次加工!G25","v":"伝染・感染症"},{"$f":"目次加工!H25","v":"15頁"}]
[null,"耳・鼻・喉",22,{"$f":"目次加工!C26","v":"耳/鼻/喉"},{"$f":"目次加工!D26","v":"15頁"},null,"内分泌",70,{"$f":"目次加工!G26","v":"内分泌"},{"$f":"目次加工!H26","v":"16頁"}]
[null,"歯",23,{"$f":"目次加工!C27","v":"歯"},{"$f":"目次加工!D27","v":"16頁"},null,"生活",71,{"$f":"目次加工!G27","v":"生活"},{"$f":"目次加工!H27","v":"22頁"}]
[null,"骨/関節/筋肉",24,{"$f":"目次加工!C28","v":"骨/関節/筋肉"},{"$f":"目次加工!D28","v":"10頁"},null,"こどもの健康",72,{"$f":"目次加工!G28","v":"こどもの健康"},{"$f":"目次加工!H28","v":"25頁"}]
[null,"心臓・血管系",25,{"$f":"目次加工!C29","v":"心臓・血管系"},{"$f":"目次加工!D29","v":"12頁"},"医療全般","高齢者・認知症・在宅看護",73,{"$f":"目次加工!G29","v":"高齢者"},{"$f":"目次加工!H29","v":"29頁"}]
[null,"呼吸器",26,{"$f":"目次加工!C30","v":"禁煙"},{"$f":"目次加工!D30","v":"9頁"},null,null,74,{"$f":"目次加工!G30","v":"高齢期ケア"},{"$f":"目次加工!H30","v":"29頁"}]
[null,null,27,{"$f":"目次加工!C31","v":"睡眠障害"},{"$f":"目次加工!D31","v":"17頁"},null,null,75,{"$f":"目次加工!G31","v":"口腔ケア"},{"$f":"目次加工!H31","v":"29頁"}]
[null,null,28,{"$f":"目次加工!C32","v":"呼吸器"},{"$f":"目次加工!D32","v":"17頁"},null,null,76,{"$f":"目次加工!G32","v":"認知症"},{"$f":"目次加工!H32","v":"29頁"}]
[null,null,29,{"$f":"目次加工!C33","v":"人工呼吸"},{"$f":"目次加工!D33","v":"17頁"},null,null,77,{"$f":"目次加工!G33","v":"在宅介護"},{"$f":"目次加工!H33","v":"29頁"}]
[null,null,30,{"$f":"目次加工!C34","v":"COPD"},{"$f":"目次加工!D34","v":"18頁"},null,"代替療法",78,{"$f":"目次加工!G34","v":"代替療法"},{"$f":"目次加工!H34","v":"30頁"}]
[null,null,31,{"$f":"目次加工!C35","v":"肺ガン"},{"$f":"目次加工!D35","v":"18頁"},null,null,79,{"$f":"目次加工!G35","v":"漢方"},{"$f":"目次加工!H35","v":"31頁"}]
[null,null,32,{"$f":"目次加工!C36","v":"ぜんそく"},{"$f":"目次加工!D36","v":"18頁"},null,null,80,{"$f":"目次加工!G36","v":"アロマテラピー"},{"$f":"目次加工!H36","v":"31頁"}]
[null,"胃・大腸",33,{"$f":"目次加工!C37","v":"胃腸"},{"$f":"目次加工!D37","v":"20頁"},null,null,81,{"$f":"目次加工!G37","v":"アニマルテラピー"},{"$f":"目次加工!H37","v":"48頁"}]
[null,null,34,{"$f":"目次加工!C38","v":"胃がん"},{"$f":"目次加工!D38","v":"21頁"},null,"患者学",82,{"$f":"目次加工!G38","v":"患者学"},{"$f":"目次加工!H38","v":"31頁"}]
[null,null,35,{"$f":"目次加工!C39","v":"大腸がん"},{"$f":"目次加工!D39","v":"21頁"},null,"医療",83,{"$f":"目次加工!G39","v":"医療"},{"$f":"目次加工!H39","v":"31頁"}]
[null,null,36,{"$f":"目次加工!C40","v":"クローン病"},{"$f":"目次加工!D40","v":"21頁"},null,null,84,{"$f":"目次加工!G40","v":"医療概論"},{"$f":"目次加工!H40","v":"31頁"}]
[null,null,37,{"$f":"目次加工!C41","v":"潰瘍性大腸炎"},{"$f":"目次加工!D41","v":"21頁"},null,null,85,{"$f":"目次加工!G41","v":"病院/スタッフ"},{"$f":"目次加工!H41","v":"31頁"}]
[null,"肝臓・胆のう・膵臓",38,{"$f":"目次加工!C42","v":"肝臓/胆のう/膵臓"},{"$f":"目次加工!D42","v":"21頁"},null,null,86,{"$f":"目次加工!G42","v":"医療倫理"},{"$f":"目次加工!H42","v":"32頁"}]
[null,null,39,{"$f":"目次加工!C43","v":"C型肝炎"},{"$f":"目次加工!D43","v":"22頁"},null,null,87,{"$f":"目次加工!G43","v":"医療経済学"},{"$f":"目次加工!H43","v":"32頁"}]
[null,"腎臓",40,{"$f":"目次加工!C44","v":"腎臓"},{"$f":"目次加工!D44","v":"19頁"},null,"生活習慣病",88,{"$f":"目次加工!G44","v":"メタボリックシンドローム"},{"$f":"目次加工!H44","v":"48頁"}]
[null,null,41,{"$f":"目次加工!C45","v":"透析"},{"$f":"目次加工!D45","v":"19頁"},null,null,89,{"$f":"目次加工!G45","v":"高脂血症"},{"$f":"目次加工!H45","v":"48頁"}]
[null,"泌尿器",42,{"$f":"目次加工!C46","v":"泌尿器"},{"$f":"目次加工!D46","v":"18頁"},null,null,90,{"$f":"目次加工!G46","v":"高血圧"},{"$f":"目次加工!H46","v":"48頁"}]
[null,"皮膚・髪・爪",43,{"$f":"目次加工!C47","v":"皮膚/髪/爪"},{"$f":"目次加工!D47","v":"18頁"},null,null,91,{"$f":"目次加工!G47","v":"糖尿病"},{"$f":"目次加工!H47","v":"49頁"}]
[null,"女性の病気",44,{"$f":"目次加工!C48","v":"女性の健康"},{"$f":"目次加工!D48","v":"22頁"},"その他","絵本など",92,{"$f":"目次加工!G48","v":"こどもの本"},{"$f":"目次加工!H48","v":"32頁"}]
[null,null,45,{"$f":"目次加工!C49","v":"子宮筋腫"},{"$f":"目次加工!D49","v":"23頁"},null,null,93,{"$f":"目次加工!G49","v":"分類なし(絵本等)"},{"$f":"目次加工!H49","v":"37頁"}]
[null,null,46,{"$f":"目次加工!C50","v":"乳がん"},{"$f":"目次加工!D50","v":"23頁"},null,"アニマル",94,{"$f":"目次加工!G50","v":"アニマル"},{"$f":"目次加工!H50","v":"48頁"}]
[null,"妊娠・出産",47,{"$f":"目次加工!C51","v":"妊娠/出産"},{"$f":"目次加工!D51","v":"24頁"},null,null,95,{"$f":"目次加工!G51","v":"アニマルテラピー"},{"$f":"目次加工!H51","v":"48頁"}]
[null,null,48,{"$f":"目次加工!C52","v":"こどもの健康"},{"$f":"目次加工!D52","v":"25頁"},null,"DVD",96,{"$f":"目次加工!G52","v":"DVD"},{"$f":"目次加工!H52","v":"50頁"}]